{"text_format":"3","workbook":"xlsx","n_sheets":5,"sheets":["ReadMe","INPUTdata","Vertices","Faces","Volumes"],"read":"whole","date_system":"1900"}

{"sheet":"ReadMe","index":0,"n_rows":45,"n_cols":3,"rows_kept":45}
["ISO 18621-11 Gamut Volume Computation Tool"]
["version:","2020-06-04"]
[]
["This Excel workbook is provided by ISO TC130/JWG14 working group on Print Quality Measurement Methods"]
[null,"to facilitate users of the ISO Technical Specification ISO TS 18621-11:201 on Colour Gamut Analysis"]
[null,"to compute the volume of a printer colour gamut based on CIELABdata"]
[null,"from common CMYK color characterization targets like ISO 12642-2, IT8.7/4, ECI2002"]
[]
["Usage:","1. Double click this Excel template to open a copy of the program "]
[null,"2. Open by Excel your datafile of interest, with data appropriately separated into columns"]
[null,"3. Copy the complete sheet with your data and paste it on top of the 'INPUTdata' sheet"]
[null,"4. Find the total volume of the gamut associated with the data on the 'Volumes' sheet"]
[]
["The various sheets and their function is as follows:"]
[null,"INPUTdata","This sheet has example input data that can be replaced by your measurement data "]
[null,null,"or data from any existing CMYK characterization data set available at the ICC website "]
[]
[null,null,"The datafile shall have columns with 'SampleID', 'LAB_L', 'LAB_A' and 'LAB_B'"]
[null,null,"The 'SampleID' shall correpond to colour patches with CMYK input values"]
[null,null,"that matches the definition in ISO 12642-2 (ECI2002 will work as well)"]
[null,null,"The data for 'SampleID' shall be in 1st column (column A). This may be in random order."]
[null,null,"The data for 'LAB_L', 'LAB_A' and 'LAB_B' must bein any of the columns B thru L."]
[]
[null,null,"The datafile should have columns with 'CMYK_C', 'CMYK_M', 'CMYK_Y', 'CMYK_K',"]
[null,null,"if not  then the computation still works but without checking correct use of SampleID's"]
[]
[null,"Vertices","This sheet defines a list of 193 vertices that are used for the triangular faces at the gamut boundary. "]
[null,null,"These vertices correspond to a selected sub-set of colour patches present in the INPUTdata sheet."]
[]
[null,"Faces","This sheet defines a list of 382 triangular faces that constitute a complete gamut enclosure."]
[null,null,"For each face the 3 vertices are indicated by their index as defined on the 'Vertices' sheet."]
[]
[null,"Volumes","This sheet shows in a traceable manner the computation of the 'signed' volume"]
[null,null,"for each tetrahedron specified by the faces in the 'Faces' sheet and "]
[null,null,"a common centre point 'p4' taken as the average of 2 samples, paper-white"]
[null,null,"and a very dark color patch (100, 100, 0, 100)."]
[]
[null,null,"In case a negative volume is determined for a tetrahedron "]
[null,null,"this is due to unexpected relative positions of the vertices."]
[null,null,"For the total volume computation this negative contribution is "]
[null,null,"corrected by extra positive contributions from other tetrahedrons. "]
[]
[null,null,"Cell C4 provides the total gamut volume"]
[null,null,"Cell B4 provides the sample name which is copied from the value"]
[null,null,"for the 'DESCRIPTOR' of 'FILE_DESCRIPTOR' keyword on the 'INPUTdata' sheet."]

{"sheet":"INPUTdata","index":1,"n_rows":1633,"n_cols":8,"rows_kept":1633}
["ISO28178"]
["ORIGINATOR \"ISO TC130\""]
["FILE_DESCRIPTOR","ISO15339-2-CRPC6"]
["#"," Characterized Reference Printing Condition 6"," Universal Premium Coated"]
["CREATED \"December"," 2012\""]
["MEASUREMENT_GEOMETRY \"ISO 13655 - Reflection"," M1"," white backing\""]
["FILTER \"D50\""]
["#"," Reference White Point (LAB) = 95.00  1.00  -4.00"]
["#"," Reference Black Point (LAB) = 9.05  0.20  0.39"]
["NUMBER_OF_FIELDS 8"]
["BEGIN_DATA_FORMAT"]
["SAMPLE_ID"," CMYK_C"," CMYK_M"," CMYK_Y"," CMYK_K"," LAB_L"," LAB_A"," LAB_B"]
["END_DATA_FORMAT"]
["NUMBER_OF_SETS 1617"]
["BEGIN_DATA"]
[1,0,0,0,0,95,1,-4]
[2,0,10,0,0,89.89,7.72,-5.04]
[3,0,20,0,0,85.05,14.22,-5.96]
[4,0,30,0,0,80.06,21.14,-6.71]
[5,0,40,0,0,75.09,28.3,-7.25]
[6,0,55,0,0,67.5,40.05,-7.48]
[7,0,70,0,0,59.97,52.78,-6.79]
[8,0,85,0,0,52.96,65.55,-5.37]
[9,0,100,0,0,48,75,-4]
[10,10,0,0,0,90.99,-2.33,-8.84]
[11,10,10,0,0,86.16,4.15,-9.7]
[12,10,20,0,0,81.51,10.45,-10.46]
[13,10,30,0,0,76.73,17.16,-11.11]
[14,10,40,0,0,71.93,24.14,-11.59]
[15,10,55,0,0,64.65,35.5,-11.71]
[16,10,70,0,0,57.4,47.81,-11.05]
[17,10,85,0,0,50.62,60.22,-9.77]
[18,10,100,0,0,45.82,69.39,-8.63]
[19,20,0,0,0,87.09,-5.66,-13.59]
[20,20,10,0,0,82.45,0.61,-14.26]
[21,20,20,0,0,78.03,6.71,-14.88]
[22,20,30,0,0,73.45,13.21,-15.39]
[23,20,40,0,0,68.85,20.07,-15.71]
[24,20,55,0,0,61.85,31.01,-15.82]
[25,20,70,0,0,54.86,42.94,-15.19]
[26,20,85,0,0,48.28,55,-14.07]
[27,20,100,0,0,43.6,63.95,-13.07]
[28,30,0,0,0,83.14,-9.14,-18.38]
[29,30,10,0,0,78.72,-3.09,-18.84]
[30,30,20,0,0,74.5,2.83,-19.33]
[31,30,30,0,0,70.14,9.13,-19.7]
[32,30,40,0,0,65.74,15.77,-19.92]
[33,30,55,0,0,59.01,26.41,-19.95]
[34,30,70,0,0,52.28,37.97,-19.36]
[35,30,85,0,0,45.9,49.72,-18.34]
[36,30,100,0,0,41.34,58.43,-17.5]
[37,40,0,0,0,79.15,-12.76,-23.17]
[38,40,10,0,0,74.93,-6.85,-23.48]
[39,40,20,0,0,70.91,-1.14,-23.78]
[40,40,30,0,0,66.76,4.97,-24]
[41,40,40,0,0,62.61,11.35,-24.11]
[42,40,55,0,0,56.14,21.68,-24.04]
[43,40,70,0,0,49.66,32.93,-23.47]
[44,40,85,0,0,43.48,44.33,-22.6]
[45,40,100,0,0,39.03,52.81,-21.85]
[46,55,0,0,0,73.06,-18.68,-30.35]
[47,55,10,0,0,69.18,-12.98,-30.38]
[48,55,20,0,0,65.47,-7.49,-30.47]
[49,55,30,0,0,61.64,-1.63,-30.49]
[50,55,40,0,0,57.76,4.51,-30.42]
[51,55,55,0,0,51.76,14.32,-30.28]
[52,55,70,0,0,45.64,25.09,-29.68]
[53,55,85,0,0,39.78,36.01,-28.98]
[54,55,100,0,0,35.51,44.18,-28.46]
[55,70,0,0,0,66.79,-25.16,-37.63]
[56,70,10,0,0,63.23,-19.67,-37.4]
[57,70,20,0,0,59.85,-14.41,-37.22]
[58,70,30,0,0,56.34,-8.79,-37.01]
[59,70,40,0,0,52.76,-2.91,-36.75]
[60,70,55,0,0,47.19,6.5,-36.43]
[61,70,70,0,0,41.46,16.82,-35.88]
[62,70,85,0,0,35.91,27.32,-35.36]
[63,70,100,0,0,31.84,35.11,-35.02]
[64,85,0,0,0,60.64,-31.84,-44.65]
[65,85,10,0,0,57.43,-26.57,-44.11]
[66,85,20,0,0,54.38,-21.5,-43.65]
[67,85,30,0,0,51.16,-16.07,-43.21]
[68,85,40,0,0,47.87,-10.39,-42.79]
[69,85,55,0,0,42.73,-1.3,-42.26]
[70,85,70,0,0,37.38,8.64,-41.73]
[71,85,85,0,0,32.11,18.8,-41.38]
[72,85,100,0,0,28.19,26.32,-41.22]
[73,100,0,0,0,56,-37,-50]
[74,100,10,0,0,53.07,-32.1,-49.14]
[75,100,20,0,0,50.23,-27.18,-48.51]
[76,100,30,0,0,47.24,-21.89,-47.9]
[77,100,40,0,0,44.12,-16.25,-47.39]
[78,100,55,0,0,39.27,-7.4,-46.77]
[79,100,70,0,0,34.23,2.27,-46.2]
[80,100,85,0,0,29.09,12.22,-46]
[81,100,100,0,0,25,20,-46]
[82,0,0,10,0,94.22,0.12,4.76]
[83,0,10,10,0,89.26,6.85,3.27]
[84,0,20,10,0,84.5,13.39,1.97]
[85,0,30,10,0,79.62,20.32,0.85]
[86,0,40,10,0,74.73,27.53,0.06]
[87,0,55,10,0,67.31,39.29,-0.86]
[88,0,70,10,0,59.97,51.94,-0.71]
[89,0,85,10,0,53.14,64.66,0.04]
[90,0,100,10,0,48.29,74.1,0.87]
[91,10,0,10,0,90.27,-3.53,-0.18]
[92,10,10,10,0,85.54,2.36,-1.59]
[93,10,20,10,0,80.81,8.92,-2.76]
[94,10,30,10,0,76.02,15.88,-3.82]
[95,10,40,10,0,71.21,23.19,-4.59]
[96,10,55,10,0,64.08,34.67,-5.3]
[97,10,70,10,0,56.95,47.16,-5.2]
[98,10,85,10,0,50.47,59.33,-4.52]
[99,10,100,10,0,45.91,68.29,-3.79]
[100,20,0,10,0,86.38,-7.13,-5]
[101,20,10,10,0,81.71,-1.6,-6.49]
[102,20,20,10,0,77.18,4.82,-7.53]
[103,20,30,10,0,72.61,11.58,-8.44]
[104,20,40,10,0,68.02,18.75,-9.09]
[105,20,55,10,0,61.17,29.91,-9.7]
[106,20,70,10,0,54.29,42.07,-9.62]
[107,20,85,10,0,48.01,53.94,-9.04]
[108,20,100,10,0,43.57,62.68,-8.4]
[109,30,0,10,0,82.47,-10.88,-9.88]
[110,30,10,10,0,78.05,-5.4,-11.11]
[111,30,20,10,0,73.74,0.78,-12.02]
[112,30,30,10,0,69.32,7.32,-12.84]
[113,30,40,10,0,64.92,14.29,-13.4]
[114,30,55,10,0,58.32,25.15,-13.95]
[115,30,70,10,0,51.67,36.98,-13.9]
[116,30,85,10,0,45.58,48.56,-13.43]
[117,30,100,10,0,41.26,57.07,-12.9]
[118,40,0,10,0,78.55,-14.75,-14.77]
[119,40,10,10,0,74.44,-9.18,-15.62]
[120,40,20,10,0,70.32,-3.21,-16.32]
[121,40,30,10,0,66.12,3.14,-17]
[122,40,40,10,0,61.88,9.83,-17.57]
[123,40,55,10,0,55.52,20.38,-18.07]
[124,40,70,10,0,49.09,31.89,-18.05]
[125,40,85,10,0,43.16,43.15,-17.68]
[126,40,100,10,0,38.94,51.44,-17.23]
[127,55,0,10,0,72.51,-21.21,-22.05]
[128,55,10,10,0,68.84,-15.5,-22.44]
[129,55,20,10,0,65.06,-9.73,-22.97]
[130,55,30,10,0,61.17,-3.65,-23.44]
[131,55,40,10,0,57.23,2.77,-23.85]
[132,55,55,10,0,51.22,12.89,-24.27]
[133,55,70,10,0,45.13,23.93,-24.27]
[134,55,85,10,0,39.48,34.74,-24.05]
[135,55,100,10,0,35.43,42.71,-23.79]
[136,70,0,10,0,66.29,-28.26,-29.48]
[137,70,10,10,0,63.01,-22.54,-29.51]
[138,70,20,10,0,59.56,-16.99,-29.76]
[139,70,30,10,0,55.99,-11.12,-30.02]
[140,70,40,10,0,52.36,-4.95,-30.23]
[141,70,55,10,0,46.78,4.8,-30.45]
[142,70,70,10,0,41.04,15.47,-30.45]
[143,70,85,10,0,35.69,25.84,-30.38]
[144,70,100,10,0,31.82,33.45,-30.27]
[145,85,0,10,0,60.2,-35.5,-36.59]
[146,85,10,10,0,57.17,-30.05,-36.48]
[147,85,20,10,0,54.04,-24.66,-36.5]
[148,85,30,10,0,50.79,-18.97,-36.5]
[149,85,40,10,0,47.46,-13.02,-36.46]
[150,85,55,10,0,42.31,-3.57,-36.48]
[151,85,70,10,0,36.96,6.69,-36.47]
[152,85,85,10,0,31.9,16.78,-36.49]
[153,85,100,10,0,28.23,24.12,-36.53]
[154,100,0,10,0,55.58,-41.34,-42.01]
[155,100,10,10,0,52.72,-36.09,-41.75]
[156,100,20,10,0,49.84,-30.84,-41.54]
[157,100,30,10,0,46.82,-25.27,-41.35]
[158,100,40,10,0,43.69,-19.36,-41.18]
[159,100,55,10,0,38.86,-10.09,-41.05]
[160,100,70,10,0,33.81,-0.11,-41.03]
[161,100,85,10,0,28.96,9.7,-41.16]
[162,100,100,10,0,25.29,17,-41.33]
[163,0,0,20,0,93.49,-0.71,13.36]
[164,0,10,20,0,88.6,6.01,11.51]
[165,0,20,20,0,83.95,12.54,9.9]
[166,0,30,20,0,79.17,19.48,8.43]
[167,0,40,20,0,74.38,26.78,7.27]
[168,0,55,20,0,67.09,38.45,5.8]
[169,0,70,20,0,59.91,51.04,5.29]
[170,0,85,20,0,53.21,63.72,5.47]
[171,0,100,20,0,48.47,73.14,5.87]
[172,10,0,20,0,89.58,-4.56,8.31]
[173,10,10,20,0,84.92,1.26,6.76]
[174,10,20,20,0,80.27,7.86,5.16]
[175,10,30,20,0,75.55,14.84,3.71]
[176,10,40,20,0,70.83,22.2,2.55]
[177,10,55,20,0,63.81,33.69,1.21]
[178,10,70,20,0,56.83,46.16,0.64]
[179,10,85,20,0,50.47,58.34,0.77]
[180,10,100,20,0,46,67.29,1.11]
[181,20,0,20,0,85.76,-8.38,3.36]
[182,20,10,20,0,81.12,-2.89,1.72]
[183,20,20,20,0,76.65,3.52,0.21]
[184,20,30,20,0,72.09,10.3,-1.11]
[185,20,40,20,0,67.46,17.52,-2.21]
[186,20,55,20,0,60.64,28.77,-3.46]
[187,20,70,20,0,53.84,41.11,-4.02]
[188,20,85,20,0,47.77,52.88,-3.96]
[189,20,100,20,0,43.53,61.43,-3.71]
[190,30,0,20,0,81.88,-12.4,-1.63]
[191,30,10,20,0,77.49,-6.95,-3.06]
[192,30,20,20,0,73.18,-0.77,-4.45]
[193,30,30,20,0,68.8,5.86,-5.68]
[194,30,40,20,0,64.34,12.9,-6.7]
[195,30,55,20,0,57.77,23.88,-7.87]
[196,30,70,20,0,51.19,35.9,-8.46]
[197,30,85,20,0,45.29,47.4,-8.46]
[198,30,100,20,0,41.17,55.75,-8.3]
[199,40,0,20,0,77.98,-16.63,-6.56]
[200,40,10,20,0,73.89,-10.98,-7.69]
[201,40,20,20,0,69.79,-5.01,-8.86]
[202,40,30,20,0,65.59,1.46,-9.95]
[203,40,40,20,0,61.33,8.29,-10.95]
[204,40,55,20,0,54.99,19,-12.08]
[205,40,70,20,0,48.62,30.73,-12.66]
[206,40,85,20,0,42.88,41.95,-12.77]
[207,40,100,20,0,38.84,50.09,-12.65]
[208,55,0,20,0,72.02,-23.44,-14.07]
[209,55,10,20,0,68.34,-17.67,-14.76]
[210,55,20,20,0,64.62,-11.84,-15.57]
[211,55,30,20,0,60.7,-5.58,-16.48]
[212,55,40,20,0,56.72,1.03,-17.32]
[213,55,55,20,0,50.75,11.36,-18.34]
[214,55,70,20,0,44.68,22.66,-18.96]
[215,55,85,20,0,39.21,33.42,-19.17]
[216,55,100,20,0,35.33,41.26,-19.2]
[217,70,0,20,0,65.84,-31.02,-21.67]
[218,70,10,20,0,62.55,-25.2,-21.99]
[219,70,20,20,0,59.22,-19.44,-22.46]
[220,70,30,20,0,55.62,-13.39,-23.13]
[221,70,40,20,0,51.94,-7,-23.78]
[222,70,55,20,0,46.38,3,-24.59]
[223,70,70,20,0,40.67,13.95,-25.15]
[224,70,85,20,0,35.47,24.29,-25.5]
[225,70,100,20,0,31.76,31.78,-25.66]
[226,85,0,20,0,59.8,-38.83,-28.91]
[227,85,10,20,0,56.76,-33.24,-29.12]
[228,85,20,20,0,53.69,-27.69,-29.43]
[229,85,30,20,0,50.41,-21.79,-29.84]
[230,85,40,20,0,47.04,-15.57,-30.2]
[231,85,55,20,0,41.92,-5.86,-30.77]
[232,85,70,20,0,36.6,4.68,-31.29]
[233,85,85,20,0,31.7,14.79,-31.68]
[234,85,100,20,0,28.21,22.01,-31.95]
[235,100,0,20,0,55.21,-45.11,-34.45]
[236,100,10,20,0,52.34,-39.73,-34.5]
[237,100,20,20,0,49.46,-34.35,-34.65]
[238,100,30,20,0,46.43,-28.55,-34.84]
[239,100,40,20,0,43.26,-22.34,-35.05]
[240,100,55,20,0,38.47,-12.81,-35.44]
[241,100,70,20,0,33.47,-2.56,-35.93]
[242,100,85,20,0,28.8,7.22,-36.38]
[243,100,100,20,0,25.42,14.33,-36.74]
[244,0,0,30,0,92.8,-1.48,22.4]
[245,0,10,30,0,87.97,5.25,20.11]
[246,0,20,30,0,83.42,11.78,18.16]
[247,0,30,30,0,78.72,18.73,16.26]
[248,0,40,30,0,74.03,26.03,14.71]
[249,0,55,30,0,66.88,37.68,12.63]
[250,0,70,30,0,59.83,50.25,11.46]
[251,0,85,30,0,53.26,62.89,11.01]
[252,0,100,30,0,48.59,72.29,10.96]
[253,10,0,30,0,88.92,-5.55,17.19]
[254,10,10,30,0,84.33,0.38,15.06]
[255,10,20,30,0,79.76,6.97,13.09]
[256,10,30,30,0,75.1,13.93,11.2]
[257,10,40,30,0,70.46,21.31,9.67]
[258,10,55,30,0,63.56,32.8,7.73]
[259,10,70,30,0,56.7,45.28,6.57]
[260,10,85,30,0,50.46,57.42,6.1]
[261,10,100,30,0,46.06,66.38,6.04]
[262,20,0,30,0,85.13,-9.59,12.11]
[263,20,10,30,0,80.57,-3.97,9.9]
[264,20,20,30,0,76.13,2.39,7.97]
[265,20,30,30,0,71.63,9.22,6.18]
[266,20,40,30,0,67.06,16.46,4.68]
[267,20,55,30,0,60.34,27.75,2.8]
[268,20,70,30,0,53.65,40.12,1.67]
[269,20,85,30,0,47.69,51.89,1.18]
[270,20,100,30,0,43.52,60.48,1.07]
[271,30,0,30,0,81.29,-13.85,6.99]
[272,30,10,30,0,76.93,-8.33,4.96]
[273,30,20,30,0,72.67,-2.1,3.16]
[274,30,30,30,0,68.33,4.58,1.46]
[275,30,40,30,0,63.93,11.68,0.05]
[276,30,55,30,0,57.4,22.73,-1.78]
[277,30,70,30,0,50.84,34.87,-2.95]
[278,30,85,30,0,45.06,46.33,-3.51]
[279,30,100,30,0,41.06,54.59,-3.68]
[280,40,0,30,0,77.42,-18.39,1.93]
[281,40,10,30,0,73.35,-12.61,0.25]
[282,40,20,30,0,69.29,-6.57,-1.37]
[283,40,30,30,0,65.13,-0.02,-2.96]
[284,40,40,30,0,60.9,6.89,-4.37]
[285,40,55,30,0,54.6,17.7,-6.12]
[286,40,70,30,0,48.25,29.6,-7.26]
[287,40,85,30,0,42.64,40.8,-7.87]
[288,40,100,30,0,38.73,48.86,-8.06]
[289,55,0,30,0,71.5,-25.59,-5.76]
[290,55,10,30,0,67.84,-19.68,-7.02]
[291,55,20,30,0,64.13,-13.74,-8.27]
[292,55,30,30,0,60.25,-7.37,-9.65]
[293,55,40,30,0,56.29,-0.68,-10.92]
[294,55,55,30,0,50.36,9.82,-12.54]
[295,55,70,30,0,44.33,21.35,-13.66]
[296,55,85,30,0,38.97,32.14,-14.33]
[297,55,100,30,0,35.21,39.93,-14.65]
[298,70,0,30,0,65.36,-33.7,-13.57]
[299,70,10,30,0,62.08,-27.7,-14.43]
[300,70,20,30,0,58.76,-21.77,-15.36]
[301,70,30,30,0,55.22,-15.5,-16.4]
[302,70,40,30,0,51.53,-8.95,-17.45]
[303,70,55,30,0,46.02,1.23,-18.86]
[304,70,70,30,0,40.34,12.39,-19.92]
[305,70,85,30,0,35.26,22.79,-20.68]
[306,70,100,30,0,31.67,30.23,-21.11]
[307,85,0,30,0,59.35,-42.07,-21.03]
[308,85,10,30,0,56.32,-36.28,-21.71]
[309,85,20,30,0,53.26,-30.54,-22.43]
[310,85,30,30,0,50.03,-24.42,-23.21]
[311,85,40,30,0,46.65,-17.99,-23.99]
[312,85,55,30,0,41.56,-8.04,-25.13]
[313,85,70,30,0,36.29,2.73,-26.13]
[314,85,85,30,0,31.5,12.84,-26.93]
[315,85,100,30,0,28.12,20.03,-27.44]
[316,100,0,30,0,54.77,-48.82,-26.7]
[317,100,10,30,0,51.91,-43.19,-27.23]
[318,100,20,30,0,49.05,-37.57,-27.77]
[319,100,30,30,0,46.02,-31.54,-28.39]
[320,100,40,30,0,42.87,-25.17,-28.95]
[321,100,55,30,0,38.13,-15.39,-29.88]
[322,100,70,30,0,33.17,-4.9,-30.82]
[323,100,85,30,0,28.61,4.9,-31.68]
[324,100,100,30,0,25.37,11.94,-32.27]
[325,0,0,40,0,92.13,-2.16,31.6]
[326,0,10,40,0,87.38,4.65,28.98]
[327,0,20,40,0,82.9,11.2,26.63]
[328,0,30,40,0,78.28,18.15,24.32]
[329,0,40,40,0,73.68,25.38,22.21]
[330,0,55,40,0,66.63,37,19.57]
[331,0,70,40,0,59.7,49.54,17.71]
[332,0,85,40,0,53.23,62.11,16.59]
[333,0,100,40,0,48.61,71.46,16.14]
[334,10,0,40,0,88.29,-6.45,26.23]
[335,10,10,40,0,83.72,-0.34,23.75]
[336,10,20,40,0,79.25,6.26,21.38]
[337,10,30,40,0,74.67,13.21,19.09]
[338,10,40,40,0,70.07,20.52,17]
[339,10,55,40,0,63.29,32.01,14.47]
[340,10,70,40,0,56.53,44.48,12.64]
[341,10,85,40,0,50.39,56.6,11.56]
[342,10,100,40,0,46.05,65.51,11.11]
[343,20,0,40,0,84.54,-10.68,21.05]
[344,20,10,40,0,80,-4.85,18.45]
[345,20,20,40,0,75.59,1.43,16.08]
[346,20,30,40,0,71.15,8.28,13.88]
[347,20,40,40,0,66.66,15.52,11.85]
[348,20,55,40,0,60.04,26.83,9.38]
[349,20,70,40,0,53.45,39.22,7.57]
[350,20,85,40,0,47.57,50.99,6.5]
[351,20,100,40,0,43.46,59.57,6.04]
[352,30,0,40,0,80.72,-15.17,15.79]
[353,30,10,40,0,76.37,-9.42,13.34]
[354,30,20,40,0,72.14,-3.25,11.1]
[355,30,30,40,0,67.85,3.47,9]
[356,30,40,40,0,63.51,10.57,7.05]
[357,30,55,40,0,57.06,21.66,4.62]
[358,30,70,40,0,50.59,33.86,2.79]
[359,30,85,40,0,44.91,45.33,1.7]
[360,30,100,40,0,40.98,53.6,1.18]
[361,40,0,40,0,76.89,-19.94,10.51]
[362,40,10,40,0,72.83,-14.11,8.43]
[363,40,20,40,0,68.79,-7.99,6.38]
[364,40,30,40,0,64.67,-1.39,4.37]
[365,40,40,40,0,60.49,5.56,2.48]
[366,40,55,40,0,54.25,16.46,0.15]
[367,40,70,40,0,47.97,28.45,-1.64]
[368,40,85,40,0,42.43,39.7,-2.79]
[369,40,100,40,0,38.61,47.73,-3.33]
[370,55,0,40,0,70.99,-27.52,2.62]
[371,55,10,40,0,67.35,-21.54,0.95]
[372,55,20,40,0,63.66,-15.5,-0.76]
[373,55,30,40,0,59.79,-9.05,-2.55]
[374,55,40,40,0,55.88,-2.35,-4.33]
[375,55,55,40,0,49.99,8.29,-6.49]
[376,55,70,40,0,44.03,19.98,-8.2]
[377,55,85,40,0,38.75,30.89,-9.36]
[378,55,100,40,0,35.09,38.67,-9.98]
[379,70,0,40,0,64.86,-36.11,-5.45]
[380,70,10,40,0,61.61,-29.99,-6.71]
[381,70,20,40,0,58.3,-23.95,-8.05]
[382,70,30,40,0,54.78,-17.55,-9.49]
[383,70,40,40,0,51.12,-10.87,-11.01]
[384,70,55,40,0,45.65,-0.55,-12.95]
[385,70,70,40,0,40.05,10.76,-14.57]
[386,70,85,40,0,35.04,21.28,-15.77]
[387,70,100,40,0,31.55,28.73,-16.47]
[388,85,0,40,0,58.86,-45,-13.19]
[389,85,10,40,0,55.85,-39.05,-14.23]
[390,85,20,40,0,52.82,-33.15,-15.32]
[391,85,30,40,0,49.61,-26.89,-16.47]
[392,85,40,40,0,46.27,-20.29,-17.68]
[393,85,55,40,0,41.23,-10.16,-19.3]
[394,85,70,40,0,36.01,0.76,-20.85]
[395,85,85,40,0,31.3,10.94,-22.08]
[396,85,100,40,0,28,18.14,-22.86]
[397,100,0,40,0,54.26,-52.09,-19.06]
[398,100,10,40,0,51.41,-46.25,-19.94]
[399,100,20,40,0,48.59,-40.48,-20.84]
[400,100,30,40,0,45.6,-34.32,-21.77]
[401,100,40,40,0,42.51,-27.8,-22.79]
[402,100,55,40,0,37.81,-17.86,-24.16]
[403,100,70,40,0,32.9,-7.19,-25.61]
[404,100,85,40,0,28.41,2.67,-26.87]
[405,100,100,40,0,25.23,9.68,-27.71]
[406,0,0,55,0,91.16,-3.01,46.52]
[407,0,10,55,0,86.5,3.86,43.11]
[408,0,20,55,0,82.12,10.42,40.14]
[409,0,30,55,0,77.6,17.36,37.14]
[410,0,40,55,0,73.09,24.59,34.42]
[411,0,55,55,0,66.22,36.08,30.59]
[412,0,70,55,0,59.42,48.54,27.61]
[413,0,85,55,0,53.08,61.01,25.42]
[414,0,100,55,0,48.55,70.25,24.19]
[415,10,0,55,0,87.37,-7.61,40.83]
[416,10,10,55,0,82.88,-1.3,37.48]
[417,10,20,55,0,78.51,5.29,34.49]
[418,10,30,55,0,74.05,12.21,31.53]
[419,10,40,55,0,69.55,19.5,28.8]
[420,10,55,55,0,62.83,30.92,25.05]
[421,10,70,55,0,56.2,43.36,22.18]
[422,10,85,55,0,50.19,55.42,20.08]
[423,10,100,55,0,45.93,64.27,18.91]
[424,20,0,55,0,83.67,-12.11,35.34]
[425,20,10,55,0,79.21,-6.05,31.94]
[426,20,20,55,0,74.88,0.18,28.84]
[427,20,30,55,0,70.51,7.05,25.95]
[428,20,40,55,0,66.09,14.31,23.27]
[429,20,55,55,0,59.55,25.58,19.62]
[430,20,70,55,0,53.08,37.98,16.79]
[431,20,85,55,0,47.34,49.73,14.77]
[432,20,100,55,0,43.33,58.26,13.63]
[433,30,0,55,0,79.89,-16.89,29.78]
[434,30,10,55,0,75.61,-10.91,26.57]
[435,30,20,55,0,71.43,-4.76,23.59]
[436,30,30,55,0,67.17,1.97,20.76]
[437,30,40,55,0,62.88,9.13,18.17]
[438,30,55,55,0,56.55,20.21,14.63]
[439,30,70,55,0,50.21,32.47,11.79]
[440,30,85,55,0,44.65,43.96,9.77]
[441,30,100,55,0,40.81,52.21,8.64]
[442,40,0,55,0,76.06,-21.97,24.23]
[443,40,10,55,0,72.05,-15.93,21.32]
[444,40,20,55,0,68.07,-9.79,18.56]
[445,40,30,55,0,63.98,-3.14,15.88]
[446,40,40,55,0,59.86,3.9,13.39]
[447,40,55,55,0,53.73,14.83,9.99]
[448,40,70,55,0,47.57,26.89,7.2]
[449,40,85,55,0,42.15,38.18,5.15]
[450,40,100,55,0,38.43,46.2,3.99]
[451,55,0,55,0,70.21,-30.11,15.8]
[452,55,10,55,0,66.6,-23.96,13.4]
[453,55,20,55,0,62.95,-17.82,11.01]
[454,55,30,55,0,59.13,-11.22,8.57]
[455,55,40,55,0,55.24,-4.34,6.29]
[456,55,55,55,0,49.45,6.39,3.07]
[457,55,70,55,0,43.62,18.12,0.41]
[458,55,85,55,0,38.44,29.13,-1.61]
[459,55,100,55,0,34.84,36.96,-2.79]
[460,70,0,55,0,64.1,-39.42,7.24]
[461,70,10,55,0,60.87,-33.09,5.31]
[462,70,20,55,0,57.61,-26.87,3.34]
[463,70,30,55,0,54.14,-20.29,1.26]
[464,70,40,55,0,50.53,-13.46,-0.78]
[465,70,55,55,0,45.14,-2.97,-3.66]
[466,70,70,55,0,39.63,8.47,-6.19]
[467,70,85,55,0,34.73,19.09,-8.17]
[468,70,100,55,0,31.28,26.67,-9.38]
[469,85,0,55,0,58.07,-49.1,-1.01]
[470,85,10,55,0,55.11,-42.88,-2.67]
[471,85,20,55,0,52.14,-36.77,-4.34]
[472,85,30,55,0,49,-30.29,-6.09]
[473,85,40,55,0,45.72,-23.51,-7.82]
[474,85,55,55,0,40.77,-13.2,-10.29]
[475,85,70,55,0,35.63,-2.04,-12.63]
[476,85,85,55,0,30.98,8.2,-14.59]
[477,85,100,55,0,27.71,15.51,-15.83]
[478,100,0,55,0,53.46,-56.77,-7.29]
[479,100,10,55,0,50.66,-50.65,-8.75]
[480,100,20,55,0,47.91,-44.64,-10.2]
[481,100,30,55,0,45.02,-38.23,-11.69]
[482,100,40,55,0,41.99,-31.56,-13.18]
[483,100,55,55,0,37.38,-21.36,-15.36]
[484,100,70,55,0,32.54,-10.46,-17.55]
[485,100,85,55,0,28.07,-0.49,-19.46]
[486,100,100,55,0,24.86,6.6,-20.76]
[487,0,0,70,0,90.29,-3.55,62.44]
[488,0,10,70,0,85.69,3.32,58.28]
[489,0,20,70,0,81.38,9.87,54.53]
[490,0,30,70,0,76.93,16.82,50.81]
[491,0,40,70,0,72.49,24.04,47.27]
[492,0,55,70,0,65.72,35.47,42.29]
[493,0,70,70,0,59.01,47.84,37.98]
[494,0,85,70,0,52.73,60.14,34.54]
[495,0,100,70,0,48.25,69.27,32.31]
[496,10,0,70,0,86.53,-8.34,56.4]
[497,10,10,70,0,82.08,-1.96,52.75]
[498,10,20,70,0,77.79,4.6,49.02]
[499,10,30,70,0,73.4,11.51,45.33]
[500,10,40,70,0,68.98,18.76,41.79]
[501,10,55,70,0,62.36,30.12,36.87]
[502,10,70,70,0,55.77,42.5,32.61]
[503,10,85,70,0,49.84,54.46,29.28]
[504,10,100,70,0,45.66,63.23,27.15]
[505,20,0,70,0,82.85,-13.04,50.55]
[506,20,10,70,0,78.44,-6.89,46.9]
[507,20,20,70,0,74.17,-0.68,43.33]
[508,20,30,70,0,69.86,6.17,39.73]
[509,20,40,70,0,65.51,13.41,36.22]
[510,20,55,70,0,59.06,24.65,31.41]
[511,20,70,70,0,52.64,37,27.19]
[512,20,85,70,0,47,48.7,23.95]
[513,20,100,70,0,43.06,57.18,21.89]
[514,30,0,70,0,79.08,-18.06,44.63]
[515,30,10,70,0,74.85,-11.99,41.18]
[516,30,20,70,0,70.72,-5.86,37.76]
[517,30,30,70,0,66.48,0.82,34.3]
[518,30,40,70,0,62.24,7.98,30.89]
[519,30,55,70,0,56,19.1,26.22]
[520,30,70,70,0,49.76,31.35,22.06]
[521,30,85,70,0,44.32,42.81,18.88]
[522,30,100,70,0,40.57,51.03,16.86]
[523,40,0,70,0,75.26,-23.41,38.7]
[524,40,10,70,0,71.27,-17.3,35.55]
[525,40,20,70,0,67.34,-11.16,32.36]
[526,40,30,70,0,63.29,-4.53,29.11]
[527,40,40,70,0,59.21,2.54,25.86]
[528,40,55,70,0,53.17,13.53,21.35]
[529,40,70,70,0,47.13,25.61,17.29]
[530,40,85,70,0,41.82,36.89,14.15]
[531,40,100,70,0,38.18,44.93,12.14]
[532,55,0,70,0,69.42,-32.02,29.71]
[533,55,10,70,0,65.8,-25.83,27.04]
[534,55,20,70,0,62.2,-19.67,24.25]
[535,55,30,70,0,58.45,-13.05,21.34]
[536,55,40,70,0,54.61,-6.08,18.34]
[537,55,55,70,0,48.91,4.7,14.13]
[538,55,70,70,0,43.18,16.53,10.2]
[539,55,85,70,0,38.1,27.56,7.14]
[540,55,100,70,0,34.59,35.45,5.13]
[541,70,0,70,0,63.25,-41.99,20.43]
[542,70,10,70,0,60.08,-35.6,18.33]
[543,70,20,70,0,56.89,-29.32,16.03]
[544,70,30,70,0,53.47,-22.67,13.5]
[545,70,40,70,0,49.94,-15.74,10.83]
[546,70,55,70,0,44.64,-5.11,7]
[547,70,70,70,0,39.24,6.42,3.42]
[548,70,85,70,0,34.35,17.15,0.36]
[549,70,100,70,0,30.95,24.8,-1.64]
[550,85,0,70,0,57.15,-52.45,11.43]
[551,85,10,70,0,54.29,-46.12,9.61]
[552,85,20,70,0,51.42,-39.91,7.64]
[553,85,30,70,0,48.37,-33.34,5.55]
[554,85,40,70,0,45.18,-26.43,3.29]
[555,85,55,70,0,40.34,-15.97,0]
[556,85,70,70,0,35.22,-4.68,-3.39]
[557,85,85,70,0,30.56,5.73,-6.28]
[558,85,100,70,0,27.27,13.06,-8.21]
[559,100,0,70,0,52.46,-60.77,4.59]
[560,100,10,70,0,49.81,-54.53,2.94]
[561,100,20,70,0,47.2,-48.34,1.24]
[562,100,30,70,0,44.42,-41.84,-0.56]
[563,100,40,70,0,41.49,-35,-2.49]
[564,100,55,70,0,36.97,-24.6,-5.46]
[565,100,70,70,0,32.14,-13.54,-8.59]
[566,100,85,70,0,27.59,-3.37,-11.32]
[567,100,100,70,0,24.28,3.88,-13.27]
[568,0,0,85,0,89.52,-3.89,79.22]
[569,0,10,85,0,84.95,3.02,74.24]
[570,0,20,85,0,80.7,9.57,69.69]
[571,0,30,85,0,76.28,16.5,65.13]
[572,0,40,85,0,71.87,23.7,60.76]
[573,0,55,85,0,65.14,35.07,54.44]
[574,0,70,85,0,58.46,47.27,48.74]
[575,0,85,85,0,52.19,59.42,43.98]
[576,0,100,85,0,47.69,68.44,40.85]
[577,10,0,85,0,85.77,-8.76,72.77]
[578,10,10,85,0,81.37,-2.33,68.42]
[579,10,20,85,0,77.13,4.21,63.95]
[580,10,30,85,0,72.78,11.09,59.46]
[581,10,40,85,0,68.4,18.3,55.12]
[582,10,55,85,0,61.83,29.6,48.9]
[583,10,70,85,0,55.31,41.83,43.28]
[584,10,85,85,0,49.37,53.69,38.62]
[585,10,100,85,0,45.2,62.36,35.57]
[586,20,0,85,0,82.1,-13.54,66.51]
[587,20,10,85,0,77.76,-7.36,62.22]
[588,20,20,85,0,73.53,-1.17,58.04]
[589,20,30,85,0,69.26,5.66,53.65]
[590,20,40,85,0,64.96,12.85,49.38]
[591,20,55,85,0,58.57,24.03,43.31]
[592,20,70,85,0,52.24,36.24,37.76]
[593,20,85,85,0,46.59,47.88,33.19]
[594,20,100,85,0,42.7,56.3,30.23]
[595,30,0,85,0,78.34,-18.73,60.17]
[596,30,10,85,0,74.16,-12.63,56.11]
[597,30,20,85,0,70.07,-6.51,52.13]
[598,30,30,85,0,65.87,0.13,47.97]
[599,30,40,85,0,61.68,7.26,43.82]
[600,30,55,85,0,55.5,18.35,37.94]
[601,30,70,85,0,49.36,30.5,32.49]
[602,30,85,85,0,43.95,41.94,28.02]
[603,30,100,85,0,40.25,50.14,25.11]
[604,40,0,85,0,74.52,-24.3,53.78]
[605,40,10,85,0,70.56,-18.16,50.07]
[606,40,20,85,0,66.67,-12.03,46.35]
[607,40,30,85,0,62.66,-5.43,42.45]
[608,40,40,85,0,58.62,1.61,38.53]
[609,40,55,85,0,52.65,12.58,32.86]
[610,40,70,85,0,46.7,24.65,27.54]
[611,40,85,85,0,41.47,35.94,23.18]
[612,40,100,85,0,37.89,43.95,20.3]
[613,55,0,85,0,68.64,-33.33,44.07]
[614,55,10,85,0,65.05,-27.13,40.86]
[615,55,20,85,0,61.5,-20.96,37.61]
[616,55,30,85,0,57.81,-14.37,34.14]
[617,55,40,85,0,54.04,-7.36,30.55]
[618,55,55,85,0,48.43,3.45,25.29]
[619,55,70,85,0,42.78,15.32,20.2]
[620,55,85,85,0,37.77,26.39,15.98]
[621,55,100,85,0,34.29,34.29,13.16]
[622,70,0,85,0,62.37,-43.88,33.92]
[623,70,10,85,0,59.27,-37.48,31.37]
[624,70,20,85,0,56.16,-31.19,28.68]
[625,70,30,85,0,52.85,-24.5,25.7]
[626,70,40,85,0,49.4,-17.52,22.54]
[627,70,55,85,0,44.19,-6.82,17.78]
[628,70,70,85,0,38.82,4.82,13.03]
[629,70,85,85,0,33.96,15.61,8.96]
[630,70,100,85,0,30.55,23.36,6.22]
[631,85,0,85,0,56.13,-55.03,24.02]
[632,85,10,85,0,53.44,-48.64,21.92]
[633,85,20,85,0,50.71,-42.38,19.66]
[634,85,30,85,0,47.78,-35.73,17.14]
[635,85,40,85,0,44.69,-28.78,14.43]
[636,85,55,85,0,39.93,-18.17,10.27]
[637,85,70,85,0,34.82,-6.79,5.91]
[638,85,85,85,0,30.07,3.76,2.07]
[639,85,100,85,0,26.71,11.12,-0.56]
[640,100,0,85,0,51.29,-63.91,16.46]
[641,100,10,85,0,48.9,-57.59,14.58]
[642,100,20,85,0,46.47,-51.36,12.62]
[643,100,30,85,0,43.85,-44.75,10.48]
[644,100,40,85,0,41.04,-37.82,8.16]
[645,100,55,85,0,36.64,-27.31,4.52]
[646,100,70,85,0,31.72,-16.03,0.45]
[647,100,85,85,0,27.01,-5.79,-3.18]
[648,100,100,85,0,23.59,1.5,-5.75]
[649,0,0,100,0,89,-4,93]
[650,0,10,100,0,84.44,2.78,87.22]
[651,0,20,100,0,80.18,9.35,82.04]
[652,0,30,100,0,75.78,16.27,76.82]
[653,0,40,100,0,71.36,23.52,71.84]
[654,0,55,100,0,64.67,34.81,64.48]
[655,0,70,100,0,57.98,46.89,57.54]
[656,0,85,100,0,51.67,58.94,51.76]
[657,0,100,100,0,47,68,48]
[658,10,0,100,0,85.21,-8.91,86.14]
[659,10,10,100,0,80.86,-2.5,80.79]
[660,10,20,100,0,76.64,4.01,75.71]
[661,10,30,100,0,72.3,10.89,70.61]
[662,10,40,100,0,67.94,18.09,65.68]
[663,10,55,100,0,61.41,29.3,58.47]
[664,10,70,100,0,54.91,41.39,51.73]
[665,10,85,100,0,48.96,53.17,46.04]
[666,10,100,100,0,44.72,61.8,42.29]
[667,20,0,100,0,81.53,-13.75,79.52]
[668,20,10,100,0,77.25,-7.58,74.32]
[669,20,20,100,0,73.06,-1.4,69.28]
[670,20,30,100,0,68.82,5.4,64.33]
[671,20,40,100,0,64.54,12.57,59.54]
[672,20,55,100,0,58.2,23.68,52.53]
[673,20,70,100,0,51.91,35.77,45.92]
[674,20,85,100,0,46.29,47.35,40.36]
[675,20,100,100,0,42.36,55.68,36.63]
[676,30,0,100,0,77.78,-19.02,72.83]
[677,30,10,100,0,73.65,-12.95,67.88]
[678,30,20,100,0,69.61,-6.85,63.11]
[679,30,30,100,0,65.44,-0.26,58.26]
[680,30,40,100,0,61.27,6.88,53.6]
[681,30,55,100,0,55.14,17.87,46.84]
[682,30,70,100,0,49.07,29.95,40.39]
[683,30,85,100,0,43.69,41.37,34.97]
[684,30,100,100,0,39.99,49.48,31.33]
[685,40,0,100,0,73.93,-24.83,66.08]
[686,40,10,100,0,70.01,-18.64,61.54]
[687,40,20,100,0,66.17,-12.51,57.06]
[688,40,30,100,0,62.21,-5.94,52.51]
[689,40,40,100,0,58.2,1.09,48]
[690,40,55,100,0,52.28,12,41.5]
[691,40,70,100,0,46.4,24.01,35.23]
[692,40,85,100,0,41.22,35.28,29.95]
[693,40,100,100,0,37.65,43.25,26.39]
[694,55,0,100,0,68.03,-34.15,55.75]
[695,55,10,100,0,64.47,-27.86,51.77]
[696,55,20,100,0,60.98,-21.7,47.85]
[697,55,30,100,0,57.35,-15.09,43.78]
[698,55,40,100,0,53.63,-8.09,39.67]
[699,55,55,100,0,48.07,2.73,33.7]
[700,55,70,100,0,42.48,14.58,27.68]
[701,55,85,100,0,37.52,25.64,22.59]
[702,55,100,100,0,34.04,33.54,19.24]
[703,70,0,100,0,61.66,-45.12,44.87]
[704,70,10,100,0,58.62,-38.64,41.61]
[705,70,20,100,0,55.6,-32.33,38.32]
[706,70,30,100,0,52.38,-25.64,34.84]
[707,70,40,100,0,49.01,-18.6,31.24]
[708,70,55,100,0,43.86,-7.86,25.87]
[709,70,70,100,0,38.53,3.8,20.25]
[710,70,85,100,0,33.67,14.64,15.4]
[711,70,100,100,0,30.23,22.39,12.16]
[712,85,0,100,0,55.24,-56.83,34.14]
[713,85,10,100,0,52.71,-50.3,31.45]
[714,85,20,100,0,50.14,-43.99,28.7]
[715,85,30,100,0,47.33,-37.29,25.75]
[716,85,40,100,0,44.33,-30.29,22.65]
[717,85,55,100,0,39.66,-19.64,17.99]
[718,85,70,100,0,34.54,-8.14,12.86]
[719,85,85,100,0,29.71,2.41,8.3]
[720,85,100,100,0,26.21,9.88,5.2]
[721,100,0,100,0,50,-66,26]
[722,100,10,100,0,48.01,-59.66,23.64]
[723,100,20,100,0,45.87,-53.35,21.26]
[724,100,30,100,0,43.41,-46.68,18.72]
[725,100,40,100,0,40.71,-39.67,16.04]
[726,100,55,100,0,36.39,-29.01,11.97]
[727,100,70,100,0,31.4,-17.63,7.18]
[728,100,85,100,0,26.57,-7.4,3]
[729,100,100,100,0,23,0,0]
[730,0,0,0,20,81.17,0.76,-3.5]
[731,0,10,0,20,76.78,6.51,-4.41]
[732,0,20,0,20,72.72,12,-5.07]
[733,0,40,0,20,64.2,24.02,-6.22]
[734,0,70,0,20,51.39,44.8,-5.97]
[735,0,100,0,20,41.3,63.56,-3.99]
[736,10,0,0,20,77.74,-2.2,-7.7]
[737,10,10,0,20,73.6,3.39,-8.42]
[738,10,20,0,20,69.71,8.86,-8.98]
[739,10,40,0,20,61.47,20.36,-10.12]
[740,10,70,0,20,49.18,40.67,-9.66]
[741,10,100,0,20,39.46,58.97,-7.73]
[742,20,0,0,20,74.39,-5.09,-11.66]
[743,20,10,0,20,70.46,0.27,-12.33]
[744,20,20,0,20,66.69,5.6,-12.86]
[745,20,40,0,20,58.78,16.9,-13.82]
[746,20,70,0,20,46.96,36.47,-13.35]
[747,20,100,0,20,37.55,54.19,-11.57]
[748,40,0,0,20,67.61,-11.29,-19.89]
[749,40,10,0,20,63.97,-6.01,-20.3]
[750,40,20,0,20,60.48,-0.94,-20.71]
[751,40,40,0,20,53.41,9.71,-21.06]
[752,40,70,0,20,42.49,28.02,-20.52]
[753,40,100,0,20,33.66,44.64,-19.03]
[754,70,0,0,20,57.23,-22.05,-32.11]
[755,70,10,0,20,54.16,-17.11,-32.1]
[756,70,20,0,20,51.17,-12.25,-32.11]
[757,70,40,0,20,45.1,-2.25,-31.81]
[758,70,70,0,20,35.71,14.57,-30.89]
[759,70,100,0,20,27.96,29.75,-29.7]
[760,100,0,0,20,48.21,-32.49,-42.5]
[761,100,10,0,20,45.67,-27.89,-42.05]
[762,100,20,0,20,43.13,-23.3,-41.61]
[763,100,40,0,20,37.83,-13.6,-40.81]
[764,100,70,0,20,29.78,2.11,-39.49]
[765,100,100,0,20,23.07,16.18,-38.55]
[766,0,0,10,20,80.48,-0.19,3.88]
[767,0,10,10,20,76.24,5.64,2.55]
[768,0,20,10,20,72.23,11.24,1.47]
[769,0,40,10,20,63.93,23.19,-0.05]
[770,0,70,10,20,51.34,44.02,-0.87]
[771,0,100,10,20,41.46,62.73,0.23]
[772,10,0,10,20,77.12,-3.41,-0.36]
[773,10,10,10,20,72.93,1.73,-1.55]
[774,10,20,10,20,68.9,7.45,-2.52]
[775,10,40,10,20,60.74,19.43,-4.09]
[776,10,70,10,20,48.73,39.89,-4.68]
[777,10,100,10,20,39.44,57.78,-3.61]
[778,20,0,10,20,73.82,-6.53,-4.53]
[779,20,10,10,20,69.66,-1.67,-5.76]
[780,20,20,10,20,65.78,3.87,-6.66]
[781,20,40,10,20,57.97,15.67,-8.05]
[782,20,70,10,20,46.42,35.52,-8.49]
[783,20,100,10,20,37.47,52.91,-7.49]
[784,40,0,10,20,67.14,-13.11,-12.68]
[785,40,10,10,20,63.46,-8.09,-13.51]
[786,40,20,10,20,59.92,-2.81,-14.23]
[787,40,40,10,20,52.69,8.32,-15.3]
[788,40,70,10,20,41.98,26.97,-15.71]
[789,40,100,10,20,33.58,43.31,-14.92]
[790,70,0,10,20,56.83,-24.66,-25.27]
[791,70,10,10,20,53.92,-19.53,-25.3]
[792,70,20,10,20,50.89,-14.49,-25.62]
[793,70,40,10,20,44.75,-4.09,-26.1]
[794,70,70,10,20,35.34,13.27,-26.1]
[795,70,100,10,20,27.9,28.17,-25.57]
[796,100,0,10,20,47.84,-35.83,-36.02]
[797,100,10,10,20,45.34,-31.07,-35.84]
[798,100,20,10,20,42.79,-26.25,-35.72]
[799,100,40,10,20,37.52,-16.23,-35.39]
[800,100,70,10,20,29.46,0.08,-34.92]
[801,100,100,10,20,22.96,14.07,-34.61]
[802,0,0,20,20,79.82,-0.97,11.04]
[803,0,10,20,20,75.71,4.75,9.6]
[804,0,20,20,20,71.74,10.34,8.22]
[805,0,40,20,20,63.57,22.49,6.09]
[806,0,70,20,20,51.27,43.15,4.39]
[807,0,100,20,20,41.57,61.71,4.66]
[808,10,0,20,20,76.57,-4.32,6.81]
[809,10,10,20,20,72.41,0.71,5.54]
[810,10,20,20,20,68.47,6.37,4.18]
[811,10,40,20,20,60.4,18.53,2]
[812,10,70,20,20,48.58,38.9,0.41]
[813,10,100,20,20,39.48,56.73,0.69]
[814,20,0,20,20,73.3,-7.63,2.53]
[815,20,10,20,20,69.16,-2.86,1.19]
[816,20,20,20,20,65.35,2.7,-0.09]
[817,20,40,20,20,57.43,14.57,-2.14]
[818,20,70,20,20,45.99,34.54,-3.62]
[819,20,100,20,20,37.39,51.64,-3.39]
[820,40,0,20,20,66.69,-14.73,-5.84]
[821,40,10,20,20,63.03,-9.7,-6.77]
[822,40,20,20,20,59.47,-4.45,-7.82]
[823,40,40,20,20,52.15,7.01,-9.69]
[824,40,70,20,20,41.55,25.85,-11]
[825,40,100,20,20,33.47,41.96,-10.89]
[826,70,0,20,20,56.48,-26.96,-18.59]
[827,70,10,20,20,53.55,-21.77,-18.86]
[828,70,20,20,20,50.59,-16.63,-19.29]
[829,70,40,20,20,44.38,-5.88,-20.51]
[830,70,70,20,20,35.01,11.87,-21.43]
[831,70,100,20,20,27.81,26.64,-21.54]
[832,100,0,20,20,47.53,-38.93,-29.46]
[833,100,10,20,20,45.01,-34.05,-29.55]
[834,100,20,20,20,42.49,-29.16,-29.75]
[835,100,40,20,20,37.18,-18.71,-30.07]
[836,100,70,20,20,29.16,-1.95,-30.43]
[837,100,100,20,20,22.92,11.92,-30.52]
[838,0,0,40,20,78.61,-2.46,26.46]
[839,0,10,40,20,74.52,3.46,24.22]
[840,0,20,40,20,70.73,9.19,22.4]
[841,0,40,40,20,62.91,21.16,18.76]
[842,0,70,40,20,51.06,41.71,15]
[843,0,100,40,20,41.66,60.22,13.63]
[844,10,0,40,20,75.34,-6.25,21.78]
[845,10,10,40,20,71.29,-0.88,19.71]
[846,10,20,40,20,67.47,4.87,17.82]
[847,10,40,40,20,59.68,16.91,14.18]
[848,10,70,40,20,48.28,37.25,10.57]
[849,10,100,40,20,39.48,54.97,9.29]
[850,20,0,40,20,72.2,-9.98,17.41]
[851,20,10,40,20,68.14,-4.82,15.21]
[852,20,20,40,20,64.31,0.7,13.29]
[853,20,40,40,20,56.71,12.64,9.73]
[854,20,70,40,20,45.61,32.65,6.2]
[855,20,100,40,20,37.29,49.75,5.01]
[856,40,0,40,20,65.72,-17.73,8.56]
[857,40,10,40,20,62.1,-12.55,6.83]
[858,40,20,40,20,58.59,-7.26,5.21]
[859,40,40,40,20,51.57,4.28,1.74]
[860,40,70,40,20,40.97,23.6,-1.57]
[861,40,100,40,20,33.21,39.61,-2.84]
[862,70,0,40,20,55.66,-31.35,-4.82]
[863,70,10,40,20,52.77,-25.91,-5.93]
[864,70,20,40,20,49.83,-20.58,-7.1]
[865,70,40,40,20,43.64,-9.36,-9.73]
[866,70,70,40,20,34.47,8.94,-12.3]
[867,70,100,40,20,27.55,23.84,-13.55]
[868,100,0,40,20,46.73,-44.89,-16.27]
[869,100,10,40,20,44.25,-39.59,-17.08]
[870,100,20,40,20,41.77,-34.39,-17.88]
[871,100,40,40,20,36.53,-23.29,-19.42]
[872,100,70,40,20,28.63,-5.85,-21.47]
[873,100,100,40,20,22.51,8.11,-22.71]
[874,0,0,70,20,77,-3.91,52.42]
[875,0,10,70,20,73.13,1.98,49.05]
[876,0,20,70,20,69.41,7.82,45.94]
[877,0,40,70,20,61.82,19.89,39.82]
[878,0,70,70,20,50.42,40.04,31.99]
[879,0,100,70,20,41.35,58.07,27.09]
[880,10,0,70,20,73.87,-8.04,47.37]
[881,10,10,70,20,69.94,-2.55,44.19]
[882,10,20,70,20,66.23,3.23,41.05]
[883,10,40,70,20,58.75,15.23,35.01]
[884,10,70,70,20,47.61,35.33,27.32]
[885,10,100,70,20,39.14,52.75,22.7]
[886,20,0,70,20,70.72,-12.23,42.32]
[887,20,10,70,20,66.83,-6.84,39.14]
[888,20,20,70,20,63.07,-1.38,36.09]
[889,20,40,70,20,55.73,10.57,30.14]
[890,20,70,70,20,44.9,30.48,22.64]
[891,20,100,70,20,36.92,47.39,18.28]
[892,40,0,70,20,64.33,-21.01,32.25]
[893,40,10,70,20,60.81,-15.56,29.54]
[894,40,20,70,20,57.35,-10.14,26.8]
[895,40,40,70,20,50.35,1.53,21.28]
[896,40,70,70,20,40.2,20.88,14.25]
[897,40,100,70,20,32.77,36.87,10.1]
[898,70,0,70,20,54.41,-36.43,17.06]
[899,70,10,70,20,51.57,-30.78,15.2]
[900,70,20,70,20,48.7,-25.21,13.16]
[901,70,40,70,20,42.66,-13.5,8.71]
[902,70,70,70,20,33.75,5.43,2.93]
[903,70,100,70,20,27,20.25,-1.06]
[904,100,0,70,20,45.51,-51.97,3.91]
[905,100,10,70,20,43.13,-46.4,2.46]
[906,100,20,70,20,40.76,-40.94,0.94]
[907,100,40,70,20,35.71,-29.27,-2.31]
[908,100,70,70,20,27.95,-11.15,-7.1]
[909,100,100,70,20,21.79,3.17,-10.5]
[910,0,0,100,20,75.81,-4.38,78.06]
[911,0,10,100,20,72.06,1.38,73.54]
[912,0,20,100,20,68.33,7.16,69.09]
[913,0,40,100,20,60.79,19.39,60.44]
[914,0,70,100,20,49.56,39.05,48.25]
[915,0,100,100,20,40.61,56.54,39.47]
[916,10,0,100,20,72.75,-8.64,72.46]
[917,10,10,100,20,69,-3.2,67.95]
[918,10,20,100,20,65.32,2.53,63.61]
[919,10,40,100,20,57.86,14.55,55.01]
[920,10,70,100,20,46.91,34.27,43.18]
[921,10,100,100,20,38.51,51.41,35]
[922,20,0,100,20,69.56,-13.02,66.66]
[923,20,10,100,20,65.87,-7.67,62.25]
[924,20,20,100,20,62.24,-2.25,57.91]
[925,20,40,100,20,54.93,9.74,49.59]
[926,20,70,100,20,44.3,29.35,38.14]
[927,20,100,100,20,36.34,45.93,30.18]
[928,40,0,100,20,63.12,-22.54,55.19]
[929,40,10,100,20,59.73,-17,51.27]
[930,40,20,100,20,56.39,-11.62,47.39]
[931,40,40,100,20,49.46,0.07,39.57]
[932,40,70,100,20,39.53,19.31,28.94]
[933,40,100,100,20,32.22,35.36,21.66]
[934,70,0,100,20,53.21,-39.17,37.72]
[935,70,10,100,20,50.47,-33.49,34.78]
[936,70,20,100,20,47.71,-27.91,31.8]
[937,70,40,100,20,41.86,-16.02,25.57]
[938,70,70,100,20,33.06,2.73,16.5]
[939,70,100,100,20,26.38,18.06,10.14]
[940,100,0,100,20,44.35,-56.2,22.36]
[941,100,10,100,20,42.14,-50.71,20.18]
[942,100,20,100,20,39.94,-44.96,17.9]
[943,100,40,100,20,35.06,-33.18,13.16]
[944,100,70,100,20,27.31,-14.69,5.86]
[945,100,100,100,20,20.87,-0.15,0.27]
[946,0,0,0,40,67.4,0.55,-2.9]
[947,0,20,0,40,60.36,10.09,-4.13]
[948,0,40,0,40,53.44,19.9,-4.93]
[949,0,70,0,40,42.93,36.91,-4.88]
[950,0,100,0,40,34.73,52.41,-3.59]
[951,20,0,0,40,61.8,-4.52,-9.83]
[952,20,20,0,40,55.43,4.57,-10.66]
[953,20,40,0,40,48.96,14,-11.32]
[954,20,70,0,40,39.35,30.29,-10.95]
[955,20,100,0,40,31.68,44.79,-9.75]
[956,40,0,0,40,56.17,-9.76,-16.48]
[957,40,20,0,40,50.3,-0.87,-17.11]
[958,40,40,0,40,44.56,8.08,-17.39]
[959,40,70,0,40,35.66,23.24,-16.92]
[960,40,100,0,40,28.54,36.98,-15.54]
[961,70,0,0,40,47.62,-18.8,-26.63]
[962,70,20,0,40,42.61,-10.31,-26.68]
[963,70,40,0,40,37.72,-1.79,-26.49]
[964,70,70,0,40,30.14,12.14,-25.61]
[965,70,100,0,40,24.02,24.6,-24.3]
[966,100,0,0,40,40.47,-27.78,-35.21]
[967,100,20,0,40,36.25,-19.71,-34.61]
[968,100,40,0,40,31.88,-11.32,-33.98]
[969,100,70,0,40,25.47,1.82,-32.62]
[970,100,100,0,40,20.33,13.31,-31.27]
[971,0,0,20,40,66.31,-1.16,9.22]
[972,0,20,20,40,59.58,8.15,6.67]
[973,0,40,20,40,52.88,18.27,5.13]
[974,0,70,20,40,42.77,35.28,3.65]
[975,0,100,20,40,34.92,50.69,3.68]
[976,20,0,20,40,60.89,-6.82,1.99]
[977,20,20,20,40,54.15,1.95,-0.2]
[978,20,40,20,40,47.69,11.79,-1.77]
[979,20,70,20,40,38.41,28.33,-2.88]
[980,20,100,20,40,31.48,42.27,-2.81]
[981,40,0,20,40,55.41,-12.58,-4.92]
[982,40,20,20,40,49.3,-3.88,-6.57]
[983,40,40,20,40,43.41,5.56,-7.96]
[984,40,70,20,40,34.78,21.17,-8.99]
[985,40,100,20,40,28.31,34.38,-8.7]
[986,70,0,20,40,47.01,-22.77,-15.51]
[987,70,20,20,40,42.1,-13.93,-16.08]
[988,70,40,20,40,37.04,-4.82,-17.02]
[989,70,70,20,40,29.49,9.79,-17.58]
[990,70,100,20,40,23.82,21.81,-17.32]
[991,100,0,20,40,39.9,-33,-24.49]
[992,100,20,20,40,35.68,-24.41,-24.68]
[993,100,40,20,40,31.3,-15.37,-24.89]
[994,100,70,20,40,24.92,-1.49,-24.76]
[995,100,100,20,40,20.06,9.81,-24.46]
[996,0,0,40,40,65.18,-2.54,21.64]
[997,0,20,40,40,58.66,7.09,18.26]
[998,0,40,40,40,52.3,16.92,15.33]
[999,0,70,40,40,42.56,33.89,12.27]
[1000,0,100,40,40,34.82,49.2,11.03]
[1001,20,0,40,40,59.92,-8.75,14.09]
[1002,20,20,40,40,53.3,0.12,10.74]
[1003,20,40,40,40,47.11,10.04,7.95]
[1004,20,70,40,40,38.06,26.49,5.14]
[1005,20,100,40,40,31.31,40.48,4.21]
[1006,40,0,40,40,54.64,-15.11,6.76]
[1007,40,20,40,40,48.62,-6.32,3.98]
[1008,40,40,40,40,42.84,3.18,1.27]
[1009,40,70,40,40,34.31,19.09,-1.22]
[1010,40,100,40,40,28.1,32.13,-2.05]
[1011,70,0,40,40,46.46,-26.27,-4.27]
[1012,70,20,40,40,41.55,-17.27,-6.16]
[1013,70,40,40,40,36.5,-7.84,-7.98]
[1014,70,70,40,40,29.21,7.01,-9.89]
[1015,70,100,40,40,23.59,19.34,-10.76]
[1016,100,0,40,40,39.26,-37.34,-13.75]
[1017,100,20,40,40,35.06,-28.37,-14.93]
[1018,100,40,40,40,30.83,-19.02,-16.09]
[1019,100,70,40,40,24.49,-4.48,-17.41]
[1020,100,100,40,40,19.74,6.86,-17.99]
[1021,0,0,70,40,63.77,-4.02,42.57]
[1022,0,20,70,40,57.56,5.65,37.39]
[1023,0,40,70,40,51.44,15.64,32.63]
[1024,0,70,70,40,42.09,32.22,26.11]
[1025,0,100,70,40,34.66,47.17,21.98]
[1026,20,0,70,40,58.58,-11,34.16]
[1027,20,20,70,40,52.31,-1.91,29.27]
[1028,20,40,70,40,46.35,8.03,24.57]
[1029,20,70,70,40,37.45,24.23,18.39]
[1030,20,100,70,40,30.97,38.06,14.87]
[1031,40,0,70,40,53.56,-18.27,26.13]
[1032,40,20,70,40,47.67,-9.09,21.66]
[1033,40,40,70,40,41.99,0.61,17.32]
[1034,40,70,70,40,33.69,16.44,11.66]
[1035,40,100,70,40,27.74,29.45,8.52]
[1036,70,0,70,40,45.56,-30.75,13.72]
[1037,70,20,70,40,40.65,-21.17,10.48]
[1038,70,40,70,40,35.73,-11.43,6.88]
[1039,70,70,70,40,28.48,3.98,2.34]
[1040,70,100,70,40,23.1,16,-0.61]
[1041,100,0,70,40,38.49,-43.3,3.14]
[1042,100,20,70,40,34.35,-33.71,0.65]
[1043,100,40,70,40,30.2,-24.04,-1.92]
[1044,100,70,70,40,23.97,-9.08,-5.7]
[1045,100,100,70,40,19.19,2.62,-8.02]
[1046,0,0,100,40,62.87,-4.63,63.27]
[1047,0,20,100,40,56.78,4.88,56.16]
[1048,0,40,100,40,50.64,15.02,49.41]
[1049,0,70,100,40,41.43,31.24,39.23]
[1050,0,100,100,40,34.12,45.71,31.75]
[1051,20,0,100,40,57.8,-11.85,53.93]
[1052,20,20,100,40,51.67,-2.89,46.74]
[1053,20,40,100,40,45.73,7.07,40.27]
[1054,20,70,100,40,37.07,23.29,30.93]
[1055,20,100,100,40,30.51,36.8,24.3]
[1056,40,0,100,40,52.64,-19.78,44.88]
[1057,40,20,100,40,46.93,-10.51,38.3]
[1058,40,40,100,40,41.32,-0.84,32.03]
[1059,40,70,100,40,33.14,14.93,23.35]
[1060,40,100,100,40,27.24,27.91,17.63]
[1061,70,0,100,40,44.75,-33.19,30.74]
[1062,70,20,100,40,39.94,-23.52,25.61]
[1063,70,40,100,40,35.1,-13.74,20.5]
[1064,70,70,100,40,27.86,1.65,13.07]
[1065,70,100,100,40,22.58,13.96,8.3]
[1066,100,0,100,40,37.9,-46.57,18.61]
[1067,100,20,100,40,33.87,-37.08,14.66]
[1068,100,40,100,40,29.68,-27.18,10.63]
[1069,100,70,100,40,23.42,-12.02,4.71]
[1070,100,100,100,40,18.59,-0.16,0.48]
[1071,0,0,0,60,52.81,0.41,-2.21]
[1072,0,20,0,60,47.44,7.67,-3.09]
[1073,0,40,0,60,42.21,15.76,-3.46]
[1074,0,70,0,60,34.15,29,-3.55]
[1075,0,100,0,60,27.7,41.31,-2.47]
[1076,20,0,0,60,48.5,-3.61,-7.74]
[1077,20,20,0,60,43.64,3.59,-8.31]
[1078,20,40,0,60,38.79,11.15,-8.68]
[1079,20,70,0,60,31.33,23.85,-8.45]
[1080,20,100,0,60,25.41,35.38,-7.21]
[1081,40,0,0,60,44.26,-7.93,-12.98]
[1082,40,20,0,60,39.75,-0.79,-13.41]
[1083,40,40,0,60,35.38,6.48,-13.53]
[1084,40,70,0,60,28.59,18.6,-13.04]
[1085,40,100,0,60,23.17,29.32,-11.7]
[1086,70,0,0,60,37.73,-15.27,-21.09]
[1087,70,20,0,60,33.85,-8.27,-21.13]
[1088,70,40,0,60,30.14,-1.33,-20.84]
[1089,70,70,0,60,24.38,9.85,-19.93]
[1090,70,100,0,60,19.82,19.56,-18.55]
[1091,100,0,0,60,32.07,-22.41,-28.05]
[1092,100,20,0,60,28.84,-15.73,-27.45]
[1093,100,40,0,60,25.63,-8.92,-26.77]
[1094,100,70,0,60,20.91,1.64,-25.33]
[1095,100,100,0,60,17.19,10.82,-23.85]
[1096,0,0,20,60,51.97,-1.25,7.09]
[1097,0,20,20,60,46.88,6.1,5.29]
[1098,0,40,20,60,41.84,14.16,4.23]
[1099,0,70,20,60,34.02,27.51,3.04]
[1100,0,100,20,60,27.86,39.67,3.2]
[1101,20,0,20,60,47.82,-5.67,1.44]
[1102,20,20,20,60,42.55,1.29,-0.18]
[1103,20,40,20,60,37.7,9.12,-1.23]
[1104,20,70,20,60,30.57,22.07,-2.06]
[1105,20,100,20,60,25.26,33.01,-1.75]
[1106,40,0,20,60,43.73,-10.42,-3.94]
[1107,40,20,20,60,38.87,-3.3,-5.16]
[1108,40,40,20,60,34.42,4.27,-6.13]
[1109,40,70,20,60,27.86,16.6,-6.75]
[1110,40,100,20,60,22.97,26.93,-6.25]
[1111,70,0,20,60,37.29,-18.46,-12.37]
[1112,70,20,20,60,33.37,-11.1,-12.74]
[1113,70,40,20,60,29.57,-3.85,-13.31]
[1114,70,70,20,60,23.84,7.82,-13.51]
[1115,70,100,20,60,19.66,17.2,-12.95]
[1116,100,0,20,60,31.66,-26.5,-19.53]
[1117,100,20,20,60,28.39,-19.35,-19.53]
[1118,100,40,20,60,25.19,-12.07,-19.5]
[1119,100,70,20,60,20.45,-0.88,-19.09]
[1120,100,100,20,60,16.96,7.95,-18.27]
[1121,0,0,40,60,51.24,-2.47,16.84]
[1122,0,20,40,60,46.25,5.05,14.22]
[1123,0,40,40,60,41.41,12.86,12.1]
[1124,0,70,40,60,33.86,26.19,9.71]
[1125,0,100,40,60,27.84,38.18,8.74]
[1126,20,0,40,60,47.23,-7.39,10.84]
[1127,20,20,40,60,41.99,-0.32,8.29]
[1128,20,40,40,60,37.27,7.5,6.24]
[1129,20,70,40,60,30.33,20.46,4.14]
[1130,20,100,40,60,25.18,31.32,3.56]
[1131,40,0,40,60,43.22,-12.49,5.18]
[1132,40,20,40,60,38.43,-5.34,3]
[1133,40,40,40,60,33.96,2.21,0.98]
[1134,40,70,40,60,27.48,14.77,-0.77]
[1135,40,100,40,60,22.8,24.88,-1.13]
[1136,70,0,40,60,36.94,-21.16,-3.59]
[1137,70,20,40,60,32.99,-13.79,-4.99]
[1138,70,40,40,60,29.16,-6.3,-6.29]
[1139,70,70,40,60,23.67,5.39,-7.48]
[1140,70,100,40,60,19.48,15.13,-7.89]
[1141,100,0,40,60,31.37,-29.74,-11.06]
[1142,100,20,40,60,28.07,-22.34,-11.86]
[1143,100,40,40,60,24.85,-14.82,-12.66]
[1144,100,70,40,60,20.14,-3.29,-13.3]
[1145,100,100,40,60,16.71,5.57,-13.29]
[1146,0,0,70,60,50.19,-4.05,32.67]
[1147,0,20,70,60,45.4,3.63,28.77]
[1148,0,40,70,60,40.79,11.46,25.32]
[1149,0,70,70,60,33.53,24.49,20.25]
[1150,0,100,70,60,27.8,36.18,16.94]
[1151,20,0,70,60,46.31,-9.53,26.27]
[1152,20,20,70,60,41.28,-2.27,22.41]
[1153,20,40,70,60,36.76,5.57,18.98]
[1154,20,70,70,60,29.93,18.31,14.27]
[1155,20,100,70,60,25.01,29.02,11.7]
[1156,40,0,70,60,42.47,-15.22,20.09]
[1157,40,20,70,60,37.8,-7.86,16.61]
[1158,40,40,70,60,33.45,-0.14,13.34]
[1159,40,70,70,60,27.06,12.33,9.09]
[1160,40,100,70,60,22.6,22.36,6.92]
[1161,70,0,70,60,36.39,-24.8,10.48]
[1162,70,20,70,60,32.45,-17.05,7.9]
[1163,70,40,70,60,28.64,-9.28,5.18]
[1164,70,70,70,60,23.09,2.75,1.8]
[1165,70,100,70,60,19.14,12.15,-0.13]
[1166,100,0,70,60,31.05,-34.39,2.31]
[1167,100,20,70,60,27.71,-26.56,0.38]
[1168,100,40,70,60,24.51,-18.87,-1.52]
[1169,100,70,70,60,19.78,-6.95,-4.26]
[1170,100,100,70,60,16.37,2.19,-5.71]
[1171,0,0,100,60,49.44,-4.7,48.48]
[1172,0,20,100,60,44.75,2.76,43.09]
[1173,0,40,100,60,40.13,10.7,37.98]
[1174,0,70,100,60,33.06,23.39,29.99]
[1175,0,100,100,60,27.49,34.66,24.24]
[1176,20,0,100,60,45.55,-10.43,41.25]
[1177,20,20,100,60,40.78,-3.32,35.71]
[1178,20,40,100,60,36.3,4.51,30.8]
[1179,20,70,100,60,29.61,17.11,23.49]
[1180,20,100,100,60,24.66,27.61,18.52]
[1181,40,0,100,60,41.75,-16.62,34.35]
[1182,40,20,100,60,37.27,-9.2,29.25]
[1183,40,40,100,60,32.96,-1.52,24.5]
[1184,40,70,100,60,26.69,10.88,17.81]
[1185,40,100,100,60,22.21,20.8,13.57]
[1186,70,0,100,60,35.9,-26.85,23.63]
[1187,70,20,100,60,32.01,-19.02,19.52]
[1188,70,40,100,60,28.26,-11.29,15.57]
[1189,70,70,100,60,22.69,0.79,9.89]
[1190,70,100,100,60,18.71,10.28,6.54]
[1191,100,0,100,60,30.93,-36.82,14.62]
[1192,100,20,100,60,27.48,-29.04,11.33]
[1193,100,40,100,60,24.21,-21.32,8.16]
[1194,100,70,100,60,19.45,-9.39,3.6]
[1195,100,100,100,60,16.02,0,0.58]
[1196,0,0,0,80,35.68,0.18,-1.23]
[1197,0,40,0,80,28.86,10.34,-1.77]
[1198,0,70,0,80,23.84,19.94,-1.57]
[1199,0,100,0,80,19.3,28.12,-0.32]
[1200,40,0,0,80,30.06,-5.36,-8.82]
[1201,40,40,0,80,24.63,4.54,-8.71]
[1202,40,70,0,80,20.56,13.65,-7.91]
[1203,40,100,0,80,16.65,21.02,-6.3]
[1204,70,0,0,80,25.85,-10.89,-15.21]
[1205,70,40,0,80,21.49,-1.32,-14.19]
[1206,70,70,0,80,17.58,7.13,-13.04]
[1207,70,100,0,80,14.48,14.33,-11.55]
[1208,100,0,0,80,21.74,-15.31,-19.73]
[1209,100,40,0,80,18.12,-6.07,-17.97]
[1210,100,70,0,80,15.27,1.66,-16.74]
[1211,100,100,0,80,12.86,8.39,-14.5]
[1212,0,0,40,80,34.49,-2.33,10.51]
[1213,0,40,40,80,28.52,7.81,8.16]
[1214,0,70,40,80,23.86,17.34,6.56]
[1215,0,100,40,80,19.54,25.34,6.31]
[1216,40,0,40,80,29.56,-9,3.23]
[1217,40,40,40,80,23.9,1.54,0.96]
[1218,40,70,40,80,20.06,10.47,-0.18]
[1219,40,100,40,80,16.79,17.43,0.19]
[1220,70,0,40,80,25.65,-15.29,-3.43]
[1221,70,40,40,80,20.94,-5.32,-4.5]
[1222,70,70,40,80,17.44,3.88,-5.11]
[1223,70,100,40,80,14.65,10.8,-5.05]
[1224,100,0,40,80,21.57,-20.61,-8.32]
[1225,100,40,40,80,17.93,-10.58,-8.7]
[1226,100,70,40,80,15.11,-2.14,-9.22]
[1227,100,100,40,80,12.77,4.64,-8.33]
[1228,0,0,70,80,34.44,-3.82,21.48]
[1229,0,40,70,80,28.72,6.28,17.06]
[1230,0,70,70,80,23.73,15.67,13.71]
[1231,0,100,70,80,19.83,23.89,11.63]
[1232,40,0,70,80,29.71,-11.07,13.63]
[1233,40,40,70,80,24.2,-0.81,9.29]
[1234,40,70,70,80,19.98,8.3,6.73]
[1235,40,100,70,80,17.02,15.58,5.51]
[1236,70,0,70,80,25.36,-18.06,6.59]
[1237,70,40,70,80,20.97,-7.38,3.64]
[1238,70,70,70,80,17.09,1.76,1.57]
[1239,70,100,70,80,14.53,8.34,0.2]
[1240,100,0,70,80,21.84,-24.34,1.1]
[1241,100,40,70,80,18.2,-13.98,-1.05]
[1242,100,70,70,80,15.14,-5.2,-2.93]
[1243,100,100,70,80,12.63,2.37,-3.89]
[1244,0,0,100,80,33.41,-4.52,30.96]
[1245,0,40,100,80,27.79,5.3,24.68]
[1246,0,70,100,80,23.44,14.43,19.89]
[1247,0,100,100,80,19.54,21.84,15.87]
[1248,40,0,100,80,28.73,-12,22.34]
[1249,40,40,100,80,23.67,-2.11,16.57]
[1250,40,70,100,80,19.88,6.99,12.61]
[1251,40,100,100,80,16.63,13.79,9.47]
[1252,70,0,100,80,25.08,-19.51,15.39]
[1253,70,40,100,80,20.84,-9.18,10.74]
[1254,70,70,100,80,17.05,-0.28,6.77]
[1255,70,100,100,80,14.26,6.8,4.43]
[1256,100,0,100,80,21.55,-25.5,9.39]
[1257,100,40,100,80,17.9,-15.37,5.63]
[1258,100,70,100,80,15.04,-7.27,3.11]
[1259,100,100,100,80,12.77,-0.02,0.5]
[1260,0,0,0,100,16,0,0]
[1261,0,40,0,100,13.85,5.53,0.62]
[1262,0,100,0,100,10.35,14.1,2.2]
[1263,40,0,0,100,14.1,-3.03,-4.28]
[1264,40,40,0,100,12.38,2.63,-3.2]
[1265,40,100,0,100,9.43,11.11,-0.67]
[1266,100,0,0,100,10.64,-7.57,-10.68]
[1267,100,40,0,100,9.6,-2.2,-8.36]
[1268,100,100,0,100,7.91,6.23,-4.82]
[1269,0,0,40,100,16.23,-1.89,4.96]
[1270,0,40,40,100,14.04,3.3,4.26]
[1271,0,100,40,100,10.65,11.68,4.35]
[1272,40,0,40,100,14.3,-5.36,1.16]
[1273,40,40,40,100,12.56,0.25,0.61]
[1274,40,100,40,100,9.81,8.63,1.73]
[1275,100,0,40,100,10.95,-10.39,-4.69]
[1276,100,40,40,100,9.93,-5.12,-3.93]
[1277,100,100,40,100,8.38,3.5,-2.02]
[1278,0,0,100,100,16.19,-4.31,11.95]
[1279,0,40,100,100,14.08,0.59,9.89]
[1280,0,100,100,100,11.1,8.2,7.28]
[1281,40,0,100,100,14.27,-7.8,8.62]
[1282,40,40,100,100,12.77,-2.55,7]
[1283,40,100,100,100,10.26,5.14,4.43]
[1284,100,0,100,100,11.32,-13.43,3.66]
[1285,100,40,100,100,10.43,-8.03,2.3]
[1286,100,100,100,100,9.05,0.2,0.39]
[1287,100,0,0,0,56,-37,-50]
[1288,98,0,0,0,56.42,-36.56,-49.48]
[1289,95,0,0,0,57.19,-35.7,-48.59]
[1290,90,0,0,0,58.91,-33.77,-46.62]
[1291,85,0,0,0,60.64,-31.84,-44.65]
[1292,80,0,0,0,62.65,-29.61,-42.36]
[1293,75,0,0,0,64.69,-27.39,-40.02]
[1294,70,0,0,0,66.79,-25.16,-37.63]
[1295,60,0,0,0,71.02,-20.77,-32.75]
[1296,50,0,0,0,75.14,-16.63,-27.88]
[1297,40,0,0,0,79.15,-12.76,-23.17]
[1298,30,0,0,0,83.14,-9.14,-18.38]
[1299,25,0,0,0,85.11,-7.4,-16]
[1300,20,0,0,0,87.09,-5.66,-13.59]
[1301,15,0,0,0,88.99,-4.03,-11.27]
[1302,10,0,0,0,90.99,-2.33,-8.84]
[1303,7,0,0,0,92.18,-1.33,-7.39]
[1304,5,0,0,0,92.97,-0.68,-6.43]
[1305,3,0,0,0,93.78,-0.02,-5.45]
[1306,2,0,0,0,94.18,0.31,-4.95]
[1307,0,100,0,0,48,75,-4]
[1308,0,98,0,0,48.46,74.11,-4.16]
[1309,0,95,0,0,49.27,72.54,-4.39]
[1310,0,90,0,0,51.04,69.19,-4.87]
[1311,0,85,0,0,52.96,65.55,-5.37]
[1312,0,80,0,0,55.23,61.34,-5.89]
[1313,0,75,0,0,57.52,57.16,-6.36]
[1314,0,70,0,0,59.97,52.78,-6.79]
[1315,0,60,0,0,64.98,44.16,-7.38]
[1316,0,50,0,0,70.07,35.98,-7.49]
[1317,0,40,0,0,75.09,28.3,-7.25]
[1318,0,30,0,0,80.06,21.14,-6.71]
[1319,0,25,0,0,82.52,17.67,-6.39]
[1320,0,20,0,0,85.05,14.22,-5.96]
[1321,0,15,0,0,87.46,10.97,-5.52]
[1322,0,10,0,0,89.89,7.72,-5.04]
[1323,0,7,0,0,91.42,5.69,-4.72]
[1324,0,5,0,0,92.44,4.34,-4.51]
[1325,0,3,0,0,93.45,3.02,-4.29]
[1326,0,2,0,0,93.95,2.34,-4.18]
[1327,0,0,100,0,89,-4,93]
[1328,0,0,98,0,89.03,-4.01,91.57]
[1329,0,0,95,0,89.11,-3.98,89.15]
[1330,0,0,90,0,89.3,-3.94,84.28]
[1331,0,0,85,0,89.52,-3.89,79.22]
[1332,0,0,80,0,89.77,-3.8,73.57]
[1333,0,0,75,0,90.02,-3.7,68.06]
[1334,0,0,70,0,90.29,-3.55,62.44]
[1335,0,0,60,0,90.87,-3.24,51.71]
[1336,0,0,50,0,91.49,-2.75,41.34]
[1337,0,0,40,0,92.13,-2.16,31.6]
[1338,0,0,30,0,92.8,-1.48,22.4]
[1339,0,0,25,0,93.13,-1.11,17.92]
[1340,0,0,20,0,93.49,-0.71,13.36]
[1341,0,0,15,0,93.85,-0.3,9.13]
[1342,0,0,10,0,94.22,0.12,4.76]
[1343,0,0,7,0,94.45,0.38,2.14]
[1344,0,0,5,0,94.6,0.55,0.41]
[1345,0,0,3,0,94.76,0.72,-1.32]
[1346,0,0,2,0,94.83,0.8,-2.19]
[1347,0,0,0,100,16,0,0]
[1348,0,0,0,98,17.69,-0.09,-0.11]
[1349,0,0,0,95,20.62,0.02,-0.3]
[1350,0,0,0,90,25.78,0.13,-0.63]
[1351,0,0,0,85,30.82,0.18,-0.94]
[1352,0,0,0,80,35.68,0.18,-1.23]
[1353,0,0,0,75,40.37,0.21,-1.49]
[1354,0,0,0,70,44.71,0.27,-1.75]
[1355,0,0,0,60,52.81,0.41,-2.21]
[1356,0,0,0,50,60.4,0.46,-2.59]
[1357,0,0,0,40,67.4,0.55,-2.9]
[1358,0,0,0,30,74.3,0.64,-3.22]
[1359,0,0,0,25,77.66,0.7,-3.37]
[1360,0,0,0,20,81.17,0.76,-3.5]
[1361,0,0,0,15,84.46,0.82,-3.62]
[1362,0,0,0,10,87.87,0.88,-3.73]
[1363,0,0,0,7,89.99,0.92,-3.8]
[1364,0,0,0,5,91.41,0.94,-3.85]
[1365,0,0,0,3,92.81,0.96,-3.89]
[1366,0,0,0,2,93.55,0.96,-3.92]
[1367,0,0,0,0,95,1,-4]
[1368,100,85,85,0,27.01,-5.79,-3.18]
[1369,80,65,65,0,38.41,-4.09,-3.52]
[1370,60,45,45,0,52.25,-2.45,-4.04]
[1371,40,27,27,0,66.51,-1.57,-4.65]
[1372,20,12,12,0,80.7,-0.62,-5.03]
[1373,10,6,6,0,87.65,0.29,-4.56]
[1374,5,3,3,0,91.29,0.73,-4.28]
[1375,40,27,27,10,61.52,-1.57,-4.47]
[1376,20,12,12,10,74.69,-0.75,-4.83]
[1377,10,6,6,10,81.16,0.09,-4.36]
[1378,60,45,45,20,44.64,-2.32,-3.73]
[1379,40,27,27,20,56.62,-1.52,-4.22]
[1380,20,12,12,20,68.77,-0.82,-4.5]
[1381,10,6,6,20,74.74,-0.04,-4.08]
[1382,80,65,65,40,27.97,-2.76,-2.38]
[1383,60,45,45,40,37.24,-2.18,-3.13]
[1384,40,27,27,40,46.98,-1.5,-3.64]
[1385,20,12,12,40,57,-0.98,-3.85]
[1386,10,6,6,40,61.92,-0.29,-3.46]
[1387,100,85,85,60,17.6,-2.86,-1.16]
[1388,80,65,65,60,22.68,-2.43,-1.92]
[1389,60,45,45,60,29.7,-1.95,-2.48]
[1390,40,27,27,60,37.11,-1.41,-2.88]
[1391,20,12,12,60,44.72,-0.99,-3.03]
[1392,10,6,6,60,48.44,-0.39,-2.71]
[1393,100,85,85,80,13.69,-2.06,-0.59]
[1394,80,65,65,80,16.76,-1.8,-1.05]
[1395,60,45,45,80,21.12,-1.65,-1.73]
[1396,40,27,27,80,25.94,-1.31,-1.94]
[1397,20,12,12,80,30.16,-0.84,-1.81]
[1398,10,6,6,80,32.77,-0.41,-1.68]
[1399,100,85,85,100,9.23,-0.89,0.05]
[1400,80,65,65,100,10.21,-1.09,-0.2]
[1401,60,45,45,100,11.62,-0.95,-0.51]
[1402,40,27,27,100,13.18,-0.93,-0.57]
[1403,20,12,12,100,14.69,-0.77,-0.62]
[1404,10,6,6,100,15.4,-0.47,-0.4]
[1405,100,0,0,70,27.28,-19.13,-24.19]
[1406,0,100,0,70,23.8,35.11,-1.52]
[1407,0,0,100,70,41.98,-4.62,40.36]
[1408,100,100,0,70,15.29,9.51,-19.43]
[1409,100,0,100,70,26.66,-31.48,12.22]
[1410,0,100,100,70,23.81,28.67,20.24]
[1411,40,40,0,70,30.08,5.57,-11.29]
[1412,40,0,40,70,36.68,-10.8,4.43]
[1413,0,40,40,70,35.27,10.34,10.34]
[1414,3,3,0,0,92.26,1.99,-5.75]
[1415,3,0,3,0,93.55,-0.32,-2.8]
[1416,0,3,3,0,93.24,2.75,-1.73]
[1417,3,3,3,0,92.12,1.47,-3.25]
[1418,3,0,0,3,91.63,-0.03,-5.34]
[1419,0,3,0,3,91.36,2.86,-4.21]
[1420,3,3,0,3,90.2,1.87,-5.63]
[1421,0,0,3,3,92.59,0.67,-1.41]
[1422,3,0,3,3,91.41,-0.34,-2.86]
[1423,0,3,3,3,91.15,2.59,-1.79]
[1424,3,3,3,3,90.13,1.34,-3.28]
[1425,7,7,0,0,88.76,3.23,-8.02]
[1426,7,0,7,0,91.68,-2.13,-1.32]
[1427,0,7,7,0,90.96,5.09,1.15]
[1428,7,7,7,0,88.37,1.98,-2.27]
[1429,7,0,0,7,87.35,-1.32,-7.04]
[1430,0,7,0,7,86.66,5.28,-4.51]
[1431,7,7,0,7,84.13,2.97,-7.64]
[1432,0,0,7,7,89.48,0.26,1.86]
[1433,7,0,7,7,86.86,-2.1,-1.38]
[1434,0,7,7,7,86.21,4.68,0.97]
[1435,7,7,7,7,83.83,1.74,-2.27]
[1436,40,3,0,0,77.89,-10.99,-23.25]
[1437,3,40,0,0,74.14,27.03,-8.56]
[1438,40,0,3,0,78.97,-13.38,-20.61]
[1439,40,3,3,0,77.7,-11.68,-20.85]
[1440,0,40,3,0,74.99,28.08,-5.07]
[1441,3,40,3,0,73.95,26.88,-6.42]
[1442,40,40,3,0,62.38,10.91,-22.19]
[1443,3,0,40,0,90.97,-3.47,29.96]
[1444,0,3,40,0,90.7,-0.11,30.76]
[1445,3,3,40,0,89.57,-1.51,29.21]
[1446,40,3,40,0,75.64,-18.16,9.86]
[1447,3,40,40,0,72.61,23.96,20.71]
[1448,40,0,0,3,77.35,-12.53,-22.66]
[1449,40,3,0,3,76.14,-10.83,-22.77]
[1450,0,40,0,3,73.42,27.57,-7.11]
[1451,3,40,0,3,72.49,26.33,-8.4]
[1452,40,40,0,3,61.19,11.04,-23.68]
[1453,40,0,3,3,77.16,-13.14,-20.25]
[1454,40,3,3,3,75.96,-11.5,-20.48]
[1455,0,40,3,3,73.32,27.36,-5.07]
[1456,3,40,3,3,72.31,26.19,-6.39]
[1457,40,40,3,3,60.97,10.61,-21.82]
[1458,0,0,40,3,90.02,-2.22,30.71]
[1459,3,0,40,3,88.88,-3.51,29.13]
[1460,40,0,40,3,75.15,-19.61,10.13]
[1461,0,3,40,3,88.65,-0.27,29.91]
[1462,3,3,40,3,87.56,-1.64,28.41]
[1463,40,3,40,3,73.95,-17.88,9.5]
[1464,0,40,40,3,72.02,24.65,21.6]
[1465,3,40,40,3,70.98,23.27,20.13]
[1466,40,40,40,3,59.15,5.33,2.3]
[1467,3,0,0,40,66.53,-0.22,-4.02]
[1468,0,3,0,40,66.34,1.94,-3.09]
[1469,3,3,0,40,65.5,1.17,-4.17]
[1470,40,3,0,40,55.3,-8.41,-16.56]
[1471,3,40,0,40,52.75,18.98,-5.94]
[1472,0,0,3,40,67.24,0.27,-1.08]
[1473,3,0,3,40,66.38,-0.53,-2.19]
[1474,40,0,3,40,56.06,-10.22,-14.72]
[1475,0,3,3,40,66.18,1.72,-1.4]
[1476,3,3,3,40,65.07,0.72,-2.52]
[1477,40,3,3,40,55.09,-8.93,-14.87]
[1478,0,40,3,40,53.38,19.67,-3.45]
[1479,3,40,3,40,52.55,18.77,-4.47]
[1480,40,40,3,40,44.33,7.73,-16.01]
[1481,3,0,40,40,64.37,-3.52,20.45]
[1482,0,3,40,40,64.19,-1.07,21.08]
[1483,3,3,40,40,63.32,-2.11,19.93]
[1484,40,3,40,40,53.69,-13.8,6.34]
[1485,3,40,40,40,51.47,15.89,14.23]
[1486,0,0,0,10,87.87,0.88,-3.73]
[1487,0,0,10,10,87.15,-0.04,4.17]
[1488,0,0,20,10,86.45,-0.87,12.14]
[1489,0,0,40,10,85.19,-2.34,28.87]
[1490,0,0,70,10,83.45,-3.77,57.22]
[1491,0,10,0,10,83.2,7.01,-4.69]
[1492,0,10,10,10,82.6,6.15,2.85]
[1493,0,10,20,10,81.97,5.32,10.52]
[1494,0,10,40,10,80.84,3.95,26.51]
[1495,0,10,70,10,79.25,2.55,53.52]
[1496,0,20,0,10,78.7,13.04,-5.54]
[1497,0,20,10,10,78.18,12.25,1.64]
[1498,0,20,20,10,77.66,11.4,9.05]
[1499,0,20,40,10,76.63,10.17,24.38]
[1500,0,20,70,10,75.2,8.78,50.05]
[1501,0,40,0,10,69.53,26.03,-6.77]
[1502,0,40,10,10,69.2,25.25,-0.14]
[1503,0,40,20,10,68.85,24.5,6.69]
[1504,0,40,40,10,68.18,23.14,20.37]
[1505,0,40,70,10,67.03,21.8,43.45]
[1506,0,70,0,10,55.55,48.65,-6.41]
[1507,0,70,10,10,55.51,47.86,-0.9]
[1508,0,70,20,10,55.45,46.97,4.81]
[1509,0,70,40,10,55.24,45.52,16.23]
[1510,0,70,70,10,54.56,43.82,34.87]
[1511,10,0,0,10,84.17,-2.25,-8.25]
[1512,10,0,10,10,83.51,-3.44,-0.38]
[1513,10,0,20,10,82.88,-4.45,7.52]
[1514,10,0,40,10,81.67,-6.37,23.91]
[1515,10,0,70,10,80.02,-8.19,51.73]
[1516,10,10,0,10,79.73,3.71,-9.03]
[1517,10,10,10,10,79.23,1.99,-1.65]
[1518,10,10,20,10,78.63,0.93,6.12]
[1519,10,10,40,10,77.48,-0.67,21.66]
[1520,10,10,70,10,75.91,-2.32,48.37]
[1521,10,20,0,10,75.42,9.59,-9.75]
[1522,10,20,10,10,74.81,8.14,-2.74]
[1523,10,20,20,10,74.31,7.09,4.64]
[1524,10,20,40,10,73.26,5.55,19.48]
[1525,10,20,70,10,71.88,3.85,44.89]
[1526,10,40,0,10,66.59,22.16,-10.86]
[1527,10,40,10,10,65.94,21.23,-4.44]
[1528,10,40,20,10,65.57,20.27,2.27]
[1529,10,40,40,10,64.83,18.6,15.49]
[1530,10,40,70,10,63.77,16.86,38.3]
[1531,10,70,0,10,53.15,44.14,-10.38]
[1532,10,70,10,10,52.73,43.44,-5.03]
[1533,10,70,20,10,52.6,42.44,0.48]
[1534,10,70,40,10,52.29,40.77,11.48]
[1535,10,70,70,10,51.58,38.84,29.86]
[1536,20,0,0,10,80.54,-5.37,-12.64]
[1537,20,0,10,10,79.9,-6.83,-4.86]
[1538,20,0,20,10,79.32,-8.02,2.9]
[1539,20,0,40,10,78.16,-10.37,19.05]
[1540,20,0,70,10,76.58,-12.65,46.23]
[1541,20,10,0,10,76.28,0.39,-13.31]
[1542,20,10,10,10,75.66,-1.69,-6.23]
[1543,20,10,20,10,75.09,-2.93,1.44]
[1544,20,10,40,10,73.99,-4.9,16.71]
[1545,20,10,70,10,72.51,-6.93,42.89]
[1546,20,20,0,10,72.16,6.13,-13.92]
[1547,20,20,10,10,71.42,4.33,-7.21]
[1548,20,20,20,10,70.93,3.09,0.02]
[1549,20,20,40,10,69.86,1.02,14.55]
[1550,20,20,70,10,68.5,-1.07,39.55]
[1551,20,40,0,10,63.67,18.34,-14.84]
[1552,20,40,10,10,62.92,17.1,-8.68]
[1553,20,40,20,10,62.39,15.92,-2.22]
[1554,20,40,40,10,61.62,13.94,10.66]
[1555,20,40,70,10,60.53,11.84,33.07]
[1556,20,70,0,10,50.75,39.56,-14.34]
[1557,20,70,10,10,50.24,38.7,-9.16]
[1558,20,70,20,10,49.82,37.72,-3.9]
[1559,20,70,40,10,49.42,35.84,6.73]
[1560,20,70,70,10,48.66,33.66,24.78]
[1561,40,0,0,10,73.24,-12.02,-21.5]
[1562,40,0,10,10,72.7,-13.89,-13.84]
[1563,40,0,20,10,72.18,-15.66,-6.16]
[1564,40,0,40,10,71.18,-18.84,9.43]
[1565,40,0,70,10,69.67,-22.16,35.38]
[1566,40,10,0,10,69.33,-6.47,-21.9]
[1567,40,10,10,10,68.9,-8.66,-14.65]
[1568,40,10,20,10,68.4,-10.37,-7.2]
[1569,40,10,40,10,67.42,-13.36,7.57]
[1570,40,10,70,10,65.95,-16.42,32.47]
[1571,40,20,0,10,65.52,-1.02,-22.27]
[1572,40,20,10,10,65.04,-2.99,-15.38]
[1573,40,20,20,10,64.58,-4.74,-8.39]
[1574,40,20,40,10,63.63,-7.61,5.76]
[1575,40,20,70,10,62.24,-10.62,29.48]
[1576,40,40,0,10,57.89,10.46,-22.64]
[1577,40,40,10,10,57.23,9.03,-16.52]
[1578,40,40,20,10,56.68,7.64,-10.31]
[1579,40,40,40,10,55.97,4.89,2.05]
[1580,40,40,70,10,54.74,1.98,23.51]
[1581,40,70,0,10,45.95,30.44,-22.03]
[1582,40,70,10,10,45.44,29.41,-16.93]
[1583,40,70,20,10,45.01,28.28,-11.82]
[1584,40,70,40,10,44.4,26.02,-1.7]
[1585,40,70,70,10,43.59,23.24,15.71]
[1586,70,0,0,10,61.89,-23.59,-34.8]
[1587,70,0,10,10,61.43,-26.39,-27.41]
[1588,70,0,20,10,61.02,-28.98,-20.06]
[1589,70,0,40,10,60.14,-33.7,-5.22]
[1590,70,0,70,10,58.71,-39.13,18.66]
[1591,70,10,0,10,58.59,-18.4,-34.71]
[1592,70,10,10,10,58.4,-21.03,-27.45]
[1593,70,10,20,10,57.97,-23.52,-20.37]
[1594,70,10,40,10,57.12,-27.95,-6.38]
[1595,70,10,70,10,55.76,-33.17,16.72]
[1596,70,20,0,10,55.37,-13.32,-34.64]
[1597,70,20,10,10,55.13,-15.71,-27.75]
[1598,70,20,20,10,54.83,-18.04,-20.89]
[1599,70,20,40,10,53.99,-22.24,-7.66]
[1600,70,20,70,10,52.73,-27.24,14.52]
[1601,70,40,0,10,48.84,-2.64,-34.29]
[1602,70,40,10,10,48.49,-4.56,-28.21]
[1603,70,40,20,10,48.12,-6.5,-22.11]
[1604,70,40,40,10,47.36,-10.2,-10.42]
[1605,70,40,70,10,46.27,-14.7,9.74]
[1606,70,70,0,10,38.48,15.68,-33.36]
[1607,70,70,10,10,38.12,14.36,-28.3]
[1608,70,70,20,10,37.78,12.89,-23.28]
[1609,70,70,40,10,37.2,9.83,-13.51]
[1610,70,70,70,10,36.41,5.81,3.05]
[1611,50,40,40,0,57.46,0.38,-2.03]
[1612,100,0,0,10,51.99,-34.74,-46.14]
[1613,0,100,0,10,44.54,69.09,-4.07]
[1614,0,0,100,10,82.2,-4.22,85.3]
[1615,0,100,100,10,43.74,62.04,43.54]
[1616,100,0,100,10,47.22,-60.96,24.16]
[1617,100,100,0,10,24.1,17.89,-42.18]
["END_DATA"]

{"sheet":"Vertices","index":2,"n_rows":203,"n_cols":18,"rows_kept":203}
["ISO 18621-11 Gamut Volume Computation Tool: List of Vertices"]
[]
[null,"This sheet defines a list of 193 vertices that are used for the triangular faces at the gamut boundary. "]
[null,"These vertices correspond to a sub-set from CMYK-defined patches in common characterization data sets."]
[{"$f":"IF(COUNT(R11:R203)>0, \"ERROR\", \"\")","v":""},"NB: It is required that the INPUT sheet has a column with 'SampleID' that matches the definition in ISO 12642-2 (or ECI2002) for CMYK patches"]
[null,"The CMYK values and CIELAB values below are extracted from indicated columns from the 'INPUT_CharData' sheet based on 'SampleID'."]
[]
[null,"INPUTcolumn:",{"$f":"MATCH(\"*CMYK_C\", INDEX(INPUTdata!A1:L40, MATCH(\"BEGIN_DATA_FORMAT\", INPUTdata!$A1:$A40, 0)+1, 1):INDEX(INPUTdata!A1:L40, MATCH(\"BEGIN_DATA_FORMAT\", INPUTdata!$A1:$A40, 0)+1, 12), 0)","v":2},{"$f":"MATCH(\"*CMYK_M\", INDEX(INPUTdata!A1:L40, MATCH(\"BEGIN_DATA_FORMAT\", INPUTdata!$A1:$A40, 0)+1, 1):INDEX(INPUTdata!A1:L40, MATCH(\"BEGIN_DATA_FORMAT\", INPUTdata!$A1:$A40, 0)+1, 12), 0)","v":3},{"$f":"MATCH(\"*CMYK_Y\", INDEX(INPUTdata!A1:L40, MATCH(\"BEGIN_DATA_FORMAT\", INPUTdata!$A1:$A40, 0)+1, 1):INDEX(INPUTdata!A1:L40, MATCH(\"BEGIN_DATA_FORMAT\", INPUTdata!$A1:$A40, 0)+1, 12), 0)","v":4},{"$f":"MATCH(\"*CMYK_K\", INDEX(INPUTdata!A1:L40, MATCH(\"BEGIN_DATA_FORMAT\", INPUTdata!$A1:$A40, 0)+1, 1):INDEX(INPUTdata!A1:L40, MATCH(\"BEGIN_DATA_FORMAT\", INPUTdata!$A1:$A40, 0)+1, 12), 0)","v":5},{"$f":"MATCH(\"*LAB_L\", INDEX(INPUTdata!A1:L40, MATCH(\"BEGIN_DATA_FORMAT\", INPUTdata!$A1:$A40, 0)+1, 1):INDEX(INPUTdata!A1:L40, MATCH(\"BEGIN_DATA_FORMAT\", INPUTdata!$A1:$A40, 0)+1, 12), 0)","v":6},{"$f":"MATCH(\"*LAB_A\", INDEX(INPUTdata!A1:L40, MATCH(\"BEGIN_DATA_FORMAT\", INPUTdata!$A1:$A40, 0)+1, 1):INDEX(INPUTdata!A1:L40, MATCH(\"BEGIN_DATA_FORMAT\", INPUTdata!$A1:$A40, 0)+1, 12), 0)","v":7},{"$f":"MATCH(\"*LAB_B\", INDEX(INPUTdata!A1:L40, MATCH(\"BEGIN_DATA_FORMAT\", INPUTdata!$A1:$A40, 0)+1, 1):INDEX(INPUTdata!A1:L40, MATCH(\"BEGIN_DATA_FORMAT\", INPUTdata!$A1:$A40, 0)+1, 12), 0)","v":8},{"$nulls":4},"Check for correct assignment CMYK values"]
[{"$nulls":16},"error-count:",{"$f":"COUNT(R11:R203)","v":0}]
["Vertex#","SampleID","C","M","Y","K","L*","a*","b*",{"$nulls":4},"C","M","Y","K"]
[1,1,{"$f":"VLOOKUP($B11,INPUTdata!$A:$L, C$8, FALSE)","v":0},{"$f":"VLOOKUP($B11,INPUTdata!$A:$L, D$8, FALSE)","v":0},{"$f":"VLOOKUP($B11,INPUTdata!$A:$L, E$8, FALSE)","v":0},{"$f":"VLOOKUP($B11,INPUTdata!$A:$L, F$8, FALSE)","v":0},{"$f":"VLOOKUP($B11,INPUTdata!$A:$L, G$8, FALSE)","v":95},{"$f":"VLOOKUP($B11,INPUTdata!$A:$L, H$8, FALSE)","v":1},{"$f":"VLOOKUP($B11,INPUTdata!$A:$L, I$8, FALSE)","v":-4},{"$nulls":4},0,0,0,0,{"$f":"IF(AND(N11=C11,O11=D11,P11=E11,Q11=F11), \"\", 1)","v":""}]
[2,2,{"$f":"VLOOKUP($B12,INPUTdata!$A:$L, C$8, FALSE)","v":0},{"$f":"VLOOKUP($B12,INPUTdata!$A:$L, D$8, FALSE)","v":10},{"$f":"VLOOKUP($B12,INPUTdata!$A:$L, E$8, FALSE)","v":0},{"$f":"VLOOKUP($B12,INPUTdata!$A:$L, F$8, FALSE)","v":0},{"$f":"VLOOKUP($B12,INPUTdata!$A:$L, G$8, FALSE)","v":89.89},{"$f":"VLOOKUP($B12,INPUTdata!$A:$L, H$8, FALSE)","v":7.72},{"$f":"VLOOKUP($B12,INPUTdata!$A:$L, I$8, FALSE)","v":-5.04},{"$nulls":4},0,10,0,0,{"$f":"IF(AND(N12=C12,O12=D12,P12=E12,Q12=F12), \"\", 1)","v":""}]
[3,3,{"$f":"VLOOKUP($B13,INPUTdata!$A:$L, C$8, FALSE)","v":0},{"$f":"VLOOKUP($B13,INPUTdata!$A:$L, D$8, FALSE)","v":20},{"$f":"VLOOKUP($B13,INPUTdata!$A:$L, E$8, FALSE)","v":0},{"$f":"VLOOKUP($B13,INPUTdata!$A:$L, F$8, FALSE)","v":0},{"$f":"VLOOKUP($B13,INPUTdata!$A:$L, G$8, FALSE)","v":85.05},{"$f":"VLOOKUP($B13,INPUTdata!$A:$L, H$8, FALSE)","v":14.22},{"$f":"VLOOKUP($B13,INPUTdata!$A:$L, I$8, FALSE)","v":-5.96},{"$nulls":4},0,20,0,0,""]
[4,5,{"$f":"VLOOKUP($B14,INPUTdata!$A:$L, C$8, FALSE)","v":0},{"$f":"VLOOKUP($B14,INPUTdata!$A:$L, D$8, FALSE)","v":40},{"$f":"VLOOKUP($B14,INPUTdata!$A:$L, E$8, FALSE)","v":0},{"$f":"VLOOKUP($B14,INPUTdata!$A:$L, F$8, FALSE)","v":0},{"$f":"VLOOKUP($B14,INPUTdata!$A:$L, G$8, FALSE)","v":75.09},{"$f":"VLOOKUP($B14,INPUTdata!$A:$L, H$8, FALSE)","v":28.3},{"$f":"VLOOKUP($B14,INPUTdata!$A:$L, I$8, FALSE)","v":-7.25},{"$nulls":4},0,40,0,0,""]
[5,7,{"$f":"VLOOKUP($B15,INPUTdata!$A:$L, C$8, FALSE)","v":0},{"$f":"VLOOKUP($B15,INPUTdata!$A:$L, D$8, FALSE)","v":70},{"$f":"VLOOKUP($B15,INPUTdata!$A:$L, E$8, FALSE)","v":0},{"$f":"VLOOKUP($B15,INPUTdata!$A:$L, F$8, FALSE)","v":0},{"$f":"VLOOKUP($B15,INPUTdata!$A:$L, G$8, FALSE)","v":59.97},{"$f":"VLOOKUP($B15,INPUTdata!$A:$L, H$8, FALSE)","v":52.78},{"$f":"VLOOKUP($B15,INPUTdata!$A:$L, I$8, FALSE)","v":-6.79},{"$nulls":4},0,70,0,0,""]
[6,9,{"$f":"VLOOKUP($B16,INPUTdata!$A:$L, C$8, FALSE)","v":0},{"$f":"VLOOKUP($B16,INPUTdata!$A:$L, D$8, FALSE)","v":100},{"$f":"VLOOKUP($B16,INPUTdata!$A:$L, E$8, FALSE)","v":0},{"$f":"VLOOKUP($B16,INPUTdata!$A:$L, F$8, FALSE)","v":0},{"$f":"VLOOKUP($B16,INPUTdata!$A:$L, G$8, FALSE)","v":48},{"$f":"VLOOKUP($B16,INPUTdata!$A:$L, H$8, FALSE)","v":75},{"$f":"VLOOKUP($B16,INPUTdata!$A:$L, I$8, FALSE)","v":-4},{"$nulls":4},0,100,0,0,""]
[7,10,{"$f":"VLOOKUP($B17,INPUTdata!$A:$L, C$8, FALSE)","v":10},{"$f":"VLOOKUP($B17,INPUTdata!$A:$L, D$8, FALSE)","v":0},{"$f":"VLOOKUP($B17,INPUTdata!$A:$L, E$8, FALSE)","v":0},{"$f":"VLOOKUP($B17,INPUTdata!$A:$L, F$8, FALSE)","v":0},{"$f":"VLOOKUP($B17,INPUTdata!$A:$L, G$8, FALSE)","v":90.99},{"$f":"VLOOKUP($B17,INPUTdata!$A:$L, H$8, FALSE)","v":-2.33},{"$f":"VLOOKUP($B17,INPUTdata!$A:$L, I$8, FALSE)","v":-8.84},{"$nulls":4},10,0,0,0,""]
[8,11,{"$f":"VLOOKUP($B18,INPUTdata!$A:$L, C$8, FALSE)","v":10},{"$f":"VLOOKUP($B18,INPUTdata!$A:$L, D$8, FALSE)","v":10},{"$f":"VLOOKUP($B18,INPUTdata!$A:$L, E$8, FALSE)","v":0},{"$f":"VLOOKUP($B18,INPUTdata!$A:$L, F$8, FALSE)","v":0},{"$f":"VLOOKUP($B18,INPUTdata!$A:$L, G$8, FALSE)","v":86.16},{"$f":"VLOOKUP($B18,INPUTdata!$A:$L, H$8, FALSE)","v":4.15},{"$f":"VLOOKUP($B18,INPUTdata!$A:$L, I$8, FALSE)","v":-9.7},{"$nulls":4},10,10,0,0,""]
[9,12,{"$f":"VLOOKUP($B19,INPUTdata!$A:$L, C$8, FALSE)","v":10},{"$f":"VLOOKUP($B19,INPUTdata!$A:$L, D$8, FALSE)","v":20},{"$f":"VLOOKUP($B19,INPUTdata!$A:$L, E$8, FALSE)","v":0},{"$f":"VLOOKUP($B19,INPUTdata!$A:$L, F$8, FALSE)","v":0},{"$f":"VLOOKUP($B19,INPUTdata!$A:$L, G$8, FALSE)","v":81.51},{"$f":"VLOOKUP($B19,INPUTdata!$A:$L, H$8, FALSE)","v":10.45},{"$f":"VLOOKUP($B19,INPUTdata!$A:$L, I$8, FALSE)","v":-10.46},{"$nulls":4},10,20,0,0,""]
[10,14,{"$f":"VLOOKUP($B20,INPUTdata!$A:$L, C$8, FALSE)","v":10},{"$f":"VLOOKUP($B20,INPUTdata!$A:$L, D$8, FALSE)","v":40},{"$f":"VLOOKUP($B20,INPUTdata!$A:$L, E$8, FALSE)","v":0},{"$f":"VLOOKUP($B20,INPUTdata!$A:$L, F$8, FALSE)","v":0},{"$f":"VLOOKUP($B20,INPUTdata!$A:$L, G$8, FALSE)","v":71.93},{"$f":"VLOOKUP($B20,INPUTdata!$A:$L, H$8, FALSE)","v":24.14},{"$f":"VLOOKUP($B20,INPUTdata!$A:$L, I$8, FALSE)","v":-11.59},{"$nulls":4},10,40,0,0,""]
[11,16,{"$f":"VLOOKUP($B21,INPUTdata!$A:$L, C$8, FALSE)","v":10},{"$f":"VLOOKUP($B21,INPUTdata!$A:$L, D$8, FALSE)","v":70},{"$f":"VLOOKUP($B21,INPUTdata!$A:$L, E$8, FALSE)","v":0},{"$f":"VLOOKUP($B21,INPUTdata!$A:$L, F$8, FALSE)","v":0},{"$f":"VLOOKUP($B21,INPUTdata!$A:$L, G$8, FALSE)","v":57.4},{"$f":"VLOOKUP($B21,INPUTdata!$A:$L, H$8, FALSE)","v":47.81},{"$f":"VLOOKUP($B21,INPUTdata!$A:$L, I$8, FALSE)","v":-11.05},{"$nulls":4},10,70,0,0,""]
[12,18,{"$f":"VLOOKUP($B22,INPUTdata!$A:$L, C$8, FALSE)","v":10},{"$f":"VLOOKUP($B22,INPUTdata!$A:$L, D$8, FALSE)","v":100},{"$f":"VLOOKUP($B22,INPUTdata!$A:$L, E$8, FALSE)","v":0},{"$f":"VLOOKUP($B22,INPUTdata!$A:$L, F$8, FALSE)","v":0},{"$f":"VLOOKUP($B22,INPUTdata!$A:$L, G$8, FALSE)","v":45.82},{"$f":"VLOOKUP($B22,INPUTdata!$A:$L, H$8, FALSE)","v":69.39},{"$f":"VLOOKUP($B22,INPUTdata!$A:$L, I$8, FALSE)","v":-8.63},{"$nulls":4},10,100,0,0,""]
[13,19,{"$f":"VLOOKUP($B23,INPUTdata!$A:$L, C$8, FALSE)","v":20},{"$f":"VLOOKUP($B23,INPUTdata!$A:$L, D$8, FALSE)","v":0},{"$f":"VLOOKUP($B23,INPUTdata!$A:$L, E$8, FALSE)","v":0},{"$f":"VLOOKUP($B23,INPUTdata!$A:$L, F$8, FALSE)","v":0},{"$f":"VLOOKUP($B23,INPUTdata!$A:$L, G$8, FALSE)","v":87.09},{"$f":"VLOOKUP($B23,INPUTdata!$A:$L, H$8, FALSE)","v":-5.66},{"$f":"VLOOKUP($B23,INPUTdata!$A:$L, I$8, FALSE)","v":-13.59},{"$nulls":4},20,0,0,0,""]
[14,20,{"$f":"VLOOKUP($B24,INPUTdata!$A:$L, C$8, FALSE)","v":20},{"$f":"VLOOKUP($B24,INPUTdata!$A:$L, D$8, FALSE)","v":10},{"$f":"VLOOKUP($B24,INPUTdata!$A:$L, E$8, FALSE)","v":0},{"$f":"VLOOKUP($B24,INPUTdata!$A:$L, F$8, FALSE)","v":0},{"$f":"VLOOKUP($B24,INPUTdata!$A:$L, G$8, FALSE)","v":82.45},{"$f":"VLOOKUP($B24,INPUTdata!$A:$L, H$8, FALSE)","v":0.61},{"$f":"VLOOKUP($B24,INPUTdata!$A:$L, I$8, FALSE)","v":-14.26},{"$nulls":4},20,10,0,0,""]
[15,21,{"$f":"VLOOKUP($B25,INPUTdata!$A:$L, C$8, FALSE)","v":20},{"$f":"VLOOKUP($B25,INPUTdata!$A:$L, D$8, FALSE)","v":20},{"$f":"VLOOKUP($B25,INPUTdata!$A:$L, E$8, FALSE)","v":0},{"$f":"VLOOKUP($B25,INPUTdata!$A:$L, F$8, FALSE)","v":0},{"$f":"VLOOKUP($B25,INPUTdata!$A:$L, G$8, FALSE)","v":78.03},{"$f":"VLOOKUP($B25,INPUTdata!$A:$L, H$8, FALSE)","v":6.71},{"$f":"VLOOKUP($B25,INPUTdata!$A:$L, I$8, FALSE)","v":-14.88},{"$nulls":4},20,20,0,0,""]
[16,23,{"$f":"VLOOKUP($B26,INPUTdata!$A:$L, C$8, FALSE)","v":20},{"$f":"VLOOKUP($B26,INPUTdata!$A:$L, D$8, FALSE)","v":40},{"$f":"VLOOKUP($B26,INPUTdata!$A:$L, E$8, FALSE)","v":0},{"$f":"VLOOKUP($B26,INPUTdata!$A:$L, F$8, FALSE)","v":0},{"$f":"VLOOKUP($B26,INPUTdata!$A:$L, G$8, FALSE)","v":68.85},{"$f":"VLOOKUP($B26,INPUTdata!$A:$L, H$8, FALSE)","v":20.07},{"$f":"VLOOKUP($B26,INPUTdata!$A:$L, I$8, FALSE)","v":-15.71},{"$nulls":4},20,40,0,0,""]
[17,25,{"$f":"VLOOKUP($B27,INPUTdata!$A:$L, C$8, FALSE)","v":20},{"$f":"VLOOKUP($B27,INPUTdata!$A:$L, D$8, FALSE)","v":70},{"$f":"VLOOKUP($B27,INPUTdata!$A:$L, E$8, FALSE)","v":0},{"$f":"VLOOKUP($B27,INPUTdata!$A:$L, F$8, FALSE)","v":0},{"$f":"VLOOKUP($B27,INPUTdata!$A:$L, G$8, FALSE)","v":54.86},{"$f":"VLOOKUP($B27,INPUTdata!$A:$L, H$8, FALSE)","v":42.94},{"$f":"VLOOKUP($B27,INPUTdata!$A:$L, I$8, FALSE)","v":-15.19},{"$nulls":4},20,70,0,0,""]
[18,27,{"$f":"VLOOKUP($B28,INPUTdata!$A:$L, C$8, FALSE)","v":20},{"$f":"VLOOKUP($B28,INPUTdata!$A:$L, D$8, FALSE)","v":100},{"$f":"VLOOKUP($B28,INPUTdata!$A:$L, E$8, FALSE)","v":0},{"$f":"VLOOKUP($B28,INPUTdata!$A:$L, F$8, FALSE)","v":0},{"$f":"VLOOKUP($B28,INPUTdata!$A:$L, G$8, FALSE)","v":43.6},{"$f":"VLOOKUP($B28,INPUTdata!$A:$L, H$8, FALSE)","v":63.95},{"$f":"VLOOKUP($B28,INPUTdata!$A:$L, I$8, FALSE)","v":-13.07},{"$nulls":4},20,100,0,0,""]
[19,37,{"$f":"VLOOKUP($B29,INPUTdata!$A:$L, C$8, FALSE)","v":40},{"$f":"VLOOKUP($B29,INPUTdata!$A:$L, D$8, FALSE)","v":0},{"$f":"VLOOKUP($B29,INPUTdata!$A:$L, E$8, FALSE)","v":0},{"$f":"VLOOKUP($B29,INPUTdata!$A:$L, F$8, FALSE)","v":0},{"$f":"VLOOKUP($B29,INPUTdata!$A:$L, G$8, FALSE)","v":79.15},{"$f":"VLOOKUP($B29,INPUTdata!$A:$L, H$8, FALSE)","v":-12.76},{"$f":"VLOOKUP($B29,INPUTdata!$A:$L, I$8, FALSE)","v":-23.17},{"$nulls":4},40,0,0,0,""]
[20,38,{"$f":"VLOOKUP($B30,INPUTdata!$A:$L, C$8, FALSE)","v":40},{"$f":"VLOOKUP($B30,INPUTdata!$A:$L, D$8, FALSE)","v":10},{"$f":"VLOOKUP($B30,INPUTdata!$A:$L, E$8, FALSE)","v":0},{"$f":"VLOOKUP($B30,INPUTdata!$A:$L, F$8, FALSE)","v":0},{"$f":"VLOOKUP($B30,INPUTdata!$A:$L, G$8, FALSE)","v":74.93},{"$f":"VLOOKUP($B30,INPUTdata!$A:$L, H$8, FALSE)","v":-6.85},{"$f":"VLOOKUP($B30,INPUTdata!$A:$L, I$8, FALSE)","v":-23.48},{"$nulls":4},40,10,0,0,""]
[21,39,{"$f":"VLOOKUP($B31,INPUTdata!$A:$L, C$8, FALSE)","v":40},{"$f":"VLOOKUP($B31,INPUTdata!$A:$L, D$8, FALSE)","v":20},{"$f":"VLOOKUP($B31,INPUTdata!$A:$L, E$8, FALSE)","v":0},{"$f":"VLOOKUP($B31,INPUTdata!$A:$L, F$8, FALSE)","v":0},{"$f":"VLOOKUP($B31,INPUTdata!$A:$L, G$8, FALSE)","v":70.91},{"$f":"VLOOKUP($B31,INPUTdata!$A:$L, H$8, FALSE)","v":-1.14},{"$f":"VLOOKUP($B31,INPUTdata!$A:$L, I$8, FALSE)","v":-23.78},{"$nulls":4},40,20,0,0,""]
[22,41,{"$f":"VLOOKUP($B32,INPUTdata!$A:$L, C$8, FALSE)","v":40},{"$f":"VLOOKUP($B32,INPUTdata!$A:$L, D$8, FALSE)","v":40},{"$f":"VLOOKUP($B32,INPUTdata!$A:$L, E$8, FALSE)","v":0},{"$f":"VLOOKUP($B32,INPUTdata!$A:$L, F$8, FALSE)","v":0},{"$f":"VLOOKUP($B32,INPUTdata!$A:$L, G$8, FALSE)","v":62.61},{"$f":"VLOOKUP($B32,INPUTdata!$A:$L, H$8, FALSE)","v":11.35},{"$f":"VLOOKUP($B32,INPUTdata!$A:$L, I$8, FALSE)","v":-24.11},{"$nulls":4},40,40,0,0,""]
[23,43,{"$f":"VLOOKUP($B33,INPUTdata!$A:$L, C$8, FALSE)","v":40},{"$f":"VLOOKUP($B33,INPUTdata!$A:$L, D$8, FALSE)","v":70},{"$f":"VLOOKUP($B33,INPUTdata!$A:$L, E$8, FALSE)","v":0},{"$f":"VLOOKUP($B33,INPUTdata!$A:$L, F$8, FALSE)","v":0},{"$f":"VLOOKUP($B33,INPUTdata!$A:$L, G$8, FALSE)","v":49.66},{"$f":"VLOOKUP($B33,INPUTdata!$A:$L, H$8, FALSE)","v":32.93},{"$f":"VLOOKUP($B33,INPUTdata!$A:$L, I$8, FALSE)","v":-23.47},{"$nulls":4},40,70,0,0,""]
[24,45,{"$f":"VLOOKUP($B34,INPUTdata!$A:$L, C$8, FALSE)","v":40},{"$f":"VLOOKUP($B34,INPUTdata!$A:$L, D$8, FALSE)","v":100},{"$f":"VLOOKUP($B34,INPUTdata!$A:$L, E$8, FALSE)","v":0},{"$f":"VLOOKUP($B34,INPUTdata!$A:$L, F$8, FALSE)","v":0},{"$f":"VLOOKUP($B34,INPUTdata!$A:$L, G$8, FALSE)","v":39.03},{"$f":"VLOOKUP($B34,INPUTdata!$A:$L, H$8, FALSE)","v":52.81},{"$f":"VLOOKUP($B34,INPUTdata!$A:$L, I$8, FALSE)","v":-21.85},{"$nulls":4},40,100,0,0,""]
[25,55,{"$f":"VLOOKUP($B35,INPUTdata!$A:$L, C$8, FALSE)","v":70},{"$f":"VLOOKUP($B35,INPUTdata!$A:$L, D$8, FALSE)","v":0},{"$f":"VLOOKUP($B35,INPUTdata!$A:$L, E$8, FALSE)","v":0},{"$f":"VLOOKUP($B35,INPUTdata!$A:$L, F$8, FALSE)","v":0},{"$f":"VLOOKUP($B35,INPUTdata!$A:$L, G$8, FALSE)","v":66.79},{"$f":"VLOOKUP($B35,INPUTdata!$A:$L, H$8, FALSE)","v":-25.16},{"$f":"VLOOKUP($B35,INPUTdata!$A:$L, I$8, FALSE)","v":-37.63},{"$nulls":4},70,0,0,0,""]
[26,56,{"$f":"VLOOKUP($B36,INPUTdata!$A:$L, C$8, FALSE)","v":70},{"$f":"VLOOKUP($B36,INPUTdata!$A:$L, D$8, FALSE)","v":10},{"$f":"VLOOKUP($B36,INPUTdata!$A:$L, E$8, FALSE)","v":0},{"$f":"VLOOKUP($B36,INPUTdata!$A:$L, F$8, FALSE)","v":0},{"$f":"VLOOKUP($B36,INPUTdata!$A:$L, G$8, FALSE)","v":63.23},{"$f":"VLOOKUP($B36,INPUTdata!$A:$L, H$8, FALSE)","v":-19.67},{"$f":"VLOOKUP($B36,INPUTdata!$A:$L, I$8, FALSE)","v":-37.4},{"$nulls":4},70,10,0,0,""]
[27,57,{"$f":"VLOOKUP($B37,INPUTdata!$A:$L, C$8, FALSE)","v":70},{"$f":"VLOOKUP($B37,INPUTdata!$A:$L, D$8, FALSE)","v":20},{"$f":"VLOOKUP($B37,INPUTdata!$A:$L, E$8, FALSE)","v":0},{"$f":"VLOOKUP($B37,INPUTdata!$A:$L, F$8, FALSE)","v":0},{"$f":"VLOOKUP($B37,INPUTdata!$A:$L, G$8, FALSE)","v":59.85},{"$f":"VLOOKUP($B37,INPUTdata!$A:$L, H$8, FALSE)","v":-14.41},{"$f":"VLOOKUP($B37,INPUTdata!$A:$L, I$8, FALSE)","v":-37.22},{"$nulls":4},70,20,0,0,""]
[28,59,{"$f":"VLOOKUP($B38,INPUTdata!$A:$L, C$8, FALSE)","v":70},{"$f":"VLOOKUP($B38,INPUTdata!$A:$L, D$8, FALSE)","v":40},{"$f":"VLOOKUP($B38,INPUTdata!$A:$L, E$8, FALSE)","v":0},{"$f":"VLOOKUP($B38,INPUTdata!$A:$L, F$8, FALSE)","v":0},{"$f":"VLOOKUP($B38,INPUTdata!$A:$L, G$8, FALSE)","v":52.76},{"$f":"VLOOKUP($B38,INPUTdata!$A:$L, H$8, FALSE)","v":-2.91},{"$f":"VLOOKUP($B38,INPUTdata!$A:$L, I$8, FALSE)","v":-36.75},{"$nulls":4},70,40,0,0,""]
[29,61,{"$f":"VLOOKUP($B39,INPUTdata!$A:$L, C$8, FALSE)","v":70},{"$f":"VLOOKUP($B39,INPUTdata!$A:$L, D$8, FALSE)","v":70},{"$f":"VLOOKUP($B39,INPUTdata!$A:$L, E$8, FALSE)","v":0},{"$f":"VLOOKUP($B39,INPUTdata!$A:$L, F$8, FALSE)","v":0},{"$f":"VLOOKUP($B39,INPUTdata!$A:$L, G$8, FALSE)","v":41.46},{"$f":"VLOOKUP($B39,INPUTdata!$A:$L, H$8, FALSE)","v":16.82},{"$f":"VLOOKUP($B39,INPUTdata!$A:$L, I$8, FALSE)","v":-35.88},{"$nulls":4},70,70,0,0,""]
[30,63,{"$f":"VLOOKUP($B40,INPUTdata!$A:$L, C$8, FALSE)","v":70},{"$f":"VLOOKUP($B40,INPUTdata!$A:$L, D$8, FALSE)","v":100},{"$f":"VLOOKUP($B40,INPUTdata!$A:$L, E$8, FALSE)","v":0},{"$f":"VLOOKUP($B40,INPUTdata!$A:$L, F$8, FALSE)","v":0},{"$f":"VLOOKUP($B40,INPUTdata!$A:$L, G$8, FALSE)","v":31.84},{"$f":"VLOOKUP($B40,INPUTdata!$A:$L, H$8, FALSE)","v":35.11},{"$f":"VLOOKUP($B40,INPUTdata!$A:$L, I$8, FALSE)","v":-35.02},{"$nulls":4},70,100,0,0,""]
[31,73,{"$f":"VLOOKUP($B41,INPUTdata!$A:$L, C$8, FALSE)","v":100},{"$f":"VLOOKUP($B41,INPUTdata!$A:$L, D$8, FALSE)","v":0},{"$f":"VLOOKUP($B41,INPUTdata!$A:$L, E$8, FALSE)","v":0},{"$f":"VLOOKUP($B41,INPUTdata!$A:$L, F$8, FALSE)","v":0},{"$f":"VLOOKUP($B41,INPUTdata!$A:$L, G$8, FALSE)","v":56},{"$f":"VLOOKUP($B41,INPUTdata!$A:$L, H$8, FALSE)","v":-37},{"$f":"VLOOKUP($B41,INPUTdata!$A:$L, I$8, FALSE)","v":-50},{"$nulls":4},100,0,0,0,""]
[32,74,{"$f":"VLOOKUP($B42,INPUTdata!$A:$L, C$8, FALSE)","v":100},{"$f":"VLOOKUP($B42,INPUTdata!$A:$L, D$8, FALSE)","v":10},{"$f":"VLOOKUP($B42,INPUTdata!$A:$L, E$8, FALSE)","v":0},{"$f":"VLOOKUP($B42,INPUTdata!$A:$L, F$8, FALSE)","v":0},{"$f":"VLOOKUP($B42,INPUTdata!$A:$L, G$8, FALSE)","v":53.07},{"$f":"VLOOKUP($B42,INPUTdata!$A:$L, H$8, FALSE)","v":-32.1},{"$f":"VLOOKUP($B42,INPUTdata!$A:$L, I$8, FALSE)","v":-49.14},{"$nulls":4},100,10,0,0,""]
[33,75,{"$f":"VLOOKUP($B43,INPUTdata!$A:$L, C$8, FALSE)","v":100},{"$f":"VLOOKUP($B43,INPUTdata!$A:$L, D$8, FALSE)","v":20},{"$f":"VLOOKUP($B43,INPUTdata!$A:$L, E$8, FALSE)","v":0},{"$f":"VLOOKUP($B43,INPUTdata!$A:$L, F$8, FALSE)","v":0},{"$f":"VLOOKUP($B43,INPUTdata!$A:$L, G$8, FALSE)","v":50.23},{"$f":"VLOOKUP($B43,INPUTdata!$A:$L, H$8, FALSE)","v":-27.18},{"$f":"VLOOKUP($B43,INPUTdata!$A:$L, I$8, FALSE)","v":-48.51},{"$nulls":4},100,20,0,0,""]
[34,77,{"$f":"VLOOKUP($B44,INPUTdata!$A:$L, C$8, FALSE)","v":100},{"$f":"VLOOKUP($B44,INPUTdata!$A:$L, D$8, FALSE)","v":40},{"$f":"VLOOKUP($B44,INPUTdata!$A:$L, E$8, FALSE)","v":0},{"$f":"VLOOKUP($B44,INPUTdata!$A:$L, F$8, FALSE)","v":0},{"$f":"VLOOKUP($B44,INPUTdata!$A:$L, G$8, FALSE)","v":44.12},{"$f":"VLOOKUP($B44,INPUTdata!$A:$L, H$8, FALSE)","v":-16.25},{"$f":"VLOOKUP($B44,INPUTdata!$A:$L, I$8, FALSE)","v":-47.39},{"$nulls":4},100,40,0,0,""]
[35,79,{"$f":"VLOOKUP($B45,INPUTdata!$A:$L, C$8, FALSE)","v":100},{"$f":"VLOOKUP($B45,INPUTdata!$A:$L, D$8, FALSE)","v":70},{"$f":"VLOOKUP($B45,INPUTdata!$A:$L, E$8, FALSE)","v":0},{"$f":"VLOOKUP($B45,INPUTdata!$A:$L, F$8, FALSE)","v":0},{"$f":"VLOOKUP($B45,INPUTdata!$A:$L, G$8, FALSE)","v":34.23},{"$f":"VLOOKUP($B45,INPUTdata!$A:$L, H$8, FALSE)","v":2.27},{"$f":"VLOOKUP($B45,INPUTdata!$A:$L, I$8, FALSE)","v":-46.2},{"$nulls":4},100,70,0,0,""]
[36,81,{"$f":"VLOOKUP($B46,INPUTdata!$A:$L, C$8, FALSE)","v":100},{"$f":"VLOOKUP($B46,INPUTdata!$A:$L, D$8, FALSE)","v":100},{"$f":"VLOOKUP($B46,INPUTdata!$A:$L, E$8, FALSE)","v":0},{"$f":"VLOOKUP($B46,INPUTdata!$A:$L, F$8, FALSE)","v":0},{"$f":"VLOOKUP($B46,INPUTdata!$A:$L, G$8, FALSE)","v":25},{"$f":"VLOOKUP($B46,INPUTdata!$A:$L, H$8, FALSE)","v":20},{"$f":"VLOOKUP($B46,INPUTdata!$A:$L, I$8, FALSE)","v":-46},{"$nulls":4},100,100,0,0,""]
[37,82,{"$f":"VLOOKUP($B47,INPUTdata!$A:$L, C$8, FALSE)","v":0},{"$f":"VLOOKUP($B47,INPUTdata!$A:$L, D$8, FALSE)","v":0},{"$f":"VLOOKUP($B47,INPUTdata!$A:$L, E$8, FALSE)","v":10},{"$f":"VLOOKUP($B47,INPUTdata!$A:$L, F$8, FALSE)","v":0},{"$f":"VLOOKUP($B47,INPUTdata!$A:$L, G$8, FALSE)","v":94.22},{"$f":"VLOOKUP($B47,INPUTdata!$A:$L, H$8, FALSE)","v":0.12},{"$f":"VLOOKUP($B47,INPUTdata!$A:$L, I$8, FALSE)","v":4.76},{"$nulls":4},0,0,10,0,""]
[38,83,{"$f":"VLOOKUP($B48,INPUTdata!$A:$L, C$8, FALSE)","v":0},{"$f":"VLOOKUP($B48,INPUTdata!$A:$L, D$8, FALSE)","v":10},{"$f":"VLOOKUP($B48,INPUTdata!$A:$L, E$8, FALSE)","v":10},{"$f":"VLOOKUP($B48,INPUTdata!$A:$L, F$8, FALSE)","v":0},{"$f":"VLOOKUP($B48,INPUTdata!$A:$L, G$8, FALSE)","v":89.26},{"$f":"VLOOKUP($B48,INPUTdata!$A:$L, H$8, FALSE)","v":6.85},{"$f":"VLOOKUP($B48,INPUTdata!$A:$L, I$8, FALSE)","v":3.27},{"$nulls":4},0,10,10,0,""]
[39,84,{"$f":"VLOOKUP($B49,INPUTdata!$A:$L, C$8, FALSE)","v":0},{"$f":"VLOOKUP($B49,INPUTdata!$A:$L, D$8, FALSE)","v":20},{"$f":"VLOOKUP($B49,INPUTdata!$A:$L, E$8, FALSE)","v":10},{"$f":"VLOOKUP($B49,INPUTdata!$A:$L, F$8, FALSE)","v":0},{"$f":"VLOOKUP($B49,INPUTdata!$A:$L, G$8, FALSE)","v":84.5},{"$f":"VLOOKUP($B49,INPUTdata!$A:$L, H$8, FALSE)","v":13.39},{"$f":"VLOOKUP($B49,INPUTdata!$A:$L, I$8, FALSE)","v":1.97},{"$nulls":4},0,20,10,0,""]
[40,86,{"$f":"VLOOKUP($B50,INPUTdata!$A:$L, C$8, FALSE)","v":0},{"$f":"VLOOKUP($B50,INPUTdata!$A:$L, D$8, FALSE)","v":40},{"$f":"VLOOKUP($B50,INPUTdata!$A:$L, E$8, FALSE)","v":10},{"$f":"VLOOKUP($B50,INPUTdata!$A:$L, F$8, FALSE)","v":0},{"$f":"VLOOKUP($B50,INPUTdata!$A:$L, G$8, FALSE)","v":74.73},{"$f":"VLOOKUP($B50,INPUTdata!$A:$L, H$8, FALSE)","v":27.53},{"$f":"VLOOKUP($B50,INPUTdata!$A:$L, I$8, FALSE)","v":0.06},{"$nulls":4},0,40,10,0,""]
[41,88,{"$f":"VLOOKUP($B51,INPUTdata!$A:$L, C$8, FALSE)","v":0},{"$f":"VLOOKUP($B51,INPUTdata!$A:$L, D$8, FALSE)","v":70},{"$f":"VLOOKUP($B51,INPUTdata!$A:$L, E$8, FALSE)","v":10},{"$f":"VLOOKUP($B51,INPUTdata!$A:$L, F$8, FALSE)","v":0},{"$f":"VLOOKUP($B51,INPUTdata!$A:$L, G$8, FALSE)","v":59.97},{"$f":"VLOOKUP($B51,INPUTdata!$A:$L, H$8, FALSE)","v":51.94},{"$f":"VLOOKUP($B51,INPUTdata!$A:$L, I$8, FALSE)","v":-0.71},{"$nulls":4},0,70,10,0,""]
[42,90,{"$f":"VLOOKUP($B52,INPUTdata!$A:$L, C$8, FALSE)","v":0},{"$f":"VLOOKUP($B52,INPUTdata!$A:$L, D$8, FALSE)","v":100},{"$f":"VLOOKUP($B52,INPUTdata!$A:$L, E$8, FALSE)","v":10},{"$f":"VLOOKUP($B52,INPUTdata!$A:$L, F$8, FALSE)","v":0},{"$f":"VLOOKUP($B52,INPUTdata!$A:$L, G$8, FALSE)","v":48.29},{"$f":"VLOOKUP($B52,INPUTdata!$A:$L, H$8, FALSE)","v":74.1},{"$f":"VLOOKUP($B52,INPUTdata!$A:$L, I$8, FALSE)","v":0.87},{"$nulls":4},0,100,10,0,""]
[43,91,{"$f":"VLOOKUP($B53,INPUTdata!$A:$L, C$8, FALSE)","v":10},{"$f":"VLOOKUP($B53,INPUTdata!$A:$L, D$8, FALSE)","v":0},{"$f":"VLOOKUP($B53,INPUTdata!$A:$L, E$8, FALSE)","v":10},{"$f":"VLOOKUP($B53,INPUTdata!$A:$L, F$8, FALSE)","v":0},{"$f":"VLOOKUP($B53,INPUTdata!$A:$L, G$8, FALSE)","v":90.27},{"$f":"VLOOKUP($B53,INPUTdata!$A:$L, H$8, FALSE)","v":-3.53},{"$f":"VLOOKUP($B53,INPUTdata!$A:$L, I$8, FALSE)","v":-0.18},{"$nulls":4},10,0,10,0,""]
[44,100,{"$f":"VLOOKUP($B54,INPUTdata!$A:$L, C$8, FALSE)","v":20},{"$f":"VLOOKUP($B54,INPUTdata!$A:$L, D$8, FALSE)","v":0},{"$f":"VLOOKUP($B54,INPUTdata!$A:$L, E$8, FALSE)","v":10},{"$f":"VLOOKUP($B54,INPUTdata!$A:$L, F$8, FALSE)","v":0},{"$f":"VLOOKUP($B54,INPUTdata!$A:$L, G$8, FALSE)","v":86.38},{"$f":"VLOOKUP($B54,INPUTdata!$A:$L, H$8, FALSE)","v":-7.13},{"$f":"VLOOKUP($B54,INPUTdata!$A:$L, I$8, FALSE)","v":-5},{"$nulls":4},20,0,10,0,""]
[45,118,{"$f":"VLOOKUP($B55,INPUTdata!$A:$L, C$8, FALSE)","v":40},{"$f":"VLOOKUP($B55,INPUTdata!$A:$L, D$8, FALSE)","v":0},{"$f":"VLOOKUP($B55,INPUTdata!$A:$L, E$8, FALSE)","v":10},{"$f":"VLOOKUP($B55,INPUTdata!$A:$L, F$8, FALSE)","v":0},{"$f":"VLOOKUP($B55,INPUTdata!$A:$L, G$8, FALSE)","v":78.55},{"$f":"VLOOKUP($B55,INPUTdata!$A:$L, H$8, FALSE)","v":-14.75},{"$f":"VLOOKUP($B55,INPUTdata!$A:$L, I$8, FALSE)","v":-14.77},{"$nulls":4},40,0,10,0,""]
[46,136,{"$f":"VLOOKUP($B56,INPUTdata!$A:$L, C$8, FALSE)","v":70},{"$f":"VLOOKUP($B56,INPUTdata!$A:$L, D$8, FALSE)","v":0},{"$f":"VLOOKUP($B56,INPUTdata!$A:$L, E$8, FALSE)","v":10},{"$f":"VLOOKUP($B56,INPUTdata!$A:$L, F$8, FALSE)","v":0},{"$f":"VLOOKUP($B56,INPUTdata!$A:$L, G$8, FALSE)","v":66.29},{"$f":"VLOOKUP($B56,INPUTdata!$A:$L, H$8, FALSE)","v":-28.26},{"$f":"VLOOKUP($B56,INPUTdata!$A:$L, I$8, FALSE)","v":-29.48},{"$nulls":4},70,0,10,0,""]
[47,154,{"$f":"VLOOKUP($B57,INPUTdata!$A:$L, C$8, FALSE)","v":100},{"$f":"VLOOKUP($B57,INPUTdata!$A:$L, D$8, FALSE)","v":0},{"$f":"VLOOKUP($B57,INPUTdata!$A:$L, E$8, FALSE)","v":10},{"$f":"VLOOKUP($B57,INPUTdata!$A:$L, F$8, FALSE)","v":0},{"$f":"VLOOKUP($B57,INPUTdata!$A:$L, G$8, FALSE)","v":55.58},{"$f":"VLOOKUP($B57,INPUTdata!$A:$L, H$8, FALSE)","v":-41.34},{"$f":"VLOOKUP($B57,INPUTdata!$A:$L, I$8, FALSE)","v":-42.01},{"$nulls":4},100,0,10,0,""]
[48,163,{"$f":"VLOOKUP($B58,INPUTdata!$A:$L, C$8, FALSE)","v":0},{"$f":"VLOOKUP($B58,INPUTdata!$A:$L, D$8, FALSE)","v":0},{"$f":"VLOOKUP($B58,INPUTdata!$A:$L, E$8, FALSE)","v":20},{"$f":"VLOOKUP($B58,INPUTdata!$A:$L, F$8, FALSE)","v":0},{"$f":"VLOOKUP($B58,INPUTdata!$A:$L, G$8, FALSE)","v":93.49},{"$f":"VLOOKUP($B58,INPUTdata!$A:$L, H$8, FALSE)","v":-0.71},{"$f":"VLOOKUP($B58,INPUTdata!$A:$L, I$8, FALSE)","v":13.36},{"$nulls":4},0,0,20,0,""]
[49,164,{"$f":"VLOOKUP($B59,INPUTdata!$A:$L, C$8, FALSE)","v":0},{"$f":"VLOOKUP($B59,INPUTdata!$A:$L, D$8, FALSE)","v":10},{"$f":"VLOOKUP($B59,INPUTdata!$A:$L, E$8, FALSE)","v":20},{"$f":"VLOOKUP($B59,INPUTdata!$A:$L, F$8, FALSE)","v":0},{"$f":"VLOOKUP($B59,INPUTdata!$A:$L, G$8, FALSE)","v":88.6},{"$f":"VLOOKUP($B59,INPUTdata!$A:$L, H$8, FALSE)","v":6.01},{"$f":"VLOOKUP($B59,INPUTdata!$A:$L, I$8, FALSE)","v":11.51},{"$nulls":4},0,10,20,0,""]
[50,165,{"$f":"VLOOKUP($B60,INPUTdata!$A:$L, C$8, FALSE)","v":0},{"$f":"VLOOKUP($B60,INPUTdata!$A:$L, D$8, FALSE)","v":20},{"$f":"VLOOKUP($B60,INPUTdata!$A:$L, E$8, FALSE)","v":20},{"$f":"VLOOKUP($B60,INPUTdata!$A:$L, F$8, FALSE)","v":0},{"$f":"VLOOKUP($B60,INPUTdata!$A:$L, G$8, FALSE)","v":83.95},{"$f":"VLOOKUP($B60,INPUTdata!$A:$L, H$8, FALSE)","v":12.54},{"$f":"VLOOKUP($B60,INPUTdata!$A:$L, I$8, FALSE)","v":9.9},{"$nulls":4},0,20,20,0,""]
[51,167,{"$f":"VLOOKUP($B61,INPUTdata!$A:$L, C$8, FALSE)","v":0},{"$f":"VLOOKUP($B61,INPUTdata!$A:$L, D$8, FALSE)","v":40},{"$f":"VLOOKUP($B61,INPUTdata!$A:$L, E$8, FALSE)","v":20},{"$f":"VLOOKUP($B61,INPUTdata!$A:$L, F$8, FALSE)","v":0},{"$f":"VLOOKUP($B61,INPUTdata!$A:$L, G$8, FALSE)","v":74.38},{"$f":"VLOOKUP($B61,INPUTdata!$A:$L, H$8, FALSE)","v":26.78},{"$f":"VLOOKUP($B61,INPUTdata!$A:$L, I$8, FALSE)","v":7.27},{"$nulls":4},0,40,20,0,""]
[52,169,{"$f":"VLOOKUP($B62,INPUTdata!$A:$L, C$8, FALSE)","v":0},{"$f":"VLOOKUP($B62,INPUTdata!$A:$L, D$8, FALSE)","v":70},{"$f":"VLOOKUP($B62,INPUTdata!$A:$L, E$8, FALSE)","v":20},{"$f":"VLOOKUP($B62,INPUTdata!$A:$L, F$8, FALSE)","v":0},{"$f":"VLOOKUP($B62,INPUTdata!$A:$L, G$8, FALSE)","v":59.91},{"$f":"VLOOKUP($B62,INPUTdata!$A:$L, H$8, FALSE)","v":51.04},{"$f":"VLOOKUP($B62,INPUTdata!$A:$L, I$8, FALSE)","v":5.29},{"$nulls":4},0,70,20,0,""]
[53,171,{"$f":"VLOOKUP($B63,INPUTdata!$A:$L, C$8, FALSE)","v":0},{"$f":"VLOOKUP($B63,INPUTdata!$A:$L, D$8, FALSE)","v":100},{"$f":"VLOOKUP($B63,INPUTdata!$A:$L, E$8, FALSE)","v":20},{"$f":"VLOOKUP($B63,INPUTdata!$A:$L, F$8, FALSE)","v":0},{"$f":"VLOOKUP($B63,INPUTdata!$A:$L, G$8, FALSE)","v":48.47},{"$f":"VLOOKUP($B63,INPUTdata!$A:$L, H$8, FALSE)","v":73.14},{"$f":"VLOOKUP($B63,INPUTdata!$A:$L, I$8, FALSE)","v":5.87},{"$nulls":4},0,100,20,0,""]
[54,172,{"$f":"VLOOKUP($B64,INPUTdata!$A:$L, C$8, FALSE)","v":10},{"$f":"VLOOKUP($B64,INPUTdata!$A:$L, D$8, FALSE)","v":0},{"$f":"VLOOKUP($B64,INPUTdata!$A:$L, E$8, FALSE)","v":20},{"$f":"VLOOKUP($B64,INPUTdata!$A:$L, F$8, FALSE)","v":0},{"$f":"VLOOKUP($B64,INPUTdata!$A:$L, G$8, FALSE)","v":89.58},{"$f":"VLOOKUP($B64,INPUTdata!$A:$L, H$8, FALSE)","v":-4.56},{"$f":"VLOOKUP($B64,INPUTdata!$A:$L, I$8, FALSE)","v":8.31},{"$nulls":4},10,0,20,0,""]
[55,181,{"$f":"VLOOKUP($B65,INPUTdata!$A:$L, C$8, FALSE)","v":20},{"$f":"VLOOKUP($B65,INPUTdata!$A:$L, D$8, FALSE)","v":0},{"$f":"VLOOKUP($B65,INPUTdata!$A:$L, E$8, FALSE)","v":20},{"$f":"VLOOKUP($B65,INPUTdata!$A:$L, F$8, FALSE)","v":0},{"$f":"VLOOKUP($B65,INPUTdata!$A:$L, G$8, FALSE)","v":85.76},{"$f":"VLOOKUP($B65,INPUTdata!$A:$L, H$8, FALSE)","v":-8.38},{"$f":"VLOOKUP($B65,INPUTdata!$A:$L, I$8, FALSE)","v":3.36},{"$nulls":4},20,0,20,0,""]
[56,199,{"$f":"VLOOKUP($B66,INPUTdata!$A:$L, C$8, FALSE)","v":40},{"$f":"VLOOKUP($B66,INPUTdata!$A:$L, D$8, FALSE)","v":0},{"$f":"VLOOKUP($B66,INPUTdata!$A:$L, E$8, FALSE)","v":20},{"$f":"VLOOKUP($B66,INPUTdata!$A:$L, F$8, FALSE)","v":0},{"$f":"VLOOKUP($B66,INPUTdata!$A:$L, G$8, FALSE)","v":77.98},{"$f":"VLOOKUP($B66,INPUTdata!$A:$L, H$8, FALSE)","v":-16.63},{"$f":"VLOOKUP($B66,INPUTdata!$A:$L, I$8, FALSE)","v":-6.56},{"$nulls":4},40,0,20,0,""]
[57,217,{"$f":"VLOOKUP($B67,INPUTdata!$A:$L, C$8, FALSE)","v":70},{"$f":"VLOOKUP($B67,INPUTdata!$A:$L, D$8, FALSE)","v":0},{"$f":"VLOOKUP($B67,INPUTdata!$A:$L, E$8, FALSE)","v":20},{"$f":"VLOOKUP($B67,INPUTdata!$A:$L, F$8, FALSE)","v":0},{"$f":"VLOOKUP($B67,INPUTdata!$A:$L, G$8, FALSE)","v":65.84},{"$f":"VLOOKUP($B67,INPUTdata!$A:$L, H$8, FALSE)","v":-31.02},{"$f":"VLOOKUP($B67,INPUTdata!$A:$L, I$8, FALSE)","v":-21.67},{"$nulls":4},70,0,20,0,""]
[58,235,{"$f":"VLOOKUP($B68,INPUTdata!$A:$L, C$8, FALSE)","v":100},{"$f":"VLOOKUP($B68,INPUTdata!$A:$L, D$8, FALSE)","v":0},{"$f":"VLOOKUP($B68,INPUTdata!$A:$L, E$8, FALSE)","v":20},{"$f":"VLOOKUP($B68,INPUTdata!$A:$L, F$8, FALSE)","v":0},{"$f":"VLOOKUP($B68,INPUTdata!$A:$L, G$8, FALSE)","v":55.21},{"$f":"VLOOKUP($B68,INPUTdata!$A:$L, H$8, FALSE)","v":-45.11},{"$f":"VLOOKUP($B68,INPUTdata!$A:$L, I$8, FALSE)","v":-34.45},{"$nulls":4},100,0,20,0,""]
[59,325,{"$f":"VLOOKUP($B69,INPUTdata!$A:$L, C$8, FALSE)","v":0},{"$f":"VLOOKUP($B69,INPUTdata!$A:$L, D$8, FALSE)","v":0},{"$f":"VLOOKUP($B69,INPUTdata!$A:$L, E$8, FALSE)","v":40},{"$f":"VLOOKUP($B69,INPUTdata!$A:$L, F$8, FALSE)","v":0},{"$f":"VLOOKUP($B69,INPUTdata!$A:$L, G$8, FALSE)","v":92.13},{"$f":"VLOOKUP($B69,INPUTdata!$A:$L, H$8, FALSE)","v":-2.16},{"$f":"VLOOKUP($B69,INPUTdata!$A:$L, I$8, FALSE)","v":31.6},{"$nulls":4},0,0,40,0,""]
[60,326,{"$f":"VLOOKUP($B70,INPUTdata!$A:$L, C$8, FALSE)","v":0},{"$f":"VLOOKUP($B70,INPUTdata!$A:$L, D$8, FALSE)","v":10},{"$f":"VLOOKUP($B70,INPUTdata!$A:$L, E$8, FALSE)","v":40},{"$f":"VLOOKUP($B70,INPUTdata!$A:$L, F$8, FALSE)","v":0},{"$f":"VLOOKUP($B70,INPUTdata!$A:$L, G$8, FALSE)","v":87.38},{"$f":"VLOOKUP($B70,INPUTdata!$A:$L, H$8, FALSE)","v":4.65},{"$f":"VLOOKUP($B70,INPUTdata!$A:$L, I$8, FALSE)","v":28.98},{"$nulls":4},0,10,40,0,""]
[61,327,{"$f":"VLOOKUP($B71,INPUTdata!$A:$L, C$8, FALSE)","v":0},{"$f":"VLOOKUP($B71,INPUTdata!$A:$L, D$8, FALSE)","v":20},{"$f":"VLOOKUP($B71,INPUTdata!$A:$L, E$8, FALSE)","v":40},{"$f":"VLOOKUP($B71,INPUTdata!$A:$L, F$8, FALSE)","v":0},{"$f":"VLOOKUP($B71,INPUTdata!$A:$L, G$8, FALSE)","v":82.9},{"$f":"VLOOKUP($B71,INPUTdata!$A:$L, H$8, FALSE)","v":11.2},{"$f":"VLOOKUP($B71,INPUTdata!$A:$L, I$8, FALSE)","v":26.63},{"$nulls":4},0,20,40,0,""]
[62,329,{"$f":"VLOOKUP($B72,INPUTdata!$A:$L, C$8, FALSE)","v":0},{"$f":"VLOOKUP($B72,INPUTdata!$A:$L, D$8, FALSE)","v":40},{"$f":"VLOOKUP($B72,INPUTdata!$A:$L, E$8, FALSE)","v":40},{"$f":"VLOOKUP($B72,INPUTdata!$A:$L, F$8, FALSE)","v":0},{"$f":"VLOOKUP($B72,INPUTdata!$A:$L, G$8, FALSE)","v":73.68},{"$f":"VLOOKUP($B72,INPUTdata!$A:$L, H$8, FALSE)","v":25.38},{"$f":"VLOOKUP($B72,INPUTdata!$A:$L, I$8, FALSE)","v":22.21},{"$nulls":4},0,40,40,0,""]
[63,331,{"$f":"VLOOKUP($B73,INPUTdata!$A:$L, C$8, FALSE)","v":0},{"$f":"VLOOKUP($B73,INPUTdata!$A:$L, D$8, FALSE)","v":70},{"$f":"VLOOKUP($B73,INPUTdata!$A:$L, E$8, FALSE)","v":40},{"$f":"VLOOKUP($B73,INPUTdata!$A:$L, F$8, FALSE)","v":0},{"$f":"VLOOKUP($B73,INPUTdata!$A:$L, G$8, FALSE)","v":59.7},{"$f":"VLOOKUP($B73,INPUTdata!$A:$L, H$8, FALSE)","v":49.54},{"$f":"VLOOKUP($B73,INPUTdata!$A:$L, I$8, FALSE)","v":17.71},{"$nulls":4},0,70,40,0,""]
[64,333,{"$f":"VLOOKUP($B74,INPUTdata!$A:$L, C$8, FALSE)","v":0},{"$f":"VLOOKUP($B74,INPUTdata!$A:$L, D$8, FALSE)","v":100},{"$f":"VLOOKUP($B74,INPUTdata!$A:$L, E$8, FALSE)","v":40},{"$f":"VLOOKUP($B74,INPUTdata!$A:$L, F$8, FALSE)","v":0},{"$f":"VLOOKUP($B74,INPUTdata!$A:$L, G$8, FALSE)","v":48.61},{"$f":"VLOOKUP($B74,INPUTdata!$A:$L, H$8, FALSE)","v":71.46},{"$f":"VLOOKUP($B74,INPUTdata!$A:$L, I$8, FALSE)","v":16.14},{"$nulls":4},0,100,40,0,""]
[65,334,{"$f":"VLOOKUP($B75,INPUTdata!$A:$L, C$8, FALSE)","v":10},{"$f":"VLOOKUP($B75,INPUTdata!$A:$L, D$8, FALSE)","v":0},{"$f":"VLOOKUP($B75,INPUTdata!$A:$L, E$8, FALSE)","v":40},{"$f":"VLOOKUP($B75,INPUTdata!$A:$L, F$8, FALSE)","v":0},{"$f":"VLOOKUP($B75,INPUTdata!$A:$L, G$8, FALSE)","v":88.29},{"$f":"VLOOKUP($B75,INPUTdata!$A:$L, H$8, FALSE)","v":-6.45},{"$f":"VLOOKUP($B75,INPUTdata!$A:$L, I$8, FALSE)","v":26.23},{"$nulls":4},10,0,40,0,""]
[66,343,{"$f":"VLOOKUP($B76,INPUTdata!$A:$L, C$8, FALSE)","v":20},{"$f":"VLOOKUP($B76,INPUTdata!$A:$L, D$8, FALSE)","v":0},{"$f":"VLOOKUP($B76,INPUTdata!$A:$L, E$8, FALSE)","v":40},{"$f":"VLOOKUP($B76,INPUTdata!$A:$L, F$8, FALSE)","v":0},{"$f":"VLOOKUP($B76,INPUTdata!$A:$L, G$8, FALSE)","v":84.54},{"$f":"VLOOKUP($B76,INPUTdata!$A:$L, H$8, FALSE)","v":-10.68},{"$f":"VLOOKUP($B76,INPUTdata!$A:$L, I$8, FALSE)","v":21.05},{"$nulls":4},20,0,40,0,{"$f":"IF(AND(N76=C76,O76=D76,P76=E76,Q76=F76), \"\", 1)","v":""}]
[67,361,{"$f":"VLOOKUP($B77,INPUTdata!$A:$L, C$8, FALSE)","v":40},{"$f":"VLOOKUP($B77,INPUTdata!$A:$L, D$8, FALSE)","v":0},{"$f":"VLOOKUP($B77,INPUTdata!$A:$L, E$8, FALSE)","v":40},{"$f":"VLOOKUP($B77,INPUTdata!$A:$L, F$8, FALSE)","v":0},{"$f":"VLOOKUP($B77,INPUTdata!$A:$L, G$8, FALSE)","v":76.89},{"$f":"VLOOKUP($B77,INPUTdata!$A:$L, H$8, FALSE)","v":-19.94},{"$f":"VLOOKUP($B77,INPUTdata!$A:$L, I$8, FALSE)","v":10.51},{"$nulls":4},40,0,40,0,""]
[68,379,{"$f":"VLOOKUP($B78,INPUTdata!$A:$L, C$8, FALSE)","v":70},{"$f":"VLOOKUP($B78,INPUTdata!$A:$L, D$8, FALSE)","v":0},{"$f":"VLOOKUP($B78,INPUTdata!$A:$L, E$8, FALSE)","v":40},{"$f":"VLOOKUP($B78,INPUTdata!$A:$L, F$8, FALSE)","v":0},{"$f":"VLOOKUP($B78,INPUTdata!$A:$L, G$8, FALSE)","v":64.86},{"$f":"VLOOKUP($B78,INPUTdata!$A:$L, H$8, FALSE)","v":-36.11},{"$f":"VLOOKUP($B78,INPUTdata!$A:$L, I$8, FALSE)","v":-5.45},{"$nulls":4},70,0,40,0,""]
[69,397,{"$f":"VLOOKUP($B79,INPUTdata!$A:$L, C$8, FALSE)","v":100},{"$f":"VLOOKUP($B79,INPUTdata!$A:$L, D$8, FALSE)","v":0},{"$f":"VLOOKUP($B79,INPUTdata!$A:$L, E$8, FALSE)","v":40},{"$f":"VLOOKUP($B79,INPUTdata!$A:$L, F$8, FALSE)","v":0},{"$f":"VLOOKUP($B79,INPUTdata!$A:$L, G$8, FALSE)","v":54.26},{"$f":"VLOOKUP($B79,INPUTdata!$A:$L, H$8, FALSE)","v":-52.09},{"$f":"VLOOKUP($B79,INPUTdata!$A:$L, I$8, FALSE)","v":-19.06},{"$nulls":4},100,0,40,0,""]
[70,487,{"$f":"VLOOKUP($B80,INPUTdata!$A:$L, C$8, FALSE)","v":0},{"$f":"VLOOKUP($B80,INPUTdata!$A:$L, D$8, FALSE)","v":0},{"$f":"VLOOKUP($B80,INPUTdata!$A:$L, E$8, FALSE)","v":70},{"$f":"VLOOKUP($B80,INPUTdata!$A:$L, F$8, FALSE)","v":0},{"$f":"VLOOKUP($B80,INPUTdata!$A:$L, G$8, FALSE)","v":90.29},{"$f":"VLOOKUP($B80,INPUTdata!$A:$L, H$8, FALSE)","v":-3.55},{"$f":"VLOOKUP($B80,INPUTdata!$A:$L, I$8, FALSE)","v":62.44},{"$nulls":4},0,0,70,0,""]
[71,488,{"$f":"VLOOKUP($B81,INPUTdata!$A:$L, C$8, FALSE)","v":0},{"$f":"VLOOKUP($B81,INPUTdata!$A:$L, D$8, FALSE)","v":10},{"$f":"VLOOKUP($B81,INPUTdata!$A:$L, E$8, FALSE)","v":70},{"$f":"VLOOKUP($B81,INPUTdata!$A:$L, F$8, FALSE)","v":0},{"$f":"VLOOKUP($B81,INPUTdata!$A:$L, G$8, FALSE)","v":85.69},{"$f":"VLOOKUP($B81,INPUTdata!$A:$L, H$8, FALSE)","v":3.32},{"$f":"VLOOKUP($B81,INPUTdata!$A:$L, I$8, FALSE)","v":58.28},{"$nulls":4},0,10,70,0,""]
[72,489,{"$f":"VLOOKUP($B82,INPUTdata!$A:$L, C$8, FALSE)","v":0},{"$f":"VLOOKUP($B82,INPUTdata!$A:$L, D$8, FALSE)","v":20},{"$f":"VLOOKUP($B82,INPUTdata!$A:$L, E$8, FALSE)","v":70},{"$f":"VLOOKUP($B82,INPUTdata!$A:$L, F$8, FALSE)","v":0},{"$f":"VLOOKUP($B82,INPUTdata!$A:$L, G$8, FALSE)","v":81.38},{"$f":"VLOOKUP($B82,INPUTdata!$A:$L, H$8, FALSE)","v":9.87},{"$f":"VLOOKUP($B82,INPUTdata!$A:$L, I$8, FALSE)","v":54.53},{"$nulls":4},0,20,70,0,""]
[73,491,{"$f":"VLOOKUP($B83,INPUTdata!$A:$L, C$8, FALSE)","v":0},{"$f":"VLOOKUP($B83,INPUTdata!$A:$L, D$8, FALSE)","v":40},{"$f":"VLOOKUP($B83,INPUTdata!$A:$L, E$8, FALSE)","v":70},{"$f":"VLOOKUP($B83,INPUTdata!$A:$L, F$8, FALSE)","v":0},{"$f":"VLOOKUP($B83,INPUTdata!$A:$L, G$8, FALSE)","v":72.49},{"$f":"VLOOKUP($B83,INPUTdata!$A:$L, H$8, FALSE)","v":24.04},{"$f":"VLOOKUP($B83,INPUTdata!$A:$L, I$8, FALSE)","v":47.27},{"$nulls":4},0,40,70,0,""]
[74,493,{"$f":"VLOOKUP($B84,INPUTdata!$A:$L, C$8, FALSE)","v":0},{"$f":"VLOOKUP($B84,INPUTdata!$A:$L, D$8, FALSE)","v":70},{"$f":"VLOOKUP($B84,INPUTdata!$A:$L, E$8, FALSE)","v":70},{"$f":"VLOOKUP($B84,INPUTdata!$A:$L, F$8, FALSE)","v":0},{"$f":"VLOOKUP($B84,INPUTdata!$A:$L, G$8, FALSE)","v":59.01},{"$f":"VLOOKUP($B84,INPUTdata!$A:$L, H$8, FALSE)","v":47.84},{"$f":"VLOOKUP($B84,INPUTdata!$A:$L, I$8, FALSE)","v":37.98},{"$nulls":4},0,70,70,0,""]
[75,495,{"$f":"VLOOKUP($B85,INPUTdata!$A:$L, C$8, FALSE)","v":0},{"$f":"VLOOKUP($B85,INPUTdata!$A:$L, D$8, FALSE)","v":100},{"$f":"VLOOKUP($B85,INPUTdata!$A:$L, E$8, FALSE)","v":70},{"$f":"VLOOKUP($B85,INPUTdata!$A:$L, F$8, FALSE)","v":0},{"$f":"VLOOKUP($B85,INPUTdata!$A:$L, G$8, FALSE)","v":48.25},{"$f":"VLOOKUP($B85,INPUTdata!$A:$L, H$8, FALSE)","v":69.27},{"$f":"VLOOKUP($B85,INPUTdata!$A:$L, I$8, FALSE)","v":32.31},{"$nulls":4},0,100,70,0,""]
[76,496,{"$f":"VLOOKUP($B86,INPUTdata!$A:$L, C$8, FALSE)","v":10},{"$f":"VLOOKUP($B86,INPUTdata!$A:$L, D$8, FALSE)","v":0},{"$f":"VLOOKUP($B86,INPUTdata!$A:$L, E$8, FALSE)","v":70},{"$f":"VLOOKUP($B86,INPUTdata!$A:$L, F$8, FALSE)","v":0},{"$f":"VLOOKUP($B86,INPUTdata!$A:$L, G$8, FALSE)","v":86.53},{"$f":"VLOOKUP($B86,INPUTdata!$A:$L, H$8, FALSE)","v":-8.34},{"$f":"VLOOKUP($B86,INPUTdata!$A:$L, I$8, FALSE)","v":56.4},{"$nulls":4},10,0,70,0,""]
[77,505,{"$f":"VLOOKUP($B87,INPUTdata!$A:$L, C$8, FALSE)","v":20},{"$f":"VLOOKUP($B87,INPUTdata!$A:$L, D$8, FALSE)","v":0},{"$f":"VLOOKUP($B87,INPUTdata!$A:$L, E$8, FALSE)","v":70},{"$f":"VLOOKUP($B87,INPUTdata!$A:$L, F$8, FALSE)","v":0},{"$f":"VLOOKUP($B87,INPUTdata!$A:$L, G$8, FALSE)","v":82.85},{"$f":"VLOOKUP($B87,INPUTdata!$A:$L, H$8, FALSE)","v":-13.04},{"$f":"VLOOKUP($B87,INPUTdata!$A:$L, I$8, FALSE)","v":50.55},{"$nulls":4},20,0,70,0,""]
[78,523,{"$f":"VLOOKUP($B88,INPUTdata!$A:$L, C$8, FALSE)","v":40},{"$f":"VLOOKUP($B88,INPUTdata!$A:$L, D$8, FALSE)","v":0},{"$f":"VLOOKUP($B88,INPUTdata!$A:$L, E$8, FALSE)","v":70},{"$f":"VLOOKUP($B88,INPUTdata!$A:$L, F$8, FALSE)","v":0},{"$f":"VLOOKUP($B88,INPUTdata!$A:$L, G$8, FALSE)","v":75.26},{"$f":"VLOOKUP($B88,INPUTdata!$A:$L, H$8, FALSE)","v":-23.41},{"$f":"VLOOKUP($B88,INPUTdata!$A:$L, I$8, FALSE)","v":38.7},{"$nulls":4},40,0,70,0,""]
[79,541,{"$f":"VLOOKUP($B89,INPUTdata!$A:$L, C$8, FALSE)","v":70},{"$f":"VLOOKUP($B89,INPUTdata!$A:$L, D$8, FALSE)","v":0},{"$f":"VLOOKUP($B89,INPUTdata!$A:$L, E$8, FALSE)","v":70},{"$f":"VLOOKUP($B89,INPUTdata!$A:$L, F$8, FALSE)","v":0},{"$f":"VLOOKUP($B89,INPUTdata!$A:$L, G$8, FALSE)","v":63.25},{"$f":"VLOOKUP($B89,INPUTdata!$A:$L, H$8, FALSE)","v":-41.99},{"$f":"VLOOKUP($B89,INPUTdata!$A:$L, I$8, FALSE)","v":20.43},{"$nulls":4},70,0,70,0,""]
[80,559,{"$f":"VLOOKUP($B90,INPUTdata!$A:$L, C$8, FALSE)","v":100},{"$f":"VLOOKUP($B90,INPUTdata!$A:$L, D$8, FALSE)","v":0},{"$f":"VLOOKUP($B90,INPUTdata!$A:$L, E$8, FALSE)","v":70},{"$f":"VLOOKUP($B90,INPUTdata!$A:$L, F$8, FALSE)","v":0},{"$f":"VLOOKUP($B90,INPUTdata!$A:$L, G$8, FALSE)","v":52.46},{"$f":"VLOOKUP($B90,INPUTdata!$A:$L, H$8, FALSE)","v":-60.77},{"$f":"VLOOKUP($B90,INPUTdata!$A:$L, I$8, FALSE)","v":4.59},{"$nulls":4},100,0,70,0,""]
[81,649,{"$f":"VLOOKUP($B91,INPUTdata!$A:$L, C$8, FALSE)","v":0},{"$f":"VLOOKUP($B91,INPUTdata!$A:$L, D$8, FALSE)","v":0},{"$f":"VLOOKUP($B91,INPUTdata!$A:$L, E$8, FALSE)","v":100},{"$f":"VLOOKUP($B91,INPUTdata!$A:$L, F$8, FALSE)","v":0},{"$f":"VLOOKUP($B91,INPUTdata!$A:$L, G$8, FALSE)","v":89},{"$f":"VLOOKUP($B91,INPUTdata!$A:$L, H$8, FALSE)","v":-4},{"$f":"VLOOKUP($B91,INPUTdata!$A:$L, I$8, FALSE)","v":93},{"$nulls":4},0,0,100,0,""]
[82,650,{"$f":"VLOOKUP($B92,INPUTdata!$A:$L, C$8, FALSE)","v":0},{"$f":"VLOOKUP($B92,INPUTdata!$A:$L, D$8, FALSE)","v":10},{"$f":"VLOOKUP($B92,INPUTdata!$A:$L, E$8, FALSE)","v":100},{"$f":"VLOOKUP($B92,INPUTdata!$A:$L, F$8, FALSE)","v":0},{"$f":"VLOOKUP($B92,INPUTdata!$A:$L, G$8, FALSE)","v":84.44},{"$f":"VLOOKUP($B92,INPUTdata!$A:$L, H$8, FALSE)","v":2.78},{"$f":"VLOOKUP($B92,INPUTdata!$A:$L, I$8, FALSE)","v":87.22},{"$nulls":4},0,10,100,0,""]
[83,651,{"$f":"VLOOKUP($B93,INPUTdata!$A:$L, C$8, FALSE)","v":0},{"$f":"VLOOKUP($B93,INPUTdata!$A:$L, D$8, FALSE)","v":20},{"$f":"VLOOKUP($B93,INPUTdata!$A:$L, E$8, FALSE)","v":100},{"$f":"VLOOKUP($B93,INPUTdata!$A:$L, F$8, FALSE)","v":0},{"$f":"VLOOKUP($B93,INPUTdata!$A:$L, G$8, FALSE)","v":80.18},{"$f":"VLOOKUP($B93,INPUTdata!$A:$L, H$8, FALSE)","v":9.35},{"$f":"VLOOKUP($B93,INPUTdata!$A:$L, I$8, FALSE)","v":82.04},{"$nulls":4},0,20,100,0,""]
[84,653,{"$f":"VLOOKUP($B94,INPUTdata!$A:$L, C$8, FALSE)","v":0},{"$f":"VLOOKUP($B94,INPUTdata!$A:$L, D$8, FALSE)","v":40},{"$f":"VLOOKUP($B94,INPUTdata!$A:$L, E$8, FALSE)","v":100},{"$f":"VLOOKUP($B94,INPUTdata!$A:$L, F$8, FALSE)","v":0},{"$f":"VLOOKUP($B94,INPUTdata!$A:$L, G$8, FALSE)","v":71.36},{"$f":"VLOOKUP($B94,INPUTdata!$A:$L, H$8, FALSE)","v":23.52},{"$f":"VLOOKUP($B94,INPUTdata!$A:$L, I$8, FALSE)","v":71.84},{"$nulls":4},0,40,100,0,""]
[85,655,{"$f":"VLOOKUP($B95,INPUTdata!$A:$L, C$8, FALSE)","v":0},{"$f":"VLOOKUP($B95,INPUTdata!$A:$L, D$8, FALSE)","v":70},{"$f":"VLOOKUP($B95,INPUTdata!$A:$L, E$8, FALSE)","v":100},{"$f":"VLOOKUP($B95,INPUTdata!$A:$L, F$8, FALSE)","v":0},{"$f":"VLOOKUP($B95,INPUTdata!$A:$L, G$8, FALSE)","v":57.98},{"$f":"VLOOKUP($B95,INPUTdata!$A:$L, H$8, FALSE)","v":46.89},{"$f":"VLOOKUP($B95,INPUTdata!$A:$L, I$8, FALSE)","v":57.54},{"$nulls":4},0,70,100,0,""]
[86,657,{"$f":"VLOOKUP($B96,INPUTdata!$A:$L, C$8, FALSE)","v":0},{"$f":"VLOOKUP($B96,INPUTdata!$A:$L, D$8, FALSE)","v":100},{"$f":"VLOOKUP($B96,INPUTdata!$A:$L, E$8, FALSE)","v":100},{"$f":"VLOOKUP($B96,INPUTdata!$A:$L, F$8, FALSE)","v":0},{"$f":"VLOOKUP($B96,INPUTdata!$A:$L, G$8, FALSE)","v":47},{"$f":"VLOOKUP($B96,INPUTdata!$A:$L, H$8, FALSE)","v":68},{"$f":"VLOOKUP($B96,INPUTdata!$A:$L, I$8, FALSE)","v":48},{"$nulls":4},0,100,100,0,""]
[87,658,{"$f":"VLOOKUP($B97,INPUTdata!$A:$L, C$8, FALSE)","v":10},{"$f":"VLOOKUP($B97,INPUTdata!$A:$L, D$8, FALSE)","v":0},{"$f":"VLOOKUP($B97,INPUTdata!$A:$L, E$8, FALSE)","v":100},{"$f":"VLOOKUP($B97,INPUTdata!$A:$L, F$8, FALSE)","v":0},{"$f":"VLOOKUP($B97,INPUTdata!$A:$L, G$8, FALSE)","v":85.21},{"$f":"VLOOKUP($B97,INPUTdata!$A:$L, H$8, FALSE)","v":-8.91},{"$f":"VLOOKUP($B97,INPUTdata!$A:$L, I$8, FALSE)","v":86.14},{"$nulls":4},10,0,100,0,""]
[88,667,{"$f":"VLOOKUP($B98,INPUTdata!$A:$L, C$8, FALSE)","v":20},{"$f":"VLOOKUP($B98,INPUTdata!$A:$L, D$8, FALSE)","v":0},{"$f":"VLOOKUP($B98,INPUTdata!$A:$L, E$8, FALSE)","v":100},{"$f":"VLOOKUP($B98,INPUTdata!$A:$L, F$8, FALSE)","v":0},{"$f":"VLOOKUP($B98,INPUTdata!$A:$L, G$8, FALSE)","v":81.53},{"$f":"VLOOKUP($B98,INPUTdata!$A:$L, H$8, FALSE)","v":-13.75},{"$f":"VLOOKUP($B98,INPUTdata!$A:$L, I$8, FALSE)","v":79.52},{"$nulls":4},20,0,100,0,""]
[89,685,{"$f":"VLOOKUP($B99,INPUTdata!$A:$L, C$8, FALSE)","v":40},{"$f":"VLOOKUP($B99,INPUTdata!$A:$L, D$8, FALSE)","v":0},{"$f":"VLOOKUP($B99,INPUTdata!$A:$L, E$8, FALSE)","v":100},{"$f":"VLOOKUP($B99,INPUTdata!$A:$L, F$8, FALSE)","v":0},{"$f":"VLOOKUP($B99,INPUTdata!$A:$L, G$8, FALSE)","v":73.93},{"$f":"VLOOKUP($B99,INPUTdata!$A:$L, H$8, FALSE)","v":-24.83},{"$f":"VLOOKUP($B99,INPUTdata!$A:$L, I$8, FALSE)","v":66.08},{"$nulls":4},40,0,100,0,""]
[90,703,{"$f":"VLOOKUP($B100,INPUTdata!$A:$L, C$8, FALSE)","v":70},{"$f":"VLOOKUP($B100,INPUTdata!$A:$L, D$8, FALSE)","v":0},{"$f":"VLOOKUP($B100,INPUTdata!$A:$L, E$8, FALSE)","v":100},{"$f":"VLOOKUP($B100,INPUTdata!$A:$L, F$8, FALSE)","v":0},{"$f":"VLOOKUP($B100,INPUTdata!$A:$L, G$8, FALSE)","v":61.66},{"$f":"VLOOKUP($B100,INPUTdata!$A:$L, H$8, FALSE)","v":-45.12},{"$f":"VLOOKUP($B100,INPUTdata!$A:$L, I$8, FALSE)","v":44.87},{"$nulls":4},70,0,100,0,""]
[91,721,{"$f":"VLOOKUP($B101,INPUTdata!$A:$L, C$8, FALSE)","v":100},{"$f":"VLOOKUP($B101,INPUTdata!$A:$L, D$8, FALSE)","v":0},{"$f":"VLOOKUP($B101,INPUTdata!$A:$L, E$8, FALSE)","v":100},{"$f":"VLOOKUP($B101,INPUTdata!$A:$L, F$8, FALSE)","v":0},{"$f":"VLOOKUP($B101,INPUTdata!$A:$L, G$8, FALSE)","v":50},{"$f":"VLOOKUP($B101,INPUTdata!$A:$L, H$8, FALSE)","v":-66},{"$f":"VLOOKUP($B101,INPUTdata!$A:$L, I$8, FALSE)","v":26},{"$nulls":4},100,0,100,0,""]
[92,735,{"$f":"VLOOKUP($B102,INPUTdata!$A:$L, C$8, FALSE)","v":0},{"$f":"VLOOKUP($B102,INPUTdata!$A:$L, D$8, FALSE)","v":100},{"$f":"VLOOKUP($B102,INPUTdata!$A:$L, E$8, FALSE)","v":0},{"$f":"VLOOKUP($B102,INPUTdata!$A:$L, F$8, FALSE)","v":20},{"$f":"VLOOKUP($B102,INPUTdata!$A:$L, G$8, FALSE)","v":41.3},{"$f":"VLOOKUP($B102,INPUTdata!$A:$L, H$8, FALSE)","v":63.56},{"$f":"VLOOKUP($B102,INPUTdata!$A:$L, I$8, FALSE)","v":-3.99},{"$nulls":4},0,100,0,20,""]
[93,741,{"$f":"VLOOKUP($B103,INPUTdata!$A:$L, C$8, FALSE)","v":10},{"$f":"VLOOKUP($B103,INPUTdata!$A:$L, D$8, FALSE)","v":100},{"$f":"VLOOKUP($B103,INPUTdata!$A:$L, E$8, FALSE)","v":0},{"$f":"VLOOKUP($B103,INPUTdata!$A:$L, F$8, FALSE)","v":20},{"$f":"VLOOKUP($B103,INPUTdata!$A:$L, G$8, FALSE)","v":39.46},{"$f":"VLOOKUP($B103,INPUTdata!$A:$L, H$8, FALSE)","v":58.97},{"$f":"VLOOKUP($B103,INPUTdata!$A:$L, I$8, FALSE)","v":-7.73},{"$nulls":4},10,100,0,20,""]
[94,747,{"$f":"VLOOKUP($B104,INPUTdata!$A:$L, C$8, FALSE)","v":20},{"$f":"VLOOKUP($B104,INPUTdata!$A:$L, D$8, FALSE)","v":100},{"$f":"VLOOKUP($B104,INPUTdata!$A:$L, E$8, FALSE)","v":0},{"$f":"VLOOKUP($B104,INPUTdata!$A:$L, F$8, FALSE)","v":20},{"$f":"VLOOKUP($B104,INPUTdata!$A:$L, G$8, FALSE)","v":37.55},{"$f":"VLOOKUP($B104,INPUTdata!$A:$L, H$8, FALSE)","v":54.19},{"$f":"VLOOKUP($B104,INPUTdata!$A:$L, I$8, FALSE)","v":-11.57},{"$nulls":4},20,100,0,20,""]
[95,753,{"$f":"VLOOKUP($B105,INPUTdata!$A:$L, C$8, FALSE)","v":40},{"$f":"VLOOKUP($B105,INPUTdata!$A:$L, D$8, FALSE)","v":100},{"$f":"VLOOKUP($B105,INPUTdata!$A:$L, E$8, FALSE)","v":0},{"$f":"VLOOKUP($B105,INPUTdata!$A:$L, F$8, FALSE)","v":20},{"$f":"VLOOKUP($B105,INPUTdata!$A:$L, G$8, FALSE)","v":33.66},{"$f":"VLOOKUP($B105,INPUTdata!$A:$L, H$8, FALSE)","v":44.64},{"$f":"VLOOKUP($B105,INPUTdata!$A:$L, I$8, FALSE)","v":-19.03},{"$nulls":4},40,100,0,20,""]
[96,759,{"$f":"VLOOKUP($B106,INPUTdata!$A:$L, C$8, FALSE)","v":70},{"$f":"VLOOKUP($B106,INPUTdata!$A:$L, D$8, FALSE)","v":100},{"$f":"VLOOKUP($B106,INPUTdata!$A:$L, E$8, FALSE)","v":0},{"$f":"VLOOKUP($B106,INPUTdata!$A:$L, F$8, FALSE)","v":20},{"$f":"VLOOKUP($B106,INPUTdata!$A:$L, G$8, FALSE)","v":27.96},{"$f":"VLOOKUP($B106,INPUTdata!$A:$L, H$8, FALSE)","v":29.75},{"$f":"VLOOKUP($B106,INPUTdata!$A:$L, I$8, FALSE)","v":-29.7},{"$nulls":4},70,100,0,20,""]
[97,760,{"$f":"VLOOKUP($B107,INPUTdata!$A:$L, C$8, FALSE)","v":100},{"$f":"VLOOKUP($B107,INPUTdata!$A:$L, D$8, FALSE)","v":0},{"$f":"VLOOKUP($B107,INPUTdata!$A:$L, E$8, FALSE)","v":0},{"$f":"VLOOKUP($B107,INPUTdata!$A:$L, F$8, FALSE)","v":20},{"$f":"VLOOKUP($B107,INPUTdata!$A:$L, G$8, FALSE)","v":48.21},{"$f":"VLOOKUP($B107,INPUTdata!$A:$L, H$8, FALSE)","v":-32.49},{"$f":"VLOOKUP($B107,INPUTdata!$A:$L, I$8, FALSE)","v":-42.5},{"$nulls":4},100,0,0,20,""]
[98,761,{"$f":"VLOOKUP($B108,INPUTdata!$A:$L, C$8, FALSE)","v":100},{"$f":"VLOOKUP($B108,INPUTdata!$A:$L, D$8, FALSE)","v":10},{"$f":"VLOOKUP($B108,INPUTdata!$A:$L, E$8, FALSE)","v":0},{"$f":"VLOOKUP($B108,INPUTdata!$A:$L, F$8, FALSE)","v":20},{"$f":"VLOOKUP($B108,INPUTdata!$A:$L, G$8, FALSE)","v":45.67},{"$f":"VLOOKUP($B108,INPUTdata!$A:$L, H$8, FALSE)","v":-27.89},{"$f":"VLOOKUP($B108,INPUTdata!$A:$L, I$8, FALSE)","v":-42.05},{"$nulls":4},100,10,0,20,""]
[99,762,{"$f":"VLOOKUP($B109,INPUTdata!$A:$L, C$8, FALSE)","v":100},{"$f":"VLOOKUP($B109,INPUTdata!$A:$L, D$8, FALSE)","v":20},{"$f":"VLOOKUP($B109,INPUTdata!$A:$L, E$8, FALSE)","v":0},{"$f":"VLOOKUP($B109,INPUTdata!$A:$L, F$8, FALSE)","v":20},{"$f":"VLOOKUP($B109,INPUTdata!$A:$L, G$8, FALSE)","v":43.13},{"$f":"VLOOKUP($B109,INPUTdata!$A:$L, H$8, FALSE)","v":-23.3},{"$f":"VLOOKUP($B109,INPUTdata!$A:$L, I$8, FALSE)","v":-41.61},{"$nulls":4},100,20,0,20,""]
[100,763,{"$f":"VLOOKUP($B110,INPUTdata!$A:$L, C$8, FALSE)","v":100},{"$f":"VLOOKUP($B110,INPUTdata!$A:$L, D$8, FALSE)","v":40},{"$f":"VLOOKUP($B110,INPUTdata!$A:$L, E$8, FALSE)","v":0},{"$f":"VLOOKUP($B110,INPUTdata!$A:$L, F$8, FALSE)","v":20},{"$f":"VLOOKUP($B110,INPUTdata!$A:$L, G$8, FALSE)","v":37.83},{"$f":"VLOOKUP($B110,INPUTdata!$A:$L, H$8, FALSE)","v":-13.6},{"$f":"VLOOKUP($B110,INPUTdata!$A:$L, I$8, FALSE)","v":-40.81},{"$nulls":4},100,40,0,20,""]
[101,764,{"$f":"VLOOKUP($B111,INPUTdata!$A:$L, C$8, FALSE)","v":100},{"$f":"VLOOKUP($B111,INPUTdata!$A:$L, D$8, FALSE)","v":70},{"$f":"VLOOKUP($B111,INPUTdata!$A:$L, E$8, FALSE)","v":0},{"$f":"VLOOKUP($B111,INPUTdata!$A:$L, F$8, FALSE)","v":20},{"$f":"VLOOKUP($B111,INPUTdata!$A:$L, G$8, FALSE)","v":29.78},{"$f":"VLOOKUP($B111,INPUTdata!$A:$L, H$8, FALSE)","v":2.11},{"$f":"VLOOKUP($B111,INPUTdata!$A:$L, I$8, FALSE)","v":-39.49},{"$nulls":4},100,70,0,20,""]
[102,765,{"$f":"VLOOKUP($B112,INPUTdata!$A:$L, C$8, FALSE)","v":100},{"$f":"VLOOKUP($B112,INPUTdata!$A:$L, D$8, FALSE)","v":100},{"$f":"VLOOKUP($B112,INPUTdata!$A:$L, E$8, FALSE)","v":0},{"$f":"VLOOKUP($B112,INPUTdata!$A:$L, F$8, FALSE)","v":20},{"$f":"VLOOKUP($B112,INPUTdata!$A:$L, G$8, FALSE)","v":23.07},{"$f":"VLOOKUP($B112,INPUTdata!$A:$L, H$8, FALSE)","v":16.18},{"$f":"VLOOKUP($B112,INPUTdata!$A:$L, I$8, FALSE)","v":-38.55},{"$nulls":4},100,100,0,20,""]
[103,771,{"$f":"VLOOKUP($B113,INPUTdata!$A:$L, C$8, FALSE)","v":0},{"$f":"VLOOKUP($B113,INPUTdata!$A:$L, D$8, FALSE)","v":100},{"$f":"VLOOKUP($B113,INPUTdata!$A:$L, E$8, FALSE)","v":10},{"$f":"VLOOKUP($B113,INPUTdata!$A:$L, F$8, FALSE)","v":20},{"$f":"VLOOKUP($B113,INPUTdata!$A:$L, G$8, FALSE)","v":41.46},{"$f":"VLOOKUP($B113,INPUTdata!$A:$L, H$8, FALSE)","v":62.73},{"$f":"VLOOKUP($B113,INPUTdata!$A:$L, I$8, FALSE)","v":0.23},{"$nulls":4},0,100,10,20,""]
[104,796,{"$f":"VLOOKUP($B114,INPUTdata!$A:$L, C$8, FALSE)","v":100},{"$f":"VLOOKUP($B114,INPUTdata!$A:$L, D$8, FALSE)","v":0},{"$f":"VLOOKUP($B114,INPUTdata!$A:$L, E$8, FALSE)","v":10},{"$f":"VLOOKUP($B114,INPUTdata!$A:$L, F$8, FALSE)","v":20},{"$f":"VLOOKUP($B114,INPUTdata!$A:$L, G$8, FALSE)","v":47.84},{"$f":"VLOOKUP($B114,INPUTdata!$A:$L, H$8, FALSE)","v":-35.83},{"$f":"VLOOKUP($B114,INPUTdata!$A:$L, I$8, FALSE)","v":-36.02},{"$nulls":4},100,0,10,20,""]
[105,807,{"$f":"VLOOKUP($B115,INPUTdata!$A:$L, C$8, FALSE)","v":0},{"$f":"VLOOKUP($B115,INPUTdata!$A:$L, D$8, FALSE)","v":100},{"$f":"VLOOKUP($B115,INPUTdata!$A:$L, E$8, FALSE)","v":20},{"$f":"VLOOKUP($B115,INPUTdata!$A:$L, F$8, FALSE)","v":20},{"$f":"VLOOKUP($B115,INPUTdata!$A:$L, G$8, FALSE)","v":41.57},{"$f":"VLOOKUP($B115,INPUTdata!$A:$L, H$8, FALSE)","v":61.71},{"$f":"VLOOKUP($B115,INPUTdata!$A:$L, I$8, FALSE)","v":4.66},{"$nulls":4},0,100,20,20,""]
[106,832,{"$f":"VLOOKUP($B116,INPUTdata!$A:$L, C$8, FALSE)","v":100},{"$f":"VLOOKUP($B116,INPUTdata!$A:$L, D$8, FALSE)","v":0},{"$f":"VLOOKUP($B116,INPUTdata!$A:$L, E$8, FALSE)","v":20},{"$f":"VLOOKUP($B116,INPUTdata!$A:$L, F$8, FALSE)","v":20},{"$f":"VLOOKUP($B116,INPUTdata!$A:$L, G$8, FALSE)","v":47.53},{"$f":"VLOOKUP($B116,INPUTdata!$A:$L, H$8, FALSE)","v":-38.93},{"$f":"VLOOKUP($B116,INPUTdata!$A:$L, I$8, FALSE)","v":-29.46},{"$nulls":4},100,0,20,20,""]
[107,843,{"$f":"VLOOKUP($B117,INPUTdata!$A:$L, C$8, FALSE)","v":0},{"$f":"VLOOKUP($B117,INPUTdata!$A:$L, D$8, FALSE)","v":100},{"$f":"VLOOKUP($B117,INPUTdata!$A:$L, E$8, FALSE)","v":40},{"$f":"VLOOKUP($B117,INPUTdata!$A:$L, F$8, FALSE)","v":20},{"$f":"VLOOKUP($B117,INPUTdata!$A:$L, G$8, FALSE)","v":41.66},{"$f":"VLOOKUP($B117,INPUTdata!$A:$L, H$8, FALSE)","v":60.22},{"$f":"VLOOKUP($B117,INPUTdata!$A:$L, I$8, FALSE)","v":13.63},{"$nulls":4},0,100,40,20,""]
[108,868,{"$f":"VLOOKUP($B118,INPUTdata!$A:$L, C$8, FALSE)","v":100},{"$f":"VLOOKUP($B118,INPUTdata!$A:$L, D$8, FALSE)","v":0},{"$f":"VLOOKUP($B118,INPUTdata!$A:$L, E$8, FALSE)","v":40},{"$f":"VLOOKUP($B118,INPUTdata!$A:$L, F$8, FALSE)","v":20},{"$f":"VLOOKUP($B118,INPUTdata!$A:$L, G$8, FALSE)","v":46.73},{"$f":"VLOOKUP($B118,INPUTdata!$A:$L, H$8, FALSE)","v":-44.89},{"$f":"VLOOKUP($B118,INPUTdata!$A:$L, I$8, FALSE)","v":-16.27},{"$nulls":4},100,0,40,20,""]
[109,879,{"$f":"VLOOKUP($B119,INPUTdata!$A:$L, C$8, FALSE)","v":0},{"$f":"VLOOKUP($B119,INPUTdata!$A:$L, D$8, FALSE)","v":100},{"$f":"VLOOKUP($B119,INPUTdata!$A:$L, E$8, FALSE)","v":70},{"$f":"VLOOKUP($B119,INPUTdata!$A:$L, F$8, FALSE)","v":20},{"$f":"VLOOKUP($B119,INPUTdata!$A:$L, G$8, FALSE)","v":41.35},{"$f":"VLOOKUP($B119,INPUTdata!$A:$L, H$8, FALSE)","v":58.07},{"$f":"VLOOKUP($B119,INPUTdata!$A:$L, I$8, FALSE)","v":27.09},{"$nulls":4},0,100,70,20,""]
[110,904,{"$f":"VLOOKUP($B120,INPUTdata!$A:$L, C$8, FALSE)","v":100},{"$f":"VLOOKUP($B120,INPUTdata!$A:$L, D$8, FALSE)","v":0},{"$f":"VLOOKUP($B120,INPUTdata!$A:$L, E$8, FALSE)","v":70},{"$f":"VLOOKUP($B120,INPUTdata!$A:$L, F$8, FALSE)","v":20},{"$f":"VLOOKUP($B120,INPUTdata!$A:$L, G$8, FALSE)","v":45.51},{"$f":"VLOOKUP($B120,INPUTdata!$A:$L, H$8, FALSE)","v":-51.97},{"$f":"VLOOKUP($B120,INPUTdata!$A:$L, I$8, FALSE)","v":3.91},{"$nulls":4},100,0,70,20,""]
[111,910,{"$f":"VLOOKUP($B121,INPUTdata!$A:$L, C$8, FALSE)","v":0},{"$f":"VLOOKUP($B121,INPUTdata!$A:$L, D$8, FALSE)","v":0},{"$f":"VLOOKUP($B121,INPUTdata!$A:$L, E$8, FALSE)","v":100},{"$f":"VLOOKUP($B121,INPUTdata!$A:$L, F$8, FALSE)","v":20},{"$f":"VLOOKUP($B121,INPUTdata!$A:$L, G$8, FALSE)","v":75.81},{"$f":"VLOOKUP($B121,INPUTdata!$A:$L, H$8, FALSE)","v":-4.38},{"$f":"VLOOKUP($B121,INPUTdata!$A:$L, I$8, FALSE)","v":78.06},{"$nulls":4},0,0,100,20,""]
[112,911,{"$f":"VLOOKUP($B122,INPUTdata!$A:$L, C$8, FALSE)","v":0},{"$f":"VLOOKUP($B122,INPUTdata!$A:$L, D$8, FALSE)","v":10},{"$f":"VLOOKUP($B122,INPUTdata!$A:$L, E$8, FALSE)","v":100},{"$f":"VLOOKUP($B122,INPUTdata!$A:$L, F$8, FALSE)","v":20},{"$f":"VLOOKUP($B122,INPUTdata!$A:$L, G$8, FALSE)","v":72.06},{"$f":"VLOOKUP($B122,INPUTdata!$A:$L, H$8, FALSE)","v":1.38},{"$f":"VLOOKUP($B122,INPUTdata!$A:$L, I$8, FALSE)","v":73.54},{"$nulls":4},0,10,100,20,""]
[113,912,{"$f":"VLOOKUP($B123,INPUTdata!$A:$L, C$8, FALSE)","v":0},{"$f":"VLOOKUP($B123,INPUTdata!$A:$L, D$8, FALSE)","v":20},{"$f":"VLOOKUP($B123,INPUTdata!$A:$L, E$8, FALSE)","v":100},{"$f":"VLOOKUP($B123,INPUTdata!$A:$L, F$8, FALSE)","v":20},{"$f":"VLOOKUP($B123,INPUTdata!$A:$L, G$8, FALSE)","v":68.33},{"$f":"VLOOKUP($B123,INPUTdata!$A:$L, H$8, FALSE)","v":7.16},{"$f":"VLOOKUP($B123,INPUTdata!$A:$L, I$8, FALSE)","v":69.09},{"$nulls":4},0,20,100,20,""]
[114,913,{"$f":"VLOOKUP($B124,INPUTdata!$A:$L, C$8, FALSE)","v":0},{"$f":"VLOOKUP($B124,INPUTdata!$A:$L, D$8, FALSE)","v":40},{"$f":"VLOOKUP($B124,INPUTdata!$A:$L, E$8, FALSE)","v":100},{"$f":"VLOOKUP($B124,INPUTdata!$A:$L, F$8, FALSE)","v":20},{"$f":"VLOOKUP($B124,INPUTdata!$A:$L, G$8, FALSE)","v":60.79},{"$f":"VLOOKUP($B124,INPUTdata!$A:$L, H$8, FALSE)","v":19.39},{"$f":"VLOOKUP($B124,INPUTdata!$A:$L, I$8, FALSE)","v":60.44},{"$nulls":4},0,40,100,20,""]
[115,914,{"$f":"VLOOKUP($B125,INPUTdata!$A:$L, C$8, FALSE)","v":0},{"$f":"VLOOKUP($B125,INPUTdata!$A:$L, D$8, FALSE)","v":70},{"$f":"VLOOKUP($B125,INPUTdata!$A:$L, E$8, FALSE)","v":100},{"$f":"VLOOKUP($B125,INPUTdata!$A:$L, F$8, FALSE)","v":20},{"$f":"VLOOKUP($B125,INPUTdata!$A:$L, G$8, FALSE)","v":49.56},{"$f":"VLOOKUP($B125,INPUTdata!$A:$L, H$8, FALSE)","v":39.05},{"$f":"VLOOKUP($B125,INPUTdata!$A:$L, I$8, FALSE)","v":48.25},{"$nulls":4},0,70,100,20,""]
[116,915,{"$f":"VLOOKUP($B126,INPUTdata!$A:$L, C$8, FALSE)","v":0},{"$f":"VLOOKUP($B126,INPUTdata!$A:$L, D$8, FALSE)","v":100},{"$f":"VLOOKUP($B126,INPUTdata!$A:$L, E$8, FALSE)","v":100},{"$f":"VLOOKUP($B126,INPUTdata!$A:$L, F$8, FALSE)","v":20},{"$f":"VLOOKUP($B126,INPUTdata!$A:$L, G$8, FALSE)","v":40.61},{"$f":"VLOOKUP($B126,INPUTdata!$A:$L, H$8, FALSE)","v":56.54},{"$f":"VLOOKUP($B126,INPUTdata!$A:$L, I$8, FALSE)","v":39.47},{"$nulls":4},0,100,100,20,""]
[117,916,{"$f":"VLOOKUP($B127,INPUTdata!$A:$L, C$8, FALSE)","v":10},{"$f":"VLOOKUP($B127,INPUTdata!$A:$L, D$8, FALSE)","v":0},{"$f":"VLOOKUP($B127,INPUTdata!$A:$L, E$8, FALSE)","v":100},{"$f":"VLOOKUP($B127,INPUTdata!$A:$L, F$8, FALSE)","v":20},{"$f":"VLOOKUP($B127,INPUTdata!$A:$L, G$8, FALSE)","v":72.75},{"$f":"VLOOKUP($B127,INPUTdata!$A:$L, H$8, FALSE)","v":-8.64},{"$f":"VLOOKUP($B127,INPUTdata!$A:$L, I$8, FALSE)","v":72.46},{"$nulls":4},10,0,100,20,""]
[118,922,{"$f":"VLOOKUP($B128,INPUTdata!$A:$L, C$8, FALSE)","v":20},{"$f":"VLOOKUP($B128,INPUTdata!$A:$L, D$8, FALSE)","v":0},{"$f":"VLOOKUP($B128,INPUTdata!$A:$L, E$8, FALSE)","v":100},{"$f":"VLOOKUP($B128,INPUTdata!$A:$L, F$8, FALSE)","v":20},{"$f":"VLOOKUP($B128,INPUTdata!$A:$L, G$8, FALSE)","v":69.56},{"$f":"VLOOKUP($B128,INPUTdata!$A:$L, H$8, FALSE)","v":-13.02},{"$f":"VLOOKUP($B128,INPUTdata!$A:$L, I$8, FALSE)","v":66.66},{"$nulls":4},20,0,100,20,""]
[119,928,{"$f":"VLOOKUP($B129,INPUTdata!$A:$L, C$8, FALSE)","v":40},{"$f":"VLOOKUP($B129,INPUTdata!$A:$L, D$8, FALSE)","v":0},{"$f":"VLOOKUP($B129,INPUTdata!$A:$L, E$8, FALSE)","v":100},{"$f":"VLOOKUP($B129,INPUTdata!$A:$L, F$8, FALSE)","v":20},{"$f":"VLOOKUP($B129,INPUTdata!$A:$L, G$8, FALSE)","v":63.12},{"$f":"VLOOKUP($B129,INPUTdata!$A:$L, H$8, FALSE)","v":-22.54},{"$f":"VLOOKUP($B129,INPUTdata!$A:$L, I$8, FALSE)","v":55.19},{"$nulls":4},40,0,100,20,""]
[120,934,{"$f":"VLOOKUP($B130,INPUTdata!$A:$L, C$8, FALSE)","v":70},{"$f":"VLOOKUP($B130,INPUTdata!$A:$L, D$8, FALSE)","v":0},{"$f":"VLOOKUP($B130,INPUTdata!$A:$L, E$8, FALSE)","v":100},{"$f":"VLOOKUP($B130,INPUTdata!$A:$L, F$8, FALSE)","v":20},{"$f":"VLOOKUP($B130,INPUTdata!$A:$L, G$8, FALSE)","v":53.21},{"$f":"VLOOKUP($B130,INPUTdata!$A:$L, H$8, FALSE)","v":-39.17},{"$f":"VLOOKUP($B130,INPUTdata!$A:$L, I$8, FALSE)","v":37.72},{"$nulls":4},70,0,100,20,""]
[121,940,{"$f":"VLOOKUP($B131,INPUTdata!$A:$L, C$8, FALSE)","v":100},{"$f":"VLOOKUP($B131,INPUTdata!$A:$L, D$8, FALSE)","v":0},{"$f":"VLOOKUP($B131,INPUTdata!$A:$L, E$8, FALSE)","v":100},{"$f":"VLOOKUP($B131,INPUTdata!$A:$L, F$8, FALSE)","v":20},{"$f":"VLOOKUP($B131,INPUTdata!$A:$L, G$8, FALSE)","v":44.35},{"$f":"VLOOKUP($B131,INPUTdata!$A:$L, H$8, FALSE)","v":-56.2},{"$f":"VLOOKUP($B131,INPUTdata!$A:$L, I$8, FALSE)","v":22.36},{"$nulls":4},100,0,100,20,""]
[122,950,{"$f":"VLOOKUP($B132,INPUTdata!$A:$L, C$8, FALSE)","v":0},{"$f":"VLOOKUP($B132,INPUTdata!$A:$L, D$8, FALSE)","v":100},{"$f":"VLOOKUP($B132,INPUTdata!$A:$L, E$8, FALSE)","v":0},{"$f":"VLOOKUP($B132,INPUTdata!$A:$L, F$8, FALSE)","v":40},{"$f":"VLOOKUP($B132,INPUTdata!$A:$L, G$8, FALSE)","v":34.73},{"$f":"VLOOKUP($B132,INPUTdata!$A:$L, H$8, FALSE)","v":52.41},{"$f":"VLOOKUP($B132,INPUTdata!$A:$L, I$8, FALSE)","v":-3.59},{"$nulls":4},0,100,0,40,""]
[123,955,{"$f":"VLOOKUP($B133,INPUTdata!$A:$L, C$8, FALSE)","v":20},{"$f":"VLOOKUP($B133,INPUTdata!$A:$L, D$8, FALSE)","v":100},{"$f":"VLOOKUP($B133,INPUTdata!$A:$L, E$8, FALSE)","v":0},{"$f":"VLOOKUP($B133,INPUTdata!$A:$L, F$8, FALSE)","v":40},{"$f":"VLOOKUP($B133,INPUTdata!$A:$L, G$8, FALSE)","v":31.68},{"$f":"VLOOKUP($B133,INPUTdata!$A:$L, H$8, FALSE)","v":44.79},{"$f":"VLOOKUP($B133,INPUTdata!$A:$L, I$8, FALSE)","v":-9.75},{"$nulls":4},20,100,0,40,""]
[124,960,{"$f":"VLOOKUP($B134,INPUTdata!$A:$L, C$8, FALSE)","v":40},{"$f":"VLOOKUP($B134,INPUTdata!$A:$L, D$8, FALSE)","v":100},{"$f":"VLOOKUP($B134,INPUTdata!$A:$L, E$8, FALSE)","v":0},{"$f":"VLOOKUP($B134,INPUTdata!$A:$L, F$8, FALSE)","v":40},{"$f":"VLOOKUP($B134,INPUTdata!$A:$L, G$8, FALSE)","v":28.54},{"$f":"VLOOKUP($B134,INPUTdata!$A:$L, H$8, FALSE)","v":36.98},{"$f":"VLOOKUP($B134,INPUTdata!$A:$L, I$8, FALSE)","v":-15.54},{"$nulls":4},40,100,0,40,""]
[125,965,{"$f":"VLOOKUP($B135,INPUTdata!$A:$L, C$8, FALSE)","v":70},{"$f":"VLOOKUP($B135,INPUTdata!$A:$L, D$8, FALSE)","v":100},{"$f":"VLOOKUP($B135,INPUTdata!$A:$L, E$8, FALSE)","v":0},{"$f":"VLOOKUP($B135,INPUTdata!$A:$L, F$8, FALSE)","v":40},{"$f":"VLOOKUP($B135,INPUTdata!$A:$L, G$8, FALSE)","v":24.02},{"$f":"VLOOKUP($B135,INPUTdata!$A:$L, H$8, FALSE)","v":24.6},{"$f":"VLOOKUP($B135,INPUTdata!$A:$L, I$8, FALSE)","v":-24.3},{"$nulls":4},70,100,0,40,""]
[126,966,{"$f":"VLOOKUP($B136,INPUTdata!$A:$L, C$8, FALSE)","v":100},{"$f":"VLOOKUP($B136,INPUTdata!$A:$L, D$8, FALSE)","v":0},{"$f":"VLOOKUP($B136,INPUTdata!$A:$L, E$8, FALSE)","v":0},{"$f":"VLOOKUP($B136,INPUTdata!$A:$L, F$8, FALSE)","v":40},{"$f":"VLOOKUP($B136,INPUTdata!$A:$L, G$8, FALSE)","v":40.47},{"$f":"VLOOKUP($B136,INPUTdata!$A:$L, H$8, FALSE)","v":-27.78},{"$f":"VLOOKUP($B136,INPUTdata!$A:$L, I$8, FALSE)","v":-35.21},{"$nulls":4},100,0,0,40,""]
[127,967,{"$f":"VLOOKUP($B137,INPUTdata!$A:$L, C$8, FALSE)","v":100},{"$f":"VLOOKUP($B137,INPUTdata!$A:$L, D$8, FALSE)","v":20},{"$f":"VLOOKUP($B137,INPUTdata!$A:$L, E$8, FALSE)","v":0},{"$f":"VLOOKUP($B137,INPUTdata!$A:$L, F$8, FALSE)","v":40},{"$f":"VLOOKUP($B137,INPUTdata!$A:$L, G$8, FALSE)","v":36.25},{"$f":"VLOOKUP($B137,INPUTdata!$A:$L, H$8, FALSE)","v":-19.71},{"$f":"VLOOKUP($B137,INPUTdata!$A:$L, I$8, FALSE)","v":-34.61},{"$nulls":4},100,20,0,40,""]
[128,968,{"$f":"VLOOKUP($B138,INPUTdata!$A:$L, C$8, FALSE)","v":100},{"$f":"VLOOKUP($B138,INPUTdata!$A:$L, D$8, FALSE)","v":40},{"$f":"VLOOKUP($B138,INPUTdata!$A:$L, E$8, FALSE)","v":0},{"$f":"VLOOKUP($B138,INPUTdata!$A:$L, F$8, FALSE)","v":40},{"$f":"VLOOKUP($B138,INPUTdata!$A:$L, G$8, FALSE)","v":31.88},{"$f":"VLOOKUP($B138,INPUTdata!$A:$L, H$8, FALSE)","v":-11.32},{"$f":"VLOOKUP($B138,INPUTdata!$A:$L, I$8, FALSE)","v":-33.98},{"$nulls":4},100,40,0,40,""]
[129,969,{"$f":"VLOOKUP($B139,INPUTdata!$A:$L, C$8, FALSE)","v":100},{"$f":"VLOOKUP($B139,INPUTdata!$A:$L, D$8, FALSE)","v":70},{"$f":"VLOOKUP($B139,INPUTdata!$A:$L, E$8, FALSE)","v":0},{"$f":"VLOOKUP($B139,INPUTdata!$A:$L, F$8, FALSE)","v":40},{"$f":"VLOOKUP($B139,INPUTdata!$A:$L, G$8, FALSE)","v":25.47},{"$f":"VLOOKUP($B139,INPUTdata!$A:$L, H$8, FALSE)","v":1.82},{"$f":"VLOOKUP($B139,INPUTdata!$A:$L, I$8, FALSE)","v":-32.62},{"$nulls":4},100,70,0,40,""]
[130,970,{"$f":"VLOOKUP($B140,INPUTdata!$A:$L, C$8, FALSE)","v":100},{"$f":"VLOOKUP($B140,INPUTdata!$A:$L, D$8, FALSE)","v":100},{"$f":"VLOOKUP($B140,INPUTdata!$A:$L, E$8, FALSE)","v":0},{"$f":"VLOOKUP($B140,INPUTdata!$A:$L, F$8, FALSE)","v":40},{"$f":"VLOOKUP($B140,INPUTdata!$A:$L, G$8, FALSE)","v":20.33},{"$f":"VLOOKUP($B140,INPUTdata!$A:$L, H$8, FALSE)","v":13.31},{"$f":"VLOOKUP($B140,INPUTdata!$A:$L, I$8, FALSE)","v":-31.27},{"$nulls":4},100,100,0,40,{"$f":"IF(AND(N140=C140,O140=D140,P140=E140,Q140=F140), \"\", 1)","v":""}]
[131,975,{"$f":"VLOOKUP($B141,INPUTdata!$A:$L, C$8, FALSE)","v":0},{"$f":"VLOOKUP($B141,INPUTdata!$A:$L, D$8, FALSE)","v":100},{"$f":"VLOOKUP($B141,INPUTdata!$A:$L, E$8, FALSE)","v":20},{"$f":"VLOOKUP($B141,INPUTdata!$A:$L, F$8, FALSE)","v":40},{"$f":"VLOOKUP($B141,INPUTdata!$A:$L, G$8, FALSE)","v":34.92},{"$f":"VLOOKUP($B141,INPUTdata!$A:$L, H$8, FALSE)","v":50.69},{"$f":"VLOOKUP($B141,INPUTdata!$A:$L, I$8, FALSE)","v":3.68},{"$nulls":4},0,100,20,40,""]
[132,991,{"$f":"VLOOKUP($B142,INPUTdata!$A:$L, C$8, FALSE)","v":100},{"$f":"VLOOKUP($B142,INPUTdata!$A:$L, D$8, FALSE)","v":0},{"$f":"VLOOKUP($B142,INPUTdata!$A:$L, E$8, FALSE)","v":20},{"$f":"VLOOKUP($B142,INPUTdata!$A:$L, F$8, FALSE)","v":40},{"$f":"VLOOKUP($B142,INPUTdata!$A:$L, G$8, FALSE)","v":39.9},{"$f":"VLOOKUP($B142,INPUTdata!$A:$L, H$8, FALSE)","v":-33},{"$f":"VLOOKUP($B142,INPUTdata!$A:$L, I$8, FALSE)","v":-24.49},{"$nulls":4},100,0,20,40,""]
[133,1000,{"$f":"VLOOKUP($B143,INPUTdata!$A:$L, C$8, FALSE)","v":0},{"$f":"VLOOKUP($B143,INPUTdata!$A:$L, D$8, FALSE)","v":100},{"$f":"VLOOKUP($B143,INPUTdata!$A:$L, E$8, FALSE)","v":40},{"$f":"VLOOKUP($B143,INPUTdata!$A:$L, F$8, FALSE)","v":40},{"$f":"VLOOKUP($B143,INPUTdata!$A:$L, G$8, FALSE)","v":34.82},{"$f":"VLOOKUP($B143,INPUTdata!$A:$L, H$8, FALSE)","v":49.2},{"$f":"VLOOKUP($B143,INPUTdata!$A:$L, I$8, FALSE)","v":11.03},{"$nulls":4},0,100,40,40,""]
[134,1016,{"$f":"VLOOKUP($B144,INPUTdata!$A:$L, C$8, FALSE)","v":100},{"$f":"VLOOKUP($B144,INPUTdata!$A:$L, D$8, FALSE)","v":0},{"$f":"VLOOKUP($B144,INPUTdata!$A:$L, E$8, FALSE)","v":40},{"$f":"VLOOKUP($B144,INPUTdata!$A:$L, F$8, FALSE)","v":40},{"$f":"VLOOKUP($B144,INPUTdata!$A:$L, G$8, FALSE)","v":39.26},{"$f":"VLOOKUP($B144,INPUTdata!$A:$L, H$8, FALSE)","v":-37.34},{"$f":"VLOOKUP($B144,INPUTdata!$A:$L, I$8, FALSE)","v":-13.75},{"$nulls":4},100,0,40,40,""]
[135,1025,{"$f":"VLOOKUP($B145,INPUTdata!$A:$L, C$8, FALSE)","v":0},{"$f":"VLOOKUP($B145,INPUTdata!$A:$L, D$8, FALSE)","v":100},{"$f":"VLOOKUP($B145,INPUTdata!$A:$L, E$8, FALSE)","v":70},{"$f":"VLOOKUP($B145,INPUTdata!$A:$L, F$8, FALSE)","v":40},{"$f":"VLOOKUP($B145,INPUTdata!$A:$L, G$8, FALSE)","v":34.66},{"$f":"VLOOKUP($B145,INPUTdata!$A:$L, H$8, FALSE)","v":47.17},{"$f":"VLOOKUP($B145,INPUTdata!$A:$L, I$8, FALSE)","v":21.98},{"$nulls":4},0,100,70,40,""]
[136,1041,{"$f":"VLOOKUP($B146,INPUTdata!$A:$L, C$8, FALSE)","v":100},{"$f":"VLOOKUP($B146,INPUTdata!$A:$L, D$8, FALSE)","v":0},{"$f":"VLOOKUP($B146,INPUTdata!$A:$L, E$8, FALSE)","v":70},{"$f":"VLOOKUP($B146,INPUTdata!$A:$L, F$8, FALSE)","v":40},{"$f":"VLOOKUP($B146,INPUTdata!$A:$L, G$8, FALSE)","v":38.49},{"$f":"VLOOKUP($B146,INPUTdata!$A:$L, H$8, FALSE)","v":-43.3},{"$f":"VLOOKUP($B146,INPUTdata!$A:$L, I$8, FALSE)","v":3.14},{"$nulls":4},100,0,70,40,""]
[137,1046,{"$f":"VLOOKUP($B147,INPUTdata!$A:$L, C$8, FALSE)","v":0},{"$f":"VLOOKUP($B147,INPUTdata!$A:$L, D$8, FALSE)","v":0},{"$f":"VLOOKUP($B147,INPUTdata!$A:$L, E$8, FALSE)","v":100},{"$f":"VLOOKUP($B147,INPUTdata!$A:$L, F$8, FALSE)","v":40},{"$f":"VLOOKUP($B147,INPUTdata!$A:$L, G$8, FALSE)","v":62.87},{"$f":"VLOOKUP($B147,INPUTdata!$A:$L, H$8, FALSE)","v":-4.63},{"$f":"VLOOKUP($B147,INPUTdata!$A:$L, I$8, FALSE)","v":63.27},{"$nulls":4},0,0,100,40,""]
[138,1047,{"$f":"VLOOKUP($B148,INPUTdata!$A:$L, C$8, FALSE)","v":0},{"$f":"VLOOKUP($B148,INPUTdata!$A:$L, D$8, FALSE)","v":20},{"$f":"VLOOKUP($B148,INPUTdata!$A:$L, E$8, FALSE)","v":100},{"$f":"VLOOKUP($B148,INPUTdata!$A:$L, F$8, FALSE)","v":40},{"$f":"VLOOKUP($B148,INPUTdata!$A:$L, G$8, FALSE)","v":56.78},{"$f":"VLOOKUP($B148,INPUTdata!$A:$L, H$8, FALSE)","v":4.88},{"$f":"VLOOKUP($B148,INPUTdata!$A:$L, I$8, FALSE)","v":56.16},{"$nulls":4},0,20,100,40,""]
[139,1048,{"$f":"VLOOKUP($B149,INPUTdata!$A:$L, C$8, FALSE)","v":0},{"$f":"VLOOKUP($B149,INPUTdata!$A:$L, D$8, FALSE)","v":40},{"$f":"VLOOKUP($B149,INPUTdata!$A:$L, E$8, FALSE)","v":100},{"$f":"VLOOKUP($B149,INPUTdata!$A:$L, F$8, FALSE)","v":40},{"$f":"VLOOKUP($B149,INPUTdata!$A:$L, G$8, FALSE)","v":50.64},{"$f":"VLOOKUP($B149,INPUTdata!$A:$L, H$8, FALSE)","v":15.02},{"$f":"VLOOKUP($B149,INPUTdata!$A:$L, I$8, FALSE)","v":49.41},{"$nulls":4},0,40,100,40,""]
[140,1049,{"$f":"VLOOKUP($B150,INPUTdata!$A:$L, C$8, FALSE)","v":0},{"$f":"VLOOKUP($B150,INPUTdata!$A:$L, D$8, FALSE)","v":70},{"$f":"VLOOKUP($B150,INPUTdata!$A:$L, E$8, FALSE)","v":100},{"$f":"VLOOKUP($B150,INPUTdata!$A:$L, F$8, FALSE)","v":40},{"$f":"VLOOKUP($B150,INPUTdata!$A:$L, G$8, FALSE)","v":41.43},{"$f":"VLOOKUP($B150,INPUTdata!$A:$L, H$8, FALSE)","v":31.24},{"$f":"VLOOKUP($B150,INPUTdata!$A:$L, I$8, FALSE)","v":39.23},{"$nulls":4},0,70,100,40,""]
[141,1050,{"$f":"VLOOKUP($B151,INPUTdata!$A:$L, C$8, FALSE)","v":0},{"$f":"VLOOKUP($B151,INPUTdata!$A:$L, D$8, FALSE)","v":100},{"$f":"VLOOKUP($B151,INPUTdata!$A:$L, E$8, FALSE)","v":100},{"$f":"VLOOKUP($B151,INPUTdata!$A:$L, F$8, FALSE)","v":40},{"$f":"VLOOKUP($B151,INPUTdata!$A:$L, G$8, FALSE)","v":34.12},{"$f":"VLOOKUP($B151,INPUTdata!$A:$L, H$8, FALSE)","v":45.71},{"$f":"VLOOKUP($B151,INPUTdata!$A:$L, I$8, FALSE)","v":31.75},{"$nulls":4},0,100,100,40,""]
[142,1051,{"$f":"VLOOKUP($B152,INPUTdata!$A:$L, C$8, FALSE)","v":20},{"$f":"VLOOKUP($B152,INPUTdata!$A:$L, D$8, FALSE)","v":0},{"$f":"VLOOKUP($B152,INPUTdata!$A:$L, E$8, FALSE)","v":100},{"$f":"VLOOKUP($B152,INPUTdata!$A:$L, F$8, FALSE)","v":40},{"$f":"VLOOKUP($B152,INPUTdata!$A:$L, G$8, FALSE)","v":57.8},{"$f":"VLOOKUP($B152,INPUTdata!$A:$L, H$8, FALSE)","v":-11.85},{"$f":"VLOOKUP($B152,INPUTdata!$A:$L, I$8, FALSE)","v":53.93},{"$nulls":4},20,0,100,40,""]
[143,1056,{"$f":"VLOOKUP($B153,INPUTdata!$A:$L, C$8, FALSE)","v":40},{"$f":"VLOOKUP($B153,INPUTdata!$A:$L, D$8, FALSE)","v":0},{"$f":"VLOOKUP($B153,INPUTdata!$A:$L, E$8, FALSE)","v":100},{"$f":"VLOOKUP($B153,INPUTdata!$A:$L, F$8, FALSE)","v":40},{"$f":"VLOOKUP($B153,INPUTdata!$A:$L, G$8, FALSE)","v":52.64},{"$f":"VLOOKUP($B153,INPUTdata!$A:$L, H$8, FALSE)","v":-19.78},{"$f":"VLOOKUP($B153,INPUTdata!$A:$L, I$8, FALSE)","v":44.88},{"$nulls":4},40,0,100,40,""]
[144,1061,{"$f":"VLOOKUP($B154,INPUTdata!$A:$L, C$8, FALSE)","v":70},{"$f":"VLOOKUP($B154,INPUTdata!$A:$L, D$8, FALSE)","v":0},{"$f":"VLOOKUP($B154,INPUTdata!$A:$L, E$8, FALSE)","v":100},{"$f":"VLOOKUP($B154,INPUTdata!$A:$L, F$8, FALSE)","v":40},{"$f":"VLOOKUP($B154,INPUTdata!$A:$L, G$8, FALSE)","v":44.75},{"$f":"VLOOKUP($B154,INPUTdata!$A:$L, H$8, FALSE)","v":-33.19},{"$f":"VLOOKUP($B154,INPUTdata!$A:$L, I$8, FALSE)","v":30.74},{"$nulls":4},70,0,100,40,""]
[145,1066,{"$f":"VLOOKUP($B155,INPUTdata!$A:$L, C$8, FALSE)","v":100},{"$f":"VLOOKUP($B155,INPUTdata!$A:$L, D$8, FALSE)","v":0},{"$f":"VLOOKUP($B155,INPUTdata!$A:$L, E$8, FALSE)","v":100},{"$f":"VLOOKUP($B155,INPUTdata!$A:$L, F$8, FALSE)","v":40},{"$f":"VLOOKUP($B155,INPUTdata!$A:$L, G$8, FALSE)","v":37.9},{"$f":"VLOOKUP($B155,INPUTdata!$A:$L, H$8, FALSE)","v":-46.57},{"$f":"VLOOKUP($B155,INPUTdata!$A:$L, I$8, FALSE)","v":18.61},{"$nulls":4},100,0,100,40,""]
[146,1075,{"$f":"VLOOKUP($B156,INPUTdata!$A:$L, C$8, FALSE)","v":0},{"$f":"VLOOKUP($B156,INPUTdata!$A:$L, D$8, FALSE)","v":100},{"$f":"VLOOKUP($B156,INPUTdata!$A:$L, E$8, FALSE)","v":0},{"$f":"VLOOKUP($B156,INPUTdata!$A:$L, F$8, FALSE)","v":60},{"$f":"VLOOKUP($B156,INPUTdata!$A:$L, G$8, FALSE)","v":27.7},{"$f":"VLOOKUP($B156,INPUTdata!$A:$L, H$8, FALSE)","v":41.31},{"$f":"VLOOKUP($B156,INPUTdata!$A:$L, I$8, FALSE)","v":-2.47},{"$nulls":4},0,100,0,60,""]
[147,1080,{"$f":"VLOOKUP($B157,INPUTdata!$A:$L, C$8, FALSE)","v":20},{"$f":"VLOOKUP($B157,INPUTdata!$A:$L, D$8, FALSE)","v":100},{"$f":"VLOOKUP($B157,INPUTdata!$A:$L, E$8, FALSE)","v":0},{"$f":"VLOOKUP($B157,INPUTdata!$A:$L, F$8, FALSE)","v":60},{"$f":"VLOOKUP($B157,INPUTdata!$A:$L, G$8, FALSE)","v":25.41},{"$f":"VLOOKUP($B157,INPUTdata!$A:$L, H$8, FALSE)","v":35.38},{"$f":"VLOOKUP($B157,INPUTdata!$A:$L, I$8, FALSE)","v":-7.21},{"$nulls":4},20,100,0,60,""]
[148,1085,{"$f":"VLOOKUP($B158,INPUTdata!$A:$L, C$8, FALSE)","v":40},{"$f":"VLOOKUP($B158,INPUTdata!$A:$L, D$8, FALSE)","v":100},{"$f":"VLOOKUP($B158,INPUTdata!$A:$L, E$8, FALSE)","v":0},{"$f":"VLOOKUP($B158,INPUTdata!$A:$L, F$8, FALSE)","v":60},{"$f":"VLOOKUP($B158,INPUTdata!$A:$L, G$8, FALSE)","v":23.17},{"$f":"VLOOKUP($B158,INPUTdata!$A:$L, H$8, FALSE)","v":29.32},{"$f":"VLOOKUP($B158,INPUTdata!$A:$L, I$8, FALSE)","v":-11.7},{"$nulls":4},40,100,0,60,""]
[149,1090,{"$f":"VLOOKUP($B159,INPUTdata!$A:$L, C$8, FALSE)","v":70},{"$f":"VLOOKUP($B159,INPUTdata!$A:$L, D$8, FALSE)","v":100},{"$f":"VLOOKUP($B159,INPUTdata!$A:$L, E$8, FALSE)","v":0},{"$f":"VLOOKUP($B159,INPUTdata!$A:$L, F$8, FALSE)","v":60},{"$f":"VLOOKUP($B159,INPUTdata!$A:$L, G$8, FALSE)","v":19.82},{"$f":"VLOOKUP($B159,INPUTdata!$A:$L, H$8, FALSE)","v":19.56},{"$f":"VLOOKUP($B159,INPUTdata!$A:$L, I$8, FALSE)","v":-18.55},{"$nulls":4},70,100,0,60,""]
[150,1091,{"$f":"VLOOKUP($B160,INPUTdata!$A:$L, C$8, FALSE)","v":100},{"$f":"VLOOKUP($B160,INPUTdata!$A:$L, D$8, FALSE)","v":0},{"$f":"VLOOKUP($B160,INPUTdata!$A:$L, E$8, FALSE)","v":0},{"$f":"VLOOKUP($B160,INPUTdata!$A:$L, F$8, FALSE)","v":60},{"$f":"VLOOKUP($B160,INPUTdata!$A:$L, G$8, FALSE)","v":32.07},{"$f":"VLOOKUP($B160,INPUTdata!$A:$L, H$8, FALSE)","v":-22.41},{"$f":"VLOOKUP($B160,INPUTdata!$A:$L, I$8, FALSE)","v":-28.05},{"$nulls":4},100,0,0,60,""]
[151,1092,{"$f":"VLOOKUP($B161,INPUTdata!$A:$L, C$8, FALSE)","v":100},{"$f":"VLOOKUP($B161,INPUTdata!$A:$L, D$8, FALSE)","v":20},{"$f":"VLOOKUP($B161,INPUTdata!$A:$L, E$8, FALSE)","v":0},{"$f":"VLOOKUP($B161,INPUTdata!$A:$L, F$8, FALSE)","v":60},{"$f":"VLOOKUP($B161,INPUTdata!$A:$L, G$8, FALSE)","v":28.84},{"$f":"VLOOKUP($B161,INPUTdata!$A:$L, H$8, FALSE)","v":-15.73},{"$f":"VLOOKUP($B161,INPUTdata!$A:$L, I$8, FALSE)","v":-27.45},{"$nulls":4},100,20,0,60,""]
[152,1093,{"$f":"VLOOKUP($B162,INPUTdata!$A:$L, C$8, FALSE)","v":100},{"$f":"VLOOKUP($B162,INPUTdata!$A:$L, D$8, FALSE)","v":40},{"$f":"VLOOKUP($B162,INPUTdata!$A:$L, E$8, FALSE)","v":0},{"$f":"VLOOKUP($B162,INPUTdata!$A:$L, F$8, FALSE)","v":60},{"$f":"VLOOKUP($B162,INPUTdata!$A:$L, G$8, FALSE)","v":25.63},{"$f":"VLOOKUP($B162,INPUTdata!$A:$L, H$8, FALSE)","v":-8.92},{"$f":"VLOOKUP($B162,INPUTdata!$A:$L, I$8, FALSE)","v":-26.77},{"$nulls":4},100,40,0,60,""]
[153,1094,{"$f":"VLOOKUP($B163,INPUTdata!$A:$L, C$8, FALSE)","v":100},{"$f":"VLOOKUP($B163,INPUTdata!$A:$L, D$8, FALSE)","v":70},{"$f":"VLOOKUP($B163,INPUTdata!$A:$L, E$8, FALSE)","v":0},{"$f":"VLOOKUP($B163,INPUTdata!$A:$L, F$8, FALSE)","v":60},{"$f":"VLOOKUP($B163,INPUTdata!$A:$L, G$8, FALSE)","v":20.91},{"$f":"VLOOKUP($B163,INPUTdata!$A:$L, H$8, FALSE)","v":1.64},{"$f":"VLOOKUP($B163,INPUTdata!$A:$L, I$8, FALSE)","v":-25.33},{"$nulls":4},100,70,0,60,""]
[154,1095,{"$f":"VLOOKUP($B164,INPUTdata!$A:$L, C$8, FALSE)","v":100},{"$f":"VLOOKUP($B164,INPUTdata!$A:$L, D$8, FALSE)","v":100},{"$f":"VLOOKUP($B164,INPUTdata!$A:$L, E$8, FALSE)","v":0},{"$f":"VLOOKUP($B164,INPUTdata!$A:$L, F$8, FALSE)","v":60},{"$f":"VLOOKUP($B164,INPUTdata!$A:$L, G$8, FALSE)","v":17.19},{"$f":"VLOOKUP($B164,INPUTdata!$A:$L, H$8, FALSE)","v":10.82},{"$f":"VLOOKUP($B164,INPUTdata!$A:$L, I$8, FALSE)","v":-23.85},{"$nulls":4},100,100,0,60,""]
[155,1100,{"$f":"VLOOKUP($B165,INPUTdata!$A:$L, C$8, FALSE)","v":0},{"$f":"VLOOKUP($B165,INPUTdata!$A:$L, D$8, FALSE)","v":100},{"$f":"VLOOKUP($B165,INPUTdata!$A:$L, E$8, FALSE)","v":20},{"$f":"VLOOKUP($B165,INPUTdata!$A:$L, F$8, FALSE)","v":60},{"$f":"VLOOKUP($B165,INPUTdata!$A:$L, G$8, FALSE)","v":27.86},{"$f":"VLOOKUP($B165,INPUTdata!$A:$L, H$8, FALSE)","v":39.67},{"$f":"VLOOKUP($B165,INPUTdata!$A:$L, I$8, FALSE)","v":3.2},{"$nulls":4},0,100,20,60,""]
[156,1116,{"$f":"VLOOKUP($B166,INPUTdata!$A:$L, C$8, FALSE)","v":100},{"$f":"VLOOKUP($B166,INPUTdata!$A:$L, D$8, FALSE)","v":0},{"$f":"VLOOKUP($B166,INPUTdata!$A:$L, E$8, FALSE)","v":20},{"$f":"VLOOKUP($B166,INPUTdata!$A:$L, F$8, FALSE)","v":60},{"$f":"VLOOKUP($B166,INPUTdata!$A:$L, G$8, FALSE)","v":31.66},{"$f":"VLOOKUP($B166,INPUTdata!$A:$L, H$8, FALSE)","v":-26.5},{"$f":"VLOOKUP($B166,INPUTdata!$A:$L, I$8, FALSE)","v":-19.53},{"$nulls":4},100,0,20,60,""]
[157,1125,{"$f":"VLOOKUP($B167,INPUTdata!$A:$L, C$8, FALSE)","v":0},{"$f":"VLOOKUP($B167,INPUTdata!$A:$L, D$8, FALSE)","v":100},{"$f":"VLOOKUP($B167,INPUTdata!$A:$L, E$8, FALSE)","v":40},{"$f":"VLOOKUP($B167,INPUTdata!$A:$L, F$8, FALSE)","v":60},{"$f":"VLOOKUP($B167,INPUTdata!$A:$L, G$8, FALSE)","v":27.84},{"$f":"VLOOKUP($B167,INPUTdata!$A:$L, H$8, FALSE)","v":38.18},{"$f":"VLOOKUP($B167,INPUTdata!$A:$L, I$8, FALSE)","v":8.74},{"$nulls":4},0,100,40,60,""]
[158,1141,{"$f":"VLOOKUP($B168,INPUTdata!$A:$L, C$8, FALSE)","v":100},{"$f":"VLOOKUP($B168,INPUTdata!$A:$L, D$8, FALSE)","v":0},{"$f":"VLOOKUP($B168,INPUTdata!$A:$L, E$8, FALSE)","v":40},{"$f":"VLOOKUP($B168,INPUTdata!$A:$L, F$8, FALSE)","v":60},{"$f":"VLOOKUP($B168,INPUTdata!$A:$L, G$8, FALSE)","v":31.37},{"$f":"VLOOKUP($B168,INPUTdata!$A:$L, H$8, FALSE)","v":-29.74},{"$f":"VLOOKUP($B168,INPUTdata!$A:$L, I$8, FALSE)","v":-11.06},{"$nulls":4},100,0,40,60,""]
[159,1150,{"$f":"VLOOKUP($B169,INPUTdata!$A:$L, C$8, FALSE)","v":0},{"$f":"VLOOKUP($B169,INPUTdata!$A:$L, D$8, FALSE)","v":100},{"$f":"VLOOKUP($B169,INPUTdata!$A:$L, E$8, FALSE)","v":70},{"$f":"VLOOKUP($B169,INPUTdata!$A:$L, F$8, FALSE)","v":60},{"$f":"VLOOKUP($B169,INPUTdata!$A:$L, G$8, FALSE)","v":27.8},{"$f":"VLOOKUP($B169,INPUTdata!$A:$L, H$8, FALSE)","v":36.18},{"$f":"VLOOKUP($B169,INPUTdata!$A:$L, I$8, FALSE)","v":16.94},{"$nulls":4},0,100,70,60,""]
[160,1166,{"$f":"VLOOKUP($B170,INPUTdata!$A:$L, C$8, FALSE)","v":100},{"$f":"VLOOKUP($B170,INPUTdata!$A:$L, D$8, FALSE)","v":0},{"$f":"VLOOKUP($B170,INPUTdata!$A:$L, E$8, FALSE)","v":70},{"$f":"VLOOKUP($B170,INPUTdata!$A:$L, F$8, FALSE)","v":60},{"$f":"VLOOKUP($B170,INPUTdata!$A:$L, G$8, FALSE)","v":31.05},{"$f":"VLOOKUP($B170,INPUTdata!$A:$L, H$8, FALSE)","v":-34.39},{"$f":"VLOOKUP($B170,INPUTdata!$A:$L, I$8, FALSE)","v":2.31},{"$nulls":4},100,0,70,60,""]
[161,1171,{"$f":"VLOOKUP($B171,INPUTdata!$A:$L, C$8, FALSE)","v":0},{"$f":"VLOOKUP($B171,INPUTdata!$A:$L, D$8, FALSE)","v":0},{"$f":"VLOOKUP($B171,INPUTdata!$A:$L, E$8, FALSE)","v":100},{"$f":"VLOOKUP($B171,INPUTdata!$A:$L, F$8, FALSE)","v":60},{"$f":"VLOOKUP($B171,INPUTdata!$A:$L, G$8, FALSE)","v":49.44},{"$f":"VLOOKUP($B171,INPUTdata!$A:$L, H$8, FALSE)","v":-4.7},{"$f":"VLOOKUP($B171,INPUTdata!$A:$L, I$8, FALSE)","v":48.48},{"$nulls":4},0,0,100,60,""]
[162,1172,{"$f":"VLOOKUP($B172,INPUTdata!$A:$L, C$8, FALSE)","v":0},{"$f":"VLOOKUP($B172,INPUTdata!$A:$L, D$8, FALSE)","v":20},{"$f":"VLOOKUP($B172,INPUTdata!$A:$L, E$8, FALSE)","v":100},{"$f":"VLOOKUP($B172,INPUTdata!$A:$L, F$8, FALSE)","v":60},{"$f":"VLOOKUP($B172,INPUTdata!$A:$L, G$8, FALSE)","v":44.75},{"$f":"VLOOKUP($B172,INPUTdata!$A:$L, H$8, FALSE)","v":2.76},{"$f":"VLOOKUP($B172,INPUTdata!$A:$L, I$8, FALSE)","v":43.09},{"$nulls":4},0,20,100,60,""]
[163,1173,{"$f":"VLOOKUP($B173,INPUTdata!$A:$L, C$8, FALSE)","v":0},{"$f":"VLOOKUP($B173,INPUTdata!$A:$L, D$8, FALSE)","v":40},{"$f":"VLOOKUP($B173,INPUTdata!$A:$L, E$8, FALSE)","v":100},{"$f":"VLOOKUP($B173,INPUTdata!$A:$L, F$8, FALSE)","v":60},{"$f":"VLOOKUP($B173,INPUTdata!$A:$L, G$8, FALSE)","v":40.13},{"$f":"VLOOKUP($B173,INPUTdata!$A:$L, H$8, FALSE)","v":10.7},{"$f":"VLOOKUP($B173,INPUTdata!$A:$L, I$8, FALSE)","v":37.98},{"$nulls":4},0,40,100,60,""]
[164,1174,{"$f":"VLOOKUP($B174,INPUTdata!$A:$L, C$8, FALSE)","v":0},{"$f":"VLOOKUP($B174,INPUTdata!$A:$L, D$8, FALSE)","v":70},{"$f":"VLOOKUP($B174,INPUTdata!$A:$L, E$8, FALSE)","v":100},{"$f":"VLOOKUP($B174,INPUTdata!$A:$L, F$8, FALSE)","v":60},{"$f":"VLOOKUP($B174,INPUTdata!$A:$L, G$8, FALSE)","v":33.06},{"$f":"VLOOKUP($B174,INPUTdata!$A:$L, H$8, FALSE)","v":23.39},{"$f":"VLOOKUP($B174,INPUTdata!$A:$L, I$8, FALSE)","v":29.99},{"$nulls":4},0,70,100,60,""]
[165,1175,{"$f":"VLOOKUP($B175,INPUTdata!$A:$L, C$8, FALSE)","v":0},{"$f":"VLOOKUP($B175,INPUTdata!$A:$L, D$8, FALSE)","v":100},{"$f":"VLOOKUP($B175,INPUTdata!$A:$L, E$8, FALSE)","v":100},{"$f":"VLOOKUP($B175,INPUTdata!$A:$L, F$8, FALSE)","v":60},{"$f":"VLOOKUP($B175,INPUTdata!$A:$L, G$8, FALSE)","v":27.49},{"$f":"VLOOKUP($B175,INPUTdata!$A:$L, H$8, FALSE)","v":34.66},{"$f":"VLOOKUP($B175,INPUTdata!$A:$L, I$8, FALSE)","v":24.24},{"$nulls":4},0,100,100,60,""]
[166,1176,{"$f":"VLOOKUP($B176,INPUTdata!$A:$L, C$8, FALSE)","v":20},{"$f":"VLOOKUP($B176,INPUTdata!$A:$L, D$8, FALSE)","v":0},{"$f":"VLOOKUP($B176,INPUTdata!$A:$L, E$8, FALSE)","v":100},{"$f":"VLOOKUP($B176,INPUTdata!$A:$L, F$8, FALSE)","v":60},{"$f":"VLOOKUP($B176,INPUTdata!$A:$L, G$8, FALSE)","v":45.55},{"$f":"VLOOKUP($B176,INPUTdata!$A:$L, H$8, FALSE)","v":-10.43},{"$f":"VLOOKUP($B176,INPUTdata!$A:$L, I$8, FALSE)","v":41.25},{"$nulls":4},20,0,100,60,""]
[167,1181,{"$f":"VLOOKUP($B177,INPUTdata!$A:$L, C$8, FALSE)","v":40},{"$f":"VLOOKUP($B177,INPUTdata!$A:$L, D$8, FALSE)","v":0},{"$f":"VLOOKUP($B177,INPUTdata!$A:$L, E$8, FALSE)","v":100},{"$f":"VLOOKUP($B177,INPUTdata!$A:$L, F$8, FALSE)","v":60},{"$f":"VLOOKUP($B177,INPUTdata!$A:$L, G$8, FALSE)","v":41.75},{"$f":"VLOOKUP($B177,INPUTdata!$A:$L, H$8, FALSE)","v":-16.62},{"$f":"VLOOKUP($B177,INPUTdata!$A:$L, I$8, FALSE)","v":34.35},{"$nulls":4},40,0,100,60,""]
[168,1186,{"$f":"VLOOKUP($B178,INPUTdata!$A:$L, C$8, FALSE)","v":70},{"$f":"VLOOKUP($B178,INPUTdata!$A:$L, D$8, FALSE)","v":0},{"$f":"VLOOKUP($B178,INPUTdata!$A:$L, E$8, FALSE)","v":100},{"$f":"VLOOKUP($B178,INPUTdata!$A:$L, F$8, FALSE)","v":60},{"$f":"VLOOKUP($B178,INPUTdata!$A:$L, G$8, FALSE)","v":35.9},{"$f":"VLOOKUP($B178,INPUTdata!$A:$L, H$8, FALSE)","v":-26.85},{"$f":"VLOOKUP($B178,INPUTdata!$A:$L, I$8, FALSE)","v":23.63},{"$nulls":4},70,0,100,60,""]
[169,1191,{"$f":"VLOOKUP($B179,INPUTdata!$A:$L, C$8, FALSE)","v":100},{"$f":"VLOOKUP($B179,INPUTdata!$A:$L, D$8, FALSE)","v":0},{"$f":"VLOOKUP($B179,INPUTdata!$A:$L, E$8, FALSE)","v":100},{"$f":"VLOOKUP($B179,INPUTdata!$A:$L, F$8, FALSE)","v":60},{"$f":"VLOOKUP($B179,INPUTdata!$A:$L, G$8, FALSE)","v":30.93},{"$f":"VLOOKUP($B179,INPUTdata!$A:$L, H$8, FALSE)","v":-36.82},{"$f":"VLOOKUP($B179,INPUTdata!$A:$L, I$8, FALSE)","v":14.62},{"$nulls":4},100,0,100,60,""]
[170,1199,{"$f":"VLOOKUP($B180,INPUTdata!$A:$L, C$8, FALSE)","v":0},{"$f":"VLOOKUP($B180,INPUTdata!$A:$L, D$8, FALSE)","v":100},{"$f":"VLOOKUP($B180,INPUTdata!$A:$L, E$8, FALSE)","v":0},{"$f":"VLOOKUP($B180,INPUTdata!$A:$L, F$8, FALSE)","v":80},{"$f":"VLOOKUP($B180,INPUTdata!$A:$L, G$8, FALSE)","v":19.3},{"$f":"VLOOKUP($B180,INPUTdata!$A:$L, H$8, FALSE)","v":28.12},{"$f":"VLOOKUP($B180,INPUTdata!$A:$L, I$8, FALSE)","v":-0.32},{"$nulls":4},0,100,0,80,""]
[171,1203,{"$f":"VLOOKUP($B181,INPUTdata!$A:$L, C$8, FALSE)","v":40},{"$f":"VLOOKUP($B181,INPUTdata!$A:$L, D$8, FALSE)","v":100},{"$f":"VLOOKUP($B181,INPUTdata!$A:$L, E$8, FALSE)","v":0},{"$f":"VLOOKUP($B181,INPUTdata!$A:$L, F$8, FALSE)","v":80},{"$f":"VLOOKUP($B181,INPUTdata!$A:$L, G$8, FALSE)","v":16.65},{"$f":"VLOOKUP($B181,INPUTdata!$A:$L, H$8, FALSE)","v":21.02},{"$f":"VLOOKUP($B181,INPUTdata!$A:$L, I$8, FALSE)","v":-6.3},{"$nulls":4},40,100,0,80,""]
[172,1207,{"$f":"VLOOKUP($B182,INPUTdata!$A:$L, C$8, FALSE)","v":70},{"$f":"VLOOKUP($B182,INPUTdata!$A:$L, D$8, FALSE)","v":100},{"$f":"VLOOKUP($B182,INPUTdata!$A:$L, E$8, FALSE)","v":0},{"$f":"VLOOKUP($B182,INPUTdata!$A:$L, F$8, FALSE)","v":80},{"$f":"VLOOKUP($B182,INPUTdata!$A:$L, G$8, FALSE)","v":14.48},{"$f":"VLOOKUP($B182,INPUTdata!$A:$L, H$8, FALSE)","v":14.33},{"$f":"VLOOKUP($B182,INPUTdata!$A:$L, I$8, FALSE)","v":-11.55},{"$nulls":4},70,100,0,80,""]
[173,1208,{"$f":"VLOOKUP($B183,INPUTdata!$A:$L, C$8, FALSE)","v":100},{"$f":"VLOOKUP($B183,INPUTdata!$A:$L, D$8, FALSE)","v":0},{"$f":"VLOOKUP($B183,INPUTdata!$A:$L, E$8, FALSE)","v":0},{"$f":"VLOOKUP($B183,INPUTdata!$A:$L, F$8, FALSE)","v":80},{"$f":"VLOOKUP($B183,INPUTdata!$A:$L, G$8, FALSE)","v":21.74},{"$f":"VLOOKUP($B183,INPUTdata!$A:$L, H$8, FALSE)","v":-15.31},{"$f":"VLOOKUP($B183,INPUTdata!$A:$L, I$8, FALSE)","v":-19.73},{"$nulls":4},100,0,0,80,""]
[174,1209,{"$f":"VLOOKUP($B184,INPUTdata!$A:$L, C$8, FALSE)","v":100},{"$f":"VLOOKUP($B184,INPUTdata!$A:$L, D$8, FALSE)","v":40},{"$f":"VLOOKUP($B184,INPUTdata!$A:$L, E$8, FALSE)","v":0},{"$f":"VLOOKUP($B184,INPUTdata!$A:$L, F$8, FALSE)","v":80},{"$f":"VLOOKUP($B184,INPUTdata!$A:$L, G$8, FALSE)","v":18.12},{"$f":"VLOOKUP($B184,INPUTdata!$A:$L, H$8, FALSE)","v":-6.07},{"$f":"VLOOKUP($B184,INPUTdata!$A:$L, I$8, FALSE)","v":-17.97},{"$nulls":4},100,40,0,80,""]
[175,1210,{"$f":"VLOOKUP($B185,INPUTdata!$A:$L, C$8, FALSE)","v":100},{"$f":"VLOOKUP($B185,INPUTdata!$A:$L, D$8, FALSE)","v":70},{"$f":"VLOOKUP($B185,INPUTdata!$A:$L, E$8, FALSE)","v":0},{"$f":"VLOOKUP($B185,INPUTdata!$A:$L, F$8, FALSE)","v":80},{"$f":"VLOOKUP($B185,INPUTdata!$A:$L, G$8, FALSE)","v":15.27},{"$f":"VLOOKUP($B185,INPUTdata!$A:$L, H$8, FALSE)","v":1.66},{"$f":"VLOOKUP($B185,INPUTdata!$A:$L, I$8, FALSE)","v":-16.74},{"$nulls":4},100,70,0,80,""]
[176,1211,{"$f":"VLOOKUP($B186,INPUTdata!$A:$L, C$8, FALSE)","v":100},{"$f":"VLOOKUP($B186,INPUTdata!$A:$L, D$8, FALSE)","v":100},{"$f":"VLOOKUP($B186,INPUTdata!$A:$L, E$8, FALSE)","v":0},{"$f":"VLOOKUP($B186,INPUTdata!$A:$L, F$8, FALSE)","v":80},{"$f":"VLOOKUP($B186,INPUTdata!$A:$L, G$8, FALSE)","v":12.86},{"$f":"VLOOKUP($B186,INPUTdata!$A:$L, H$8, FALSE)","v":8.39},{"$f":"VLOOKUP($B186,INPUTdata!$A:$L, I$8, FALSE)","v":-14.5},{"$nulls":4},100,100,0,80,""]
[177,1215,{"$f":"VLOOKUP($B187,INPUTdata!$A:$L, C$8, FALSE)","v":0},{"$f":"VLOOKUP($B187,INPUTdata!$A:$L, D$8, FALSE)","v":100},{"$f":"VLOOKUP($B187,INPUTdata!$A:$L, E$8, FALSE)","v":40},{"$f":"VLOOKUP($B187,INPUTdata!$A:$L, F$8, FALSE)","v":80},{"$f":"VLOOKUP($B187,INPUTdata!$A:$L, G$8, FALSE)","v":19.54},{"$f":"VLOOKUP($B187,INPUTdata!$A:$L, H$8, FALSE)","v":25.34},{"$f":"VLOOKUP($B187,INPUTdata!$A:$L, I$8, FALSE)","v":6.31},{"$nulls":4},0,100,40,80,""]
[178,1224,{"$f":"VLOOKUP($B188,INPUTdata!$A:$L, C$8, FALSE)","v":100},{"$f":"VLOOKUP($B188,INPUTdata!$A:$L, D$8, FALSE)","v":0},{"$f":"VLOOKUP($B188,INPUTdata!$A:$L, E$8, FALSE)","v":40},{"$f":"VLOOKUP($B188,INPUTdata!$A:$L, F$8, FALSE)","v":80},{"$f":"VLOOKUP($B188,INPUTdata!$A:$L, G$8, FALSE)","v":21.57},{"$f":"VLOOKUP($B188,INPUTdata!$A:$L, H$8, FALSE)","v":-20.61},{"$f":"VLOOKUP($B188,INPUTdata!$A:$L, I$8, FALSE)","v":-8.32},{"$nulls":4},100,0,40,80,""]
[179,1231,{"$f":"VLOOKUP($B189,INPUTdata!$A:$L, C$8, FALSE)","v":0},{"$f":"VLOOKUP($B189,INPUTdata!$A:$L, D$8, FALSE)","v":100},{"$f":"VLOOKUP($B189,INPUTdata!$A:$L, E$8, FALSE)","v":70},{"$f":"VLOOKUP($B189,INPUTdata!$A:$L, F$8, FALSE)","v":80},{"$f":"VLOOKUP($B189,INPUTdata!$A:$L, G$8, FALSE)","v":19.83},{"$f":"VLOOKUP($B189,INPUTdata!$A:$L, H$8, FALSE)","v":23.89},{"$f":"VLOOKUP($B189,INPUTdata!$A:$L, I$8, FALSE)","v":11.63},{"$nulls":4},0,100,70,80,""]
[180,1240,{"$f":"VLOOKUP($B190,INPUTdata!$A:$L, C$8, FALSE)","v":100},{"$f":"VLOOKUP($B190,INPUTdata!$A:$L, D$8, FALSE)","v":0},{"$f":"VLOOKUP($B190,INPUTdata!$A:$L, E$8, FALSE)","v":70},{"$f":"VLOOKUP($B190,INPUTdata!$A:$L, F$8, FALSE)","v":80},{"$f":"VLOOKUP($B190,INPUTdata!$A:$L, G$8, FALSE)","v":21.84},{"$f":"VLOOKUP($B190,INPUTdata!$A:$L, H$8, FALSE)","v":-24.34},{"$f":"VLOOKUP($B190,INPUTdata!$A:$L, I$8, FALSE)","v":1.1},{"$nulls":4},100,0,70,80,""]
[181,1244,{"$f":"VLOOKUP($B191,INPUTdata!$A:$L, C$8, FALSE)","v":0},{"$f":"VLOOKUP($B191,INPUTdata!$A:$L, D$8, FALSE)","v":0},{"$f":"VLOOKUP($B191,INPUTdata!$A:$L, E$8, FALSE)","v":100},{"$f":"VLOOKUP($B191,INPUTdata!$A:$L, F$8, FALSE)","v":80},{"$f":"VLOOKUP($B191,INPUTdata!$A:$L, G$8, FALSE)","v":33.41},{"$f":"VLOOKUP($B191,INPUTdata!$A:$L, H$8, FALSE)","v":-4.52},{"$f":"VLOOKUP($B191,INPUTdata!$A:$L, I$8, FALSE)","v":30.96},{"$nulls":4},0,0,100,80,""]
[182,1245,{"$f":"VLOOKUP($B192,INPUTdata!$A:$L, C$8, FALSE)","v":0},{"$f":"VLOOKUP($B192,INPUTdata!$A:$L, D$8, FALSE)","v":40},{"$f":"VLOOKUP($B192,INPUTdata!$A:$L, E$8, FALSE)","v":100},{"$f":"VLOOKUP($B192,INPUTdata!$A:$L, F$8, FALSE)","v":80},{"$f":"VLOOKUP($B192,INPUTdata!$A:$L, G$8, FALSE)","v":27.79},{"$f":"VLOOKUP($B192,INPUTdata!$A:$L, H$8, FALSE)","v":5.3},{"$f":"VLOOKUP($B192,INPUTdata!$A:$L, I$8, FALSE)","v":24.68},{"$nulls":4},0,40,100,80,""]
[183,1246,{"$f":"VLOOKUP($B193,INPUTdata!$A:$L, C$8, FALSE)","v":0},{"$f":"VLOOKUP($B193,INPUTdata!$A:$L, D$8, FALSE)","v":70},{"$f":"VLOOKUP($B193,INPUTdata!$A:$L, E$8, FALSE)","v":100},{"$f":"VLOOKUP($B193,INPUTdata!$A:$L, F$8, FALSE)","v":80},{"$f":"VLOOKUP($B193,INPUTdata!$A:$L, G$8, FALSE)","v":23.44},{"$f":"VLOOKUP($B193,INPUTdata!$A:$L, H$8, FALSE)","v":14.43},{"$f":"VLOOKUP($B193,INPUTdata!$A:$L, I$8, FALSE)","v":19.89},{"$nulls":4},0,70,100,80,""]
[184,1247,{"$f":"VLOOKUP($B194,INPUTdata!$A:$L, C$8, FALSE)","v":0},{"$f":"VLOOKUP($B194,INPUTdata!$A:$L, D$8, FALSE)","v":100},{"$f":"VLOOKUP($B194,INPUTdata!$A:$L, E$8, FALSE)","v":100},{"$f":"VLOOKUP($B194,INPUTdata!$A:$L, F$8, FALSE)","v":80},{"$f":"VLOOKUP($B194,INPUTdata!$A:$L, G$8, FALSE)","v":19.54},{"$f":"VLOOKUP($B194,INPUTdata!$A:$L, H$8, FALSE)","v":21.84},{"$f":"VLOOKUP($B194,INPUTdata!$A:$L, I$8, FALSE)","v":15.87},{"$nulls":4},0,100,100,80,""]
[185,1248,{"$f":"VLOOKUP($B195,INPUTdata!$A:$L, C$8, FALSE)","v":40},{"$f":"VLOOKUP($B195,INPUTdata!$A:$L, D$8, FALSE)","v":0},{"$f":"VLOOKUP($B195,INPUTdata!$A:$L, E$8, FALSE)","v":100},{"$f":"VLOOKUP($B195,INPUTdata!$A:$L, F$8, FALSE)","v":80},{"$f":"VLOOKUP($B195,INPUTdata!$A:$L, G$8, FALSE)","v":28.73},{"$f":"VLOOKUP($B195,INPUTdata!$A:$L, H$8, FALSE)","v":-12},{"$f":"VLOOKUP($B195,INPUTdata!$A:$L, I$8, FALSE)","v":22.34},{"$nulls":4},40,0,100,80,""]
[186,1252,{"$f":"VLOOKUP($B196,INPUTdata!$A:$L, C$8, FALSE)","v":70},{"$f":"VLOOKUP($B196,INPUTdata!$A:$L, D$8, FALSE)","v":0},{"$f":"VLOOKUP($B196,INPUTdata!$A:$L, E$8, FALSE)","v":100},{"$f":"VLOOKUP($B196,INPUTdata!$A:$L, F$8, FALSE)","v":80},{"$f":"VLOOKUP($B196,INPUTdata!$A:$L, G$8, FALSE)","v":25.08},{"$f":"VLOOKUP($B196,INPUTdata!$A:$L, H$8, FALSE)","v":-19.51},{"$f":"VLOOKUP($B196,INPUTdata!$A:$L, I$8, FALSE)","v":15.39},{"$nulls":4},70,0,100,80,""]
[187,1256,{"$f":"VLOOKUP($B197,INPUTdata!$A:$L, C$8, FALSE)","v":100},{"$f":"VLOOKUP($B197,INPUTdata!$A:$L, D$8, FALSE)","v":0},{"$f":"VLOOKUP($B197,INPUTdata!$A:$L, E$8, FALSE)","v":100},{"$f":"VLOOKUP($B197,INPUTdata!$A:$L, F$8, FALSE)","v":80},{"$f":"VLOOKUP($B197,INPUTdata!$A:$L, G$8, FALSE)","v":21.55},{"$f":"VLOOKUP($B197,INPUTdata!$A:$L, H$8, FALSE)","v":-25.5},{"$f":"VLOOKUP($B197,INPUTdata!$A:$L, I$8, FALSE)","v":9.39},{"$nulls":4},100,0,100,80,""]
[188,1262,{"$f":"VLOOKUP($B198,INPUTdata!$A:$L, C$8, FALSE)","v":0},{"$f":"VLOOKUP($B198,INPUTdata!$A:$L, D$8, FALSE)","v":100},{"$f":"VLOOKUP($B198,INPUTdata!$A:$L, E$8, FALSE)","v":0},{"$f":"VLOOKUP($B198,INPUTdata!$A:$L, F$8, FALSE)","v":100},{"$f":"VLOOKUP($B198,INPUTdata!$A:$L, G$8, FALSE)","v":10.35},{"$f":"VLOOKUP($B198,INPUTdata!$A:$L, H$8, FALSE)","v":14.1},{"$f":"VLOOKUP($B198,INPUTdata!$A:$L, I$8, FALSE)","v":2.2},{"$nulls":4},0,100,0,100,""]
[189,1266,{"$f":"VLOOKUP($B199,INPUTdata!$A:$L, C$8, FALSE)","v":100},{"$f":"VLOOKUP($B199,INPUTdata!$A:$L, D$8, FALSE)","v":0},{"$f":"VLOOKUP($B199,INPUTdata!$A:$L, E$8, FALSE)","v":0},{"$f":"VLOOKUP($B199,INPUTdata!$A:$L, F$8, FALSE)","v":100},{"$f":"VLOOKUP($B199,INPUTdata!$A:$L, G$8, FALSE)","v":10.64},{"$f":"VLOOKUP($B199,INPUTdata!$A:$L, H$8, FALSE)","v":-7.57},{"$f":"VLOOKUP($B199,INPUTdata!$A:$L, I$8, FALSE)","v":-10.68},{"$nulls":4},100,0,0,100,""]
[190,1268,{"$f":"VLOOKUP($B200,INPUTdata!$A:$L, C$8, FALSE)","v":100},{"$f":"VLOOKUP($B200,INPUTdata!$A:$L, D$8, FALSE)","v":100},{"$f":"VLOOKUP($B200,INPUTdata!$A:$L, E$8, FALSE)","v":0},{"$f":"VLOOKUP($B200,INPUTdata!$A:$L, F$8, FALSE)","v":100},{"$f":"VLOOKUP($B200,INPUTdata!$A:$L, G$8, FALSE)","v":7.91},{"$f":"VLOOKUP($B200,INPUTdata!$A:$L, H$8, FALSE)","v":6.23},{"$f":"VLOOKUP($B200,INPUTdata!$A:$L, I$8, FALSE)","v":-4.82},{"$nulls":4},100,100,0,100,""]
[191,1278,{"$f":"VLOOKUP($B201,INPUTdata!$A:$L, C$8, FALSE)","v":0},{"$f":"VLOOKUP($B201,INPUTdata!$A:$L, D$8, FALSE)","v":0},{"$f":"VLOOKUP($B201,INPUTdata!$A:$L, E$8, FALSE)","v":100},{"$f":"VLOOKUP($B201,INPUTdata!$A:$L, F$8, FALSE)","v":100},{"$f":"VLOOKUP($B201,INPUTdata!$A:$L, G$8, FALSE)","v":16.19},{"$f":"VLOOKUP($B201,INPUTdata!$A:$L, H$8, FALSE)","v":-4.31},{"$f":"VLOOKUP($B201,INPUTdata!$A:$L, I$8, FALSE)","v":11.95},{"$nulls":4},0,0,100,100,""]
[192,1280,{"$f":"VLOOKUP($B202,INPUTdata!$A:$L, C$8, FALSE)","v":0},{"$f":"VLOOKUP($B202,INPUTdata!$A:$L, D$8, FALSE)","v":100},{"$f":"VLOOKUP($B202,INPUTdata!$A:$L, E$8, FALSE)","v":100},{"$f":"VLOOKUP($B202,INPUTdata!$A:$L, F$8, FALSE)","v":100},{"$f":"VLOOKUP($B202,INPUTdata!$A:$L, G$8, FALSE)","v":11.1},{"$f":"VLOOKUP($B202,INPUTdata!$A:$L, H$8, FALSE)","v":8.2},{"$f":"VLOOKUP($B202,INPUTdata!$A:$L, I$8, FALSE)","v":7.28},{"$nulls":4},0,100,100,100,""]
[193,1284,{"$f":"VLOOKUP($B203,INPUTdata!$A:$L, C$8, FALSE)","v":100},{"$f":"VLOOKUP($B203,INPUTdata!$A:$L, D$8, FALSE)","v":0},{"$f":"VLOOKUP($B203,INPUTdata!$A:$L, E$8, FALSE)","v":100},{"$f":"VLOOKUP($B203,INPUTdata!$A:$L, F$8, FALSE)","v":100},{"$f":"VLOOKUP($B203,INPUTdata!$A:$L, G$8, FALSE)","v":11.32},{"$f":"VLOOKUP($B203,INPUTdata!$A:$L, H$8, FALSE)","v":-13.43},{"$f":"VLOOKUP($B203,INPUTdata!$A:$L, I$8, FALSE)","v":3.66},{"$nulls":4},100,0,100,100,""]

{"sheet":"Faces","index":3,"n_rows":392,"n_cols":17,"rows_kept":392,"merged":[[8,5,8,8],[8,9,8,12],[8,13,8,16]]}
["ISO 18621-11 Gamut Volume Computation Tool: List of Faces"]
[]
[null,"This sheet defines a list of 382 triangular faces that constitute a complete gamut enclosure."]
[null,"For each face the 3 vertices are indicated by their index as defined on the 'Vertices' sheet."]
[null,"The CMYK values for each of the vertices is copied from the 'Vertices' sheet"]
[null,"The CMYK tables match those in the spreadsheet at http://www.color.org/resources/gamut/gamut-analysis.xalter"]
[]
[]
[{"$nulls":5},"Vertex_p1",{"$nulls":3},"Vertex_p2",{"$nulls":3},"Vertex_p3"]
["Face#","Vertex_p1","Vertex_p2","Vertex_p3",null,"C","M","Y","K","C","M","Y","K","C","M","Y","K"]
[1,1,8,7,null,{"$f":"VLOOKUP($B11,Vertices!$A$10:$F$203, 3, FALSE)","v":0},{"$f":"VLOOKUP($B11,Vertices!$A$10:$F$203, 4, FALSE)","v":0},{"$f":"VLOOKUP($B11,Vertices!$A$10:$F$203, 5, FALSE)","v":0},{"$f":"VLOOKUP($B11,Vertices!$A$10:$F$203, 6, FALSE)","v":0},{"$f":"VLOOKUP($C11,Vertices!$A$10:$F$203, 3, FALSE)","v":10},{"$f":"VLOOKUP($C11,Vertices!$A$10:$F$203, 4, FALSE)","v":10},{"$f":"VLOOKUP($C11,Vertices!$A$10:$F$203, 5, FALSE)","v":0},{"$f":"VLOOKUP($C11,Vertices!$A$10:$F$203, 6, FALSE)","v":0},{"$f":"VLOOKUP($D11,Vertices!$A$10:$F$203, 3, FALSE)","v":10},{"$f":"VLOOKUP($D11,Vertices!$A$10:$F$203, 4, FALSE)","v":0},{"$f":"VLOOKUP($D11,Vertices!$A$10:$F$203, 5, FALSE)","v":0},{"$f":"VLOOKUP($D11,Vertices!$A$10:$F$203, 6, FALSE)","v":0}]
[2,1,2,8,null,{"$f":"VLOOKUP($B12,Vertices!$A$10:$F$203, 3, FALSE)","v":0},{"$f":"VLOOKUP($B12,Vertices!$A$10:$F$203, 4, FALSE)","v":0},{"$f":"VLOOKUP($B12,Vertices!$A$10:$F$203, 5, FALSE)","v":0},{"$f":"VLOOKUP($B12,Vertices!$A$10:$F$203, 6, FALSE)","v":0},{"$f":"VLOOKUP($C12,Vertices!$A$10:$F$203, 3, FALSE)","v":0},{"$f":"VLOOKUP($C12,Vertices!$A$10:$F$203, 4, FALSE)","v":10},{"$f":"VLOOKUP($C12,Vertices!$A$10:$F$203, 5, FALSE)","v":0},{"$f":"VLOOKUP($C12,Vertices!$A$10:$F$203, 6, FALSE)","v":0},{"$f":"VLOOKUP($D12,Vertices!$A$10:$F$203, 3, FALSE)","v":10},{"$f":"VLOOKUP($D12,Vertices!$A$10:$F$203, 4, FALSE)","v":10},{"$f":"VLOOKUP($D12,Vertices!$A$10:$F$203, 5, FALSE)","v":0},{"$f":"VLOOKUP($D12,Vertices!$A$10:$F$203, 6, FALSE)","v":0}]
[3,7,14,13,null,{"$f":"VLOOKUP($B13,Vertices!$A$10:$F$203, 3, FALSE)","v":10},{"$f":"VLOOKUP($B13,Vertices!$A$10:$F$203, 4, FALSE)","v":0},{"$f":"VLOOKUP($B13,Vertices!$A$10:$F$203, 5, FALSE)","v":0},{"$f":"VLOOKUP($B13,Vertices!$A$10:$F$203, 6, FALSE)","v":0},{"$f":"VLOOKUP($C13,Vertices!$A$10:$F$203, 3, FALSE)","v":20},{"$f":"VLOOKUP($C13,Vertices!$A$10:$F$203, 4, FALSE)","v":10},{"$f":"VLOOKUP($C13,Vertices!$A$10:$F$203, 5, FALSE)","v":0},{"$f":"VLOOKUP($C13,Vertices!$A$10:$F$203, 6, FALSE)","v":0},{"$f":"VLOOKUP($D13,Vertices!$A$10:$F$203, 3, FALSE)","v":20},{"$f":"VLOOKUP($D13,Vertices!$A$10:$F$203, 4, FALSE)","v":0},{"$f":"VLOOKUP($D13,Vertices!$A$10:$F$203, 5, FALSE)","v":0},{"$f":"VLOOKUP($D13,Vertices!$A$10:$F$203, 6, FALSE)","v":0}]
[4,7,8,14,null,{"$f":"VLOOKUP($B14,Vertices!$A$10:$F$203, 3, FALSE)","v":10},{"$f":"VLOOKUP($B14,Vertices!$A$10:$F$203, 4, FALSE)","v":0},{"$f":"VLOOKUP($B14,Vertices!$A$10:$F$203, 5, FALSE)","v":0},{"$f":"VLOOKUP($B14,Vertices!$A$10:$F$203, 6, FALSE)","v":0},{"$f":"VLOOKUP($C14,Vertices!$A$10:$F$203, 3, FALSE)","v":10},{"$f":"VLOOKUP($C14,Vertices!$A$10:$F$203, 4, FALSE)","v":10},{"$f":"VLOOKUP($C14,Vertices!$A$10:$F$203, 5, FALSE)","v":0},{"$f":"VLOOKUP($C14,Vertices!$A$10:$F$203, 6, FALSE)","v":0},{"$f":"VLOOKUP($D14,Vertices!$A$10:$F$203, 3, FALSE)","v":20},{"$f":"VLOOKUP($D14,Vertices!$A$10:$F$203, 4, FALSE)","v":10},{"$f":"VLOOKUP($D14,Vertices!$A$10:$F$203, 5, FALSE)","v":0},{"$f":"VLOOKUP($D14,Vertices!$A$10:$F$203, 6, FALSE)","v":0}]
[5,8,15,14,null,{"$f":"VLOOKUP($B15,Vertices!$A$10:$F$203, 3, FALSE)","v":10},{"$f":"VLOOKUP($B15,Vertices!$A$10:$F$203, 4, FALSE)","v":10},{"$f":"VLOOKUP($B15,Vertices!$A$10:$F$203, 5, FALSE)","v":0},{"$f":"VLOOKUP($B15,Vertices!$A$10:$F$203, 6, FALSE)","v":0},{"$f":"VLOOKUP($C15,Vertices!$A$10:$F$203, 3, FALSE)","v":20},{"$f":"VLOOKUP($C15,Vertices!$A$10:$F$203, 4, FALSE)","v":20},{"$f":"VLOOKUP($C15,Vertices!$A$10:$F$203, 5, FALSE)","v":0},{"$f":"VLOOKUP($C15,Vertices!$A$10:$F$203, 6, FALSE)","v":0},{"$f":"VLOOKUP($D15,Vertices!$A$10:$F$203, 3, FALSE)","v":20},{"$f":"VLOOKUP($D15,Vertices!$A$10:$F$203, 4, FALSE)","v":10},{"$f":"VLOOKUP($D15,Vertices!$A$10:$F$203, 5, FALSE)","v":0},{"$f":"VLOOKUP($D15,Vertices!$A$10:$F$203, 6, FALSE)","v":0}]
[6,8,9,15,null,{"$f":"VLOOKUP($B16,Vertices!$A$10:$F$203, 3, FALSE)","v":10},{"$f":"VLOOKUP($B16,Vertices!$A$10:$F$203, 4, FALSE)","v":10},{"$f":"VLOOKUP($B16,Vertices!$A$10:$F$203, 5, FALSE)","v":0},{"$f":"VLOOKUP($B16,Vertices!$A$10:$F$203, 6, FALSE)","v":0},{"$f":"VLOOKUP($C16,Vertices!$A$10:$F$203, 3, FALSE)","v":10},{"$f":"VLOOKUP($C16,Vertices!$A$10:$F$203, 4, FALSE)","v":20},{"$f":"VLOOKUP($C16,Vertices!$A$10:$F$203, 5, FALSE)","v":0},{"$f":"VLOOKUP($C16,Vertices!$A$10:$F$203, 6, FALSE)","v":0},{"$f":"VLOOKUP($D16,Vertices!$A$10:$F$203, 3, FALSE)","v":20},{"$f":"VLOOKUP($D16,Vertices!$A$10:$F$203, 4, FALSE)","v":20},{"$f":"VLOOKUP($D16,Vertices!$A$10:$F$203, 5, FALSE)","v":0},{"$f":"VLOOKUP($D16,Vertices!$A$10:$F$203, 6, FALSE)","v":0}]
[7,2,9,8,null,{"$f":"VLOOKUP($B17,Vertices!$A$10:$F$203, 3, FALSE)","v":0},{"$f":"VLOOKUP($B17,Vertices!$A$10:$F$203, 4, FALSE)","v":10},{"$f":"VLOOKUP($B17,Vertices!$A$10:$F$203, 5, FALSE)","v":0},{"$f":"VLOOKUP($B17,Vertices!$A$10:$F$203, 6, FALSE)","v":0},{"$f":"VLOOKUP($C17,Vertices!$A$10:$F$203, 3, FALSE)","v":10},{"$f":"VLOOKUP($C17,Vertices!$A$10:$F$203, 4, FALSE)","v":20},{"$f":"VLOOKUP($C17,Vertices!$A$10:$F$203, 5, FALSE)","v":0},{"$f":"VLOOKUP($C17,Vertices!$A$10:$F$203, 6, FALSE)","v":0},{"$f":"VLOOKUP($D17,Vertices!$A$10:$F$203, 3, FALSE)","v":10},{"$f":"VLOOKUP($D17,Vertices!$A$10:$F$203, 4, FALSE)","v":10},{"$f":"VLOOKUP($D17,Vertices!$A$10:$F$203, 5, FALSE)","v":0},{"$f":"VLOOKUP($D17,Vertices!$A$10:$F$203, 6, FALSE)","v":0}]
[8,2,3,9,null,{"$f":"VLOOKUP($B18,Vertices!$A$10:$F$203, 3, FALSE)","v":0},{"$f":"VLOOKUP($B18,Vertices!$A$10:$F$203, 4, FALSE)","v":10},{"$f":"VLOOKUP($B18,Vertices!$A$10:$F$203, 5, FALSE)","v":0},{"$f":"VLOOKUP($B18,Vertices!$A$10:$F$203, 6, FALSE)","v":0},{"$f":"VLOOKUP($C18,Vertices!$A$10:$F$203, 3, FALSE)","v":0},{"$f":"VLOOKUP($C18,Vertices!$A$10:$F$203, 4, FALSE)","v":20},{"$f":"VLOOKUP($C18,Vertices!$A$10:$F$203, 5, FALSE)","v":0},{"$f":"VLOOKUP($C18,Vertices!$A$10:$F$203, 6, FALSE)","v":0},{"$f":"VLOOKUP($D18,Vertices!$A$10:$F$203, 3, FALSE)","v":10},{"$f":"VLOOKUP($D18,Vertices!$A$10:$F$203, 4, FALSE)","v":20},{"$f":"VLOOKUP($D18,Vertices!$A$10:$F$203, 5, FALSE)","v":0},{"$f":"VLOOKUP($D18,Vertices!$A$10:$F$203, 6, FALSE)","v":0}]
[9,13,20,19,null,{"$f":"VLOOKUP($B19,Vertices!$A$10:$F$203, 3, FALSE)","v":20},{"$f":"VLOOKUP($B19,Vertices!$A$10:$F$203, 4, FALSE)","v":0},{"$f":"VLOOKUP($B19,Vertices!$A$10:$F$203, 5, FALSE)","v":0},{"$f":"VLOOKUP($B19,Vertices!$A$10:$F$203, 6, FALSE)","v":0},{"$f":"VLOOKUP($C19,Vertices!$A$10:$F$203, 3, FALSE)","v":40},{"$f":"VLOOKUP($C19,Vertices!$A$10:$F$203, 4, FALSE)","v":10},{"$f":"VLOOKUP($C19,Vertices!$A$10:$F$203, 5, FALSE)","v":0},{"$f":"VLOOKUP($C19,Vertices!$A$10:$F$203, 6, FALSE)","v":0},{"$f":"VLOOKUP($D19,Vertices!$A$10:$F$203, 3, FALSE)","v":40},{"$f":"VLOOKUP($D19,Vertices!$A$10:$F$203, 4, FALSE)","v":0},{"$f":"VLOOKUP($D19,Vertices!$A$10:$F$203, 5, FALSE)","v":0},{"$f":"VLOOKUP($D19,Vertices!$A$10:$F$203, 6, FALSE)","v":0}]
[10,13,14,20,null,{"$f":"VLOOKUP($B20,Vertices!$A$10:$F$203, 3, FALSE)","v":20},{"$f":"VLOOKUP($B20,Vertices!$A$10:$F$203, 4, FALSE)","v":0},{"$f":"VLOOKUP($B20,Vertices!$A$10:$F$203, 5, FALSE)","v":0},{"$f":"VLOOKUP($B20,Vertices!$A$10:$F$203, 6, FALSE)","v":0},{"$f":"VLOOKUP($C20,Vertices!$A$10:$F$203, 3, FALSE)","v":20},{"$f":"VLOOKUP($C20,Vertices!$A$10:$F$203, 4, FALSE)","v":10},{"$f":"VLOOKUP($C20,Vertices!$A$10:$F$203, 5, FALSE)","v":0},{"$f":"VLOOKUP($C20,Vertices!$A$10:$F$203, 6, FALSE)","v":0},{"$f":"VLOOKUP($D20,Vertices!$A$10:$F$203, 3, FALSE)","v":40},{"$f":"VLOOKUP($D20,Vertices!$A$10:$F$203, 4, FALSE)","v":10},{"$f":"VLOOKUP($D20,Vertices!$A$10:$F$203, 5, FALSE)","v":0},{"$f":"VLOOKUP($D20,Vertices!$A$10:$F$203, 6, FALSE)","v":0}]
[11,14,21,20,null,{"$f":"VLOOKUP($B21,Vertices!$A$10:$F$203, 3, FALSE)","v":20},{"$f":"VLOOKUP($B21,Vertices!$A$10:$F$203, 4, FALSE)","v":10},{"$f":"VLOOKUP($B21,Vertices!$A$10:$F$203, 5, FALSE)","v":0},{"$f":"VLOOKUP($B21,Vertices!$A$10:$F$203, 6, FALSE)","v":0},{"$f":"VLOOKUP($C21,Vertices!$A$10:$F$203, 3, FALSE)","v":40},{"$f":"VLOOKUP($C21,Vertices!$A$10:$F$203, 4, FALSE)","v":20},{"$f":"VLOOKUP($C21,Vertices!$A$10:$F$203, 5, FALSE)","v":0},{"$f":"VLOOKUP($C21,Vertices!$A$10:$F$203, 6, FALSE)","v":0},{"$f":"VLOOKUP($D21,Vertices!$A$10:$F$203, 3, FALSE)","v":40},{"$f":"VLOOKUP($D21,Vertices!$A$10:$F$203, 4, FALSE)","v":10},{"$f":"VLOOKUP($D21,Vertices!$A$10:$F$203, 5, FALSE)","v":0},{"$f":"VLOOKUP($D21,Vertices!$A$10:$F$203, 6, FALSE)","v":0}]
[12,14,15,21,null,{"$f":"VLOOKUP($B22,Vertices!$A$10:$F$203, 3, FALSE)","v":20},{"$f":"VLOOKUP($B22,Vertices!$A$10:$F$203, 4, FALSE)","v":10},{"$f":"VLOOKUP($B22,Vertices!$A$10:$F$203, 5, FALSE)","v":0},{"$f":"VLOOKUP($B22,Vertices!$A$10:$F$203, 6, FALSE)","v":0},{"$f":"VLOOKUP($C22,Vertices!$A$10:$F$203, 3, FALSE)","v":20},{"$f":"VLOOKUP($C22,Vertices!$A$10:$F$203, 4, FALSE)","v":20},{"$f":"VLOOKUP($C22,Vertices!$A$10:$F$203, 5, FALSE)","v":0},{"$f":"VLOOKUP($C22,Vertices!$A$10:$F$203, 6, FALSE)","v":0},{"$f":"VLOOKUP($D22,Vertices!$A$10:$F$203, 3, FALSE)","v":40},{"$f":"VLOOKUP($D22,Vertices!$A$10:$F$203, 4, FALSE)","v":20},{"$f":"VLOOKUP($D22,Vertices!$A$10:$F$203, 5, FALSE)","v":0},{"$f":"VLOOKUP($D22,Vertices!$A$10:$F$203, 6, FALSE)","v":0}]
[13,15,22,21,null,{"$f":"VLOOKUP($B23,Vertices!$A$10:$F$203, 3, FALSE)","v":20},{"$f":"VLOOKUP($B23,Vertices!$A$10:$F$203, 4, FALSE)","v":20},{"$f":"VLOOKUP($B23,Vertices!$A$10:$F$203, 5, FALSE)","v":0},{"$f":"VLOOKUP($B23,Vertices!$A$10:$F$203, 6, FALSE)","v":0},{"$f":"VLOOKUP($C23,Vertices!$A$10:$F$203, 3, FALSE)","v":40},{"$f":"VLOOKUP($C23,Vertices!$A$10:$F$203, 4, FALSE)","v":40},{"$f":"VLOOKUP($C23,Vertices!$A$10:$F$203, 5, FALSE)","v":0},{"$f":"VLOOKUP($C23,Vertices!$A$10:$F$203, 6, FALSE)","v":0},{"$f":"VLOOKUP($D23,Vertices!$A$10:$F$203, 3, FALSE)","v":40},{"$f":"VLOOKUP($D23,Vertices!$A$10:$F$203, 4, FALSE)","v":20},{"$f":"VLOOKUP($D23,Vertices!$A$10:$F$203, 5, FALSE)","v":0},{"$f":"VLOOKUP($D23,Vertices!$A$10:$F$203, 6, FALSE)","v":0}]
[14,15,16,22,null,{"$f":"VLOOKUP($B24,Vertices!$A$10:$F$203, 3, FALSE)","v":20},{"$f":"VLOOKUP($B24,Vertices!$A$10:$F$203, 4, FALSE)","v":20},{"$f":"VLOOKUP($B24,Vertices!$A$10:$F$203, 5, FALSE)","v":0},{"$f":"VLOOKUP($B24,Vertices!$A$10:$F$203, 6, FALSE)","v":0},{"$f":"VLOOKUP($C24,Vertices!$A$10:$F$203, 3, FALSE)","v":20},{"$f":"VLOOKUP($C24,Vertices!$A$10:$F$203, 4, FALSE)","v":40},{"$f":"VLOOKUP($C24,Vertices!$A$10:$F$203, 5, FALSE)","v":0},{"$f":"VLOOKUP($C24,Vertices!$A$10:$F$203, 6, FALSE)","v":0},{"$f":"VLOOKUP($D24,Vertices!$A$10:$F$203, 3, FALSE)","v":40},{"$f":"VLOOKUP($D24,Vertices!$A$10:$F$203, 4, FALSE)","v":40},{"$f":"VLOOKUP($D24,Vertices!$A$10:$F$203, 5, FALSE)","v":0},{"$f":"VLOOKUP($D24,Vertices!$A$10:$F$203, 6, FALSE)","v":0}]
[15,9,16,15,null,{"$f":"VLOOKUP($B25,Vertices!$A$10:$F$203, 3, FALSE)","v":10},{"$f":"VLOOKUP($B25,Vertices!$A$10:$F$203, 4, FALSE)","v":20},{"$f":"VLOOKUP($B25,Vertices!$A$10:$F$203, 5, FALSE)","v":0},{"$f":"VLOOKUP($B25,Vertices!$A$10:$F$203, 6, FALSE)","v":0},{"$f":"VLOOKUP($C25,Vertices!$A$10:$F$203, 3, FALSE)","v":20},{"$f":"VLOOKUP($C25,Vertices!$A$10:$F$203, 4, FALSE)","v":40},{"$f":"VLOOKUP($C25,Vertices!$A$10:$F$203, 5, FALSE)","v":0},{"$f":"VLOOKUP($C25,Vertices!$A$10:$F$203, 6, FALSE)","v":0},{"$f":"VLOOKUP($D25,Vertices!$A$10:$F$203, 3, FALSE)","v":20},{"$f":"VLOOKUP($D25,Vertices!$A$10:$F$203, 4, FALSE)","v":20},{"$f":"VLOOKUP($D25,Vertices!$A$10:$F$203, 5, FALSE)","v":0},{"$f":"VLOOKUP($D25,Vertices!$A$10:$F$203, 6, FALSE)","v":0}]
[16,9,10,16,null,{"$f":"VLOOKUP($B26,Vertices!$A$10:$F$203, 3, FALSE)","v":10},{"$f":"VLOOKUP($B26,Vertices!$A$10:$F$203, 4, FALSE)","v":20},{"$f":"VLOOKUP($B26,Vertices!$A$10:$F$203, 5, FALSE)","v":0},{"$f":"VLOOKUP($B26,Vertices!$A$10:$F$203, 6, FALSE)","v":0},{"$f":"VLOOKUP($C26,Vertices!$A$10:$F$203, 3, FALSE)","v":10},{"$f":"VLOOKUP($C26,Vertices!$A$10:$F$203, 4, FALSE)","v":40},{"$f":"VLOOKUP($C26,Vertices!$A$10:$F$203, 5, FALSE)","v":0},{"$f":"VLOOKUP($C26,Vertices!$A$10:$F$203, 6, FALSE)","v":0},{"$f":"VLOOKUP($D26,Vertices!$A$10:$F$203, 3, FALSE)","v":20},{"$f":"VLOOKUP($D26,Vertices!$A$10:$F$203, 4, FALSE)","v":40},{"$f":"VLOOKUP($D26,Vertices!$A$10:$F$203, 5, FALSE)","v":0},{"$f":"VLOOKUP($D26,Vertices!$A$10:$F$203, 6, FALSE)","v":0}]
[17,3,10,9,null,{"$f":"VLOOKUP($B27,Vertices!$A$10:$F$203, 3, FALSE)","v":0},{"$f":"VLOOKUP($B27,Vertices!$A$10:$F$203, 4, FALSE)","v":20},{"$f":"VLOOKUP($B27,Vertices!$A$10:$F$203, 5, FALSE)","v":0},{"$f":"VLOOKUP($B27,Vertices!$A$10:$F$203, 6, FALSE)","v":0},{"$f":"VLOOKUP($C27,Vertices!$A$10:$F$203, 3, FALSE)","v":10},{"$f":"VLOOKUP($C27,Vertices!$A$10:$F$203, 4, FALSE)","v":40},{"$f":"VLOOKUP($C27,Vertices!$A$10:$F$203, 5, FALSE)","v":0},{"$f":"VLOOKUP($C27,Vertices!$A$10:$F$203, 6, FALSE)","v":0},{"$f":"VLOOKUP($D27,Vertices!$A$10:$F$203, 3, FALSE)","v":10},{"$f":"VLOOKUP($D27,Vertices!$A$10:$F$203, 4, FALSE)","v":20},{"$f":"VLOOKUP($D27,Vertices!$A$10:$F$203, 5, FALSE)","v":0},{"$f":"VLOOKUP($D27,Vertices!$A$10:$F$203, 6, FALSE)","v":0}]
[18,3,4,10,null,{"$f":"VLOOKUP($B28,Vertices!$A$10:$F$203, 3, FALSE)","v":0},{"$f":"VLOOKUP($B28,Vertices!$A$10:$F$203, 4, FALSE)","v":20},{"$f":"VLOOKUP($B28,Vertices!$A$10:$F$203, 5, FALSE)","v":0},{"$f":"VLOOKUP($B28,Vertices!$A$10:$F$203, 6, FALSE)","v":0},{"$f":"VLOOKUP($C28,Vertices!$A$10:$F$203, 3, FALSE)","v":0},{"$f":"VLOOKUP($C28,Vertices!$A$10:$F$203, 4, FALSE)","v":40},{"$f":"VLOOKUP($C28,Vertices!$A$10:$F$203, 5, FALSE)","v":0},{"$f":"VLOOKUP($C28,Vertices!$A$10:$F$203, 6, FALSE)","v":0},{"$f":"VLOOKUP($D28,Vertices!$A$10:$F$203, 3, FALSE)","v":10},{"$f":"VLOOKUP($D28,Vertices!$A$10:$F$203, 4, FALSE)","v":40},{"$f":"VLOOKUP($D28,Vertices!$A$10:$F$203, 5, FALSE)","v":0},{"$f":"VLOOKUP($D28,Vertices!$A$10:$F$203, 6, FALSE)","v":0}]
[19,19,26,25,null,{"$f":"VLOOKUP($B29,Vertices!$A$10:$F$203, 3, FALSE)","v":40},{"$f":"VLOOKUP($B29,Vertices!$A$10:$F$203, 4, FALSE)","v":0},{"$f":"VLOOKUP($B29,Vertices!$A$10:$F$203, 5, FALSE)","v":0},{"$f":"VLOOKUP($B29,Vertices!$A$10:$F$203, 6, FALSE)","v":0},{"$f":"VLOOKUP($C29,Vertices!$A$10:$F$203, 3, FALSE)","v":70},{"$f":"VLOOKUP($C29,Vertices!$A$10:$F$203, 4, FALSE)","v":10},{"$f":"VLOOKUP($C29,Vertices!$A$10:$F$203, 5, FALSE)","v":0},{"$f":"VLOOKUP($C29,Vertices!$A$10:$F$203, 6, FALSE)","v":0},{"$f":"VLOOKUP($D29,Vertices!$A$10:$F$203, 3, FALSE)","v":70},{"$f":"VLOOKUP($D29,Vertices!$A$10:$F$203, 4, FALSE)","v":0},{"$f":"VLOOKUP($D29,Vertices!$A$10:$F$203, 5, FALSE)","v":0},{"$f":"VLOOKUP($D29,Vertices!$A$10:$F$203, 6, FALSE)","v":0}]
[20,19,20,26,null,{"$f":"VLOOKUP($B30,Vertices!$A$10:$F$203, 3, FALSE)","v":40},{"$f":"VLOOKUP($B30,Vertices!$A$10:$F$203, 4, FALSE)","v":0},{"$f":"VLOOKUP($B30,Vertices!$A$10:$F$203, 5, FALSE)","v":0},{"$f":"VLOOKUP($B30,Vertices!$A$10:$F$203, 6, FALSE)","v":0},{"$f":"VLOOKUP($C30,Vertices!$A$10:$F$203, 3, FALSE)","v":40},{"$f":"VLOOKUP($C30,Vertices!$A$10:$F$203, 4, FALSE)","v":10},{"$f":"VLOOKUP($C30,Vertices!$A$10:$F$203, 5, FALSE)","v":0},{"$f":"VLOOKUP($C30,Vertices!$A$10:$F$203, 6, FALSE)","v":0},{"$f":"VLOOKUP($D30,Vertices!$A$10:$F$203, 3, FALSE)","v":70},{"$f":"VLOOKUP($D30,Vertices!$A$10:$F$203, 4, FALSE)","v":10},{"$f":"VLOOKUP($D30,Vertices!$A$10:$F$203, 5, FALSE)","v":0},{"$f":"VLOOKUP($D30,Vertices!$A$10:$F$203, 6, FALSE)","v":0}]
[21,20,27,26,null,{"$f":"VLOOKUP($B31,Vertices!$A$10:$F$203, 3, FALSE)","v":40},{"$f":"VLOOKUP($B31,Vertices!$A$10:$F$203, 4, FALSE)","v":10},{"$f":"VLOOKUP($B31,Vertices!$A$10:$F$203, 5, FALSE)","v":0},{"$f":"VLOOKUP($B31,Vertices!$A$10:$F$203, 6, FALSE)","v":0},{"$f":"VLOOKUP($C31,Vertices!$A$10:$F$203, 3, FALSE)","v":70},{"$f":"VLOOKUP($C31,Vertices!$A$10:$F$203, 4, FALSE)","v":20},{"$f":"VLOOKUP($C31,Vertices!$A$10:$F$203, 5, FALSE)","v":0},{"$f":"VLOOKUP($C31,Vertices!$A$10:$F$203, 6, FALSE)","v":0},{"$f":"VLOOKUP($D31,Vertices!$A$10:$F$203, 3, FALSE)","v":70},{"$f":"VLOOKUP($D31,Vertices!$A$10:$F$203, 4, FALSE)","v":10},{"$f":"VLOOKUP($D31,Vertices!$A$10:$F$203, 5, FALSE)","v":0},{"$f":"VLOOKUP($D31,Vertices!$A$10:$F$203, 6, FALSE)","v":0}]
[22,20,21,27,null,{"$f":"VLOOKUP($B32,Vertices!$A$10:$F$203, 3, FALSE)","v":40},{"$f":"VLOOKUP($B32,Vertices!$A$10:$F$203, 4, FALSE)","v":10},{"$f":"VLOOKUP($B32,Vertices!$A$10:$F$203, 5, FALSE)","v":0},{"$f":"VLOOKUP($B32,Vertices!$A$10:$F$203, 6, FALSE)","v":0},{"$f":"VLOOKUP($C32,Vertices!$A$10:$F$203, 3, FALSE)","v":40},{"$f":"VLOOKUP($C32,Vertices!$A$10:$F$203, 4, FALSE)","v":20},{"$f":"VLOOKUP($C32,Vertices!$A$10:$F$203, 5, FALSE)","v":0},{"$f":"VLOOKUP($C32,Vertices!$A$10:$F$203, 6, FALSE)","v":0},{"$f":"VLOOKUP($D32,Vertices!$A$10:$F$203, 3, FALSE)","v":70},{"$f":"VLOOKUP($D32,Vertices!$A$10:$F$203, 4, FALSE)","v":20},{"$f":"VLOOKUP($D32,Vertices!$A$10:$F$203, 5, FALSE)","v":0},{"$f":"VLOOKUP($D32,Vertices!$A$10:$F$203, 6, FALSE)","v":0}]
[23,21,28,27,null,{"$f":"VLOOKUP($B33,Vertices!$A$10:$F$203, 3, FALSE)","v":40},{"$f":"VLOOKUP($B33,Vertices!$A$10:$F$203, 4, FALSE)","v":20},{"$f":"VLOOKUP($B33,Vertices!$A$10:$F$203, 5, FALSE)","v":0},{"$f":"VLOOKUP($B33,Vertices!$A$10:$F$203, 6, FALSE)","v":0},{"$f":"VLOOKUP($C33,Vertices!$A$10:$F$203, 3, FALSE)","v":70},{"$f":"VLOOKUP($C33,Vertices!$A$10:$F$203, 4, FALSE)","v":40},{"$f":"VLOOKUP($C33,Vertices!$A$10:$F$203, 5, FALSE)","v":0},{"$f":"VLOOKUP($C33,Vertices!$A$10:$F$203, 6, FALSE)","v":0},{"$f":"VLOOKUP($D33,Vertices!$A$10:$F$203, 3, FALSE)","v":70},{"$f":"VLOOKUP($D33,Vertices!$A$10:$F$203, 4, FALSE)","v":20},{"$f":"VLOOKUP($D33,Vertices!$A$10:$F$203, 5, FALSE)","v":0},{"$f":"VLOOKUP($D33,Vertices!$A$10:$F$203, 6, FALSE)","v":0}]
[24,21,22,28,null,{"$f":"VLOOKUP($B34,Vertices!$A$10:$F$203, 3, FALSE)","v":40},{"$f":"VLOOKUP($B34,Vertices!$A$10:$F$203, 4, FALSE)","v":20},{"$f":"VLOOKUP($B34,Vertices!$A$10:$F$203, 5, FALSE)","v":0},{"$f":"VLOOKUP($B34,Vertices!$A$10:$F$203, 6, FALSE)","v":0},{"$f":"VLOOKUP($C34,Vertices!$A$10:$F$203, 3, FALSE)","v":40},{"$f":"VLOOKUP($C34,Vertices!$A$10:$F$203, 4, FALSE)","v":40},{"$f":"VLOOKUP($C34,Vertices!$A$10:$F$203, 5, FALSE)","v":0},{"$f":"VLOOKUP($C34,Vertices!$A$10:$F$203, 6, FALSE)","v":0},{"$f":"VLOOKUP($D34,Vertices!$A$10:$F$203, 3, FALSE)","v":70},{"$f":"VLOOKUP($D34,Vertices!$A$10:$F$203, 4, FALSE)","v":40},{"$f":"VLOOKUP($D34,Vertices!$A$10:$F$203, 5, FALSE)","v":0},{"$f":"VLOOKUP($D34,Vertices!$A$10:$F$203, 6, FALSE)","v":0}]
[25,22,29,28,null,{"$f":"VLOOKUP($B35,Vertices!$A$10:$F$203, 3, FALSE)","v":40},{"$f":"VLOOKUP($B35,Vertices!$A$10:$F$203, 4, FALSE)","v":40},{"$f":"VLOOKUP($B35,Vertices!$A$10:$F$203, 5, FALSE)","v":0},{"$f":"VLOOKUP($B35,Vertices!$A$10:$F$203, 6, FALSE)","v":0},{"$f":"VLOOKUP($C35,Vertices!$A$10:$F$203, 3, FALSE)","v":70},{"$f":"VLOOKUP($C35,Vertices!$A$10:$F$203, 4, FALSE)","v":70},{"$f":"VLOOKUP($C35,Vertices!$A$10:$F$203, 5, FALSE)","v":0},{"$f":"VLOOKUP($C35,Vertices!$A$10:$F$203, 6, FALSE)","v":0},{"$f":"VLOOKUP($D35,Vertices!$A$10:$F$203, 3, FALSE)","v":70},{"$f":"VLOOKUP($D35,Vertices!$A$10:$F$203, 4, FALSE)","v":40},{"$f":"VLOOKUP($D35,Vertices!$A$10:$F$203, 5, FALSE)","v":0},{"$f":"VLOOKUP($D35,Vertices!$A$10:$F$203, 6, FALSE)","v":0}]
[26,22,23,29,null,{"$f":"VLOOKUP($B36,Vertices!$A$10:$F$203, 3, FALSE)","v":40},{"$f":"VLOOKUP($B36,Vertices!$A$10:$F$203, 4, FALSE)","v":40},{"$f":"VLOOKUP($B36,Vertices!$A$10:$F$203, 5, FALSE)","v":0},{"$f":"VLOOKUP($B36,Vertices!$A$10:$F$203, 6, FALSE)","v":0},{"$f":"VLOOKUP($C36,Vertices!$A$10:$F$203, 3, FALSE)","v":40},{"$f":"VLOOKUP($C36,Vertices!$A$10:$F$203, 4, FALSE)","v":70},{"$f":"VLOOKUP($C36,Vertices!$A$10:$F$203, 5, FALSE)","v":0},{"$f":"VLOOKUP($C36,Vertices!$A$10:$F$203, 6, FALSE)","v":0},{"$f":"VLOOKUP($D36,Vertices!$A$10:$F$203, 3, FALSE)","v":70},{"$f":"VLOOKUP($D36,Vertices!$A$10:$F$203, 4, FALSE)","v":70},{"$f":"VLOOKUP($D36,Vertices!$A$10:$F$203, 5, FALSE)","v":0},{"$f":"VLOOKUP($D36,Vertices!$A$10:$F$203, 6, FALSE)","v":0}]
[27,16,23,22,null,{"$f":"VLOOKUP($B37,Vertices!$A$10:$F$203, 3, FALSE)","v":20},{"$f":"VLOOKUP($B37,Vertices!$A$10:$F$203, 4, FALSE)","v":40},{"$f":"VLOOKUP($B37,Vertices!$A$10:$F$203, 5, FALSE)","v":0},{"$f":"VLOOKUP($B37,Vertices!$A$10:$F$203, 6, FALSE)","v":0},{"$f":"VLOOKUP($C37,Vertices!$A$10:$F$203, 3, FALSE)","v":40},{"$f":"VLOOKUP($C37,Vertices!$A$10:$F$203, 4, FALSE)","v":70},{"$f":"VLOOKUP($C37,Vertices!$A$10:$F$203, 5, FALSE)","v":0},{"$f":"VLOOKUP($C37,Vertices!$A$10:$F$203, 6, FALSE)","v":0},{"$f":"VLOOKUP($D37,Vertices!$A$10:$F$203, 3, FALSE)","v":40},{"$f":"VLOOKUP($D37,Vertices!$A$10:$F$203, 4, FALSE)","v":40},{"$f":"VLOOKUP($D37,Vertices!$A$10:$F$203, 5, FALSE)","v":0},{"$f":"VLOOKUP($D37,Vertices!$A$10:$F$203, 6, FALSE)","v":0}]
[28,16,17,23,null,{"$f":"VLOOKUP($B38,Vertices!$A$10:$F$203, 3, FALSE)","v":20},{"$f":"VLOOKUP($B38,Vertices!$A$10:$F$203, 4, FALSE)","v":40},{"$f":"VLOOKUP($B38,Vertices!$A$10:$F$203, 5, FALSE)","v":0},{"$f":"VLOOKUP($B38,Vertices!$A$10:$F$203, 6, FALSE)","v":0},{"$f":"VLOOKUP($C38,Vertices!$A$10:$F$203, 3, FALSE)","v":20},{"$f":"VLOOKUP($C38,Vertices!$A$10:$F$203, 4, FALSE)","v":70},{"$f":"VLOOKUP($C38,Vertices!$A$10:$F$203, 5, FALSE)","v":0},{"$f":"VLOOKUP($C38,Vertices!$A$10:$F$203, 6, FALSE)","v":0},{"$f":"VLOOKUP($D38,Vertices!$A$10:$F$203, 3, FALSE)","v":40},{"$f":"VLOOKUP($D38,Vertices!$A$10:$F$203, 4, FALSE)","v":70},{"$f":"VLOOKUP($D38,Vertices!$A$10:$F$203, 5, FALSE)","v":0},{"$f":"VLOOKUP($D38,Vertices!$A$10:$F$203, 6, FALSE)","v":0}]
[29,10,17,16,null,{"$f":"VLOOKUP($B39,Vertices!$A$10:$F$203, 3, FALSE)","v":10},{"$f":"VLOOKUP($B39,Vertices!$A$10:$F$203, 4, FALSE)","v":40},{"$f":"VLOOKUP($B39,Vertices!$A$10:$F$203, 5, FALSE)","v":0},{"$f":"VLOOKUP($B39,Vertices!$A$10:$F$203, 6, FALSE)","v":0},{"$f":"VLOOKUP($C39,Vertices!$A$10:$F$203, 3, FALSE)","v":20},{"$f":"VLOOKUP($C39,Vertices!$A$10:$F$203, 4, FALSE)","v":70},{"$f":"VLOOKUP($C39,Vertices!$A$10:$F$203, 5, FALSE)","v":0},{"$f":"VLOOKUP($C39,Vertices!$A$10:$F$203, 6, FALSE)","v":0},{"$f":"VLOOKUP($D39,Vertices!$A$10:$F$203, 3, FALSE)","v":20},{"$f":"VLOOKUP($D39,Vertices!$A$10:$F$203, 4, FALSE)","v":40},{"$f":"VLOOKUP($D39,Vertices!$A$10:$F$203, 5, FALSE)","v":0},{"$f":"VLOOKUP($D39,Vertices!$A$10:$F$203, 6, FALSE)","v":0}]
[30,10,11,17,null,{"$f":"VLOOKUP($B40,Vertices!$A$10:$F$203, 3, FALSE)","v":10},{"$f":"VLOOKUP($B40,Vertices!$A$10:$F$203, 4, FALSE)","v":40},{"$f":"VLOOKUP($B40,Vertices!$A$10:$F$203, 5, FALSE)","v":0},{"$f":"VLOOKUP($B40,Vertices!$A$10:$F$203, 6, FALSE)","v":0},{"$f":"VLOOKUP($C40,Vertices!$A$10:$F$203, 3, FALSE)","v":10},{"$f":"VLOOKUP($C40,Vertices!$A$10:$F$203, 4, FALSE)","v":70},{"$f":"VLOOKUP($C40,Vertices!$A$10:$F$203, 5, FALSE)","v":0},{"$f":"VLOOKUP($C40,Vertices!$A$10:$F$203, 6, FALSE)","v":0},{"$f":"VLOOKUP($D40,Vertices!$A$10:$F$203, 3, FALSE)","v":20},{"$f":"VLOOKUP($D40,Vertices!$A$10:$F$203, 4, FALSE)","v":70},{"$f":"VLOOKUP($D40,Vertices!$A$10:$F$203, 5, FALSE)","v":0},{"$f":"VLOOKUP($D40,Vertices!$A$10:$F$203, 6, FALSE)","v":0}]
[31,4,11,10,null,{"$f":"VLOOKUP($B41,Vertices!$A$10:$F$203, 3, FALSE)","v":0},{"$f":"VLOOKUP($B41,Vertices!$A$10:$F$203, 4, FALSE)","v":40},{"$f":"VLOOKUP($B41,Vertices!$A$10:$F$203, 5, FALSE)","v":0},{"$f":"VLOOKUP($B41,Vertices!$A$10:$F$203, 6, FALSE)","v":0},{"$f":"VLOOKUP($C41,Vertices!$A$10:$F$203, 3, FALSE)","v":10},{"$f":"VLOOKUP($C41,Vertices!$A$10:$F$203, 4, FALSE)","v":70},{"$f":"VLOOKUP($C41,Vertices!$A$10:$F$203, 5, FALSE)","v":0},{"$f":"VLOOKUP($C41,Vertices!$A$10:$F$203, 6, FALSE)","v":0},{"$f":"VLOOKUP($D41,Vertices!$A$10:$F$203, 3, FALSE)","v":10},{"$f":"VLOOKUP($D41,Vertices!$A$10:$F$203, 4, FALSE)","v":40},{"$f":"VLOOKUP($D41,Vertices!$A$10:$F$203, 5, FALSE)","v":0},{"$f":"VLOOKUP($D41,Vertices!$A$10:$F$203, 6, FALSE)","v":0}]
[32,4,5,11,null,{"$f":"VLOOKUP($B42,Vertices!$A$10:$F$203, 3, FALSE)","v":0},{"$f":"VLOOKUP($B42,Vertices!$A$10:$F$203, 4, FALSE)","v":40},{"$f":"VLOOKUP($B42,Vertices!$A$10:$F$203, 5, FALSE)","v":0},{"$f":"VLOOKUP($B42,Vertices!$A$10:$F$203, 6, FALSE)","v":0},{"$f":"VLOOKUP($C42,Vertices!$A$10:$F$203, 3, FALSE)","v":0},{"$f":"VLOOKUP($C42,Vertices!$A$10:$F$203, 4, FALSE)","v":70},{"$f":"VLOOKUP($C42,Vertices!$A$10:$F$203, 5, FALSE)","v":0},{"$f":"VLOOKUP($C42,Vertices!$A$10:$F$203, 6, FALSE)","v":0},{"$f":"VLOOKUP($D42,Vertices!$A$10:$F$203, 3, FALSE)","v":10},{"$f":"VLOOKUP($D42,Vertices!$A$10:$F$203, 4, FALSE)","v":70},{"$f":"VLOOKUP($D42,Vertices!$A$10:$F$203, 5, FALSE)","v":0},{"$f":"VLOOKUP($D42,Vertices!$A$10:$F$203, 6, FALSE)","v":0}]
[33,25,32,31,null,{"$f":"VLOOKUP($B43,Vertices!$A$10:$F$203, 3, FALSE)","v":70},{"$f":"VLOOKUP($B43,Vertices!$A$10:$F$203, 4, FALSE)","v":0},{"$f":"VLOOKUP($B43,Vertices!$A$10:$F$203, 5, FALSE)","v":0},{"$f":"VLOOKUP($B43,Vertices!$A$10:$F$203, 6, FALSE)","v":0},{"$f":"VLOOKUP($C43,Vertices!$A$10:$F$203, 3, FALSE)","v":100},{"$f":"VLOOKUP($C43,Vertices!$A$10:$F$203, 4, FALSE)","v":10},{"$f":"VLOOKUP($C43,Vertices!$A$10:$F$203, 5, FALSE)","v":0},{"$f":"VLOOKUP($C43,Vertices!$A$10:$F$203, 6, FALSE)","v":0},{"$f":"VLOOKUP($D43,Vertices!$A$10:$F$203, 3, FALSE)","v":100},{"$f":"VLOOKUP($D43,Vertices!$A$10:$F$203, 4, FALSE)","v":0},{"$f":"VLOOKUP($D43,Vertices!$A$10:$F$203, 5, FALSE)","v":0},{"$f":"VLOOKUP($D43,Vertices!$A$10:$F$203, 6, FALSE)","v":0}]
[34,25,26,32,null,{"$f":"VLOOKUP($B44,Vertices!$A$10:$F$203, 3, FALSE)","v":70},{"$f":"VLOOKUP($B44,Vertices!$A$10:$F$203, 4, FALSE)","v":0},{"$f":"VLOOKUP($B44,Vertices!$A$10:$F$203, 5, FALSE)","v":0},{"$f":"VLOOKUP($B44,Vertices!$A$10:$F$203, 6, FALSE)","v":0},{"$f":"VLOOKUP($C44,Vertices!$A$10:$F$203, 3, FALSE)","v":70},{"$f":"VLOOKUP($C44,Vertices!$A$10:$F$203, 4, FALSE)","v":10},{"$f":"VLOOKUP($C44,Vertices!$A$10:$F$203, 5, FALSE)","v":0},{"$f":"VLOOKUP($C44,Vertices!$A$10:$F$203, 6, FALSE)","v":0},{"$f":"VLOOKUP($D44,Vertices!$A$10:$F$203, 3, FALSE)","v":100},{"$f":"VLOOKUP($D44,Vertices!$A$10:$F$203, 4, FALSE)","v":10},{"$f":"VLOOKUP($D44,Vertices!$A$10:$F$203, 5, FALSE)","v":0},{"$f":"VLOOKUP($D44,Vertices!$A$10:$F$203, 6, FALSE)","v":0}]
[35,26,33,32,null,{"$f":"VLOOKUP($B45,Vertices!$A$10:$F$203, 3, FALSE)","v":70},{"$f":"VLOOKUP($B45,Vertices!$A$10:$F$203, 4, FALSE)","v":10},{"$f":"VLOOKUP($B45,Vertices!$A$10:$F$203, 5, FALSE)","v":0},{"$f":"VLOOKUP($B45,Vertices!$A$10:$F$203, 6, FALSE)","v":0},{"$f":"VLOOKUP($C45,Vertices!$A$10:$F$203, 3, FALSE)","v":100},{"$f":"VLOOKUP($C45,Vertices!$A$10:$F$203, 4, FALSE)","v":20},{"$f":"VLOOKUP($C45,Vertices!$A$10:$F$203, 5, FALSE)","v":0},{"$f":"VLOOKUP($C45,Vertices!$A$10:$F$203, 6, FALSE)","v":0},{"$f":"VLOOKUP($D45,Vertices!$A$10:$F$203, 3, FALSE)","v":100},{"$f":"VLOOKUP($D45,Vertices!$A$10:$F$203, 4, FALSE)","v":10},{"$f":"VLOOKUP($D45,Vertices!$A$10:$F$203, 5, FALSE)","v":0},{"$f":"VLOOKUP($D45,Vertices!$A$10:$F$203, 6, FALSE)","v":0}]
[36,26,27,33,null,{"$f":"VLOOKUP($B46,Vertices!$A$10:$F$203, 3, FALSE)","v":70},{"$f":"VLOOKUP($B46,Vertices!$A$10:$F$203, 4, FALSE)","v":10},{"$f":"VLOOKUP($B46,Vertices!$A$10:$F$203, 5, FALSE)","v":0},{"$f":"VLOOKUP($B46,Vertices!$A$10:$F$203, 6, FALSE)","v":0},{"$f":"VLOOKUP($C46,Vertices!$A$10:$F$203, 3, FALSE)","v":70},{"$f":"VLOOKUP($C46,Vertices!$A$10:$F$203, 4, FALSE)","v":20},{"$f":"VLOOKUP($C46,Vertices!$A$10:$F$203, 5, FALSE)","v":0},{"$f":"VLOOKUP($C46,Vertices!$A$10:$F$203, 6, FALSE)","v":0},{"$f":"VLOOKUP($D46,Vertices!$A$10:$F$203, 3, FALSE)","v":100},{"$f":"VLOOKUP($D46,Vertices!$A$10:$F$203, 4, FALSE)","v":20},{"$f":"VLOOKUP($D46,Vertices!$A$10:$F$203, 5, FALSE)","v":0},{"$f":"VLOOKUP($D46,Vertices!$A$10:$F$203, 6, FALSE)","v":0}]
[37,27,34,33,null,{"$f":"VLOOKUP($B47,Vertices!$A$10:$F$203, 3, FALSE)","v":70},{"$f":"VLOOKUP($B47,Vertices!$A$10:$F$203, 4, FALSE)","v":20},{"$f":"VLOOKUP($B47,Vertices!$A$10:$F$203, 5, FALSE)","v":0},{"$f":"VLOOKUP($B47,Vertices!$A$10:$F$203, 6, FALSE)","v":0},{"$f":"VLOOKUP($C47,Vertices!$A$10:$F$203, 3, FALSE)","v":100},{"$f":"VLOOKUP($C47,Vertices!$A$10:$F$203, 4, FALSE)","v":40},{"$f":"VLOOKUP($C47,Vertices!$A$10:$F$203, 5, FALSE)","v":0},{"$f":"VLOOKUP($C47,Vertices!$A$10:$F$203, 6, FALSE)","v":0},{"$f":"VLOOKUP($D47,Vertices!$A$10:$F$203, 3, FALSE)","v":100},{"$f":"VLOOKUP($D47,Vertices!$A$10:$F$203, 4, FALSE)","v":20},{"$f":"VLOOKUP($D47,Vertices!$A$10:$F$203, 5, FALSE)","v":0},{"$f":"VLOOKUP($D47,Vertices!$A$10:$F$203, 6, FALSE)","v":0}]
[38,27,28,34,null,{"$f":"VLOOKUP($B48,Vertices!$A$10:$F$203, 3, FALSE)","v":70},{"$f":"VLOOKUP($B48,Vertices!$A$10:$F$203, 4, FALSE)","v":20},{"$f":"VLOOKUP($B48,Vertices!$A$10:$F$203, 5, FALSE)","v":0},{"$f":"VLOOKUP($B48,Vertices!$A$10:$F$203, 6, FALSE)","v":0},{"$f":"VLOOKUP($C48,Vertices!$A$10:$F$203, 3, FALSE)","v":70},{"$f":"VLOOKUP($C48,Vertices!$A$10:$F$203, 4, FALSE)","v":40},{"$f":"VLOOKUP($C48,Vertices!$A$10:$F$203, 5, FALSE)","v":0},{"$f":"VLOOKUP($C48,Vertices!$A$10:$F$203, 6, FALSE)","v":0},{"$f":"VLOOKUP($D48,Vertices!$A$10:$F$203, 3, FALSE)","v":100},{"$f":"VLOOKUP($D48,Vertices!$A$10:$F$203, 4, FALSE)","v":40},{"$f":"VLOOKUP($D48,Vertices!$A$10:$F$203, 5, FALSE)","v":0},{"$f":"VLOOKUP($D48,Vertices!$A$10:$F$203, 6, FALSE)","v":0}]
[39,28,35,34,null,{"$f":"VLOOKUP($B49,Vertices!$A$10:$F$203, 3, FALSE)","v":70},{"$f":"VLOOKUP($B49,Vertices!$A$10:$F$203, 4, FALSE)","v":40},{"$f":"VLOOKUP($B49,Vertices!$A$10:$F$203, 5, FALSE)","v":0},{"$f":"VLOOKUP($B49,Vertices!$A$10:$F$203, 6, FALSE)","v":0},{"$f":"VLOOKUP($C49,Vertices!$A$10:$F$203, 3, FALSE)","v":100},{"$f":"VLOOKUP($C49,Vertices!$A$10:$F$203, 4, FALSE)","v":70},{"$f":"VLOOKUP($C49,Vertices!$A$10:$F$203, 5, FALSE)","v":0},{"$f":"VLOOKUP($C49,Vertices!$A$10:$F$203, 6, FALSE)","v":0},{"$f":"VLOOKUP($D49,Vertices!$A$10:$F$203, 3, FALSE)","v":100},{"$f":"VLOOKUP($D49,Vertices!$A$10:$F$203, 4, FALSE)","v":40},{"$f":"VLOOKUP($D49,Vertices!$A$10:$F$203, 5, FALSE)","v":0},{"$f":"VLOOKUP($D49,Vertices!$A$10:$F$203, 6, FALSE)","v":0}]
[40,28,29,35,null,{"$f":"VLOOKUP($B50,Vertices!$A$10:$F$203, 3, FALSE)","v":70},{"$f":"VLOOKUP($B50,Vertices!$A$10:$F$203, 4, FALSE)","v":40},{"$f":"VLOOKUP($B50,Vertices!$A$10:$F$203, 5, FALSE)","v":0},{"$f":"VLOOKUP($B50,Vertices!$A$10:$F$203, 6, FALSE)","v":0},{"$f":"VLOOKUP($C50,Vertices!$A$10:$F$203, 3, FALSE)","v":70},{"$f":"VLOOKUP($C50,Vertices!$A$10:$F$203, 4, FALSE)","v":70},{"$f":"VLOOKUP($C50,Vertices!$A$10:$F$203, 5, FALSE)","v":0},{"$f":"VLOOKUP($C50,Vertices!$A$10:$F$203, 6, FALSE)","v":0},{"$f":"VLOOKUP($D50,Vertices!$A$10:$F$203, 3, FALSE)","v":100},{"$f":"VLOOKUP($D50,Vertices!$A$10:$F$203, 4, FALSE)","v":70},{"$f":"VLOOKUP($D50,Vertices!$A$10:$F$203, 5, FALSE)","v":0},{"$f":"VLOOKUP($D50,Vertices!$A$10:$F$203, 6, FALSE)","v":0}]
[41,29,36,35,null,{"$f":"VLOOKUP($B51,Vertices!$A$10:$F$203, 3, FALSE)","v":70},{"$f":"VLOOKUP($B51,Vertices!$A$10:$F$203, 4, FALSE)","v":70},{"$f":"VLOOKUP($B51,Vertices!$A$10:$F$203, 5, FALSE)","v":0},{"$f":"VLOOKUP($B51,Vertices!$A$10:$F$203, 6, FALSE)","v":0},{"$f":"VLOOKUP($C51,Vertices!$A$10:$F$203, 3, FALSE)","v":100},{"$f":"VLOOKUP($C51,Vertices!$A$10:$F$203, 4, FALSE)","v":100},{"$f":"VLOOKUP($C51,Vertices!$A$10:$F$203, 5, FALSE)","v":0},{"$f":"VLOOKUP($C51,Vertices!$A$10:$F$203, 6, FALSE)","v":0},{"$f":"VLOOKUP($D51,Vertices!$A$10:$F$203, 3, FALSE)","v":100},{"$f":"VLOOKUP($D51,Vertices!$A$10:$F$203, 4, FALSE)","v":70},{"$f":"VLOOKUP($D51,Vertices!$A$10:$F$203, 5, FALSE)","v":0},{"$f":"VLOOKUP($D51,Vertices!$A$10:$F$203, 6, FALSE)","v":0}]
[42,29,30,36,null,{"$f":"VLOOKUP($B52,Vertices!$A$10:$F$203, 3, FALSE)","v":70},{"$f":"VLOOKUP($B52,Vertices!$A$10:$F$203, 4, FALSE)","v":70},{"$f":"VLOOKUP($B52,Vertices!$A$10:$F$203, 5, FALSE)","v":0},{"$f":"VLOOKUP($B52,Vertices!$A$10:$F$203, 6, FALSE)","v":0},{"$f":"VLOOKUP($C52,Vertices!$A$10:$F$203, 3, FALSE)","v":70},{"$f":"VLOOKUP($C52,Vertices!$A$10:$F$203, 4, FALSE)","v":100},{"$f":"VLOOKUP($C52,Vertices!$A$10:$F$203, 5, FALSE)","v":0},{"$f":"VLOOKUP($C52,Vertices!$A$10:$F$203, 6, FALSE)","v":0},{"$f":"VLOOKUP($D52,Vertices!$A$10:$F$203, 3, FALSE)","v":100},{"$f":"VLOOKUP($D52,Vertices!$A$10:$F$203, 4, FALSE)","v":100},{"$f":"VLOOKUP($D52,Vertices!$A$10:$F$203, 5, FALSE)","v":0},{"$f":"VLOOKUP($D52,Vertices!$A$10:$F$203, 6, FALSE)","v":0}]
[43,23,30,29,null,{"$f":"VLOOKUP($B53,Vertices!$A$10:$F$203, 3, FALSE)","v":40},{"$f":"VLOOKUP($B53,Vertices!$A$10:$F$203, 4, FALSE)","v":70},{"$f":"VLOOKUP($B53,Vertices!$A$10:$F$203, 5, FALSE)","v":0},{"$f":"VLOOKUP($B53,Vertices!$A$10:$F$203, 6, FALSE)","v":0},{"$f":"VLOOKUP($C53,Vertices!$A$10:$F$203, 3, FALSE)","v":70},{"$f":"VLOOKUP($C53,Vertices!$A$10:$F$203, 4, FALSE)","v":100},{"$f":"VLOOKUP($C53,Vertices!$A$10:$F$203, 5, FALSE)","v":0},{"$f":"VLOOKUP($C53,Vertices!$A$10:$F$203, 6, FALSE)","v":0},{"$f":"VLOOKUP($D53,Vertices!$A$10:$F$203, 3, FALSE)","v":70},{"$f":"VLOOKUP($D53,Vertices!$A$10:$F$203, 4, FALSE)","v":70},{"$f":"VLOOKUP($D53,Vertices!$A$10:$F$203, 5, FALSE)","v":0},{"$f":"VLOOKUP($D53,Vertices!$A$10:$F$203, 6, FALSE)","v":0}]
[44,23,24,30,null,{"$f":"VLOOKUP($B54,Vertices!$A$10:$F$203, 3, FALSE)","v":40},{"$f":"VLOOKUP($B54,Vertices!$A$10:$F$203, 4, FALSE)","v":70},{"$f":"VLOOKUP($B54,Vertices!$A$10:$F$203, 5, FALSE)","v":0},{"$f":"VLOOKUP($B54,Vertices!$A$10:$F$203, 6, FALSE)","v":0},{"$f":"VLOOKUP($C54,Vertices!$A$10:$F$203, 3, FALSE)","v":40},{"$f":"VLOOKUP($C54,Vertices!$A$10:$F$203, 4, FALSE)","v":100},{"$f":"VLOOKUP($C54,Vertices!$A$10:$F$203, 5, FALSE)","v":0},{"$f":"VLOOKUP($C54,Vertices!$A$10:$F$203, 6, FALSE)","v":0},{"$f":"VLOOKUP($D54,Vertices!$A$10:$F$203, 3, FALSE)","v":70},{"$f":"VLOOKUP($D54,Vertices!$A$10:$F$203, 4, FALSE)","v":100},{"$f":"VLOOKUP($D54,Vertices!$A$10:$F$203, 5, FALSE)","v":0},{"$f":"VLOOKUP($D54,Vertices!$A$10:$F$203, 6, FALSE)","v":0}]
[45,17,24,23,null,{"$f":"VLOOKUP($B55,Vertices!$A$10:$F$203, 3, FALSE)","v":20},{"$f":"VLOOKUP($B55,Vertices!$A$10:$F$203, 4, FALSE)","v":70},{"$f":"VLOOKUP($B55,Vertices!$A$10:$F$203, 5, FALSE)","v":0},{"$f":"VLOOKUP($B55,Vertices!$A$10:$F$203, 6, FALSE)","v":0},{"$f":"VLOOKUP($C55,Vertices!$A$10:$F$203, 3, FALSE)","v":40},{"$f":"VLOOKUP($C55,Vertices!$A$10:$F$203, 4, FALSE)","v":100},{"$f":"VLOOKUP($C55,Vertices!$A$10:$F$203, 5, FALSE)","v":0},{"$f":"VLOOKUP($C55,Vertices!$A$10:$F$203, 6, FALSE)","v":0},{"$f":"VLOOKUP($D55,Vertices!$A$10:$F$203, 3, FALSE)","v":40},{"$f":"VLOOKUP($D55,Vertices!$A$10:$F$203, 4, FALSE)","v":70},{"$f":"VLOOKUP($D55,Vertices!$A$10:$F$203, 5, FALSE)","v":0},{"$f":"VLOOKUP($D55,Vertices!$A$10:$F$203, 6, FALSE)","v":0}]
[46,17,18,24,null,{"$f":"VLOOKUP($B56,Vertices!$A$10:$F$203, 3, FALSE)","v":20},{"$f":"VLOOKUP($B56,Vertices!$A$10:$F$203, 4, FALSE)","v":70},{"$f":"VLOOKUP($B56,Vertices!$A$10:$F$203, 5, FALSE)","v":0},{"$f":"VLOOKUP($B56,Vertices!$A$10:$F$203, 6, FALSE)","v":0},{"$f":"VLOOKUP($C56,Vertices!$A$10:$F$203, 3, FALSE)","v":20},{"$f":"VLOOKUP($C56,Vertices!$A$10:$F$203, 4, FALSE)","v":100},{"$f":"VLOOKUP($C56,Vertices!$A$10:$F$203, 5, FALSE)","v":0},{"$f":"VLOOKUP($C56,Vertices!$A$10:$F$203, 6, FALSE)","v":0},{"$f":"VLOOKUP($D56,Vertices!$A$10:$F$203, 3, FALSE)","v":40},{"$f":"VLOOKUP($D56,Vertices!$A$10:$F$203, 4, FALSE)","v":100},{"$f":"VLOOKUP($D56,Vertices!$A$10:$F$203, 5, FALSE)","v":0},{"$f":"VLOOKUP($D56,Vertices!$A$10:$F$203, 6, FALSE)","v":0}]
[47,11,18,17,null,{"$f":"VLOOKUP($B57,Vertices!$A$10:$F$203, 3, FALSE)","v":10},{"$f":"VLOOKUP($B57,Vertices!$A$10:$F$203, 4, FALSE)","v":70},{"$f":"VLOOKUP($B57,Vertices!$A$10:$F$203, 5, FALSE)","v":0},{"$f":"VLOOKUP($B57,Vertices!$A$10:$F$203, 6, FALSE)","v":0},{"$f":"VLOOKUP($C57,Vertices!$A$10:$F$203, 3, FALSE)","v":20},{"$f":"VLOOKUP($C57,Vertices!$A$10:$F$203, 4, FALSE)","v":100},{"$f":"VLOOKUP($C57,Vertices!$A$10:$F$203, 5, FALSE)","v":0},{"$f":"VLOOKUP($C57,Vertices!$A$10:$F$203, 6, FALSE)","v":0},{"$f":"VLOOKUP($D57,Vertices!$A$10:$F$203, 3, FALSE)","v":20},{"$f":"VLOOKUP($D57,Vertices!$A$10:$F$203, 4, FALSE)","v":70},{"$f":"VLOOKUP($D57,Vertices!$A$10:$F$203, 5, FALSE)","v":0},{"$f":"VLOOKUP($D57,Vertices!$A$10:$F$203, 6, FALSE)","v":0}]
[48,11,12,18,null,{"$f":"VLOOKUP($B58,Vertices!$A$10:$F$203, 3, FALSE)","v":10},{"$f":"VLOOKUP($B58,Vertices!$A$10:$F$203, 4, FALSE)","v":70},{"$f":"VLOOKUP($B58,Vertices!$A$10:$F$203, 5, FALSE)","v":0},{"$f":"VLOOKUP($B58,Vertices!$A$10:$F$203, 6, FALSE)","v":0},{"$f":"VLOOKUP($C58,Vertices!$A$10:$F$203, 3, FALSE)","v":10},{"$f":"VLOOKUP($C58,Vertices!$A$10:$F$203, 4, FALSE)","v":100},{"$f":"VLOOKUP($C58,Vertices!$A$10:$F$203, 5, FALSE)","v":0},{"$f":"VLOOKUP($C58,Vertices!$A$10:$F$203, 6, FALSE)","v":0},{"$f":"VLOOKUP($D58,Vertices!$A$10:$F$203, 3, FALSE)","v":20},{"$f":"VLOOKUP($D58,Vertices!$A$10:$F$203, 4, FALSE)","v":100},{"$f":"VLOOKUP($D58,Vertices!$A$10:$F$203, 5, FALSE)","v":0},{"$f":"VLOOKUP($D58,Vertices!$A$10:$F$203, 6, FALSE)","v":0}]
[49,5,12,11,null,{"$f":"VLOOKUP($B59,Vertices!$A$10:$F$203, 3, FALSE)","v":0},{"$f":"VLOOKUP($B59,Vertices!$A$10:$F$203, 4, FALSE)","v":70},{"$f":"VLOOKUP($B59,Vertices!$A$10:$F$203, 5, FALSE)","v":0},{"$f":"VLOOKUP($B59,Vertices!$A$10:$F$203, 6, FALSE)","v":0},{"$f":"VLOOKUP($C59,Vertices!$A$10:$F$203, 3, FALSE)","v":10},{"$f":"VLOOKUP($C59,Vertices!$A$10:$F$203, 4, FALSE)","v":100},{"$f":"VLOOKUP($C59,Vertices!$A$10:$F$203, 5, FALSE)","v":0},{"$f":"VLOOKUP($C59,Vertices!$A$10:$F$203, 6, FALSE)","v":0},{"$f":"VLOOKUP($D59,Vertices!$A$10:$F$203, 3, FALSE)","v":10},{"$f":"VLOOKUP($D59,Vertices!$A$10:$F$203, 4, FALSE)","v":70},{"$f":"VLOOKUP($D59,Vertices!$A$10:$F$203, 5, FALSE)","v":0},{"$f":"VLOOKUP($D59,Vertices!$A$10:$F$203, 6, FALSE)","v":0}]
[50,5,6,12,null,{"$f":"VLOOKUP($B60,Vertices!$A$10:$F$203, 3, FALSE)","v":0},{"$f":"VLOOKUP($B60,Vertices!$A$10:$F$203, 4, FALSE)","v":70},{"$f":"VLOOKUP($B60,Vertices!$A$10:$F$203, 5, FALSE)","v":0},{"$f":"VLOOKUP($B60,Vertices!$A$10:$F$203, 6, FALSE)","v":0},{"$f":"VLOOKUP($C60,Vertices!$A$10:$F$203, 3, FALSE)","v":0},{"$f":"VLOOKUP($C60,Vertices!$A$10:$F$203, 4, FALSE)","v":100},{"$f":"VLOOKUP($C60,Vertices!$A$10:$F$203, 5, FALSE)","v":0},{"$f":"VLOOKUP($C60,Vertices!$A$10:$F$203, 6, FALSE)","v":0},{"$f":"VLOOKUP($D60,Vertices!$A$10:$F$203, 3, FALSE)","v":10},{"$f":"VLOOKUP($D60,Vertices!$A$10:$F$203, 4, FALSE)","v":100},{"$f":"VLOOKUP($D60,Vertices!$A$10:$F$203, 5, FALSE)","v":0},{"$f":"VLOOKUP($D60,Vertices!$A$10:$F$203, 6, FALSE)","v":0}]
[51,1,38,2,null,{"$f":"VLOOKUP($B61,Vertices!$A$10:$F$203, 3, FALSE)","v":0},{"$f":"VLOOKUP($B61,Vertices!$A$10:$F$203, 4, FALSE)","v":0},{"$f":"VLOOKUP($B61,Vertices!$A$10:$F$203, 5, FALSE)","v":0},{"$f":"VLOOKUP($B61,Vertices!$A$10:$F$203, 6, FALSE)","v":0},{"$f":"VLOOKUP($C61,Vertices!$A$10:$F$203, 3, FALSE)","v":0},{"$f":"VLOOKUP($C61,Vertices!$A$10:$F$203, 4, FALSE)","v":10},{"$f":"VLOOKUP($C61,Vertices!$A$10:$F$203, 5, FALSE)","v":10},{"$f":"VLOOKUP($C61,Vertices!$A$10:$F$203, 6, FALSE)","v":0},{"$f":"VLOOKUP($D61,Vertices!$A$10:$F$203, 3, FALSE)","v":0},{"$f":"VLOOKUP($D61,Vertices!$A$10:$F$203, 4, FALSE)","v":10},{"$f":"VLOOKUP($D61,Vertices!$A$10:$F$203, 5, FALSE)","v":0},{"$f":"VLOOKUP($D61,Vertices!$A$10:$F$203, 6, FALSE)","v":0}]
[52,1,37,38,null,{"$f":"VLOOKUP($B62,Vertices!$A$10:$F$203, 3, FALSE)","v":0},{"$f":"VLOOKUP($B62,Vertices!$A$10:$F$203, 4, FALSE)","v":0},{"$f":"VLOOKUP($B62,Vertices!$A$10:$F$203, 5, FALSE)","v":0},{"$f":"VLOOKUP($B62,Vertices!$A$10:$F$203, 6, FALSE)","v":0},{"$f":"VLOOKUP($C62,Vertices!$A$10:$F$203, 3, FALSE)","v":0},{"$f":"VLOOKUP($C62,Vertices!$A$10:$F$203, 4, FALSE)","v":0},{"$f":"VLOOKUP($C62,Vertices!$A$10:$F$203, 5, FALSE)","v":10},{"$f":"VLOOKUP($C62,Vertices!$A$10:$F$203, 6, FALSE)","v":0},{"$f":"VLOOKUP($D62,Vertices!$A$10:$F$203, 3, FALSE)","v":0},{"$f":"VLOOKUP($D62,Vertices!$A$10:$F$203, 4, FALSE)","v":10},{"$f":"VLOOKUP($D62,Vertices!$A$10:$F$203, 5, FALSE)","v":10},{"$f":"VLOOKUP($D62,Vertices!$A$10:$F$203, 6, FALSE)","v":0}]
[53,2,39,3,null,{"$f":"VLOOKUP($B63,Vertices!$A$10:$F$203, 3, FALSE)","v":0},{"$f":"VLOOKUP($B63,Vertices!$A$10:$F$203, 4, FALSE)","v":10},{"$f":"VLOOKUP($B63,Vertices!$A$10:$F$203, 5, FALSE)","v":0},{"$f":"VLOOKUP($B63,Vertices!$A$10:$F$203, 6, FALSE)","v":0},{"$f":"VLOOKUP($C63,Vertices!$A$10:$F$203, 3, FALSE)","v":0},{"$f":"VLOOKUP($C63,Vertices!$A$10:$F$203, 4, FALSE)","v":20},{"$f":"VLOOKUP($C63,Vertices!$A$10:$F$203, 5, FALSE)","v":10},{"$f":"VLOOKUP($C63,Vertices!$A$10:$F$203, 6, FALSE)","v":0},{"$f":"VLOOKUP($D63,Vertices!$A$10:$F$203, 3, FALSE)","v":0},{"$f":"VLOOKUP($D63,Vertices!$A$10:$F$203, 4, FALSE)","v":20},{"$f":"VLOOKUP($D63,Vertices!$A$10:$F$203, 5, FALSE)","v":0},{"$f":"VLOOKUP($D63,Vertices!$A$10:$F$203, 6, FALSE)","v":0}]
[54,2,38,39,null,{"$f":"VLOOKUP($B64,Vertices!$A$10:$F$203, 3, FALSE)","v":0},{"$f":"VLOOKUP($B64,Vertices!$A$10:$F$203, 4, FALSE)","v":10},{"$f":"VLOOKUP($B64,Vertices!$A$10:$F$203, 5, FALSE)","v":0},{"$f":"VLOOKUP($B64,Vertices!$A$10:$F$203, 6, FALSE)","v":0},{"$f":"VLOOKUP($C64,Vertices!$A$10:$F$203, 3, FALSE)","v":0},{"$f":"VLOOKUP($C64,Vertices!$A$10:$F$203, 4, FALSE)","v":10},{"$f":"VLOOKUP($C64,Vertices!$A$10:$F$203, 5, FALSE)","v":10},{"$f":"VLOOKUP($C64,Vertices!$A$10:$F$203, 6, FALSE)","v":0},{"$f":"VLOOKUP($D64,Vertices!$A$10:$F$203, 3, FALSE)","v":0},{"$f":"VLOOKUP($D64,Vertices!$A$10:$F$203, 4, FALSE)","v":20},{"$f":"VLOOKUP($D64,Vertices!$A$10:$F$203, 5, FALSE)","v":10},{"$f":"VLOOKUP($D64,Vertices!$A$10:$F$203, 6, FALSE)","v":0}]
[55,38,50,39,null,{"$f":"VLOOKUP($B65,Vertices!$A$10:$F$203, 3, FALSE)","v":0},{"$f":"VLOOKUP($B65,Vertices!$A$10:$F$203, 4, FALSE)","v":10},{"$f":"VLOOKUP($B65,Vertices!$A$10:$F$203, 5, FALSE)","v":10},{"$f":"VLOOKUP($B65,Vertices!$A$10:$F$203, 6, FALSE)","v":0},{"$f":"VLOOKUP($C65,Vertices!$A$10:$F$203, 3, FALSE)","v":0},{"$f":"VLOOKUP($C65,Vertices!$A$10:$F$203, 4, FALSE)","v":20},{"$f":"VLOOKUP($C65,Vertices!$A$10:$F$203, 5, FALSE)","v":20},{"$f":"VLOOKUP($C65,Vertices!$A$10:$F$203, 6, FALSE)","v":0},{"$f":"VLOOKUP($D65,Vertices!$A$10:$F$203, 3, FALSE)","v":0},{"$f":"VLOOKUP($D65,Vertices!$A$10:$F$203, 4, FALSE)","v":20},{"$f":"VLOOKUP($D65,Vertices!$A$10:$F$203, 5, FALSE)","v":10},{"$f":"VLOOKUP($D65,Vertices!$A$10:$F$203, 6, FALSE)","v":0}]
[56,38,49,50,null,{"$f":"VLOOKUP($B66,Vertices!$A$10:$F$203, 3, FALSE)","v":0},{"$f":"VLOOKUP($B66,Vertices!$A$10:$F$203, 4, FALSE)","v":10},{"$f":"VLOOKUP($B66,Vertices!$A$10:$F$203, 5, FALSE)","v":10},{"$f":"VLOOKUP($B66,Vertices!$A$10:$F$203, 6, FALSE)","v":0},{"$f":"VLOOKUP($C66,Vertices!$A$10:$F$203, 3, FALSE)","v":0},{"$f":"VLOOKUP($C66,Vertices!$A$10:$F$203, 4, FALSE)","v":10},{"$f":"VLOOKUP($C66,Vertices!$A$10:$F$203, 5, FALSE)","v":20},{"$f":"VLOOKUP($C66,Vertices!$A$10:$F$203, 6, FALSE)","v":0},{"$f":"VLOOKUP($D66,Vertices!$A$10:$F$203, 3, FALSE)","v":0},{"$f":"VLOOKUP($D66,Vertices!$A$10:$F$203, 4, FALSE)","v":20},{"$f":"VLOOKUP($D66,Vertices!$A$10:$F$203, 5, FALSE)","v":20},{"$f":"VLOOKUP($D66,Vertices!$A$10:$F$203, 6, FALSE)","v":0}]
[57,37,49,38,null,{"$f":"VLOOKUP($B67,Vertices!$A$10:$F$203, 3, FALSE)","v":0},{"$f":"VLOOKUP($B67,Vertices!$A$10:$F$203, 4, FALSE)","v":0},{"$f":"VLOOKUP($B67,Vertices!$A$10:$F$203, 5, FALSE)","v":10},{"$f":"VLOOKUP($B67,Vertices!$A$10:$F$203, 6, FALSE)","v":0},{"$f":"VLOOKUP($C67,Vertices!$A$10:$F$203, 3, FALSE)","v":0},{"$f":"VLOOKUP($C67,Vertices!$A$10:$F$203, 4, FALSE)","v":10},{"$f":"VLOOKUP($C67,Vertices!$A$10:$F$203, 5, FALSE)","v":20},{"$f":"VLOOKUP($C67,Vertices!$A$10:$F$203, 6, FALSE)","v":0},{"$f":"VLOOKUP($D67,Vertices!$A$10:$F$203, 3, FALSE)","v":0},{"$f":"VLOOKUP($D67,Vertices!$A$10:$F$203, 4, FALSE)","v":10},{"$f":"VLOOKUP($D67,Vertices!$A$10:$F$203, 5, FALSE)","v":10},{"$f":"VLOOKUP($D67,Vertices!$A$10:$F$203, 6, FALSE)","v":0}]
[58,37,48,49,null,{"$f":"VLOOKUP($B68,Vertices!$A$10:$F$203, 3, FALSE)","v":0},{"$f":"VLOOKUP($B68,Vertices!$A$10:$F$203, 4, FALSE)","v":0},{"$f":"VLOOKUP($B68,Vertices!$A$10:$F$203, 5, FALSE)","v":10},{"$f":"VLOOKUP($B68,Vertices!$A$10:$F$203, 6, FALSE)","v":0},{"$f":"VLOOKUP($C68,Vertices!$A$10:$F$203, 3, FALSE)","v":0},{"$f":"VLOOKUP($C68,Vertices!$A$10:$F$203, 4, FALSE)","v":0},{"$f":"VLOOKUP($C68,Vertices!$A$10:$F$203, 5, FALSE)","v":20},{"$f":"VLOOKUP($C68,Vertices!$A$10:$F$203, 6, FALSE)","v":0},{"$f":"VLOOKUP($D68,Vertices!$A$10:$F$203, 3, FALSE)","v":0},{"$f":"VLOOKUP($D68,Vertices!$A$10:$F$203, 4, FALSE)","v":10},{"$f":"VLOOKUP($D68,Vertices!$A$10:$F$203, 5, FALSE)","v":20},{"$f":"VLOOKUP($D68,Vertices!$A$10:$F$203, 6, FALSE)","v":0}]
[59,3,40,4,null,{"$f":"VLOOKUP($B69,Vertices!$A$10:$F$203, 3, FALSE)","v":0},{"$f":"VLOOKUP($B69,Vertices!$A$10:$F$203, 4, FALSE)","v":20},{"$f":"VLOOKUP($B69,Vertices!$A$10:$F$203, 5, FALSE)","v":0},{"$f":"VLOOKUP($B69,Vertices!$A$10:$F$203, 6, FALSE)","v":0},{"$f":"VLOOKUP($C69,Vertices!$A$10:$F$203, 3, FALSE)","v":0},{"$f":"VLOOKUP($C69,Vertices!$A$10:$F$203, 4, FALSE)","v":40},{"$f":"VLOOKUP($C69,Vertices!$A$10:$F$203, 5, FALSE)","v":10},{"$f":"VLOOKUP($C69,Vertices!$A$10:$F$203, 6, FALSE)","v":0},{"$f":"VLOOKUP($D69,Vertices!$A$10:$F$203, 3, FALSE)","v":0},{"$f":"VLOOKUP($D69,Vertices!$A$10:$F$203, 4, FALSE)","v":40},{"$f":"VLOOKUP($D69,Vertices!$A$10:$F$203, 5, FALSE)","v":0},{"$f":"VLOOKUP($D69,Vertices!$A$10:$F$203, 6, FALSE)","v":0}]
[60,3,39,40,null,{"$f":"VLOOKUP($B70,Vertices!$A$10:$F$203, 3, FALSE)","v":0},{"$f":"VLOOKUP($B70,Vertices!$A$10:$F$203, 4, FALSE)","v":20},{"$f":"VLOOKUP($B70,Vertices!$A$10:$F$203, 5, FALSE)","v":0},{"$f":"VLOOKUP($B70,Vertices!$A$10:$F$203, 6, FALSE)","v":0},{"$f":"VLOOKUP($C70,Vertices!$A$10:$F$203, 3, FALSE)","v":0},{"$f":"VLOOKUP($C70,Vertices!$A$10:$F$203, 4, FALSE)","v":20},{"$f":"VLOOKUP($C70,Vertices!$A$10:$F$203, 5, FALSE)","v":10},{"$f":"VLOOKUP($C70,Vertices!$A$10:$F$203, 6, FALSE)","v":0},{"$f":"VLOOKUP($D70,Vertices!$A$10:$F$203, 3, FALSE)","v":0},{"$f":"VLOOKUP($D70,Vertices!$A$10:$F$203, 4, FALSE)","v":40},{"$f":"VLOOKUP($D70,Vertices!$A$10:$F$203, 5, FALSE)","v":10},{"$f":"VLOOKUP($D70,Vertices!$A$10:$F$203, 6, FALSE)","v":0}]
[61,39,51,40,null,{"$f":"VLOOKUP($B71,Vertices!$A$10:$F$203, 3, FALSE)","v":0},{"$f":"VLOOKUP($B71,Vertices!$A$10:$F$203, 4, FALSE)","v":20},{"$f":"VLOOKUP($B71,Vertices!$A$10:$F$203, 5, FALSE)","v":10},{"$f":"VLOOKUP($B71,Vertices!$A$10:$F$203, 6, FALSE)","v":0},{"$f":"VLOOKUP($C71,Vertices!$A$10:$F$203, 3, FALSE)","v":0},{"$f":"VLOOKUP($C71,Vertices!$A$10:$F$203, 4, FALSE)","v":40},{"$f":"VLOOKUP($C71,Vertices!$A$10:$F$203, 5, FALSE)","v":20},{"$f":"VLOOKUP($C71,Vertices!$A$10:$F$203, 6, FALSE)","v":0},{"$f":"VLOOKUP($D71,Vertices!$A$10:$F$203, 3, FALSE)","v":0},{"$f":"VLOOKUP($D71,Vertices!$A$10:$F$203, 4, FALSE)","v":40},{"$f":"VLOOKUP($D71,Vertices!$A$10:$F$203, 5, FALSE)","v":10},{"$f":"VLOOKUP($D71,Vertices!$A$10:$F$203, 6, FALSE)","v":0}]
[62,39,50,51,null,{"$f":"VLOOKUP($B72,Vertices!$A$10:$F$203, 3, FALSE)","v":0},{"$f":"VLOOKUP($B72,Vertices!$A$10:$F$203, 4, FALSE)","v":20},{"$f":"VLOOKUP($B72,Vertices!$A$10:$F$203, 5, FALSE)","v":10},{"$f":"VLOOKUP($B72,Vertices!$A$10:$F$203, 6, FALSE)","v":0},{"$f":"VLOOKUP($C72,Vertices!$A$10:$F$203, 3, FALSE)","v":0},{"$f":"VLOOKUP($C72,Vertices!$A$10:$F$203, 4, FALSE)","v":20},{"$f":"VLOOKUP($C72,Vertices!$A$10:$F$203, 5, FALSE)","v":20},{"$f":"VLOOKUP($C72,Vertices!$A$10:$F$203, 6, FALSE)","v":0},{"$f":"VLOOKUP($D72,Vertices!$A$10:$F$203, 3, FALSE)","v":0},{"$f":"VLOOKUP($D72,Vertices!$A$10:$F$203, 4, FALSE)","v":40},{"$f":"VLOOKUP($D72,Vertices!$A$10:$F$203, 5, FALSE)","v":20},{"$f":"VLOOKUP($D72,Vertices!$A$10:$F$203, 6, FALSE)","v":0}]
[63,50,62,51,null,{"$f":"VLOOKUP($B73,Vertices!$A$10:$F$203, 3, FALSE)","v":0},{"$f":"VLOOKUP($B73,Vertices!$A$10:$F$203, 4, FALSE)","v":20},{"$f":"VLOOKUP($B73,Vertices!$A$10:$F$203, 5, FALSE)","v":20},{"$f":"VLOOKUP($B73,Vertices!$A$10:$F$203, 6, FALSE)","v":0},{"$f":"VLOOKUP($C73,Vertices!$A$10:$F$203, 3, FALSE)","v":0},{"$f":"VLOOKUP($C73,Vertices!$A$10:$F$203, 4, FALSE)","v":40},{"$f":"VLOOKUP($C73,Vertices!$A$10:$F$203, 5, FALSE)","v":40},{"$f":"VLOOKUP($C73,Vertices!$A$10:$F$203, 6, FALSE)","v":0},{"$f":"VLOOKUP($D73,Vertices!$A$10:$F$203, 3, FALSE)","v":0},{"$f":"VLOOKUP($D73,Vertices!$A$10:$F$203, 4, FALSE)","v":40},{"$f":"VLOOKUP($D73,Vertices!$A$10:$F$203, 5, FALSE)","v":20},{"$f":"VLOOKUP($D73,Vertices!$A$10:$F$203, 6, FALSE)","v":0}]
[64,50,61,62,null,{"$f":"VLOOKUP($B74,Vertices!$A$10:$F$203, 3, FALSE)","v":0},{"$f":"VLOOKUP($B74,Vertices!$A$10:$F$203, 4, FALSE)","v":20},{"$f":"VLOOKUP($B74,Vertices!$A$10:$F$203, 5, FALSE)","v":20},{"$f":"VLOOKUP($B74,Vertices!$A$10:$F$203, 6, FALSE)","v":0},{"$f":"VLOOKUP($C74,Vertices!$A$10:$F$203, 3, FALSE)","v":0},{"$f":"VLOOKUP($C74,Vertices!$A$10:$F$203, 4, FALSE)","v":20},{"$f":"VLOOKUP($C74,Vertices!$A$10:$F$203, 5, FALSE)","v":40},{"$f":"VLOOKUP($C74,Vertices!$A$10:$F$203, 6, FALSE)","v":0},{"$f":"VLOOKUP($D74,Vertices!$A$10:$F$203, 3, FALSE)","v":0},{"$f":"VLOOKUP($D74,Vertices!$A$10:$F$203, 4, FALSE)","v":40},{"$f":"VLOOKUP($D74,Vertices!$A$10:$F$203, 5, FALSE)","v":40},{"$f":"VLOOKUP($D74,Vertices!$A$10:$F$203, 6, FALSE)","v":0}]
[65,49,61,50,null,{"$f":"VLOOKUP($B75,Vertices!$A$10:$F$203, 3, FALSE)","v":0},{"$f":"VLOOKUP($B75,Vertices!$A$10:$F$203, 4, FALSE)","v":10},{"$f":"VLOOKUP($B75,Vertices!$A$10:$F$203, 5, FALSE)","v":20},{"$f":"VLOOKUP($B75,Vertices!$A$10:$F$203, 6, FALSE)","v":0},{"$f":"VLOOKUP($C75,Vertices!$A$10:$F$203, 3, FALSE)","v":0},{"$f":"VLOOKUP($C75,Vertices!$A$10:$F$203, 4, FALSE)","v":20},{"$f":"VLOOKUP($C75,Vertices!$A$10:$F$203, 5, FALSE)","v":40},{"$f":"VLOOKUP($C75,Vertices!$A$10:$F$203, 6, FALSE)","v":0},{"$f":"VLOOKUP($D75,Vertices!$A$10:$F$203, 3, FALSE)","v":0},{"$f":"VLOOKUP($D75,Vertices!$A$10:$F$203, 4, FALSE)","v":20},{"$f":"VLOOKUP($D75,Vertices!$A$10:$F$203, 5, FALSE)","v":20},{"$f":"VLOOKUP($D75,Vertices!$A$10:$F$203, 6, FALSE)","v":0}]
[66,49,60,61,null,{"$f":"VLOOKUP($B76,Vertices!$A$10:$F$203, 3, FALSE)","v":0},{"$f":"VLOOKUP($B76,Vertices!$A$10:$F$203, 4, FALSE)","v":10},{"$f":"VLOOKUP($B76,Vertices!$A$10:$F$203, 5, FALSE)","v":20},{"$f":"VLOOKUP($B76,Vertices!$A$10:$F$203, 6, FALSE)","v":0},{"$f":"VLOOKUP($C76,Vertices!$A$10:$F$203, 3, FALSE)","v":0},{"$f":"VLOOKUP($C76,Vertices!$A$10:$F$203, 4, FALSE)","v":10},{"$f":"VLOOKUP($C76,Vertices!$A$10:$F$203, 5, FALSE)","v":40},{"$f":"VLOOKUP($C76,Vertices!$A$10:$F$203, 6, FALSE)","v":0},{"$f":"VLOOKUP($D76,Vertices!$A$10:$F$203, 3, FALSE)","v":0},{"$f":"VLOOKUP($D76,Vertices!$A$10:$F$203, 4, FALSE)","v":20},{"$f":"VLOOKUP($D76,Vertices!$A$10:$F$203, 5, FALSE)","v":40},{"$f":"VLOOKUP($D76,Vertices!$A$10:$F$203, 6, FALSE)","v":0}]
[67,48,60,49,null,{"$f":"VLOOKUP($B77,Vertices!$A$10:$F$203, 3, FALSE)","v":0},{"$f":"VLOOKUP($B77,Vertices!$A$10:$F$203, 4, FALSE)","v":0},{"$f":"VLOOKUP($B77,Vertices!$A$10:$F$203, 5, FALSE)","v":20},{"$f":"VLOOKUP($B77,Vertices!$A$10:$F$203, 6, FALSE)","v":0},{"$f":"VLOOKUP($C77,Vertices!$A$10:$F$203, 3, FALSE)","v":0},{"$f":"VLOOKUP($C77,Vertices!$A$10:$F$203, 4, FALSE)","v":10},{"$f":"VLOOKUP($C77,Vertices!$A$10:$F$203, 5, FALSE)","v":40},{"$f":"VLOOKUP($C77,Vertices!$A$10:$F$203, 6, FALSE)","v":0},{"$f":"VLOOKUP($D77,Vertices!$A$10:$F$203, 3, FALSE)","v":0},{"$f":"VLOOKUP($D77,Vertices!$A$10:$F$203, 4, FALSE)","v":10},{"$f":"VLOOKUP($D77,Vertices!$A$10:$F$203, 5, FALSE)","v":20},{"$f":"VLOOKUP($D77,Vertices!$A$10:$F$203, 6, FALSE)","v":0}]
[68,48,59,60,null,{"$f":"VLOOKUP($B78,Vertices!$A$10:$F$203, 3, FALSE)","v":0},{"$f":"VLOOKUP($B78,Vertices!$A$10:$F$203, 4, FALSE)","v":0},{"$f":"VLOOKUP($B78,Vertices!$A$10:$F$203, 5, FALSE)","v":20},{"$f":"VLOOKUP($B78,Vertices!$A$10:$F$203, 6, FALSE)","v":0},{"$f":"VLOOKUP($C78,Vertices!$A$10:$F$203, 3, FALSE)","v":0},{"$f":"VLOOKUP($C78,Vertices!$A$10:$F$203, 4, FALSE)","v":0},{"$f":"VLOOKUP($C78,Vertices!$A$10:$F$203, 5, FALSE)","v":40},{"$f":"VLOOKUP($C78,Vertices!$A$10:$F$203, 6, FALSE)","v":0},{"$f":"VLOOKUP($D78,Vertices!$A$10:$F$203, 3, FALSE)","v":0},{"$f":"VLOOKUP($D78,Vertices!$A$10:$F$203, 4, FALSE)","v":10},{"$f":"VLOOKUP($D78,Vertices!$A$10:$F$203, 5, FALSE)","v":40},{"$f":"VLOOKUP($D78,Vertices!$A$10:$F$203, 6, FALSE)","v":0}]
[69,4,41,5,null,{"$f":"VLOOKUP($B79,Vertices!$A$10:$F$203, 3, FALSE)","v":0},{"$f":"VLOOKUP($B79,Vertices!$A$10:$F$203, 4, FALSE)","v":40},{"$f":"VLOOKUP($B79,Vertices!$A$10:$F$203, 5, FALSE)","v":0},{"$f":"VLOOKUP($B79,Vertices!$A$10:$F$203, 6, FALSE)","v":0},{"$f":"VLOOKUP($C79,Vertices!$A$10:$F$203, 3, FALSE)","v":0},{"$f":"VLOOKUP($C79,Vertices!$A$10:$F$203, 4, FALSE)","v":70},{"$f":"VLOOKUP($C79,Vertices!$A$10:$F$203, 5, FALSE)","v":10},{"$f":"VLOOKUP($C79,Vertices!$A$10:$F$203, 6, FALSE)","v":0},{"$f":"VLOOKUP($D79,Vertices!$A$10:$F$203, 3, FALSE)","v":0},{"$f":"VLOOKUP($D79,Vertices!$A$10:$F$203, 4, FALSE)","v":70},{"$f":"VLOOKUP($D79,Vertices!$A$10:$F$203, 5, FALSE)","v":0},{"$f":"VLOOKUP($D79,Vertices!$A$10:$F$203, 6, FALSE)","v":0}]
[70,4,40,41,null,{"$f":"VLOOKUP($B80,Vertices!$A$10:$F$203, 3, FALSE)","v":0},{"$f":"VLOOKUP($B80,Vertices!$A$10:$F$203, 4, FALSE)","v":40},{"$f":"VLOOKUP($B80,Vertices!$A$10:$F$203, 5, FALSE)","v":0},{"$f":"VLOOKUP($B80,Vertices!$A$10:$F$203, 6, FALSE)","v":0},{"$f":"VLOOKUP($C80,Vertices!$A$10:$F$203, 3, FALSE)","v":0},{"$f":"VLOOKUP($C80,Vertices!$A$10:$F$203, 4, FALSE)","v":40},{"$f":"VLOOKUP($C80,Vertices!$A$10:$F$203, 5, FALSE)","v":10},{"$f":"VLOOKUP($C80,Vertices!$A$10:$F$203, 6, FALSE)","v":0},{"$f":"VLOOKUP($D80,Vertices!$A$10:$F$203, 3, FALSE)","v":0},{"$f":"VLOOKUP($D80,Vertices!$A$10:$F$203, 4, FALSE)","v":70},{"$f":"VLOOKUP($D80,Vertices!$A$10:$F$203, 5, FALSE)","v":10},{"$f":"VLOOKUP($D80,Vertices!$A$10:$F$203, 6, FALSE)","v":0}]
[71,40,52,41,null,{"$f":"VLOOKUP($B81,Vertices!$A$10:$F$203, 3, FALSE)","v":0},{"$f":"VLOOKUP($B81,Vertices!$A$10:$F$203, 4, FALSE)","v":40},{"$f":"VLOOKUP($B81,Vertices!$A$10:$F$203, 5, FALSE)","v":10},{"$f":"VLOOKUP($B81,Vertices!$A$10:$F$203, 6, FALSE)","v":0},{"$f":"VLOOKUP($C81,Vertices!$A$10:$F$203, 3, FALSE)","v":0},{"$f":"VLOOKUP($C81,Vertices!$A$10:$F$203, 4, FALSE)","v":70},{"$f":"VLOOKUP($C81,Vertices!$A$10:$F$203, 5, FALSE)","v":20},{"$f":"VLOOKUP($C81,Vertices!$A$10:$F$203, 6, FALSE)","v":0},{"$f":"VLOOKUP($D81,Vertices!$A$10:$F$203, 3, FALSE)","v":0},{"$f":"VLOOKUP($D81,Vertices!$A$10:$F$203, 4, FALSE)","v":70},{"$f":"VLOOKUP($D81,Vertices!$A$10:$F$203, 5, FALSE)","v":10},{"$f":"VLOOKUP($D81,Vertices!$A$10:$F$203, 6, FALSE)","v":0}]
[72,40,51,52,null,{"$f":"VLOOKUP($B82,Vertices!$A$10:$F$203, 3, FALSE)","v":0},{"$f":"VLOOKUP($B82,Vertices!$A$10:$F$203, 4, FALSE)","v":40},{"$f":"VLOOKUP($B82,Vertices!$A$10:$F$203, 5, FALSE)","v":10},{"$f":"VLOOKUP($B82,Vertices!$A$10:$F$203, 6, FALSE)","v":0},{"$f":"VLOOKUP($C82,Vertices!$A$10:$F$203, 3, FALSE)","v":0},{"$f":"VLOOKUP($C82,Vertices!$A$10:$F$203, 4, FALSE)","v":40},{"$f":"VLOOKUP($C82,Vertices!$A$10:$F$203, 5, FALSE)","v":20},{"$f":"VLOOKUP($C82,Vertices!$A$10:$F$203, 6, FALSE)","v":0},{"$f":"VLOOKUP($D82,Vertices!$A$10:$F$203, 3, FALSE)","v":0},{"$f":"VLOOKUP($D82,Vertices!$A$10:$F$203, 4, FALSE)","v":70},{"$f":"VLOOKUP($D82,Vertices!$A$10:$F$203, 5, FALSE)","v":20},{"$f":"VLOOKUP($D82,Vertices!$A$10:$F$203, 6, FALSE)","v":0}]
[73,51,63,52,null,{"$f":"VLOOKUP($B83,Vertices!$A$10:$F$203, 3, FALSE)","v":0},{"$f":"VLOOKUP($B83,Vertices!$A$10:$F$203, 4, FALSE)","v":40},{"$f":"VLOOKUP($B83,Vertices!$A$10:$F$203, 5, FALSE)","v":20},{"$f":"VLOOKUP($B83,Vertices!$A$10:$F$203, 6, FALSE)","v":0},{"$f":"VLOOKUP($C83,Vertices!$A$10:$F$203, 3, FALSE)","v":0},{"$f":"VLOOKUP($C83,Vertices!$A$10:$F$203, 4, FALSE)","v":70},{"$f":"VLOOKUP($C83,Vertices!$A$10:$F$203, 5, FALSE)","v":40},{"$f":"VLOOKUP($C83,Vertices!$A$10:$F$203, 6, FALSE)","v":0},{"$f":"VLOOKUP($D83,Vertices!$A$10:$F$203, 3, FALSE)","v":0},{"$f":"VLOOKUP($D83,Vertices!$A$10:$F$203, 4, FALSE)","v":70},{"$f":"VLOOKUP($D83,Vertices!$A$10:$F$203, 5, FALSE)","v":20},{"$f":"VLOOKUP($D83,Vertices!$A$10:$F$203, 6, FALSE)","v":0}]
[74,51,62,63,null,{"$f":"VLOOKUP($B84,Vertices!$A$10:$F$203, 3, FALSE)","v":0},{"$f":"VLOOKUP($B84,Vertices!$A$10:$F$203, 4, FALSE)","v":40},{"$f":"VLOOKUP($B84,Vertices!$A$10:$F$203, 5, FALSE)","v":20},{"$f":"VLOOKUP($B84,Vertices!$A$10:$F$203, 6, FALSE)","v":0},{"$f":"VLOOKUP($C84,Vertices!$A$10:$F$203, 3, FALSE)","v":0},{"$f":"VLOOKUP($C84,Vertices!$A$10:$F$203, 4, FALSE)","v":40},{"$f":"VLOOKUP($C84,Vertices!$A$10:$F$203, 5, FALSE)","v":40},{"$f":"VLOOKUP($C84,Vertices!$A$10:$F$203, 6, FALSE)","v":0},{"$f":"VLOOKUP($D84,Vertices!$A$10:$F$203, 3, FALSE)","v":0},{"$f":"VLOOKUP($D84,Vertices!$A$10:$F$203, 4, FALSE)","v":70},{"$f":"VLOOKUP($D84,Vertices!$A$10:$F$203, 5, FALSE)","v":40},{"$f":"VLOOKUP($D84,Vertices!$A$10:$F$203, 6, FALSE)","v":0}]
[75,62,74,63,null,{"$f":"VLOOKUP($B85,Vertices!$A$10:$F$203, 3, FALSE)","v":0},{"$f":"VLOOKUP($B85,Vertices!$A$10:$F$203, 4, FALSE)","v":40},{"$f":"VLOOKUP($B85,Vertices!$A$10:$F$203, 5, FALSE)","v":40},{"$f":"VLOOKUP($B85,Vertices!$A$10:$F$203, 6, FALSE)","v":0},{"$f":"VLOOKUP($C85,Vertices!$A$10:$F$203, 3, FALSE)","v":0},{"$f":"VLOOKUP($C85,Vertices!$A$10:$F$203, 4, FALSE)","v":70},{"$f":"VLOOKUP($C85,Vertices!$A$10:$F$203, 5, FALSE)","v":70},{"$f":"VLOOKUP($C85,Vertices!$A$10:$F$203, 6, FALSE)","v":0},{"$f":"VLOOKUP($D85,Vertices!$A$10:$F$203, 3, FALSE)","v":0},{"$f":"VLOOKUP($D85,Vertices!$A$10:$F$203, 4, FALSE)","v":70},{"$f":"VLOOKUP($D85,Vertices!$A$10:$F$203, 5, FALSE)","v":40},{"$f":"VLOOKUP($D85,Vertices!$A$10:$F$203, 6, FALSE)","v":0}]
[76,62,73,74,null,{"$f":"VLOOKUP($B86,Vertices!$A$10:$F$203, 3, FALSE)","v":0},{"$f":"VLOOKUP($B86,Vertices!$A$10:$F$203, 4, FALSE)","v":40},{"$f":"VLOOKUP($B86,Vertices!$A$10:$F$203, 5, FALSE)","v":40},{"$f":"VLOOKUP($B86,Vertices!$A$10:$F$203, 6, FALSE)","v":0},{"$f":"VLOOKUP($C86,Vertices!$A$10:$F$203, 3, FALSE)","v":0},{"$f":"VLOOKUP($C86,Vertices!$A$10:$F$203, 4, FALSE)","v":40},{"$f":"VLOOKUP($C86,Vertices!$A$10:$F$203, 5, FALSE)","v":70},{"$f":"VLOOKUP($C86,Vertices!$A$10:$F$203, 6, FALSE)","v":0},{"$f":"VLOOKUP($D86,Vertices!$A$10:$F$203, 3, FALSE)","v":0},{"$f":"VLOOKUP($D86,Vertices!$A$10:$F$203, 4, FALSE)","v":70},{"$f":"VLOOKUP($D86,Vertices!$A$10:$F$203, 5, FALSE)","v":70},{"$f":"VLOOKUP($D86,Vertices!$A$10:$F$203, 6, FALSE)","v":0}]
[77,61,73,62,null,{"$f":"VLOOKUP($B87,Vertices!$A$10:$F$203, 3, FALSE)","v":0},{"$f":"VLOOKUP($B87,Vertices!$A$10:$F$203, 4, FALSE)","v":20},{"$f":"VLOOKUP($B87,Vertices!$A$10:$F$203, 5, FALSE)","v":40},{"$f":"VLOOKUP($B87,Vertices!$A$10:$F$203, 6, FALSE)","v":0},{"$f":"VLOOKUP($C87,Vertices!$A$10:$F$203, 3, FALSE)","v":0},{"$f":"VLOOKUP($C87,Vertices!$A$10:$F$203, 4, FALSE)","v":40},{"$f":"VLOOKUP($C87,Vertices!$A$10:$F$203, 5, FALSE)","v":70},{"$f":"VLOOKUP($C87,Vertices!$A$10:$F$203, 6, FALSE)","v":0},{"$f":"VLOOKUP($D87,Vertices!$A$10:$F$203, 3, FALSE)","v":0},{"$f":"VLOOKUP($D87,Vertices!$A$10:$F$203, 4, FALSE)","v":40},{"$f":"VLOOKUP($D87,Vertices!$A$10:$F$203, 5, FALSE)","v":40},{"$f":"VLOOKUP($D87,Vertices!$A$10:$F$203, 6, FALSE)","v":0}]
[78,61,72,73,null,{"$f":"VLOOKUP($B88,Vertices!$A$10:$F$203, 3, FALSE)","v":0},{"$f":"VLOOKUP($B88,Vertices!$A$10:$F$203, 4, FALSE)","v":20},{"$f":"VLOOKUP($B88,Vertices!$A$10:$F$203, 5, FALSE)","v":40},{"$f":"VLOOKUP($B88,Vertices!$A$10:$F$203, 6, FALSE)","v":0},{"$f":"VLOOKUP($C88,Vertices!$A$10:$F$203, 3, FALSE)","v":0},{"$f":"VLOOKUP($C88,Vertices!$A$10:$F$203, 4, FALSE)","v":20},{"$f":"VLOOKUP($C88,Vertices!$A$10:$F$203, 5, FALSE)","v":70},{"$f":"VLOOKUP($C88,Vertices!$A$10:$F$203, 6, FALSE)","v":0},{"$f":"VLOOKUP($D88,Vertices!$A$10:$F$203, 3, FALSE)","v":0},{"$f":"VLOOKUP($D88,Vertices!$A$10:$F$203, 4, FALSE)","v":40},{"$f":"VLOOKUP($D88,Vertices!$A$10:$F$203, 5, FALSE)","v":70},{"$f":"VLOOKUP($D88,Vertices!$A$10:$F$203, 6, FALSE)","v":0}]
[79,60,72,61,null,{"$f":"VLOOKUP($B89,Vertices!$A$10:$F$203, 3, FALSE)","v":0},{"$f":"VLOOKUP($B89,Vertices!$A$10:$F$203, 4, FALSE)","v":10},{"$f":"VLOOKUP($B89,Vertices!$A$10:$F$203, 5, FALSE)","v":40},{"$f":"VLOOKUP($B89,Vertices!$A$10:$F$203, 6, FALSE)","v":0},{"$f":"VLOOKUP($C89,Vertices!$A$10:$F$203, 3, FALSE)","v":0},{"$f":"VLOOKUP($C89,Vertices!$A$10:$F$203, 4, FALSE)","v":20},{"$f":"VLOOKUP($C89,Vertices!$A$10:$F$203, 5, FALSE)","v":70},{"$f":"VLOOKUP($C89,Vertices!$A$10:$F$203, 6, FALSE)","v":0},{"$f":"VLOOKUP($D89,Vertices!$A$10:$F$203, 3, FALSE)","v":0},{"$f":"VLOOKUP($D89,Vertices!$A$10:$F$203, 4, FALSE)","v":20},{"$f":"VLOOKUP($D89,Vertices!$A$10:$F$203, 5, FALSE)","v":40},{"$f":"VLOOKUP($D89,Vertices!$A$10:$F$203, 6, FALSE)","v":0}]
[80,60,71,72,null,{"$f":"VLOOKUP($B90,Vertices!$A$10:$F$203, 3, FALSE)","v":0},{"$f":"VLOOKUP($B90,Vertices!$A$10:$F$203, 4, FALSE)","v":10},{"$f":"VLOOKUP($B90,Vertices!$A$10:$F$203, 5, FALSE)","v":40},{"$f":"VLOOKUP($B90,Vertices!$A$10:$F$203, 6, FALSE)","v":0},{"$f":"VLOOKUP($C90,Vertices!$A$10:$F$203, 3, FALSE)","v":0},{"$f":"VLOOKUP($C90,Vertices!$A$10:$F$203, 4, FALSE)","v":10},{"$f":"VLOOKUP($C90,Vertices!$A$10:$F$203, 5, FALSE)","v":70},{"$f":"VLOOKUP($C90,Vertices!$A$10:$F$203, 6, FALSE)","v":0},{"$f":"VLOOKUP($D90,Vertices!$A$10:$F$203, 3, FALSE)","v":0},{"$f":"VLOOKUP($D90,Vertices!$A$10:$F$203, 4, FALSE)","v":20},{"$f":"VLOOKUP($D90,Vertices!$A$10:$F$203, 5, FALSE)","v":70},{"$f":"VLOOKUP($D90,Vertices!$A$10:$F$203, 6, FALSE)","v":0}]
[81,59,71,60,null,{"$f":"VLOOKUP($B91,Vertices!$A$10:$F$203, 3, FALSE)","v":0},{"$f":"VLOOKUP($B91,Vertices!$A$10:$F$203, 4, FALSE)","v":0},{"$f":"VLOOKUP($B91,Vertices!$A$10:$F$203, 5, FALSE)","v":40},{"$f":"VLOOKUP($B91,Vertices!$A$10:$F$203, 6, FALSE)","v":0},{"$f":"VLOOKUP($C91,Vertices!$A$10:$F$203, 3, FALSE)","v":0},{"$f":"VLOOKUP($C91,Vertices!$A$10:$F$203, 4, FALSE)","v":10},{"$f":"VLOOKUP($C91,Vertices!$A$10:$F$203, 5, FALSE)","v":70},{"$f":"VLOOKUP($C91,Vertices!$A$10:$F$203, 6, FALSE)","v":0},{"$f":"VLOOKUP($D91,Vertices!$A$10:$F$203, 3, FALSE)","v":0},{"$f":"VLOOKUP($D91,Vertices!$A$10:$F$203, 4, FALSE)","v":10},{"$f":"VLOOKUP($D91,Vertices!$A$10:$F$203, 5, FALSE)","v":40},{"$f":"VLOOKUP($D91,Vertices!$A$10:$F$203, 6, FALSE)","v":0}]
[82,59,70,71,null,{"$f":"VLOOKUP($B92,Vertices!$A$10:$F$203, 3, FALSE)","v":0},{"$f":"VLOOKUP($B92,Vertices!$A$10:$F$203, 4, FALSE)","v":0},{"$f":"VLOOKUP($B92,Vertices!$A$10:$F$203, 5, FALSE)","v":40},{"$f":"VLOOKUP($B92,Vertices!$A$10:$F$203, 6, FALSE)","v":0},{"$f":"VLOOKUP($C92,Vertices!$A$10:$F$203, 3, FALSE)","v":0},{"$f":"VLOOKUP($C92,Vertices!$A$10:$F$203, 4, FALSE)","v":0},{"$f":"VLOOKUP($C92,Vertices!$A$10:$F$203, 5, FALSE)","v":70},{"$f":"VLOOKUP($C92,Vertices!$A$10:$F$203, 6, FALSE)","v":0},{"$f":"VLOOKUP($D92,Vertices!$A$10:$F$203, 3, FALSE)","v":0},{"$f":"VLOOKUP($D92,Vertices!$A$10:$F$203, 4, FALSE)","v":10},{"$f":"VLOOKUP($D92,Vertices!$A$10:$F$203, 5, FALSE)","v":70},{"$f":"VLOOKUP($D92,Vertices!$A$10:$F$203, 6, FALSE)","v":0}]
[83,5,42,6,null,{"$f":"VLOOKUP($B93,Vertices!$A$10:$F$203, 3, FALSE)","v":0},{"$f":"VLOOKUP($B93,Vertices!$A$10:$F$203, 4, FALSE)","v":70},{"$f":"VLOOKUP($B93,Vertices!$A$10:$F$203, 5, FALSE)","v":0},{"$f":"VLOOKUP($B93,Vertices!$A$10:$F$203, 6, FALSE)","v":0},{"$f":"VLOOKUP($C93,Vertices!$A$10:$F$203, 3, FALSE)","v":0},{"$f":"VLOOKUP($C93,Vertices!$A$10:$F$203, 4, FALSE)","v":100},{"$f":"VLOOKUP($C93,Vertices!$A$10:$F$203, 5, FALSE)","v":10},{"$f":"VLOOKUP($C93,Vertices!$A$10:$F$203, 6, FALSE)","v":0},{"$f":"VLOOKUP($D93,Vertices!$A$10:$F$203, 3, FALSE)","v":0},{"$f":"VLOOKUP($D93,Vertices!$A$10:$F$203, 4, FALSE)","v":100},{"$f":"VLOOKUP($D93,Vertices!$A$10:$F$203, 5, FALSE)","v":0},{"$f":"VLOOKUP($D93,Vertices!$A$10:$F$203, 6, FALSE)","v":0}]
[84,5,41,42,null,{"$f":"VLOOKUP($B94,Vertices!$A$10:$F$203, 3, FALSE)","v":0},{"$f":"VLOOKUP($B94,Vertices!$A$10:$F$203, 4, FALSE)","v":70},{"$f":"VLOOKUP($B94,Vertices!$A$10:$F$203, 5, FALSE)","v":0},{"$f":"VLOOKUP($B94,Vertices!$A$10:$F$203, 6, FALSE)","v":0},{"$f":"VLOOKUP($C94,Vertices!$A$10:$F$203, 3, FALSE)","v":0},{"$f":"VLOOKUP($C94,Vertices!$A$10:$F$203, 4, FALSE)","v":70},{"$f":"VLOOKUP($C94,Vertices!$A$10:$F$203, 5, FALSE)","v":10},{"$f":"VLOOKUP($C94,Vertices!$A$10:$F$203, 6, FALSE)","v":0},{"$f":"VLOOKUP($D94,Vertices!$A$10:$F$203, 3, FALSE)","v":0},{"$f":"VLOOKUP($D94,Vertices!$A$10:$F$203, 4, FALSE)","v":100},{"$f":"VLOOKUP($D94,Vertices!$A$10:$F$203, 5, FALSE)","v":10},{"$f":"VLOOKUP($D94,Vertices!$A$10:$F$203, 6, FALSE)","v":0}]
[85,41,53,42,null,{"$f":"VLOOKUP($B95,Vertices!$A$10:$F$203, 3, FALSE)","v":0},{"$f":"VLOOKUP($B95,Vertices!$A$10:$F$203, 4, FALSE)","v":70},{"$f":"VLOOKUP($B95,Vertices!$A$10:$F$203, 5, FALSE)","v":10},{"$f":"VLOOKUP($B95,Vertices!$A$10:$F$203, 6, FALSE)","v":0},{"$f":"VLOOKUP($C95,Vertices!$A$10:$F$203, 3, FALSE)","v":0},{"$f":"VLOOKUP($C95,Vertices!$A$10:$F$203, 4, FALSE)","v":100},{"$f":"VLOOKUP($C95,Vertices!$A$10:$F$203, 5, FALSE)","v":20},{"$f":"VLOOKUP($C95,Vertices!$A$10:$F$203, 6, FALSE)","v":0},{"$f":"VLOOKUP($D95,Vertices!$A$10:$F$203, 3, FALSE)","v":0},{"$f":"VLOOKUP($D95,Vertices!$A$10:$F$203, 4, FALSE)","v":100},{"$f":"VLOOKUP($D95,Vertices!$A$10:$F$203, 5, FALSE)","v":10},{"$f":"VLOOKUP($D95,Vertices!$A$10:$F$203, 6, FALSE)","v":0}]
[86,41,52,53,null,{"$f":"VLOOKUP($B96,Vertices!$A$10:$F$203, 3, FALSE)","v":0},{"$f":"VLOOKUP($B96,Vertices!$A$10:$F$203, 4, FALSE)","v":70},{"$f":"VLOOKUP($B96,Vertices!$A$10:$F$203, 5, FALSE)","v":10},{"$f":"VLOOKUP($B96,Vertices!$A$10:$F$203, 6, FALSE)","v":0},{"$f":"VLOOKUP($C96,Vertices!$A$10:$F$203, 3, FALSE)","v":0},{"$f":"VLOOKUP($C96,Vertices!$A$10:$F$203, 4, FALSE)","v":70},{"$f":"VLOOKUP($C96,Vertices!$A$10:$F$203, 5, FALSE)","v":20},{"$f":"VLOOKUP($C96,Vertices!$A$10:$F$203, 6, FALSE)","v":0},{"$f":"VLOOKUP($D96,Vertices!$A$10:$F$203, 3, FALSE)","v":0},{"$f":"VLOOKUP($D96,Vertices!$A$10:$F$203, 4, FALSE)","v":100},{"$f":"VLOOKUP($D96,Vertices!$A$10:$F$203, 5, FALSE)","v":20},{"$f":"VLOOKUP($D96,Vertices!$A$10:$F$203, 6, FALSE)","v":0}]
[87,52,64,53,null,{"$f":"VLOOKUP($B97,Vertices!$A$10:$F$203, 3, FALSE)","v":0},{"$f":"VLOOKUP($B97,Vertices!$A$10:$F$203, 4, FALSE)","v":70},{"$f":"VLOOKUP($B97,Vertices!$A$10:$F$203, 5, FALSE)","v":20},{"$f":"VLOOKUP($B97,Vertices!$A$10:$F$203, 6, FALSE)","v":0},{"$f":"VLOOKUP($C97,Vertices!$A$10:$F$203, 3, FALSE)","v":0},{"$f":"VLOOKUP($C97,Vertices!$A$10:$F$203, 4, FALSE)","v":100},{"$f":"VLOOKUP($C97,Vertices!$A$10:$F$203, 5, FALSE)","v":40},{"$f":"VLOOKUP($C97,Vertices!$A$10:$F$203, 6, FALSE)","v":0},{"$f":"VLOOKUP($D97,Vertices!$A$10:$F$203, 3, FALSE)","v":0},{"$f":"VLOOKUP($D97,Vertices!$A$10:$F$203, 4, FALSE)","v":100},{"$f":"VLOOKUP($D97,Vertices!$A$10:$F$203, 5, FALSE)","v":20},{"$f":"VLOOKUP($D97,Vertices!$A$10:$F$203, 6, FALSE)","v":0}]
[88,52,63,64,null,{"$f":"VLOOKUP($B98,Vertices!$A$10:$F$203, 3, FALSE)","v":0},{"$f":"VLOOKUP($B98,Vertices!$A$10:$F$203, 4, FALSE)","v":70},{"$f":"VLOOKUP($B98,Vertices!$A$10:$F$203, 5, FALSE)","v":20},{"$f":"VLOOKUP($B98,Vertices!$A$10:$F$203, 6, FALSE)","v":0},{"$f":"VLOOKUP($C98,Vertices!$A$10:$F$203, 3, FALSE)","v":0},{"$f":"VLOOKUP($C98,Vertices!$A$10:$F$203, 4, FALSE)","v":70},{"$f":"VLOOKUP($C98,Vertices!$A$10:$F$203, 5, FALSE)","v":40},{"$f":"VLOOKUP($C98,Vertices!$A$10:$F$203, 6, FALSE)","v":0},{"$f":"VLOOKUP($D98,Vertices!$A$10:$F$203, 3, FALSE)","v":0},{"$f":"VLOOKUP($D98,Vertices!$A$10:$F$203, 4, FALSE)","v":100},{"$f":"VLOOKUP($D98,Vertices!$A$10:$F$203, 5, FALSE)","v":40},{"$f":"VLOOKUP($D98,Vertices!$A$10:$F$203, 6, FALSE)","v":0}]
[89,63,75,64,null,{"$f":"VLOOKUP($B99,Vertices!$A$10:$F$203, 3, FALSE)","v":0},{"$f":"VLOOKUP($B99,Vertices!$A$10:$F$203, 4, FALSE)","v":70},{"$f":"VLOOKUP($B99,Vertices!$A$10:$F$203, 5, FALSE)","v":40},{"$f":"VLOOKUP($B99,Vertices!$A$10:$F$203, 6, FALSE)","v":0},{"$f":"VLOOKUP($C99,Vertices!$A$10:$F$203, 3, FALSE)","v":0},{"$f":"VLOOKUP($C99,Vertices!$A$10:$F$203, 4, FALSE)","v":100},{"$f":"VLOOKUP($C99,Vertices!$A$10:$F$203, 5, FALSE)","v":70},{"$f":"VLOOKUP($C99,Vertices!$A$10:$F$203, 6, FALSE)","v":0},{"$f":"VLOOKUP($D99,Vertices!$A$10:$F$203, 3, FALSE)","v":0},{"$f":"VLOOKUP($D99,Vertices!$A$10:$F$203, 4, FALSE)","v":100},{"$f":"VLOOKUP($D99,Vertices!$A$10:$F$203, 5, FALSE)","v":40},{"$f":"VLOOKUP($D99,Vertices!$A$10:$F$203, 6, FALSE)","v":0}]
[90,63,74,75,null,{"$f":"VLOOKUP($B100,Vertices!$A$10:$F$203, 3, FALSE)","v":0},{"$f":"VLOOKUP($B100,Vertices!$A$10:$F$203, 4, FALSE)","v":70},{"$f":"VLOOKUP($B100,Vertices!$A$10:$F$203, 5, FALSE)","v":40},{"$f":"VLOOKUP($B100,Vertices!$A$10:$F$203, 6, FALSE)","v":0},{"$f":"VLOOKUP($C100,Vertices!$A$10:$F$203, 3, FALSE)","v":0},{"$f":"VLOOKUP($C100,Vertices!$A$10:$F$203, 4, FALSE)","v":70},{"$f":"VLOOKUP($C100,Vertices!$A$10:$F$203, 5, FALSE)","v":70},{"$f":"VLOOKUP($C100,Vertices!$A$10:$F$203, 6, FALSE)","v":0},{"$f":"VLOOKUP($D100,Vertices!$A$10:$F$203, 3, FALSE)","v":0},{"$f":"VLOOKUP($D100,Vertices!$A$10:$F$203, 4, FALSE)","v":100},{"$f":"VLOOKUP($D100,Vertices!$A$10:$F$203, 5, FALSE)","v":70},{"$f":"VLOOKUP($D100,Vertices!$A$10:$F$203, 6, FALSE)","v":0}]
[91,74,86,75,null,{"$f":"VLOOKUP($B101,Vertices!$A$10:$F$203, 3, FALSE)","v":0},{"$f":"VLOOKUP($B101,Vertices!$A$10:$F$203, 4, FALSE)","v":70},{"$f":"VLOOKUP($B101,Vertices!$A$10:$F$203, 5, FALSE)","v":70},{"$f":"VLOOKUP($B101,Vertices!$A$10:$F$203, 6, FALSE)","v":0},{"$f":"VLOOKUP($C101,Vertices!$A$10:$F$203, 3, FALSE)","v":0},{"$f":"VLOOKUP($C101,Vertices!$A$10:$F$203, 4, FALSE)","v":100},{"$f":"VLOOKUP($C101,Vertices!$A$10:$F$203, 5, FALSE)","v":100},{"$f":"VLOOKUP($C101,Vertices!$A$10:$F$203, 6, FALSE)","v":0},{"$f":"VLOOKUP($D101,Vertices!$A$10:$F$203, 3, FALSE)","v":0},{"$f":"VLOOKUP($D101,Vertices!$A$10:$F$203, 4, FALSE)","v":100},{"$f":"VLOOKUP($D101,Vertices!$A$10:$F$203, 5, FALSE)","v":70},{"$f":"VLOOKUP($D101,Vertices!$A$10:$F$203, 6, FALSE)","v":0}]
[92,74,85,86,null,{"$f":"VLOOKUP($B102,Vertices!$A$10:$F$203, 3, FALSE)","v":0},{"$f":"VLOOKUP($B102,Vertices!$A$10:$F$203, 4, FALSE)","v":70},{"$f":"VLOOKUP($B102,Vertices!$A$10:$F$203, 5, FALSE)","v":70},{"$f":"VLOOKUP($B102,Vertices!$A$10:$F$203, 6, FALSE)","v":0},{"$f":"VLOOKUP($C102,Vertices!$A$10:$F$203, 3, FALSE)","v":0},{"$f":"VLOOKUP($C102,Vertices!$A$10:$F$203, 4, FALSE)","v":70},{"$f":"VLOOKUP($C102,Vertices!$A$10:$F$203, 5, FALSE)","v":100},{"$f":"VLOOKUP($C102,Vertices!$A$10:$F$203, 6, FALSE)","v":0},{"$f":"VLOOKUP($D102,Vertices!$A$10:$F$203, 3, FALSE)","v":0},{"$f":"VLOOKUP($D102,Vertices!$A$10:$F$203, 4, FALSE)","v":100},{"$f":"VLOOKUP($D102,Vertices!$A$10:$F$203, 5, FALSE)","v":100},{"$f":"VLOOKUP($D102,Vertices!$A$10:$F$203, 6, FALSE)","v":0}]
[93,73,85,74,null,{"$f":"VLOOKUP($B103,Vertices!$A$10:$F$203, 3, FALSE)","v":0},{"$f":"VLOOKUP($B103,Vertices!$A$10:$F$203, 4, FALSE)","v":40},{"$f":"VLOOKUP($B103,Vertices!$A$10:$F$203, 5, FALSE)","v":70},{"$f":"VLOOKUP($B103,Vertices!$A$10:$F$203, 6, FALSE)","v":0},{"$f":"VLOOKUP($C103,Vertices!$A$10:$F$203, 3, FALSE)","v":0},{"$f":"VLOOKUP($C103,Vertices!$A$10:$F$203, 4, FALSE)","v":70},{"$f":"VLOOKUP($C103,Vertices!$A$10:$F$203, 5, FALSE)","v":100},{"$f":"VLOOKUP($C103,Vertices!$A$10:$F$203, 6, FALSE)","v":0},{"$f":"VLOOKUP($D103,Vertices!$A$10:$F$203, 3, FALSE)","v":0},{"$f":"VLOOKUP($D103,Vertices!$A$10:$F$203, 4, FALSE)","v":70},{"$f":"VLOOKUP($D103,Vertices!$A$10:$F$203, 5, FALSE)","v":70},{"$f":"VLOOKUP($D103,Vertices!$A$10:$F$203, 6, FALSE)","v":0}]
[94,73,84,85,null,{"$f":"VLOOKUP($B104,Vertices!$A$10:$F$203, 3, FALSE)","v":0},{"$f":"VLOOKUP($B104,Vertices!$A$10:$F$203, 4, FALSE)","v":40},{"$f":"VLOOKUP($B104,Vertices!$A$10:$F$203, 5, FALSE)","v":70},{"$f":"VLOOKUP($B104,Vertices!$A$10:$F$203, 6, FALSE)","v":0},{"$f":"VLOOKUP($C104,Vertices!$A$10:$F$203, 3, FALSE)","v":0},{"$f":"VLOOKUP($C104,Vertices!$A$10:$F$203, 4, FALSE)","v":40},{"$f":"VLOOKUP($C104,Vertices!$A$10:$F$203, 5, FALSE)","v":100},{"$f":"VLOOKUP($C104,Vertices!$A$10:$F$203, 6, FALSE)","v":0},{"$f":"VLOOKUP($D104,Vertices!$A$10:$F$203, 3, FALSE)","v":0},{"$f":"VLOOKUP($D104,Vertices!$A$10:$F$203, 4, FALSE)","v":70},{"$f":"VLOOKUP($D104,Vertices!$A$10:$F$203, 5, FALSE)","v":100},{"$f":"VLOOKUP($D104,Vertices!$A$10:$F$203, 6, FALSE)","v":0}]
[95,72,84,73,null,{"$f":"VLOOKUP($B105,Vertices!$A$10:$F$203, 3, FALSE)","v":0},{"$f":"VLOOKUP($B105,Vertices!$A$10:$F$203, 4, FALSE)","v":20},{"$f":"VLOOKUP($B105,Vertices!$A$10:$F$203, 5, FALSE)","v":70},{"$f":"VLOOKUP($B105,Vertices!$A$10:$F$203, 6, FALSE)","v":0},{"$f":"VLOOKUP($C105,Vertices!$A$10:$F$203, 3, FALSE)","v":0},{"$f":"VLOOKUP($C105,Vertices!$A$10:$F$203, 4, FALSE)","v":40},{"$f":"VLOOKUP($C105,Vertices!$A$10:$F$203, 5, FALSE)","v":100},{"$f":"VLOOKUP($C105,Vertices!$A$10:$F$203, 6, FALSE)","v":0},{"$f":"VLOOKUP($D105,Vertices!$A$10:$F$203, 3, FALSE)","v":0},{"$f":"VLOOKUP($D105,Vertices!$A$10:$F$203, 4, FALSE)","v":40},{"$f":"VLOOKUP($D105,Vertices!$A$10:$F$203, 5, FALSE)","v":70},{"$f":"VLOOKUP($D105,Vertices!$A$10:$F$203, 6, FALSE)","v":0}]
[96,72,83,84,null,{"$f":"VLOOKUP($B106,Vertices!$A$10:$F$203, 3, FALSE)","v":0},{"$f":"VLOOKUP($B106,Vertices!$A$10:$F$203, 4, FALSE)","v":20},{"$f":"VLOOKUP($B106,Vertices!$A$10:$F$203, 5, FALSE)","v":70},{"$f":"VLOOKUP($B106,Vertices!$A$10:$F$203, 6, FALSE)","v":0},{"$f":"VLOOKUP($C106,Vertices!$A$10:$F$203, 3, FALSE)","v":0},{"$f":"VLOOKUP($C106,Vertices!$A$10:$F$203, 4, FALSE)","v":20},{"$f":"VLOOKUP($C106,Vertices!$A$10:$F$203, 5, FALSE)","v":100},{"$f":"VLOOKUP($C106,Vertices!$A$10:$F$203, 6, FALSE)","v":0},{"$f":"VLOOKUP($D106,Vertices!$A$10:$F$203, 3, FALSE)","v":0},{"$f":"VLOOKUP($D106,Vertices!$A$10:$F$203, 4, FALSE)","v":40},{"$f":"VLOOKUP($D106,Vertices!$A$10:$F$203, 5, FALSE)","v":100},{"$f":"VLOOKUP($D106,Vertices!$A$10:$F$203, 6, FALSE)","v":0}]
[97,71,83,72,null,{"$f":"VLOOKUP($B107,Vertices!$A$10:$F$203, 3, FALSE)","v":0},{"$f":"VLOOKUP($B107,Vertices!$A$10:$F$203, 4, FALSE)","v":10},{"$f":"VLOOKUP($B107,Vertices!$A$10:$F$203, 5, FALSE)","v":70},{"$f":"VLOOKUP($B107,Vertices!$A$10:$F$203, 6, FALSE)","v":0},{"$f":"VLOOKUP($C107,Vertices!$A$10:$F$203, 3, FALSE)","v":0},{"$f":"VLOOKUP($C107,Vertices!$A$10:$F$203, 4, FALSE)","v":20},{"$f":"VLOOKUP($C107,Vertices!$A$10:$F$203, 5, FALSE)","v":100},{"$f":"VLOOKUP($C107,Vertices!$A$10:$F$203, 6, FALSE)","v":0},{"$f":"VLOOKUP($D107,Vertices!$A$10:$F$203, 3, FALSE)","v":0},{"$f":"VLOOKUP($D107,Vertices!$A$10:$F$203, 4, FALSE)","v":20},{"$f":"VLOOKUP($D107,Vertices!$A$10:$F$203, 5, FALSE)","v":70},{"$f":"VLOOKUP($D107,Vertices!$A$10:$F$203, 6, FALSE)","v":0}]
[98,71,82,83,null,{"$f":"VLOOKUP($B108,Vertices!$A$10:$F$203, 3, FALSE)","v":0},{"$f":"VLOOKUP($B108,Vertices!$A$10:$F$203, 4, FALSE)","v":10},{"$f":"VLOOKUP($B108,Vertices!$A$10:$F$203, 5, FALSE)","v":70},{"$f":"VLOOKUP($B108,Vertices!$A$10:$F$203, 6, FALSE)","v":0},{"$f":"VLOOKUP($C108,Vertices!$A$10:$F$203, 3, FALSE)","v":0},{"$f":"VLOOKUP($C108,Vertices!$A$10:$F$203, 4, FALSE)","v":10},{"$f":"VLOOKUP($C108,Vertices!$A$10:$F$203, 5, FALSE)","v":100},{"$f":"VLOOKUP($C108,Vertices!$A$10:$F$203, 6, FALSE)","v":0},{"$f":"VLOOKUP($D108,Vertices!$A$10:$F$203, 3, FALSE)","v":0},{"$f":"VLOOKUP($D108,Vertices!$A$10:$F$203, 4, FALSE)","v":20},{"$f":"VLOOKUP($D108,Vertices!$A$10:$F$203, 5, FALSE)","v":100},{"$f":"VLOOKUP($D108,Vertices!$A$10:$F$203, 6, FALSE)","v":0}]
[99,70,82,71,null,{"$f":"VLOOKUP($B109,Vertices!$A$10:$F$203, 3, FALSE)","v":0},{"$f":"VLOOKUP($B109,Vertices!$A$10:$F$203, 4, FALSE)","v":0},{"$f":"VLOOKUP($B109,Vertices!$A$10:$F$203, 5, FALSE)","v":70},{"$f":"VLOOKUP($B109,Vertices!$A$10:$F$203, 6, FALSE)","v":0},{"$f":"VLOOKUP($C109,Vertices!$A$10:$F$203, 3, FALSE)","v":0},{"$f":"VLOOKUP($C109,Vertices!$A$10:$F$203, 4, FALSE)","v":10},{"$f":"VLOOKUP($C109,Vertices!$A$10:$F$203, 5, FALSE)","v":100},{"$f":"VLOOKUP($C109,Vertices!$A$10:$F$203, 6, FALSE)","v":0},{"$f":"VLOOKUP($D109,Vertices!$A$10:$F$203, 3, FALSE)","v":0},{"$f":"VLOOKUP($D109,Vertices!$A$10:$F$203, 4, FALSE)","v":10},{"$f":"VLOOKUP($D109,Vertices!$A$10:$F$203, 5, FALSE)","v":70},{"$f":"VLOOKUP($D109,Vertices!$A$10:$F$203, 6, FALSE)","v":0}]
[100,70,81,82,null,{"$f":"VLOOKUP($B110,Vertices!$A$10:$F$203, 3, FALSE)","v":0},{"$f":"VLOOKUP($B110,Vertices!$A$10:$F$203, 4, FALSE)","v":0},{"$f":"VLOOKUP($B110,Vertices!$A$10:$F$203, 5, FALSE)","v":70},{"$f":"VLOOKUP($B110,Vertices!$A$10:$F$203, 6, FALSE)","v":0},{"$f":"VLOOKUP($C110,Vertices!$A$10:$F$203, 3, FALSE)","v":0},{"$f":"VLOOKUP($C110,Vertices!$A$10:$F$203, 4, FALSE)","v":0},{"$f":"VLOOKUP($C110,Vertices!$A$10:$F$203, 5, FALSE)","v":100},{"$f":"VLOOKUP($C110,Vertices!$A$10:$F$203, 6, FALSE)","v":0},{"$f":"VLOOKUP($D110,Vertices!$A$10:$F$203, 3, FALSE)","v":0},{"$f":"VLOOKUP($D110,Vertices!$A$10:$F$203, 4, FALSE)","v":10},{"$f":"VLOOKUP($D110,Vertices!$A$10:$F$203, 5, FALSE)","v":100},{"$f":"VLOOKUP($D110,Vertices!$A$10:$F$203, 6, FALSE)","v":0}]
[101,1,7,43,null,{"$f":"VLOOKUP($B111,Vertices!$A$10:$F$203, 3, FALSE)","v":0},{"$f":"VLOOKUP($B111,Vertices!$A$10:$F$203, 4, FALSE)","v":0},{"$f":"VLOOKUP($B111,Vertices!$A$10:$F$203, 5, FALSE)","v":0},{"$f":"VLOOKUP($B111,Vertices!$A$10:$F$203, 6, FALSE)","v":0},{"$f":"VLOOKUP($C111,Vertices!$A$10:$F$203, 3, FALSE)","v":10},{"$f":"VLOOKUP($C111,Vertices!$A$10:$F$203, 4, FALSE)","v":0},{"$f":"VLOOKUP($C111,Vertices!$A$10:$F$203, 5, FALSE)","v":0},{"$f":"VLOOKUP($C111,Vertices!$A$10:$F$203, 6, FALSE)","v":0},{"$f":"VLOOKUP($D111,Vertices!$A$10:$F$203, 3, FALSE)","v":10},{"$f":"VLOOKUP($D111,Vertices!$A$10:$F$203, 4, FALSE)","v":0},{"$f":"VLOOKUP($D111,Vertices!$A$10:$F$203, 5, FALSE)","v":10},{"$f":"VLOOKUP($D111,Vertices!$A$10:$F$203, 6, FALSE)","v":0}]
[102,1,43,37,null,{"$f":"VLOOKUP($B112,Vertices!$A$10:$F$203, 3, FALSE)","v":0},{"$f":"VLOOKUP($B112,Vertices!$A$10:$F$203, 4, FALSE)","v":0},{"$f":"VLOOKUP($B112,Vertices!$A$10:$F$203, 5, FALSE)","v":0},{"$f":"VLOOKUP($B112,Vertices!$A$10:$F$203, 6, FALSE)","v":0},{"$f":"VLOOKUP($C112,Vertices!$A$10:$F$203, 3, FALSE)","v":10},{"$f":"VLOOKUP($C112,Vertices!$A$10:$F$203, 4, FALSE)","v":0},{"$f":"VLOOKUP($C112,Vertices!$A$10:$F$203, 5, FALSE)","v":10},{"$f":"VLOOKUP($C112,Vertices!$A$10:$F$203, 6, FALSE)","v":0},{"$f":"VLOOKUP($D112,Vertices!$A$10:$F$203, 3, FALSE)","v":0},{"$f":"VLOOKUP($D112,Vertices!$A$10:$F$203, 4, FALSE)","v":0},{"$f":"VLOOKUP($D112,Vertices!$A$10:$F$203, 5, FALSE)","v":10},{"$f":"VLOOKUP($D112,Vertices!$A$10:$F$203, 6, FALSE)","v":0}]
[103,7,13,44,null,{"$f":"VLOOKUP($B113,Vertices!$A$10:$F$203, 3, FALSE)","v":10},{"$f":"VLOOKUP($B113,Vertices!$A$10:$F$203, 4, FALSE)","v":0},{"$f":"VLOOKUP($B113,Vertices!$A$10:$F$203, 5, FALSE)","v":0},{"$f":"VLOOKUP($B113,Vertices!$A$10:$F$203, 6, FALSE)","v":0},{"$f":"VLOOKUP($C113,Vertices!$A$10:$F$203, 3, FALSE)","v":20},{"$f":"VLOOKUP($C113,Vertices!$A$10:$F$203, 4, FALSE)","v":0},{"$f":"VLOOKUP($C113,Vertices!$A$10:$F$203, 5, FALSE)","v":0},{"$f":"VLOOKUP($C113,Vertices!$A$10:$F$203, 6, FALSE)","v":0},{"$f":"VLOOKUP($D113,Vertices!$A$10:$F$203, 3, FALSE)","v":20},{"$f":"VLOOKUP($D113,Vertices!$A$10:$F$203, 4, FALSE)","v":0},{"$f":"VLOOKUP($D113,Vertices!$A$10:$F$203, 5, FALSE)","v":10},{"$f":"VLOOKUP($D113,Vertices!$A$10:$F$203, 6, FALSE)","v":0}]
[104,7,44,43,null,{"$f":"VLOOKUP($B114,Vertices!$A$10:$F$203, 3, FALSE)","v":10},{"$f":"VLOOKUP($B114,Vertices!$A$10:$F$203, 4, FALSE)","v":0},{"$f":"VLOOKUP($B114,Vertices!$A$10:$F$203, 5, FALSE)","v":0},{"$f":"VLOOKUP($B114,Vertices!$A$10:$F$203, 6, FALSE)","v":0},{"$f":"VLOOKUP($C114,Vertices!$A$10:$F$203, 3, FALSE)","v":20},{"$f":"VLOOKUP($C114,Vertices!$A$10:$F$203, 4, FALSE)","v":0},{"$f":"VLOOKUP($C114,Vertices!$A$10:$F$203, 5, FALSE)","v":10},{"$f":"VLOOKUP($C114,Vertices!$A$10:$F$203, 6, FALSE)","v":0},{"$f":"VLOOKUP($D114,Vertices!$A$10:$F$203, 3, FALSE)","v":10},{"$f":"VLOOKUP($D114,Vertices!$A$10:$F$203, 4, FALSE)","v":0},{"$f":"VLOOKUP($D114,Vertices!$A$10:$F$203, 5, FALSE)","v":10},{"$f":"VLOOKUP($D114,Vertices!$A$10:$F$203, 6, FALSE)","v":0}]
[105,43,44,55,null,{"$f":"VLOOKUP($B115,Vertices!$A$10:$F$203, 3, FALSE)","v":10},{"$f":"VLOOKUP($B115,Vertices!$A$10:$F$203, 4, FALSE)","v":0},{"$f":"VLOOKUP($B115,Vertices!$A$10:$F$203, 5, FALSE)","v":10},{"$f":"VLOOKUP($B115,Vertices!$A$10:$F$203, 6, FALSE)","v":0},{"$f":"VLOOKUP($C115,Vertices!$A$10:$F$203, 3, FALSE)","v":20},{"$f":"VLOOKUP($C115,Vertices!$A$10:$F$203, 4, FALSE)","v":0},{"$f":"VLOOKUP($C115,Vertices!$A$10:$F$203, 5, FALSE)","v":10},{"$f":"VLOOKUP($C115,Vertices!$A$10:$F$203, 6, FALSE)","v":0},{"$f":"VLOOKUP($D115,Vertices!$A$10:$F$203, 3, FALSE)","v":20},{"$f":"VLOOKUP($D115,Vertices!$A$10:$F$203, 4, FALSE)","v":0},{"$f":"VLOOKUP($D115,Vertices!$A$10:$F$203, 5, FALSE)","v":20},{"$f":"VLOOKUP($D115,Vertices!$A$10:$F$203, 6, FALSE)","v":0}]
[106,43,55,54,null,{"$f":"VLOOKUP($B116,Vertices!$A$10:$F$203, 3, FALSE)","v":10},{"$f":"VLOOKUP($B116,Vertices!$A$10:$F$203, 4, FALSE)","v":0},{"$f":"VLOOKUP($B116,Vertices!$A$10:$F$203, 5, FALSE)","v":10},{"$f":"VLOOKUP($B116,Vertices!$A$10:$F$203, 6, FALSE)","v":0},{"$f":"VLOOKUP($C116,Vertices!$A$10:$F$203, 3, FALSE)","v":20},{"$f":"VLOOKUP($C116,Vertices!$A$10:$F$203, 4, FALSE)","v":0},{"$f":"VLOOKUP($C116,Vertices!$A$10:$F$203, 5, FALSE)","v":20},{"$f":"VLOOKUP($C116,Vertices!$A$10:$F$203, 6, FALSE)","v":0},{"$f":"VLOOKUP($D116,Vertices!$A$10:$F$203, 3, FALSE)","v":10},{"$f":"VLOOKUP($D116,Vertices!$A$10:$F$203, 4, FALSE)","v":0},{"$f":"VLOOKUP($D116,Vertices!$A$10:$F$203, 5, FALSE)","v":20},{"$f":"VLOOKUP($D116,Vertices!$A$10:$F$203, 6, FALSE)","v":0}]
[107,37,43,54,null,{"$f":"VLOOKUP($B117,Vertices!$A$10:$F$203, 3, FALSE)","v":0},{"$f":"VLOOKUP($B117,Vertices!$A$10:$F$203, 4, FALSE)","v":0},{"$f":"VLOOKUP($B117,Vertices!$A$10:$F$203, 5, FALSE)","v":10},{"$f":"VLOOKUP($B117,Vertices!$A$10:$F$203, 6, FALSE)","v":0},{"$f":"VLOOKUP($C117,Vertices!$A$10:$F$203, 3, FALSE)","v":10},{"$f":"VLOOKUP($C117,Vertices!$A$10:$F$203, 4, FALSE)","v":0},{"$f":"VLOOKUP($C117,Vertices!$A$10:$F$203, 5, FALSE)","v":10},{"$f":"VLOOKUP($C117,Vertices!$A$10:$F$203, 6, FALSE)","v":0},{"$f":"VLOOKUP($D117,Vertices!$A$10:$F$203, 3, FALSE)","v":10},{"$f":"VLOOKUP($D117,Vertices!$A$10:$F$203, 4, FALSE)","v":0},{"$f":"VLOOKUP($D117,Vertices!$A$10:$F$203, 5, FALSE)","v":20},{"$f":"VLOOKUP($D117,Vertices!$A$10:$F$203, 6, FALSE)","v":0}]
[108,37,54,48,null,{"$f":"VLOOKUP($B118,Vertices!$A$10:$F$203, 3, FALSE)","v":0},{"$f":"VLOOKUP($B118,Vertices!$A$10:$F$203, 4, FALSE)","v":0},{"$f":"VLOOKUP($B118,Vertices!$A$10:$F$203, 5, FALSE)","v":10},{"$f":"VLOOKUP($B118,Vertices!$A$10:$F$203, 6, FALSE)","v":0},{"$f":"VLOOKUP($C118,Vertices!$A$10:$F$203, 3, FALSE)","v":10},{"$f":"VLOOKUP($C118,Vertices!$A$10:$F$203, 4, FALSE)","v":0},{"$f":"VLOOKUP($C118,Vertices!$A$10:$F$203, 5, FALSE)","v":20},{"$f":"VLOOKUP($C118,Vertices!$A$10:$F$203, 6, FALSE)","v":0},{"$f":"VLOOKUP($D118,Vertices!$A$10:$F$203, 3, FALSE)","v":0},{"$f":"VLOOKUP($D118,Vertices!$A$10:$F$203, 4, FALSE)","v":0},{"$f":"VLOOKUP($D118,Vertices!$A$10:$F$203, 5, FALSE)","v":20},{"$f":"VLOOKUP($D118,Vertices!$A$10:$F$203, 6, FALSE)","v":0}]
[109,13,19,45,null,{"$f":"VLOOKUP($B119,Vertices!$A$10:$F$203, 3, FALSE)","v":20},{"$f":"VLOOKUP($B119,Vertices!$A$10:$F$203, 4, FALSE)","v":0},{"$f":"VLOOKUP($B119,Vertices!$A$10:$F$203, 5, FALSE)","v":0},{"$f":"VLOOKUP($B119,Vertices!$A$10:$F$203, 6, FALSE)","v":0},{"$f":"VLOOKUP($C119,Vertices!$A$10:$F$203, 3, FALSE)","v":40},{"$f":"VLOOKUP($C119,Vertices!$A$10:$F$203, 4, FALSE)","v":0},{"$f":"VLOOKUP($C119,Vertices!$A$10:$F$203, 5, FALSE)","v":0},{"$f":"VLOOKUP($C119,Vertices!$A$10:$F$203, 6, FALSE)","v":0},{"$f":"VLOOKUP($D119,Vertices!$A$10:$F$203, 3, FALSE)","v":40},{"$f":"VLOOKUP($D119,Vertices!$A$10:$F$203, 4, FALSE)","v":0},{"$f":"VLOOKUP($D119,Vertices!$A$10:$F$203, 5, FALSE)","v":10},{"$f":"VLOOKUP($D119,Vertices!$A$10:$F$203, 6, FALSE)","v":0}]
[110,13,45,44,null,{"$f":"VLOOKUP($B120,Vertices!$A$10:$F$203, 3, FALSE)","v":20},{"$f":"VLOOKUP($B120,Vertices!$A$10:$F$203, 4, FALSE)","v":0},{"$f":"VLOOKUP($B120,Vertices!$A$10:$F$203, 5, FALSE)","v":0},{"$f":"VLOOKUP($B120,Vertices!$A$10:$F$203, 6, FALSE)","v":0},{"$f":"VLOOKUP($C120,Vertices!$A$10:$F$203, 3, FALSE)","v":40},{"$f":"VLOOKUP($C120,Vertices!$A$10:$F$203, 4, FALSE)","v":0},{"$f":"VLOOKUP($C120,Vertices!$A$10:$F$203, 5, FALSE)","v":10},{"$f":"VLOOKUP($C120,Vertices!$A$10:$F$203, 6, FALSE)","v":0},{"$f":"VLOOKUP($D120,Vertices!$A$10:$F$203, 3, FALSE)","v":20},{"$f":"VLOOKUP($D120,Vertices!$A$10:$F$203, 4, FALSE)","v":0},{"$f":"VLOOKUP($D120,Vertices!$A$10:$F$203, 5, FALSE)","v":10},{"$f":"VLOOKUP($D120,Vertices!$A$10:$F$203, 6, FALSE)","v":0}]
[111,44,45,56,null,{"$f":"VLOOKUP($B121,Vertices!$A$10:$F$203, 3, FALSE)","v":20},{"$f":"VLOOKUP($B121,Vertices!$A$10:$F$203, 4, FALSE)","v":0},{"$f":"VLOOKUP($B121,Vertices!$A$10:$F$203, 5, FALSE)","v":10},{"$f":"VLOOKUP($B121,Vertices!$A$10:$F$203, 6, FALSE)","v":0},{"$f":"VLOOKUP($C121,Vertices!$A$10:$F$203, 3, FALSE)","v":40},{"$f":"VLOOKUP($C121,Vertices!$A$10:$F$203, 4, FALSE)","v":0},{"$f":"VLOOKUP($C121,Vertices!$A$10:$F$203, 5, FALSE)","v":10},{"$f":"VLOOKUP($C121,Vertices!$A$10:$F$203, 6, FALSE)","v":0},{"$f":"VLOOKUP($D121,Vertices!$A$10:$F$203, 3, FALSE)","v":40},{"$f":"VLOOKUP($D121,Vertices!$A$10:$F$203, 4, FALSE)","v":0},{"$f":"VLOOKUP($D121,Vertices!$A$10:$F$203, 5, FALSE)","v":20},{"$f":"VLOOKUP($D121,Vertices!$A$10:$F$203, 6, FALSE)","v":0}]
[112,44,56,55,null,{"$f":"VLOOKUP($B122,Vertices!$A$10:$F$203, 3, FALSE)","v":20},{"$f":"VLOOKUP($B122,Vertices!$A$10:$F$203, 4, FALSE)","v":0},{"$f":"VLOOKUP($B122,Vertices!$A$10:$F$203, 5, FALSE)","v":10},{"$f":"VLOOKUP($B122,Vertices!$A$10:$F$203, 6, FALSE)","v":0},{"$f":"VLOOKUP($C122,Vertices!$A$10:$F$203, 3, FALSE)","v":40},{"$f":"VLOOKUP($C122,Vertices!$A$10:$F$203, 4, FALSE)","v":0},{"$f":"VLOOKUP($C122,Vertices!$A$10:$F$203, 5, FALSE)","v":20},{"$f":"VLOOKUP($C122,Vertices!$A$10:$F$203, 6, FALSE)","v":0},{"$f":"VLOOKUP($D122,Vertices!$A$10:$F$203, 3, FALSE)","v":20},{"$f":"VLOOKUP($D122,Vertices!$A$10:$F$203, 4, FALSE)","v":0},{"$f":"VLOOKUP($D122,Vertices!$A$10:$F$203, 5, FALSE)","v":20},{"$f":"VLOOKUP($D122,Vertices!$A$10:$F$203, 6, FALSE)","v":0}]
[113,55,56,67,null,{"$f":"VLOOKUP($B123,Vertices!$A$10:$F$203, 3, FALSE)","v":20},{"$f":"VLOOKUP($B123,Vertices!$A$10:$F$203, 4, FALSE)","v":0},{"$f":"VLOOKUP($B123,Vertices!$A$10:$F$203, 5, FALSE)","v":20},{"$f":"VLOOKUP($B123,Vertices!$A$10:$F$203, 6, FALSE)","v":0},{"$f":"VLOOKUP($C123,Vertices!$A$10:$F$203, 3, FALSE)","v":40},{"$f":"VLOOKUP($C123,Vertices!$A$10:$F$203, 4, FALSE)","v":0},{"$f":"VLOOKUP($C123,Vertices!$A$10:$F$203, 5, FALSE)","v":20},{"$f":"VLOOKUP($C123,Vertices!$A$10:$F$203, 6, FALSE)","v":0},{"$f":"VLOOKUP($D123,Vertices!$A$10:$F$203, 3, FALSE)","v":40},{"$f":"VLOOKUP($D123,Vertices!$A$10:$F$203, 4, FALSE)","v":0},{"$f":"VLOOKUP($D123,Vertices!$A$10:$F$203, 5, FALSE)","v":40},{"$f":"VLOOKUP($D123,Vertices!$A$10:$F$203, 6, FALSE)","v":0}]
[114,55,67,66,null,{"$f":"VLOOKUP($B124,Vertices!$A$10:$F$203, 3, FALSE)","v":20},{"$f":"VLOOKUP($B124,Vertices!$A$10:$F$203, 4, FALSE)","v":0},{"$f":"VLOOKUP($B124,Vertices!$A$10:$F$203, 5, FALSE)","v":20},{"$f":"VLOOKUP($B124,Vertices!$A$10:$F$203, 6, FALSE)","v":0},{"$f":"VLOOKUP($C124,Vertices!$A$10:$F$203, 3, FALSE)","v":40},{"$f":"VLOOKUP($C124,Vertices!$A$10:$F$203, 4, FALSE)","v":0},{"$f":"VLOOKUP($C124,Vertices!$A$10:$F$203, 5, FALSE)","v":40},{"$f":"VLOOKUP($C124,Vertices!$A$10:$F$203, 6, FALSE)","v":0},{"$f":"VLOOKUP($D124,Vertices!$A$10:$F$203, 3, FALSE)","v":20},{"$f":"VLOOKUP($D124,Vertices!$A$10:$F$203, 4, FALSE)","v":0},{"$f":"VLOOKUP($D124,Vertices!$A$10:$F$203, 5, FALSE)","v":40},{"$f":"VLOOKUP($D124,Vertices!$A$10:$F$203, 6, FALSE)","v":0}]
[115,54,55,66,null,{"$f":"VLOOKUP($B125,Vertices!$A$10:$F$203, 3, FALSE)","v":10},{"$f":"VLOOKUP($B125,Vertices!$A$10:$F$203, 4, FALSE)","v":0},{"$f":"VLOOKUP($B125,Vertices!$A$10:$F$203, 5, FALSE)","v":20},{"$f":"VLOOKUP($B125,Vertices!$A$10:$F$203, 6, FALSE)","v":0},{"$f":"VLOOKUP($C125,Vertices!$A$10:$F$203, 3, FALSE)","v":20},{"$f":"VLOOKUP($C125,Vertices!$A$10:$F$203, 4, FALSE)","v":0},{"$f":"VLOOKUP($C125,Vertices!$A$10:$F$203, 5, FALSE)","v":20},{"$f":"VLOOKUP($C125,Vertices!$A$10:$F$203, 6, FALSE)","v":0},{"$f":"VLOOKUP($D125,Vertices!$A$10:$F$203, 3, FALSE)","v":20},{"$f":"VLOOKUP($D125,Vertices!$A$10:$F$203, 4, FALSE)","v":0},{"$f":"VLOOKUP($D125,Vertices!$A$10:$F$203, 5, FALSE)","v":40},{"$f":"VLOOKUP($D125,Vertices!$A$10:$F$203, 6, FALSE)","v":0}]
[116,54,66,65,null,{"$f":"VLOOKUP($B126,Vertices!$A$10:$F$203, 3, FALSE)","v":10},{"$f":"VLOOKUP($B126,Vertices!$A$10:$F$203, 4, FALSE)","v":0},{"$f":"VLOOKUP($B126,Vertices!$A$10:$F$203, 5, FALSE)","v":20},{"$f":"VLOOKUP($B126,Vertices!$A$10:$F$203, 6, FALSE)","v":0},{"$f":"VLOOKUP($C126,Vertices!$A$10:$F$203, 3, FALSE)","v":20},{"$f":"VLOOKUP($C126,Vertices!$A$10:$F$203, 4, FALSE)","v":0},{"$f":"VLOOKUP($C126,Vertices!$A$10:$F$203, 5, FALSE)","v":40},{"$f":"VLOOKUP($C126,Vertices!$A$10:$F$203, 6, FALSE)","v":0},{"$f":"VLOOKUP($D126,Vertices!$A$10:$F$203, 3, FALSE)","v":10},{"$f":"VLOOKUP($D126,Vertices!$A$10:$F$203, 4, FALSE)","v":0},{"$f":"VLOOKUP($D126,Vertices!$A$10:$F$203, 5, FALSE)","v":40},{"$f":"VLOOKUP($D126,Vertices!$A$10:$F$203, 6, FALSE)","v":0}]
[117,48,54,65,null,{"$f":"VLOOKUP($B127,Vertices!$A$10:$F$203, 3, FALSE)","v":0},{"$f":"VLOOKUP($B127,Vertices!$A$10:$F$203, 4, FALSE)","v":0},{"$f":"VLOOKUP($B127,Vertices!$A$10:$F$203, 5, FALSE)","v":20},{"$f":"VLOOKUP($B127,Vertices!$A$10:$F$203, 6, FALSE)","v":0},{"$f":"VLOOKUP($C127,Vertices!$A$10:$F$203, 3, FALSE)","v":10},{"$f":"VLOOKUP($C127,Vertices!$A$10:$F$203, 4, FALSE)","v":0},{"$f":"VLOOKUP($C127,Vertices!$A$10:$F$203, 5, FALSE)","v":20},{"$f":"VLOOKUP($C127,Vertices!$A$10:$F$203, 6, FALSE)","v":0},{"$f":"VLOOKUP($D127,Vertices!$A$10:$F$203, 3, FALSE)","v":10},{"$f":"VLOOKUP($D127,Vertices!$A$10:$F$203, 4, FALSE)","v":0},{"$f":"VLOOKUP($D127,Vertices!$A$10:$F$203, 5, FALSE)","v":40},{"$f":"VLOOKUP($D127,Vertices!$A$10:$F$203, 6, FALSE)","v":0}]
[118,48,65,59,null,{"$f":"VLOOKUP($B128,Vertices!$A$10:$F$203, 3, FALSE)","v":0},{"$f":"VLOOKUP($B128,Vertices!$A$10:$F$203, 4, FALSE)","v":0},{"$f":"VLOOKUP($B128,Vertices!$A$10:$F$203, 5, FALSE)","v":20},{"$f":"VLOOKUP($B128,Vertices!$A$10:$F$203, 6, FALSE)","v":0},{"$f":"VLOOKUP($C128,Vertices!$A$10:$F$203, 3, FALSE)","v":10},{"$f":"VLOOKUP($C128,Vertices!$A$10:$F$203, 4, FALSE)","v":0},{"$f":"VLOOKUP($C128,Vertices!$A$10:$F$203, 5, FALSE)","v":40},{"$f":"VLOOKUP($C128,Vertices!$A$10:$F$203, 6, FALSE)","v":0},{"$f":"VLOOKUP($D128,Vertices!$A$10:$F$203, 3, FALSE)","v":0},{"$f":"VLOOKUP($D128,Vertices!$A$10:$F$203, 4, FALSE)","v":0},{"$f":"VLOOKUP($D128,Vertices!$A$10:$F$203, 5, FALSE)","v":40},{"$f":"VLOOKUP($D128,Vertices!$A$10:$F$203, 6, FALSE)","v":0}]
[119,19,25,46,null,{"$f":"VLOOKUP($B129,Vertices!$A$10:$F$203, 3, FALSE)","v":40},{"$f":"VLOOKUP($B129,Vertices!$A$10:$F$203, 4, FALSE)","v":0},{"$f":"VLOOKUP($B129,Vertices!$A$10:$F$203, 5, FALSE)","v":0},{"$f":"VLOOKUP($B129,Vertices!$A$10:$F$203, 6, FALSE)","v":0},{"$f":"VLOOKUP($C129,Vertices!$A$10:$F$203, 3, FALSE)","v":70},{"$f":"VLOOKUP($C129,Vertices!$A$10:$F$203, 4, FALSE)","v":0},{"$f":"VLOOKUP($C129,Vertices!$A$10:$F$203, 5, FALSE)","v":0},{"$f":"VLOOKUP($C129,Vertices!$A$10:$F$203, 6, FALSE)","v":0},{"$f":"VLOOKUP($D129,Vertices!$A$10:$F$203, 3, FALSE)","v":70},{"$f":"VLOOKUP($D129,Vertices!$A$10:$F$203, 4, FALSE)","v":0},{"$f":"VLOOKUP($D129,Vertices!$A$10:$F$203, 5, FALSE)","v":10},{"$f":"VLOOKUP($D129,Vertices!$A$10:$F$203, 6, FALSE)","v":0}]
[120,19,46,45,null,{"$f":"VLOOKUP($B130,Vertices!$A$10:$F$203, 3, FALSE)","v":40},{"$f":"VLOOKUP($B130,Vertices!$A$10:$F$203, 4, FALSE)","v":0},{"$f":"VLOOKUP($B130,Vertices!$A$10:$F$203, 5, FALSE)","v":0},{"$f":"VLOOKUP($B130,Vertices!$A$10:$F$203, 6, FALSE)","v":0},{"$f":"VLOOKUP($C130,Vertices!$A$10:$F$203, 3, FALSE)","v":70},{"$f":"VLOOKUP($C130,Vertices!$A$10:$F$203, 4, FALSE)","v":0},{"$f":"VLOOKUP($C130,Vertices!$A$10:$F$203, 5, FALSE)","v":10},{"$f":"VLOOKUP($C130,Vertices!$A$10:$F$203, 6, FALSE)","v":0},{"$f":"VLOOKUP($D130,Vertices!$A$10:$F$203, 3, FALSE)","v":40},{"$f":"VLOOKUP($D130,Vertices!$A$10:$F$203, 4, FALSE)","v":0},{"$f":"VLOOKUP($D130,Vertices!$A$10:$F$203, 5, FALSE)","v":10},{"$f":"VLOOKUP($D130,Vertices!$A$10:$F$203, 6, FALSE)","v":0}]
[121,45,46,57,null,{"$f":"VLOOKUP($B131,Vertices!$A$10:$F$203, 3, FALSE)","v":40},{"$f":"VLOOKUP($B131,Vertices!$A$10:$F$203, 4, FALSE)","v":0},{"$f":"VLOOKUP($B131,Vertices!$A$10:$F$203, 5, FALSE)","v":10},{"$f":"VLOOKUP($B131,Vertices!$A$10:$F$203, 6, FALSE)","v":0},{"$f":"VLOOKUP($C131,Vertices!$A$10:$F$203, 3, FALSE)","v":70},{"$f":"VLOOKUP($C131,Vertices!$A$10:$F$203, 4, FALSE)","v":0},{"$f":"VLOOKUP($C131,Vertices!$A$10:$F$203, 5, FALSE)","v":10},{"$f":"VLOOKUP($C131,Vertices!$A$10:$F$203, 6, FALSE)","v":0},{"$f":"VLOOKUP($D131,Vertices!$A$10:$F$203, 3, FALSE)","v":70},{"$f":"VLOOKUP($D131,Vertices!$A$10:$F$203, 4, FALSE)","v":0},{"$f":"VLOOKUP($D131,Vertices!$A$10:$F$203, 5, FALSE)","v":20},{"$f":"VLOOKUP($D131,Vertices!$A$10:$F$203, 6, FALSE)","v":0}]
[122,45,57,56,null,{"$f":"VLOOKUP($B132,Vertices!$A$10:$F$203, 3, FALSE)","v":40},{"$f":"VLOOKUP($B132,Vertices!$A$10:$F$203, 4, FALSE)","v":0},{"$f":"VLOOKUP($B132,Vertices!$A$10:$F$203, 5, FALSE)","v":10},{"$f":"VLOOKUP($B132,Vertices!$A$10:$F$203, 6, FALSE)","v":0},{"$f":"VLOOKUP($C132,Vertices!$A$10:$F$203, 3, FALSE)","v":70},{"$f":"VLOOKUP($C132,Vertices!$A$10:$F$203, 4, FALSE)","v":0},{"$f":"VLOOKUP($C132,Vertices!$A$10:$F$203, 5, FALSE)","v":20},{"$f":"VLOOKUP($C132,Vertices!$A$10:$F$203, 6, FALSE)","v":0},{"$f":"VLOOKUP($D132,Vertices!$A$10:$F$203, 3, FALSE)","v":40},{"$f":"VLOOKUP($D132,Vertices!$A$10:$F$203, 4, FALSE)","v":0},{"$f":"VLOOKUP($D132,Vertices!$A$10:$F$203, 5, FALSE)","v":20},{"$f":"VLOOKUP($D132,Vertices!$A$10:$F$203, 6, FALSE)","v":0}]
[123,56,57,68,null,{"$f":"VLOOKUP($B133,Vertices!$A$10:$F$203, 3, FALSE)","v":40},{"$f":"VLOOKUP($B133,Vertices!$A$10:$F$203, 4, FALSE)","v":0},{"$f":"VLOOKUP($B133,Vertices!$A$10:$F$203, 5, FALSE)","v":20},{"$f":"VLOOKUP($B133,Vertices!$A$10:$F$203, 6, FALSE)","v":0},{"$f":"VLOOKUP($C133,Vertices!$A$10:$F$203, 3, FALSE)","v":70},{"$f":"VLOOKUP($C133,Vertices!$A$10:$F$203, 4, FALSE)","v":0},{"$f":"VLOOKUP($C133,Vertices!$A$10:$F$203, 5, FALSE)","v":20},{"$f":"VLOOKUP($C133,Vertices!$A$10:$F$203, 6, FALSE)","v":0},{"$f":"VLOOKUP($D133,Vertices!$A$10:$F$203, 3, FALSE)","v":70},{"$f":"VLOOKUP($D133,Vertices!$A$10:$F$203, 4, FALSE)","v":0},{"$f":"VLOOKUP($D133,Vertices!$A$10:$F$203, 5, FALSE)","v":40},{"$f":"VLOOKUP($D133,Vertices!$A$10:$F$203, 6, FALSE)","v":0}]
[124,56,68,67,null,{"$f":"VLOOKUP($B134,Vertices!$A$10:$F$203, 3, FALSE)","v":40},{"$f":"VLOOKUP($B134,Vertices!$A$10:$F$203, 4, FALSE)","v":0},{"$f":"VLOOKUP($B134,Vertices!$A$10:$F$203, 5, FALSE)","v":20},{"$f":"VLOOKUP($B134,Vertices!$A$10:$F$203, 6, FALSE)","v":0},{"$f":"VLOOKUP($C134,Vertices!$A$10:$F$203, 3, FALSE)","v":70},{"$f":"VLOOKUP($C134,Vertices!$A$10:$F$203, 4, FALSE)","v":0},{"$f":"VLOOKUP($C134,Vertices!$A$10:$F$203, 5, FALSE)","v":40},{"$f":"VLOOKUP($C134,Vertices!$A$10:$F$203, 6, FALSE)","v":0},{"$f":"VLOOKUP($D134,Vertices!$A$10:$F$203, 3, FALSE)","v":40},{"$f":"VLOOKUP($D134,Vertices!$A$10:$F$203, 4, FALSE)","v":0},{"$f":"VLOOKUP($D134,Vertices!$A$10:$F$203, 5, FALSE)","v":40},{"$f":"VLOOKUP($D134,Vertices!$A$10:$F$203, 6, FALSE)","v":0}]
[125,67,68,79,null,{"$f":"VLOOKUP($B135,Vertices!$A$10:$F$203, 3, FALSE)","v":40},{"$f":"VLOOKUP($B135,Vertices!$A$10:$F$203, 4, FALSE)","v":0},{"$f":"VLOOKUP($B135,Vertices!$A$10:$F$203, 5, FALSE)","v":40},{"$f":"VLOOKUP($B135,Vertices!$A$10:$F$203, 6, FALSE)","v":0},{"$f":"VLOOKUP($C135,Vertices!$A$10:$F$203, 3, FALSE)","v":70},{"$f":"VLOOKUP($C135,Vertices!$A$10:$F$203, 4, FALSE)","v":0},{"$f":"VLOOKUP($C135,Vertices!$A$10:$F$203, 5, FALSE)","v":40},{"$f":"VLOOKUP($C135,Vertices!$A$10:$F$203, 6, FALSE)","v":0},{"$f":"VLOOKUP($D135,Vertices!$A$10:$F$203, 3, FALSE)","v":70},{"$f":"VLOOKUP($D135,Vertices!$A$10:$F$203, 4, FALSE)","v":0},{"$f":"VLOOKUP($D135,Vertices!$A$10:$F$203, 5, FALSE)","v":70},{"$f":"VLOOKUP($D135,Vertices!$A$10:$F$203, 6, FALSE)","v":0}]
[126,67,79,78,null,{"$f":"VLOOKUP($B136,Vertices!$A$10:$F$203, 3, FALSE)","v":40},{"$f":"VLOOKUP($B136,Vertices!$A$10:$F$203, 4, FALSE)","v":0},{"$f":"VLOOKUP($B136,Vertices!$A$10:$F$203, 5, FALSE)","v":40},{"$f":"VLOOKUP($B136,Vertices!$A$10:$F$203, 6, FALSE)","v":0},{"$f":"VLOOKUP($C136,Vertices!$A$10:$F$203, 3, FALSE)","v":70},{"$f":"VLOOKUP($C136,Vertices!$A$10:$F$203, 4, FALSE)","v":0},{"$f":"VLOOKUP($C136,Vertices!$A$10:$F$203, 5, FALSE)","v":70},{"$f":"VLOOKUP($C136,Vertices!$A$10:$F$203, 6, FALSE)","v":0},{"$f":"VLOOKUP($D136,Vertices!$A$10:$F$203, 3, FALSE)","v":40},{"$f":"VLOOKUP($D136,Vertices!$A$10:$F$203, 4, FALSE)","v":0},{"$f":"VLOOKUP($D136,Vertices!$A$10:$F$203, 5, FALSE)","v":70},{"$f":"VLOOKUP($D136,Vertices!$A$10:$F$203, 6, FALSE)","v":0}]
[127,66,67,78,null,{"$f":"VLOOKUP($B137,Vertices!$A$10:$F$203, 3, FALSE)","v":20},{"$f":"VLOOKUP($B137,Vertices!$A$10:$F$203, 4, FALSE)","v":0},{"$f":"VLOOKUP($B137,Vertices!$A$10:$F$203, 5, FALSE)","v":40},{"$f":"VLOOKUP($B137,Vertices!$A$10:$F$203, 6, FALSE)","v":0},{"$f":"VLOOKUP($C137,Vertices!$A$10:$F$203, 3, FALSE)","v":40},{"$f":"VLOOKUP($C137,Vertices!$A$10:$F$203, 4, FALSE)","v":0},{"$f":"VLOOKUP($C137,Vertices!$A$10:$F$203, 5, FALSE)","v":40},{"$f":"VLOOKUP($C137,Vertices!$A$10:$F$203, 6, FALSE)","v":0},{"$f":"VLOOKUP($D137,Vertices!$A$10:$F$203, 3, FALSE)","v":40},{"$f":"VLOOKUP($D137,Vertices!$A$10:$F$203, 4, FALSE)","v":0},{"$f":"VLOOKUP($D137,Vertices!$A$10:$F$203, 5, FALSE)","v":70},{"$f":"VLOOKUP($D137,Vertices!$A$10:$F$203, 6, FALSE)","v":0}]
[128,66,78,77,null,{"$f":"VLOOKUP($B138,Vertices!$A$10:$F$203, 3, FALSE)","v":20},{"$f":"VLOOKUP($B138,Vertices!$A$10:$F$203, 4, FALSE)","v":0},{"$f":"VLOOKUP($B138,Vertices!$A$10:$F$203, 5, FALSE)","v":40},{"$f":"VLOOKUP($B138,Vertices!$A$10:$F$203, 6, FALSE)","v":0},{"$f":"VLOOKUP($C138,Vertices!$A$10:$F$203, 3, FALSE)","v":40},{"$f":"VLOOKUP($C138,Vertices!$A$10:$F$203, 4, FALSE)","v":0},{"$f":"VLOOKUP($C138,Vertices!$A$10:$F$203, 5, FALSE)","v":70},{"$f":"VLOOKUP($C138,Vertices!$A$10:$F$203, 6, FALSE)","v":0},{"$f":"VLOOKUP($D138,Vertices!$A$10:$F$203, 3, FALSE)","v":20},{"$f":"VLOOKUP($D138,Vertices!$A$10:$F$203, 4, FALSE)","v":0},{"$f":"VLOOKUP($D138,Vertices!$A$10:$F$203, 5, FALSE)","v":70},{"$f":"VLOOKUP($D138,Vertices!$A$10:$F$203, 6, FALSE)","v":0}]
[129,65,66,77,null,{"$f":"VLOOKUP($B139,Vertices!$A$10:$F$203, 3, FALSE)","v":10},{"$f":"VLOOKUP($B139,Vertices!$A$10:$F$203, 4, FALSE)","v":0},{"$f":"VLOOKUP($B139,Vertices!$A$10:$F$203, 5, FALSE)","v":40},{"$f":"VLOOKUP($B139,Vertices!$A$10:$F$203, 6, FALSE)","v":0},{"$f":"VLOOKUP($C139,Vertices!$A$10:$F$203, 3, FALSE)","v":20},{"$f":"VLOOKUP($C139,Vertices!$A$10:$F$203, 4, FALSE)","v":0},{"$f":"VLOOKUP($C139,Vertices!$A$10:$F$203, 5, FALSE)","v":40},{"$f":"VLOOKUP($C139,Vertices!$A$10:$F$203, 6, FALSE)","v":0},{"$f":"VLOOKUP($D139,Vertices!$A$10:$F$203, 3, FALSE)","v":20},{"$f":"VLOOKUP($D139,Vertices!$A$10:$F$203, 4, FALSE)","v":0},{"$f":"VLOOKUP($D139,Vertices!$A$10:$F$203, 5, FALSE)","v":70},{"$f":"VLOOKUP($D139,Vertices!$A$10:$F$203, 6, FALSE)","v":0}]
[130,65,77,76,null,{"$f":"VLOOKUP($B140,Vertices!$A$10:$F$203, 3, FALSE)","v":10},{"$f":"VLOOKUP($B140,Vertices!$A$10:$F$203, 4, FALSE)","v":0},{"$f":"VLOOKUP($B140,Vertices!$A$10:$F$203, 5, FALSE)","v":40},{"$f":"VLOOKUP($B140,Vertices!$A$10:$F$203, 6, FALSE)","v":0},{"$f":"VLOOKUP($C140,Vertices!$A$10:$F$203, 3, FALSE)","v":20},{"$f":"VLOOKUP($C140,Vertices!$A$10:$F$203, 4, FALSE)","v":0},{"$f":"VLOOKUP($C140,Vertices!$A$10:$F$203, 5, FALSE)","v":70},{"$f":"VLOOKUP($C140,Vertices!$A$10:$F$203, 6, FALSE)","v":0},{"$f":"VLOOKUP($D140,Vertices!$A$10:$F$203, 3, FALSE)","v":10},{"$f":"VLOOKUP($D140,Vertices!$A$10:$F$203, 4, FALSE)","v":0},{"$f":"VLOOKUP($D140,Vertices!$A$10:$F$203, 5, FALSE)","v":70},{"$f":"VLOOKUP($D140,Vertices!$A$10:$F$203, 6, FALSE)","v":0}]
[131,59,65,76,null,{"$f":"VLOOKUP($B141,Vertices!$A$10:$F$203, 3, FALSE)","v":0},{"$f":"VLOOKUP($B141,Vertices!$A$10:$F$203, 4, FALSE)","v":0},{"$f":"VLOOKUP($B141,Vertices!$A$10:$F$203, 5, FALSE)","v":40},{"$f":"VLOOKUP($B141,Vertices!$A$10:$F$203, 6, FALSE)","v":0},{"$f":"VLOOKUP($C141,Vertices!$A$10:$F$203, 3, FALSE)","v":10},{"$f":"VLOOKUP($C141,Vertices!$A$10:$F$203, 4, FALSE)","v":0},{"$f":"VLOOKUP($C141,Vertices!$A$10:$F$203, 5, FALSE)","v":40},{"$f":"VLOOKUP($C141,Vertices!$A$10:$F$203, 6, FALSE)","v":0},{"$f":"VLOOKUP($D141,Vertices!$A$10:$F$203, 3, FALSE)","v":10},{"$f":"VLOOKUP($D141,Vertices!$A$10:$F$203, 4, FALSE)","v":0},{"$f":"VLOOKUP($D141,Vertices!$A$10:$F$203, 5, FALSE)","v":70},{"$f":"VLOOKUP($D141,Vertices!$A$10:$F$203, 6, FALSE)","v":0}]
[132,59,76,70,null,{"$f":"VLOOKUP($B142,Vertices!$A$10:$F$203, 3, FALSE)","v":0},{"$f":"VLOOKUP($B142,Vertices!$A$10:$F$203, 4, FALSE)","v":0},{"$f":"VLOOKUP($B142,Vertices!$A$10:$F$203, 5, FALSE)","v":40},{"$f":"VLOOKUP($B142,Vertices!$A$10:$F$203, 6, FALSE)","v":0},{"$f":"VLOOKUP($C142,Vertices!$A$10:$F$203, 3, FALSE)","v":10},{"$f":"VLOOKUP($C142,Vertices!$A$10:$F$203, 4, FALSE)","v":0},{"$f":"VLOOKUP($C142,Vertices!$A$10:$F$203, 5, FALSE)","v":70},{"$f":"VLOOKUP($C142,Vertices!$A$10:$F$203, 6, FALSE)","v":0},{"$f":"VLOOKUP($D142,Vertices!$A$10:$F$203, 3, FALSE)","v":0},{"$f":"VLOOKUP($D142,Vertices!$A$10:$F$203, 4, FALSE)","v":0},{"$f":"VLOOKUP($D142,Vertices!$A$10:$F$203, 5, FALSE)","v":70},{"$f":"VLOOKUP($D142,Vertices!$A$10:$F$203, 6, FALSE)","v":0}]
[133,25,31,47,null,{"$f":"VLOOKUP($B143,Vertices!$A$10:$F$203, 3, FALSE)","v":70},{"$f":"VLOOKUP($B143,Vertices!$A$10:$F$203, 4, FALSE)","v":0},{"$f":"VLOOKUP($B143,Vertices!$A$10:$F$203, 5, FALSE)","v":0},{"$f":"VLOOKUP($B143,Vertices!$A$10:$F$203, 6, FALSE)","v":0},{"$f":"VLOOKUP($C143,Vertices!$A$10:$F$203, 3, FALSE)","v":100},{"$f":"VLOOKUP($C143,Vertices!$A$10:$F$203, 4, FALSE)","v":0},{"$f":"VLOOKUP($C143,Vertices!$A$10:$F$203, 5, FALSE)","v":0},{"$f":"VLOOKUP($C143,Vertices!$A$10:$F$203, 6, FALSE)","v":0},{"$f":"VLOOKUP($D143,Vertices!$A$10:$F$203, 3, FALSE)","v":100},{"$f":"VLOOKUP($D143,Vertices!$A$10:$F$203, 4, FALSE)","v":0},{"$f":"VLOOKUP($D143,Vertices!$A$10:$F$203, 5, FALSE)","v":10},{"$f":"VLOOKUP($D143,Vertices!$A$10:$F$203, 6, FALSE)","v":0}]
[134,25,47,46,null,{"$f":"VLOOKUP($B144,Vertices!$A$10:$F$203, 3, FALSE)","v":70},{"$f":"VLOOKUP($B144,Vertices!$A$10:$F$203, 4, FALSE)","v":0},{"$f":"VLOOKUP($B144,Vertices!$A$10:$F$203, 5, FALSE)","v":0},{"$f":"VLOOKUP($B144,Vertices!$A$10:$F$203, 6, FALSE)","v":0},{"$f":"VLOOKUP($C144,Vertices!$A$10:$F$203, 3, FALSE)","v":100},{"$f":"VLOOKUP($C144,Vertices!$A$10:$F$203, 4, FALSE)","v":0},{"$f":"VLOOKUP($C144,Vertices!$A$10:$F$203, 5, FALSE)","v":10},{"$f":"VLOOKUP($C144,Vertices!$A$10:$F$203, 6, FALSE)","v":0},{"$f":"VLOOKUP($D144,Vertices!$A$10:$F$203, 3, FALSE)","v":70},{"$f":"VLOOKUP($D144,Vertices!$A$10:$F$203, 4, FALSE)","v":0},{"$f":"VLOOKUP($D144,Vertices!$A$10:$F$203, 5, FALSE)","v":10},{"$f":"VLOOKUP($D144,Vertices!$A$10:$F$203, 6, FALSE)","v":0}]
[135,46,47,58,null,{"$f":"VLOOKUP($B145,Vertices!$A$10:$F$203, 3, FALSE)","v":70},{"$f":"VLOOKUP($B145,Vertices!$A$10:$F$203, 4, FALSE)","v":0},{"$f":"VLOOKUP($B145,Vertices!$A$10:$F$203, 5, FALSE)","v":10},{"$f":"VLOOKUP($B145,Vertices!$A$10:$F$203, 6, FALSE)","v":0},{"$f":"VLOOKUP($C145,Vertices!$A$10:$F$203, 3, FALSE)","v":100},{"$f":"VLOOKUP($C145,Vertices!$A$10:$F$203, 4, FALSE)","v":0},{"$f":"VLOOKUP($C145,Vertices!$A$10:$F$203, 5, FALSE)","v":10},{"$f":"VLOOKUP($C145,Vertices!$A$10:$F$203, 6, FALSE)","v":0},{"$f":"VLOOKUP($D145,Vertices!$A$10:$F$203, 3, FALSE)","v":100},{"$f":"VLOOKUP($D145,Vertices!$A$10:$F$203, 4, FALSE)","v":0},{"$f":"VLOOKUP($D145,Vertices!$A$10:$F$203, 5, FALSE)","v":20},{"$f":"VLOOKUP($D145,Vertices!$A$10:$F$203, 6, FALSE)","v":0}]
[136,46,58,57,null,{"$f":"VLOOKUP($B146,Vertices!$A$10:$F$203, 3, FALSE)","v":70},{"$f":"VLOOKUP($B146,Vertices!$A$10:$F$203, 4, FALSE)","v":0},{"$f":"VLOOKUP($B146,Vertices!$A$10:$F$203, 5, FALSE)","v":10},{"$f":"VLOOKUP($B146,Vertices!$A$10:$F$203, 6, FALSE)","v":0},{"$f":"VLOOKUP($C146,Vertices!$A$10:$F$203, 3, FALSE)","v":100},{"$f":"VLOOKUP($C146,Vertices!$A$10:$F$203, 4, FALSE)","v":0},{"$f":"VLOOKUP($C146,Vertices!$A$10:$F$203, 5, FALSE)","v":20},{"$f":"VLOOKUP($C146,Vertices!$A$10:$F$203, 6, FALSE)","v":0},{"$f":"VLOOKUP($D146,Vertices!$A$10:$F$203, 3, FALSE)","v":70},{"$f":"VLOOKUP($D146,Vertices!$A$10:$F$203, 4, FALSE)","v":0},{"$f":"VLOOKUP($D146,Vertices!$A$10:$F$203, 5, FALSE)","v":20},{"$f":"VLOOKUP($D146,Vertices!$A$10:$F$203, 6, FALSE)","v":0}]
[137,57,58,69,null,{"$f":"VLOOKUP($B147,Vertices!$A$10:$F$203, 3, FALSE)","v":70},{"$f":"VLOOKUP($B147,Vertices!$A$10:$F$203, 4, FALSE)","v":0},{"$f":"VLOOKUP($B147,Vertices!$A$10:$F$203, 5, FALSE)","v":20},{"$f":"VLOOKUP($B147,Vertices!$A$10:$F$203, 6, FALSE)","v":0},{"$f":"VLOOKUP($C147,Vertices!$A$10:$F$203, 3, FALSE)","v":100},{"$f":"VLOOKUP($C147,Vertices!$A$10:$F$203, 4, FALSE)","v":0},{"$f":"VLOOKUP($C147,Vertices!$A$10:$F$203, 5, FALSE)","v":20},{"$f":"VLOOKUP($C147,Vertices!$A$10:$F$203, 6, FALSE)","v":0},{"$f":"VLOOKUP($D147,Vertices!$A$10:$F$203, 3, FALSE)","v":100},{"$f":"VLOOKUP($D147,Vertices!$A$10:$F$203, 4, FALSE)","v":0},{"$f":"VLOOKUP($D147,Vertices!$A$10:$F$203, 5, FALSE)","v":40},{"$f":"VLOOKUP($D147,Vertices!$A$10:$F$203, 6, FALSE)","v":0}]
[138,57,69,68,null,{"$f":"VLOOKUP($B148,Vertices!$A$10:$F$203, 3, FALSE)","v":70},{"$f":"VLOOKUP($B148,Vertices!$A$10:$F$203, 4, FALSE)","v":0},{"$f":"VLOOKUP($B148,Vertices!$A$10:$F$203, 5, FALSE)","v":20},{"$f":"VLOOKUP($B148,Vertices!$A$10:$F$203, 6, FALSE)","v":0},{"$f":"VLOOKUP($C148,Vertices!$A$10:$F$203, 3, FALSE)","v":100},{"$f":"VLOOKUP($C148,Vertices!$A$10:$F$203, 4, FALSE)","v":0},{"$f":"VLOOKUP($C148,Vertices!$A$10:$F$203, 5, FALSE)","v":40},{"$f":"VLOOKUP($C148,Vertices!$A$10:$F$203, 6, FALSE)","v":0},{"$f":"VLOOKUP($D148,Vertices!$A$10:$F$203, 3, FALSE)","v":70},{"$f":"VLOOKUP($D148,Vertices!$A$10:$F$203, 4, FALSE)","v":0},{"$f":"VLOOKUP($D148,Vertices!$A$10:$F$203, 5, FALSE)","v":40},{"$f":"VLOOKUP($D148,Vertices!$A$10:$F$203, 6, FALSE)","v":0}]
[139,68,69,80,null,{"$f":"VLOOKUP($B149,Vertices!$A$10:$F$203, 3, FALSE)","v":70},{"$f":"VLOOKUP($B149,Vertices!$A$10:$F$203, 4, FALSE)","v":0},{"$f":"VLOOKUP($B149,Vertices!$A$10:$F$203, 5, FALSE)","v":40},{"$f":"VLOOKUP($B149,Vertices!$A$10:$F$203, 6, FALSE)","v":0},{"$f":"VLOOKUP($C149,Vertices!$A$10:$F$203, 3, FALSE)","v":100},{"$f":"VLOOKUP($C149,Vertices!$A$10:$F$203, 4, FALSE)","v":0},{"$f":"VLOOKUP($C149,Vertices!$A$10:$F$203, 5, FALSE)","v":40},{"$f":"VLOOKUP($C149,Vertices!$A$10:$F$203, 6, FALSE)","v":0},{"$f":"VLOOKUP($D149,Vertices!$A$10:$F$203, 3, FALSE)","v":100},{"$f":"VLOOKUP($D149,Vertices!$A$10:$F$203, 4, FALSE)","v":0},{"$f":"VLOOKUP($D149,Vertices!$A$10:$F$203, 5, FALSE)","v":70},{"$f":"VLOOKUP($D149,Vertices!$A$10:$F$203, 6, FALSE)","v":0}]
[140,68,80,79,null,{"$f":"VLOOKUP($B150,Vertices!$A$10:$F$203, 3, FALSE)","v":70},{"$f":"VLOOKUP($B150,Vertices!$A$10:$F$203, 4, FALSE)","v":0},{"$f":"VLOOKUP($B150,Vertices!$A$10:$F$203, 5, FALSE)","v":40},{"$f":"VLOOKUP($B150,Vertices!$A$10:$F$203, 6, FALSE)","v":0},{"$f":"VLOOKUP($C150,Vertices!$A$10:$F$203, 3, FALSE)","v":100},{"$f":"VLOOKUP($C150,Vertices!$A$10:$F$203, 4, FALSE)","v":0},{"$f":"VLOOKUP($C150,Vertices!$A$10:$F$203, 5, FALSE)","v":70},{"$f":"VLOOKUP($C150,Vertices!$A$10:$F$203, 6, FALSE)","v":0},{"$f":"VLOOKUP($D150,Vertices!$A$10:$F$203, 3, FALSE)","v":70},{"$f":"VLOOKUP($D150,Vertices!$A$10:$F$203, 4, FALSE)","v":0},{"$f":"VLOOKUP($D150,Vertices!$A$10:$F$203, 5, FALSE)","v":70},{"$f":"VLOOKUP($D150,Vertices!$A$10:$F$203, 6, FALSE)","v":0}]
[141,79,80,91,null,{"$f":"VLOOKUP($B151,Vertices!$A$10:$F$203, 3, FALSE)","v":70},{"$f":"VLOOKUP($B151,Vertices!$A$10:$F$203, 4, FALSE)","v":0},{"$f":"VLOOKUP($B151,Vertices!$A$10:$F$203, 5, FALSE)","v":70},{"$f":"VLOOKUP($B151,Vertices!$A$10:$F$203, 6, FALSE)","v":0},{"$f":"VLOOKUP($C151,Vertices!$A$10:$F$203, 3, FALSE)","v":100},{"$f":"VLOOKUP($C151,Vertices!$A$10:$F$203, 4, FALSE)","v":0},{"$f":"VLOOKUP($C151,Vertices!$A$10:$F$203, 5, FALSE)","v":70},{"$f":"VLOOKUP($C151,Vertices!$A$10:$F$203, 6, FALSE)","v":0},{"$f":"VLOOKUP($D151,Vertices!$A$10:$F$203, 3, FALSE)","v":100},{"$f":"VLOOKUP($D151,Vertices!$A$10:$F$203, 4, FALSE)","v":0},{"$f":"VLOOKUP($D151,Vertices!$A$10:$F$203, 5, FALSE)","v":100},{"$f":"VLOOKUP($D151,Vertices!$A$10:$F$203, 6, FALSE)","v":0}]
[142,79,91,90,null,{"$f":"VLOOKUP($B152,Vertices!$A$10:$F$203, 3, FALSE)","v":70},{"$f":"VLOOKUP($B152,Vertices!$A$10:$F$203, 4, FALSE)","v":0},{"$f":"VLOOKUP($B152,Vertices!$A$10:$F$203, 5, FALSE)","v":70},{"$f":"VLOOKUP($B152,Vertices!$A$10:$F$203, 6, FALSE)","v":0},{"$f":"VLOOKUP($C152,Vertices!$A$10:$F$203, 3, FALSE)","v":100},{"$f":"VLOOKUP($C152,Vertices!$A$10:$F$203, 4, FALSE)","v":0},{"$f":"VLOOKUP($C152,Vertices!$A$10:$F$203, 5, FALSE)","v":100},{"$f":"VLOOKUP($C152,Vertices!$A$10:$F$203, 6, FALSE)","v":0},{"$f":"VLOOKUP($D152,Vertices!$A$10:$F$203, 3, FALSE)","v":70},{"$f":"VLOOKUP($D152,Vertices!$A$10:$F$203, 4, FALSE)","v":0},{"$f":"VLOOKUP($D152,Vertices!$A$10:$F$203, 5, FALSE)","v":100},{"$f":"VLOOKUP($D152,Vertices!$A$10:$F$203, 6, FALSE)","v":0}]
[143,78,79,90,null,{"$f":"VLOOKUP($B153,Vertices!$A$10:$F$203, 3, FALSE)","v":40},{"$f":"VLOOKUP($B153,Vertices!$A$10:$F$203, 4, FALSE)","v":0},{"$f":"VLOOKUP($B153,Vertices!$A$10:$F$203, 5, FALSE)","v":70},{"$f":"VLOOKUP($B153,Vertices!$A$10:$F$203, 6, FALSE)","v":0},{"$f":"VLOOKUP($C153,Vertices!$A$10:$F$203, 3, FALSE)","v":70},{"$f":"VLOOKUP($C153,Vertices!$A$10:$F$203, 4, FALSE)","v":0},{"$f":"VLOOKUP($C153,Vertices!$A$10:$F$203, 5, FALSE)","v":70},{"$f":"VLOOKUP($C153,Vertices!$A$10:$F$203, 6, FALSE)","v":0},{"$f":"VLOOKUP($D153,Vertices!$A$10:$F$203, 3, FALSE)","v":70},{"$f":"VLOOKUP($D153,Vertices!$A$10:$F$203, 4, FALSE)","v":0},{"$f":"VLOOKUP($D153,Vertices!$A$10:$F$203, 5, FALSE)","v":100},{"$f":"VLOOKUP($D153,Vertices!$A$10:$F$203, 6, FALSE)","v":0}]
[144,78,90,89,null,{"$f":"VLOOKUP($B154,Vertices!$A$10:$F$203, 3, FALSE)","v":40},{"$f":"VLOOKUP($B154,Vertices!$A$10:$F$203, 4, FALSE)","v":0},{"$f":"VLOOKUP($B154,Vertices!$A$10:$F$203, 5, FALSE)","v":70},{"$f":"VLOOKUP($B154,Vertices!$A$10:$F$203, 6, FALSE)","v":0},{"$f":"VLOOKUP($C154,Vertices!$A$10:$F$203, 3, FALSE)","v":70},{"$f":"VLOOKUP($C154,Vertices!$A$10:$F$203, 4, FALSE)","v":0},{"$f":"VLOOKUP($C154,Vertices!$A$10:$F$203, 5, FALSE)","v":100},{"$f":"VLOOKUP($C154,Vertices!$A$10:$F$203, 6, FALSE)","v":0},{"$f":"VLOOKUP($D154,Vertices!$A$10:$F$203, 3, FALSE)","v":40},{"$f":"VLOOKUP($D154,Vertices!$A$10:$F$203, 4, FALSE)","v":0},{"$f":"VLOOKUP($D154,Vertices!$A$10:$F$203, 5, FALSE)","v":100},{"$f":"VLOOKUP($D154,Vertices!$A$10:$F$203, 6, FALSE)","v":0}]
[145,77,78,89,null,{"$f":"VLOOKUP($B155,Vertices!$A$10:$F$203, 3, FALSE)","v":20},{"$f":"VLOOKUP($B155,Vertices!$A$10:$F$203, 4, FALSE)","v":0},{"$f":"VLOOKUP($B155,Vertices!$A$10:$F$203, 5, FALSE)","v":70},{"$f":"VLOOKUP($B155,Vertices!$A$10:$F$203, 6, FALSE)","v":0},{"$f":"VLOOKUP($C155,Vertices!$A$10:$F$203, 3, FALSE)","v":40},{"$f":"VLOOKUP($C155,Vertices!$A$10:$F$203, 4, FALSE)","v":0},{"$f":"VLOOKUP($C155,Vertices!$A$10:$F$203, 5, FALSE)","v":70},{"$f":"VLOOKUP($C155,Vertices!$A$10:$F$203, 6, FALSE)","v":0},{"$f":"VLOOKUP($D155,Vertices!$A$10:$F$203, 3, FALSE)","v":40},{"$f":"VLOOKUP($D155,Vertices!$A$10:$F$203, 4, FALSE)","v":0},{"$f":"VLOOKUP($D155,Vertices!$A$10:$F$203, 5, FALSE)","v":100},{"$f":"VLOOKUP($D155,Vertices!$A$10:$F$203, 6, FALSE)","v":0}]
[146,77,89,88,null,{"$f":"VLOOKUP($B156,Vertices!$A$10:$F$203, 3, FALSE)","v":20},{"$f":"VLOOKUP($B156,Vertices!$A$10:$F$203, 4, FALSE)","v":0},{"$f":"VLOOKUP($B156,Vertices!$A$10:$F$203, 5, FALSE)","v":70},{"$f":"VLOOKUP($B156,Vertices!$A$10:$F$203, 6, FALSE)","v":0},{"$f":"VLOOKUP($C156,Vertices!$A$10:$F$203, 3, FALSE)","v":40},{"$f":"VLOOKUP($C156,Vertices!$A$10:$F$203, 4, FALSE)","v":0},{"$f":"VLOOKUP($C156,Vertices!$A$10:$F$203, 5, FALSE)","v":100},{"$f":"VLOOKUP($C156,Vertices!$A$10:$F$203, 6, FALSE)","v":0},{"$f":"VLOOKUP($D156,Vertices!$A$10:$F$203, 3, FALSE)","v":20},{"$f":"VLOOKUP($D156,Vertices!$A$10:$F$203, 4, FALSE)","v":0},{"$f":"VLOOKUP($D156,Vertices!$A$10:$F$203, 5, FALSE)","v":100},{"$f":"VLOOKUP($D156,Vertices!$A$10:$F$203, 6, FALSE)","v":0}]
[147,76,77,88,null,{"$f":"VLOOKUP($B157,Vertices!$A$10:$F$203, 3, FALSE)","v":10},{"$f":"VLOOKUP($B157,Vertices!$A$10:$F$203, 4, FALSE)","v":0},{"$f":"VLOOKUP($B157,Vertices!$A$10:$F$203, 5, FALSE)","v":70},{"$f":"VLOOKUP($B157,Vertices!$A$10:$F$203, 6, FALSE)","v":0},{"$f":"VLOOKUP($C157,Vertices!$A$10:$F$203, 3, FALSE)","v":20},{"$f":"VLOOKUP($C157,Vertices!$A$10:$F$203, 4, FALSE)","v":0},{"$f":"VLOOKUP($C157,Vertices!$A$10:$F$203, 5, FALSE)","v":70},{"$f":"VLOOKUP($C157,Vertices!$A$10:$F$203, 6, FALSE)","v":0},{"$f":"VLOOKUP($D157,Vertices!$A$10:$F$203, 3, FALSE)","v":20},{"$f":"VLOOKUP($D157,Vertices!$A$10:$F$203, 4, FALSE)","v":0},{"$f":"VLOOKUP($D157,Vertices!$A$10:$F$203, 5, FALSE)","v":100},{"$f":"VLOOKUP($D157,Vertices!$A$10:$F$203, 6, FALSE)","v":0}]
[148,76,88,87,null,{"$f":"VLOOKUP($B158,Vertices!$A$10:$F$203, 3, FALSE)","v":10},{"$f":"VLOOKUP($B158,Vertices!$A$10:$F$203, 4, FALSE)","v":0},{"$f":"VLOOKUP($B158,Vertices!$A$10:$F$203, 5, FALSE)","v":70},{"$f":"VLOOKUP($B158,Vertices!$A$10:$F$203, 6, FALSE)","v":0},{"$f":"VLOOKUP($C158,Vertices!$A$10:$F$203, 3, FALSE)","v":20},{"$f":"VLOOKUP($C158,Vertices!$A$10:$F$203, 4, FALSE)","v":0},{"$f":"VLOOKUP($C158,Vertices!$A$10:$F$203, 5, FALSE)","v":100},{"$f":"VLOOKUP($C158,Vertices!$A$10:$F$203, 6, FALSE)","v":0},{"$f":"VLOOKUP($D158,Vertices!$A$10:$F$203, 3, FALSE)","v":10},{"$f":"VLOOKUP($D158,Vertices!$A$10:$F$203, 4, FALSE)","v":0},{"$f":"VLOOKUP($D158,Vertices!$A$10:$F$203, 5, FALSE)","v":100},{"$f":"VLOOKUP($D158,Vertices!$A$10:$F$203, 6, FALSE)","v":0}]
[149,70,76,87,null,{"$f":"VLOOKUP($B159,Vertices!$A$10:$F$203, 3, FALSE)","v":0},{"$f":"VLOOKUP($B159,Vertices!$A$10:$F$203, 4, FALSE)","v":0},{"$f":"VLOOKUP($B159,Vertices!$A$10:$F$203, 5, FALSE)","v":70},{"$f":"VLOOKUP($B159,Vertices!$A$10:$F$203, 6, FALSE)","v":0},{"$f":"VLOOKUP($C159,Vertices!$A$10:$F$203, 3, FALSE)","v":10},{"$f":"VLOOKUP($C159,Vertices!$A$10:$F$203, 4, FALSE)","v":0},{"$f":"VLOOKUP($C159,Vertices!$A$10:$F$203, 5, FALSE)","v":70},{"$f":"VLOOKUP($C159,Vertices!$A$10:$F$203, 6, FALSE)","v":0},{"$f":"VLOOKUP($D159,Vertices!$A$10:$F$203, 3, FALSE)","v":10},{"$f":"VLOOKUP($D159,Vertices!$A$10:$F$203, 4, FALSE)","v":0},{"$f":"VLOOKUP($D159,Vertices!$A$10:$F$203, 5, FALSE)","v":100},{"$f":"VLOOKUP($D159,Vertices!$A$10:$F$203, 6, FALSE)","v":0}]
[150,70,87,81,null,{"$f":"VLOOKUP($B160,Vertices!$A$10:$F$203, 3, FALSE)","v":0},{"$f":"VLOOKUP($B160,Vertices!$A$10:$F$203, 4, FALSE)","v":0},{"$f":"VLOOKUP($B160,Vertices!$A$10:$F$203, 5, FALSE)","v":70},{"$f":"VLOOKUP($B160,Vertices!$A$10:$F$203, 6, FALSE)","v":0},{"$f":"VLOOKUP($C160,Vertices!$A$10:$F$203, 3, FALSE)","v":10},{"$f":"VLOOKUP($C160,Vertices!$A$10:$F$203, 4, FALSE)","v":0},{"$f":"VLOOKUP($C160,Vertices!$A$10:$F$203, 5, FALSE)","v":100},{"$f":"VLOOKUP($C160,Vertices!$A$10:$F$203, 6, FALSE)","v":0},{"$f":"VLOOKUP($D160,Vertices!$A$10:$F$203, 3, FALSE)","v":0},{"$f":"VLOOKUP($D160,Vertices!$A$10:$F$203, 4, FALSE)","v":0},{"$f":"VLOOKUP($D160,Vertices!$A$10:$F$203, 5, FALSE)","v":100},{"$f":"VLOOKUP($D160,Vertices!$A$10:$F$203, 6, FALSE)","v":0}]
[151,31,98,97,null,{"$f":"VLOOKUP($B161,Vertices!$A$10:$F$203, 3, FALSE)","v":100},{"$f":"VLOOKUP($B161,Vertices!$A$10:$F$203, 4, FALSE)","v":0},{"$f":"VLOOKUP($B161,Vertices!$A$10:$F$203, 5, FALSE)","v":0},{"$f":"VLOOKUP($B161,Vertices!$A$10:$F$203, 6, FALSE)","v":0},{"$f":"VLOOKUP($C161,Vertices!$A$10:$F$203, 3, FALSE)","v":100},{"$f":"VLOOKUP($C161,Vertices!$A$10:$F$203, 4, FALSE)","v":10},{"$f":"VLOOKUP($C161,Vertices!$A$10:$F$203, 5, FALSE)","v":0},{"$f":"VLOOKUP($C161,Vertices!$A$10:$F$203, 6, FALSE)","v":20},{"$f":"VLOOKUP($D161,Vertices!$A$10:$F$203, 3, FALSE)","v":100},{"$f":"VLOOKUP($D161,Vertices!$A$10:$F$203, 4, FALSE)","v":0},{"$f":"VLOOKUP($D161,Vertices!$A$10:$F$203, 5, FALSE)","v":0},{"$f":"VLOOKUP($D161,Vertices!$A$10:$F$203, 6, FALSE)","v":20}]
[152,31,32,98,null,{"$f":"VLOOKUP($B162,Vertices!$A$10:$F$203, 3, FALSE)","v":100},{"$f":"VLOOKUP($B162,Vertices!$A$10:$F$203, 4, FALSE)","v":0},{"$f":"VLOOKUP($B162,Vertices!$A$10:$F$203, 5, FALSE)","v":0},{"$f":"VLOOKUP($B162,Vertices!$A$10:$F$203, 6, FALSE)","v":0},{"$f":"VLOOKUP($C162,Vertices!$A$10:$F$203, 3, FALSE)","v":100},{"$f":"VLOOKUP($C162,Vertices!$A$10:$F$203, 4, FALSE)","v":10},{"$f":"VLOOKUP($C162,Vertices!$A$10:$F$203, 5, FALSE)","v":0},{"$f":"VLOOKUP($C162,Vertices!$A$10:$F$203, 6, FALSE)","v":0},{"$f":"VLOOKUP($D162,Vertices!$A$10:$F$203, 3, FALSE)","v":100},{"$f":"VLOOKUP($D162,Vertices!$A$10:$F$203, 4, FALSE)","v":10},{"$f":"VLOOKUP($D162,Vertices!$A$10:$F$203, 5, FALSE)","v":0},{"$f":"VLOOKUP($D162,Vertices!$A$10:$F$203, 6, FALSE)","v":20}]
[153,32,99,98,null,{"$f":"VLOOKUP($B163,Vertices!$A$10:$F$203, 3, FALSE)","v":100},{"$f":"VLOOKUP($B163,Vertices!$A$10:$F$203, 4, FALSE)","v":10},{"$f":"VLOOKUP($B163,Vertices!$A$10:$F$203, 5, FALSE)","v":0},{"$f":"VLOOKUP($B163,Vertices!$A$10:$F$203, 6, FALSE)","v":0},{"$f":"VLOOKUP($C163,Vertices!$A$10:$F$203, 3, FALSE)","v":100},{"$f":"VLOOKUP($C163,Vertices!$A$10:$F$203, 4, FALSE)","v":20},{"$f":"VLOOKUP($C163,Vertices!$A$10:$F$203, 5, FALSE)","v":0},{"$f":"VLOOKUP($C163,Vertices!$A$10:$F$203, 6, FALSE)","v":20},{"$f":"VLOOKUP($D163,Vertices!$A$10:$F$203, 3, FALSE)","v":100},{"$f":"VLOOKUP($D163,Vertices!$A$10:$F$203, 4, FALSE)","v":10},{"$f":"VLOOKUP($D163,Vertices!$A$10:$F$203, 5, FALSE)","v":0},{"$f":"VLOOKUP($D163,Vertices!$A$10:$F$203, 6, FALSE)","v":20}]
[154,32,33,99,null,{"$f":"VLOOKUP($B164,Vertices!$A$10:$F$203, 3, FALSE)","v":100},{"$f":"VLOOKUP($B164,Vertices!$A$10:$F$203, 4, FALSE)","v":10},{"$f":"VLOOKUP($B164,Vertices!$A$10:$F$203, 5, FALSE)","v":0},{"$f":"VLOOKUP($B164,Vertices!$A$10:$F$203, 6, FALSE)","v":0},{"$f":"VLOOKUP($C164,Vertices!$A$10:$F$203, 3, FALSE)","v":100},{"$f":"VLOOKUP($C164,Vertices!$A$10:$F$203, 4, FALSE)","v":20},{"$f":"VLOOKUP($C164,Vertices!$A$10:$F$203, 5, FALSE)","v":0},{"$f":"VLOOKUP($C164,Vertices!$A$10:$F$203, 6, FALSE)","v":0},{"$f":"VLOOKUP($D164,Vertices!$A$10:$F$203, 3, FALSE)","v":100},{"$f":"VLOOKUP($D164,Vertices!$A$10:$F$203, 4, FALSE)","v":20},{"$f":"VLOOKUP($D164,Vertices!$A$10:$F$203, 5, FALSE)","v":0},{"$f":"VLOOKUP($D164,Vertices!$A$10:$F$203, 6, FALSE)","v":20}]
[155,33,100,99,null,{"$f":"VLOOKUP($B165,Vertices!$A$10:$F$203, 3, FALSE)","v":100},{"$f":"VLOOKUP($B165,Vertices!$A$10:$F$203, 4, FALSE)","v":20},{"$f":"VLOOKUP($B165,Vertices!$A$10:$F$203, 5, FALSE)","v":0},{"$f":"VLOOKUP($B165,Vertices!$A$10:$F$203, 6, FALSE)","v":0},{"$f":"VLOOKUP($C165,Vertices!$A$10:$F$203, 3, FALSE)","v":100},{"$f":"VLOOKUP($C165,Vertices!$A$10:$F$203, 4, FALSE)","v":40},{"$f":"VLOOKUP($C165,Vertices!$A$10:$F$203, 5, FALSE)","v":0},{"$f":"VLOOKUP($C165,Vertices!$A$10:$F$203, 6, FALSE)","v":20},{"$f":"VLOOKUP($D165,Vertices!$A$10:$F$203, 3, FALSE)","v":100},{"$f":"VLOOKUP($D165,Vertices!$A$10:$F$203, 4, FALSE)","v":20},{"$f":"VLOOKUP($D165,Vertices!$A$10:$F$203, 5, FALSE)","v":0},{"$f":"VLOOKUP($D165,Vertices!$A$10:$F$203, 6, FALSE)","v":20}]
[156,33,34,100,null,{"$f":"VLOOKUP($B166,Vertices!$A$10:$F$203, 3, FALSE)","v":100},{"$f":"VLOOKUP($B166,Vertices!$A$10:$F$203, 4, FALSE)","v":20},{"$f":"VLOOKUP($B166,Vertices!$A$10:$F$203, 5, FALSE)","v":0},{"$f":"VLOOKUP($B166,Vertices!$A$10:$F$203, 6, FALSE)","v":0},{"$f":"VLOOKUP($C166,Vertices!$A$10:$F$203, 3, FALSE)","v":100},{"$f":"VLOOKUP($C166,Vertices!$A$10:$F$203, 4, FALSE)","v":40},{"$f":"VLOOKUP($C166,Vertices!$A$10:$F$203, 5, FALSE)","v":0},{"$f":"VLOOKUP($C166,Vertices!$A$10:$F$203, 6, FALSE)","v":0},{"$f":"VLOOKUP($D166,Vertices!$A$10:$F$203, 3, FALSE)","v":100},{"$f":"VLOOKUP($D166,Vertices!$A$10:$F$203, 4, FALSE)","v":40},{"$f":"VLOOKUP($D166,Vertices!$A$10:$F$203, 5, FALSE)","v":0},{"$f":"VLOOKUP($D166,Vertices!$A$10:$F$203, 6, FALSE)","v":20}]
[157,34,101,100,null,{"$f":"VLOOKUP($B167,Vertices!$A$10:$F$203, 3, FALSE)","v":100},{"$f":"VLOOKUP($B167,Vertices!$A$10:$F$203, 4, FALSE)","v":40},{"$f":"VLOOKUP($B167,Vertices!$A$10:$F$203, 5, FALSE)","v":0},{"$f":"VLOOKUP($B167,Vertices!$A$10:$F$203, 6, FALSE)","v":0},{"$f":"VLOOKUP($C167,Vertices!$A$10:$F$203, 3, FALSE)","v":100},{"$f":"VLOOKUP($C167,Vertices!$A$10:$F$203, 4, FALSE)","v":70},{"$f":"VLOOKUP($C167,Vertices!$A$10:$F$203, 5, FALSE)","v":0},{"$f":"VLOOKUP($C167,Vertices!$A$10:$F$203, 6, FALSE)","v":20},{"$f":"VLOOKUP($D167,Vertices!$A$10:$F$203, 3, FALSE)","v":100},{"$f":"VLOOKUP($D167,Vertices!$A$10:$F$203, 4, FALSE)","v":40},{"$f":"VLOOKUP($D167,Vertices!$A$10:$F$203, 5, FALSE)","v":0},{"$f":"VLOOKUP($D167,Vertices!$A$10:$F$203, 6, FALSE)","v":20}]
[158,34,35,101,null,{"$f":"VLOOKUP($B168,Vertices!$A$10:$F$203, 3, FALSE)","v":100},{"$f":"VLOOKUP($B168,Vertices!$A$10:$F$203, 4, FALSE)","v":40},{"$f":"VLOOKUP($B168,Vertices!$A$10:$F$203, 5, FALSE)","v":0},{"$f":"VLOOKUP($B168,Vertices!$A$10:$F$203, 6, FALSE)","v":0},{"$f":"VLOOKUP($C168,Vertices!$A$10:$F$203, 3, FALSE)","v":100},{"$f":"VLOOKUP($C168,Vertices!$A$10:$F$203, 4, FALSE)","v":70},{"$f":"VLOOKUP($C168,Vertices!$A$10:$F$203, 5, FALSE)","v":0},{"$f":"VLOOKUP($C168,Vertices!$A$10:$F$203, 6, FALSE)","v":0},{"$f":"VLOOKUP($D168,Vertices!$A$10:$F$203, 3, FALSE)","v":100},{"$f":"VLOOKUP($D168,Vertices!$A$10:$F$203, 4, FALSE)","v":70},{"$f":"VLOOKUP($D168,Vertices!$A$10:$F$203, 5, FALSE)","v":0},{"$f":"VLOOKUP($D168,Vertices!$A$10:$F$203, 6, FALSE)","v":20}]
[159,35,102,101,null,{"$f":"VLOOKUP($B169,Vertices!$A$10:$F$203, 3, FALSE)","v":100},{"$f":"VLOOKUP($B169,Vertices!$A$10:$F$203, 4, FALSE)","v":70},{"$f":"VLOOKUP($B169,Vertices!$A$10:$F$203, 5, FALSE)","v":0},{"$f":"VLOOKUP($B169,Vertices!$A$10:$F$203, 6, FALSE)","v":0},{"$f":"VLOOKUP($C169,Vertices!$A$10:$F$203, 3, FALSE)","v":100},{"$f":"VLOOKUP($C169,Vertices!$A$10:$F$203, 4, FALSE)","v":100},{"$f":"VLOOKUP($C169,Vertices!$A$10:$F$203, 5, FALSE)","v":0},{"$f":"VLOOKUP($C169,Vertices!$A$10:$F$203, 6, FALSE)","v":20},{"$f":"VLOOKUP($D169,Vertices!$A$10:$F$203, 3, FALSE)","v":100},{"$f":"VLOOKUP($D169,Vertices!$A$10:$F$203, 4, FALSE)","v":70},{"$f":"VLOOKUP($D169,Vertices!$A$10:$F$203, 5, FALSE)","v":0},{"$f":"VLOOKUP($D169,Vertices!$A$10:$F$203, 6, FALSE)","v":20}]
[160,35,36,102,null,{"$f":"VLOOKUP($B170,Vertices!$A$10:$F$203, 3, FALSE)","v":100},{"$f":"VLOOKUP($B170,Vertices!$A$10:$F$203, 4, FALSE)","v":70},{"$f":"VLOOKUP($B170,Vertices!$A$10:$F$203, 5, FALSE)","v":0},{"$f":"VLOOKUP($B170,Vertices!$A$10:$F$203, 6, FALSE)","v":0},{"$f":"VLOOKUP($C170,Vertices!$A$10:$F$203, 3, FALSE)","v":100},{"$f":"VLOOKUP($C170,Vertices!$A$10:$F$203, 4, FALSE)","v":100},{"$f":"VLOOKUP($C170,Vertices!$A$10:$F$203, 5, FALSE)","v":0},{"$f":"VLOOKUP($C170,Vertices!$A$10:$F$203, 6, FALSE)","v":0},{"$f":"VLOOKUP($D170,Vertices!$A$10:$F$203, 3, FALSE)","v":100},{"$f":"VLOOKUP($D170,Vertices!$A$10:$F$203, 4, FALSE)","v":100},{"$f":"VLOOKUP($D170,Vertices!$A$10:$F$203, 5, FALSE)","v":0},{"$f":"VLOOKUP($D170,Vertices!$A$10:$F$203, 6, FALSE)","v":20}]
[161,97,98,126,null,{"$f":"VLOOKUP($B171,Vertices!$A$10:$F$203, 3, FALSE)","v":100},{"$f":"VLOOKUP($B171,Vertices!$A$10:$F$203, 4, FALSE)","v":0},{"$f":"VLOOKUP($B171,Vertices!$A$10:$F$203, 5, FALSE)","v":0},{"$f":"VLOOKUP($B171,Vertices!$A$10:$F$203, 6, FALSE)","v":20},{"$f":"VLOOKUP($C171,Vertices!$A$10:$F$203, 3, FALSE)","v":100},{"$f":"VLOOKUP($C171,Vertices!$A$10:$F$203, 4, FALSE)","v":10},{"$f":"VLOOKUP($C171,Vertices!$A$10:$F$203, 5, FALSE)","v":0},{"$f":"VLOOKUP($C171,Vertices!$A$10:$F$203, 6, FALSE)","v":20},{"$f":"VLOOKUP($D171,Vertices!$A$10:$F$203, 3, FALSE)","v":100},{"$f":"VLOOKUP($D171,Vertices!$A$10:$F$203, 4, FALSE)","v":0},{"$f":"VLOOKUP($D171,Vertices!$A$10:$F$203, 5, FALSE)","v":0},{"$f":"VLOOKUP($D171,Vertices!$A$10:$F$203, 6, FALSE)","v":40}]
[162,126,98,127,null,{"$f":"VLOOKUP($B172,Vertices!$A$10:$F$203, 3, FALSE)","v":100},{"$f":"VLOOKUP($B172,Vertices!$A$10:$F$203, 4, FALSE)","v":0},{"$f":"VLOOKUP($B172,Vertices!$A$10:$F$203, 5, FALSE)","v":0},{"$f":"VLOOKUP($B172,Vertices!$A$10:$F$203, 6, FALSE)","v":40},{"$f":"VLOOKUP($C172,Vertices!$A$10:$F$203, 3, FALSE)","v":100},{"$f":"VLOOKUP($C172,Vertices!$A$10:$F$203, 4, FALSE)","v":10},{"$f":"VLOOKUP($C172,Vertices!$A$10:$F$203, 5, FALSE)","v":0},{"$f":"VLOOKUP($C172,Vertices!$A$10:$F$203, 6, FALSE)","v":20},{"$f":"VLOOKUP($D172,Vertices!$A$10:$F$203, 3, FALSE)","v":100},{"$f":"VLOOKUP($D172,Vertices!$A$10:$F$203, 4, FALSE)","v":20},{"$f":"VLOOKUP($D172,Vertices!$A$10:$F$203, 5, FALSE)","v":0},{"$f":"VLOOKUP($D172,Vertices!$A$10:$F$203, 6, FALSE)","v":40}]
[163,98,99,127,null,{"$f":"VLOOKUP($B173,Vertices!$A$10:$F$203, 3, FALSE)","v":100},{"$f":"VLOOKUP($B173,Vertices!$A$10:$F$203, 4, FALSE)","v":10},{"$f":"VLOOKUP($B173,Vertices!$A$10:$F$203, 5, FALSE)","v":0},{"$f":"VLOOKUP($B173,Vertices!$A$10:$F$203, 6, FALSE)","v":20},{"$f":"VLOOKUP($C173,Vertices!$A$10:$F$203, 3, FALSE)","v":100},{"$f":"VLOOKUP($C173,Vertices!$A$10:$F$203, 4, FALSE)","v":20},{"$f":"VLOOKUP($C173,Vertices!$A$10:$F$203, 5, FALSE)","v":0},{"$f":"VLOOKUP($C173,Vertices!$A$10:$F$203, 6, FALSE)","v":20},{"$f":"VLOOKUP($D173,Vertices!$A$10:$F$203, 3, FALSE)","v":100},{"$f":"VLOOKUP($D173,Vertices!$A$10:$F$203, 4, FALSE)","v":20},{"$f":"VLOOKUP($D173,Vertices!$A$10:$F$203, 5, FALSE)","v":0},{"$f":"VLOOKUP($D173,Vertices!$A$10:$F$203, 6, FALSE)","v":40}]
[164,99,128,127,null,{"$f":"VLOOKUP($B174,Vertices!$A$10:$F$203, 3, FALSE)","v":100},{"$f":"VLOOKUP($B174,Vertices!$A$10:$F$203, 4, FALSE)","v":20},{"$f":"VLOOKUP($B174,Vertices!$A$10:$F$203, 5, FALSE)","v":0},{"$f":"VLOOKUP($B174,Vertices!$A$10:$F$203, 6, FALSE)","v":20},{"$f":"VLOOKUP($C174,Vertices!$A$10:$F$203, 3, FALSE)","v":100},{"$f":"VLOOKUP($C174,Vertices!$A$10:$F$203, 4, FALSE)","v":40},{"$f":"VLOOKUP($C174,Vertices!$A$10:$F$203, 5, FALSE)","v":0},{"$f":"VLOOKUP($C174,Vertices!$A$10:$F$203, 6, FALSE)","v":40},{"$f":"VLOOKUP($D174,Vertices!$A$10:$F$203, 3, FALSE)","v":100},{"$f":"VLOOKUP($D174,Vertices!$A$10:$F$203, 4, FALSE)","v":20},{"$f":"VLOOKUP($D174,Vertices!$A$10:$F$203, 5, FALSE)","v":0},{"$f":"VLOOKUP($D174,Vertices!$A$10:$F$203, 6, FALSE)","v":40}]
[165,99,100,128,null,{"$f":"VLOOKUP($B175,Vertices!$A$10:$F$203, 3, FALSE)","v":100},{"$f":"VLOOKUP($B175,Vertices!$A$10:$F$203, 4, FALSE)","v":20},{"$f":"VLOOKUP($B175,Vertices!$A$10:$F$203, 5, FALSE)","v":0},{"$f":"VLOOKUP($B175,Vertices!$A$10:$F$203, 6, FALSE)","v":20},{"$f":"VLOOKUP($C175,Vertices!$A$10:$F$203, 3, FALSE)","v":100},{"$f":"VLOOKUP($C175,Vertices!$A$10:$F$203, 4, FALSE)","v":40},{"$f":"VLOOKUP($C175,Vertices!$A$10:$F$203, 5, FALSE)","v":0},{"$f":"VLOOKUP($C175,Vertices!$A$10:$F$203, 6, FALSE)","v":20},{"$f":"VLOOKUP($D175,Vertices!$A$10:$F$203, 3, FALSE)","v":100},{"$f":"VLOOKUP($D175,Vertices!$A$10:$F$203, 4, FALSE)","v":40},{"$f":"VLOOKUP($D175,Vertices!$A$10:$F$203, 5, FALSE)","v":0},{"$f":"VLOOKUP($D175,Vertices!$A$10:$F$203, 6, FALSE)","v":40}]
[166,100,129,128,null,{"$f":"VLOOKUP($B176,Vertices!$A$10:$F$203, 3, FALSE)","v":100},{"$f":"VLOOKUP($B176,Vertices!$A$10:$F$203, 4, FALSE)","v":40},{"$f":"VLOOKUP($B176,Vertices!$A$10:$F$203, 5, FALSE)","v":0},{"$f":"VLOOKUP($B176,Vertices!$A$10:$F$203, 6, FALSE)","v":20},{"$f":"VLOOKUP($C176,Vertices!$A$10:$F$203, 3, FALSE)","v":100},{"$f":"VLOOKUP($C176,Vertices!$A$10:$F$203, 4, FALSE)","v":70},{"$f":"VLOOKUP($C176,Vertices!$A$10:$F$203, 5, FALSE)","v":0},{"$f":"VLOOKUP($C176,Vertices!$A$10:$F$203, 6, FALSE)","v":40},{"$f":"VLOOKUP($D176,Vertices!$A$10:$F$203, 3, FALSE)","v":100},{"$f":"VLOOKUP($D176,Vertices!$A$10:$F$203, 4, FALSE)","v":40},{"$f":"VLOOKUP($D176,Vertices!$A$10:$F$203, 5, FALSE)","v":0},{"$f":"VLOOKUP($D176,Vertices!$A$10:$F$203, 6, FALSE)","v":40}]
[167,100,101,129,null,{"$f":"VLOOKUP($B177,Vertices!$A$10:$F$203, 3, FALSE)","v":100},{"$f":"VLOOKUP($B177,Vertices!$A$10:$F$203, 4, FALSE)","v":40},{"$f":"VLOOKUP($B177,Vertices!$A$10:$F$203, 5, FALSE)","v":0},{"$f":"VLOOKUP($B177,Vertices!$A$10:$F$203, 6, FALSE)","v":20},{"$f":"VLOOKUP($C177,Vertices!$A$10:$F$203, 3, FALSE)","v":100},{"$f":"VLOOKUP($C177,Vertices!$A$10:$F$203, 4, FALSE)","v":70},{"$f":"VLOOKUP($C177,Vertices!$A$10:$F$203, 5, FALSE)","v":0},{"$f":"VLOOKUP($C177,Vertices!$A$10:$F$203, 6, FALSE)","v":20},{"$f":"VLOOKUP($D177,Vertices!$A$10:$F$203, 3, FALSE)","v":100},{"$f":"VLOOKUP($D177,Vertices!$A$10:$F$203, 4, FALSE)","v":70},{"$f":"VLOOKUP($D177,Vertices!$A$10:$F$203, 5, FALSE)","v":0},{"$f":"VLOOKUP($D177,Vertices!$A$10:$F$203, 6, FALSE)","v":40}]
[168,101,130,129,null,{"$f":"VLOOKUP($B178,Vertices!$A$10:$F$203, 3, FALSE)","v":100},{"$f":"VLOOKUP($B178,Vertices!$A$10:$F$203, 4, FALSE)","v":70},{"$f":"VLOOKUP($B178,Vertices!$A$10:$F$203, 5, FALSE)","v":0},{"$f":"VLOOKUP($B178,Vertices!$A$10:$F$203, 6, FALSE)","v":20},{"$f":"VLOOKUP($C178,Vertices!$A$10:$F$203, 3, FALSE)","v":100},{"$f":"VLOOKUP($C178,Vertices!$A$10:$F$203, 4, FALSE)","v":100},{"$f":"VLOOKUP($C178,Vertices!$A$10:$F$203, 5, FALSE)","v":0},{"$f":"VLOOKUP($C178,Vertices!$A$10:$F$203, 6, FALSE)","v":40},{"$f":"VLOOKUP($D178,Vertices!$A$10:$F$203, 3, FALSE)","v":100},{"$f":"VLOOKUP($D178,Vertices!$A$10:$F$203, 4, FALSE)","v":70},{"$f":"VLOOKUP($D178,Vertices!$A$10:$F$203, 5, FALSE)","v":0},{"$f":"VLOOKUP($D178,Vertices!$A$10:$F$203, 6, FALSE)","v":40}]
[169,101,102,130,null,{"$f":"VLOOKUP($B179,Vertices!$A$10:$F$203, 3, FALSE)","v":100},{"$f":"VLOOKUP($B179,Vertices!$A$10:$F$203, 4, FALSE)","v":70},{"$f":"VLOOKUP($B179,Vertices!$A$10:$F$203, 5, FALSE)","v":0},{"$f":"VLOOKUP($B179,Vertices!$A$10:$F$203, 6, FALSE)","v":20},{"$f":"VLOOKUP($C179,Vertices!$A$10:$F$203, 3, FALSE)","v":100},{"$f":"VLOOKUP($C179,Vertices!$A$10:$F$203, 4, FALSE)","v":100},{"$f":"VLOOKUP($C179,Vertices!$A$10:$F$203, 5, FALSE)","v":0},{"$f":"VLOOKUP($C179,Vertices!$A$10:$F$203, 6, FALSE)","v":20},{"$f":"VLOOKUP($D179,Vertices!$A$10:$F$203, 3, FALSE)","v":100},{"$f":"VLOOKUP($D179,Vertices!$A$10:$F$203, 4, FALSE)","v":100},{"$f":"VLOOKUP($D179,Vertices!$A$10:$F$203, 5, FALSE)","v":0},{"$f":"VLOOKUP($D179,Vertices!$A$10:$F$203, 6, FALSE)","v":40}]
[170,126,151,150,null,{"$f":"VLOOKUP($B180,Vertices!$A$10:$F$203, 3, FALSE)","v":100},{"$f":"VLOOKUP($B180,Vertices!$A$10:$F$203, 4, FALSE)","v":0},{"$f":"VLOOKUP($B180,Vertices!$A$10:$F$203, 5, FALSE)","v":0},{"$f":"VLOOKUP($B180,Vertices!$A$10:$F$203, 6, FALSE)","v":40},{"$f":"VLOOKUP($C180,Vertices!$A$10:$F$203, 3, FALSE)","v":100},{"$f":"VLOOKUP($C180,Vertices!$A$10:$F$203, 4, FALSE)","v":20},{"$f":"VLOOKUP($C180,Vertices!$A$10:$F$203, 5, FALSE)","v":0},{"$f":"VLOOKUP($C180,Vertices!$A$10:$F$203, 6, FALSE)","v":60},{"$f":"VLOOKUP($D180,Vertices!$A$10:$F$203, 3, FALSE)","v":100},{"$f":"VLOOKUP($D180,Vertices!$A$10:$F$203, 4, FALSE)","v":0},{"$f":"VLOOKUP($D180,Vertices!$A$10:$F$203, 5, FALSE)","v":0},{"$f":"VLOOKUP($D180,Vertices!$A$10:$F$203, 6, FALSE)","v":60}]
[171,126,127,151,null,{"$f":"VLOOKUP($B181,Vertices!$A$10:$F$203, 3, FALSE)","v":100},{"$f":"VLOOKUP($B181,Vertices!$A$10:$F$203, 4, FALSE)","v":0},{"$f":"VLOOKUP($B181,Vertices!$A$10:$F$203, 5, FALSE)","v":0},{"$f":"VLOOKUP($B181,Vertices!$A$10:$F$203, 6, FALSE)","v":40},{"$f":"VLOOKUP($C181,Vertices!$A$10:$F$203, 3, FALSE)","v":100},{"$f":"VLOOKUP($C181,Vertices!$A$10:$F$203, 4, FALSE)","v":20},{"$f":"VLOOKUP($C181,Vertices!$A$10:$F$203, 5, FALSE)","v":0},{"$f":"VLOOKUP($C181,Vertices!$A$10:$F$203, 6, FALSE)","v":40},{"$f":"VLOOKUP($D181,Vertices!$A$10:$F$203, 3, FALSE)","v":100},{"$f":"VLOOKUP($D181,Vertices!$A$10:$F$203, 4, FALSE)","v":20},{"$f":"VLOOKUP($D181,Vertices!$A$10:$F$203, 5, FALSE)","v":0},{"$f":"VLOOKUP($D181,Vertices!$A$10:$F$203, 6, FALSE)","v":60}]
[172,127,152,151,null,{"$f":"VLOOKUP($B182,Vertices!$A$10:$F$203, 3, FALSE)","v":100},{"$f":"VLOOKUP($B182,Vertices!$A$10:$F$203, 4, FALSE)","v":20},{"$f":"VLOOKUP($B182,Vertices!$A$10:$F$203, 5, FALSE)","v":0},{"$f":"VLOOKUP($B182,Vertices!$A$10:$F$203, 6, FALSE)","v":40},{"$f":"VLOOKUP($C182,Vertices!$A$10:$F$203, 3, FALSE)","v":100},{"$f":"VLOOKUP($C182,Vertices!$A$10:$F$203, 4, FALSE)","v":40},{"$f":"VLOOKUP($C182,Vertices!$A$10:$F$203, 5, FALSE)","v":0},{"$f":"VLOOKUP($C182,Vertices!$A$10:$F$203, 6, FALSE)","v":60},{"$f":"VLOOKUP($D182,Vertices!$A$10:$F$203, 3, FALSE)","v":100},{"$f":"VLOOKUP($D182,Vertices!$A$10:$F$203, 4, FALSE)","v":20},{"$f":"VLOOKUP($D182,Vertices!$A$10:$F$203, 5, FALSE)","v":0},{"$f":"VLOOKUP($D182,Vertices!$A$10:$F$203, 6, FALSE)","v":60}]
[173,127,128,152,null,{"$f":"VLOOKUP($B183,Vertices!$A$10:$F$203, 3, FALSE)","v":100},{"$f":"VLOOKUP($B183,Vertices!$A$10:$F$203, 4, FALSE)","v":20},{"$f":"VLOOKUP($B183,Vertices!$A$10:$F$203, 5, FALSE)","v":0},{"$f":"VLOOKUP($B183,Vertices!$A$10:$F$203, 6, FALSE)","v":40},{"$f":"VLOOKUP($C183,Vertices!$A$10:$F$203, 3, FALSE)","v":100},{"$f":"VLOOKUP($C183,Vertices!$A$10:$F$203, 4, FALSE)","v":40},{"$f":"VLOOKUP($C183,Vertices!$A$10:$F$203, 5, FALSE)","v":0},{"$f":"VLOOKUP($C183,Vertices!$A$10:$F$203, 6, FALSE)","v":40},{"$f":"VLOOKUP($D183,Vertices!$A$10:$F$203, 3, FALSE)","v":100},{"$f":"VLOOKUP($D183,Vertices!$A$10:$F$203, 4, FALSE)","v":40},{"$f":"VLOOKUP($D183,Vertices!$A$10:$F$203, 5, FALSE)","v":0},{"$f":"VLOOKUP($D183,Vertices!$A$10:$F$203, 6, FALSE)","v":60}]
[174,128,153,152,null,{"$f":"VLOOKUP($B184,Vertices!$A$10:$F$203, 3, FALSE)","v":100},{"$f":"VLOOKUP($B184,Vertices!$A$10:$F$203, 4, FALSE)","v":40},{"$f":"VLOOKUP($B184,Vertices!$A$10:$F$203, 5, FALSE)","v":0},{"$f":"VLOOKUP($B184,Vertices!$A$10:$F$203, 6, FALSE)","v":40},{"$f":"VLOOKUP($C184,Vertices!$A$10:$F$203, 3, FALSE)","v":100},{"$f":"VLOOKUP($C184,Vertices!$A$10:$F$203, 4, FALSE)","v":70},{"$f":"VLOOKUP($C184,Vertices!$A$10:$F$203, 5, FALSE)","v":0},{"$f":"VLOOKUP($C184,Vertices!$A$10:$F$203, 6, FALSE)","v":60},{"$f":"VLOOKUP($D184,Vertices!$A$10:$F$203, 3, FALSE)","v":100},{"$f":"VLOOKUP($D184,Vertices!$A$10:$F$203, 4, FALSE)","v":40},{"$f":"VLOOKUP($D184,Vertices!$A$10:$F$203, 5, FALSE)","v":0},{"$f":"VLOOKUP($D184,Vertices!$A$10:$F$203, 6, FALSE)","v":60}]
[175,128,129,153,null,{"$f":"VLOOKUP($B185,Vertices!$A$10:$F$203, 3, FALSE)","v":100},{"$f":"VLOOKUP($B185,Vertices!$A$10:$F$203, 4, FALSE)","v":40},{"$f":"VLOOKUP($B185,Vertices!$A$10:$F$203, 5, FALSE)","v":0},{"$f":"VLOOKUP($B185,Vertices!$A$10:$F$203, 6, FALSE)","v":40},{"$f":"VLOOKUP($C185,Vertices!$A$10:$F$203, 3, FALSE)","v":100},{"$f":"VLOOKUP($C185,Vertices!$A$10:$F$203, 4, FALSE)","v":70},{"$f":"VLOOKUP($C185,Vertices!$A$10:$F$203, 5, FALSE)","v":0},{"$f":"VLOOKUP($C185,Vertices!$A$10:$F$203, 6, FALSE)","v":40},{"$f":"VLOOKUP($D185,Vertices!$A$10:$F$203, 3, FALSE)","v":100},{"$f":"VLOOKUP($D185,Vertices!$A$10:$F$203, 4, FALSE)","v":70},{"$f":"VLOOKUP($D185,Vertices!$A$10:$F$203, 5, FALSE)","v":0},{"$f":"VLOOKUP($D185,Vertices!$A$10:$F$203, 6, FALSE)","v":60}]
[176,129,154,153,null,{"$f":"VLOOKUP($B186,Vertices!$A$10:$F$203, 3, FALSE)","v":100},{"$f":"VLOOKUP($B186,Vertices!$A$10:$F$203, 4, FALSE)","v":70},{"$f":"VLOOKUP($B186,Vertices!$A$10:$F$203, 5, FALSE)","v":0},{"$f":"VLOOKUP($B186,Vertices!$A$10:$F$203, 6, FALSE)","v":40},{"$f":"VLOOKUP($C186,Vertices!$A$10:$F$203, 3, FALSE)","v":100},{"$f":"VLOOKUP($C186,Vertices!$A$10:$F$203, 4, FALSE)","v":100},{"$f":"VLOOKUP($C186,Vertices!$A$10:$F$203, 5, FALSE)","v":0},{"$f":"VLOOKUP($C186,Vertices!$A$10:$F$203, 6, FALSE)","v":60},{"$f":"VLOOKUP($D186,Vertices!$A$10:$F$203, 3, FALSE)","v":100},{"$f":"VLOOKUP($D186,Vertices!$A$10:$F$203, 4, FALSE)","v":70},{"$f":"VLOOKUP($D186,Vertices!$A$10:$F$203, 5, FALSE)","v":0},{"$f":"VLOOKUP($D186,Vertices!$A$10:$F$203, 6, FALSE)","v":60}]
[177,129,130,154,null,{"$f":"VLOOKUP($B187,Vertices!$A$10:$F$203, 3, FALSE)","v":100},{"$f":"VLOOKUP($B187,Vertices!$A$10:$F$203, 4, FALSE)","v":70},{"$f":"VLOOKUP($B187,Vertices!$A$10:$F$203, 5, FALSE)","v":0},{"$f":"VLOOKUP($B187,Vertices!$A$10:$F$203, 6, FALSE)","v":40},{"$f":"VLOOKUP($C187,Vertices!$A$10:$F$203, 3, FALSE)","v":100},{"$f":"VLOOKUP($C187,Vertices!$A$10:$F$203, 4, FALSE)","v":100},{"$f":"VLOOKUP($C187,Vertices!$A$10:$F$203, 5, FALSE)","v":0},{"$f":"VLOOKUP($C187,Vertices!$A$10:$F$203, 6, FALSE)","v":40},{"$f":"VLOOKUP($D187,Vertices!$A$10:$F$203, 3, FALSE)","v":100},{"$f":"VLOOKUP($D187,Vertices!$A$10:$F$203, 4, FALSE)","v":100},{"$f":"VLOOKUP($D187,Vertices!$A$10:$F$203, 5, FALSE)","v":0},{"$f":"VLOOKUP($D187,Vertices!$A$10:$F$203, 6, FALSE)","v":60}]
[178,150,151,173,null,{"$f":"VLOOKUP($B188,Vertices!$A$10:$F$203, 3, FALSE)","v":100},{"$f":"VLOOKUP($B188,Vertices!$A$10:$F$203, 4, FALSE)","v":0},{"$f":"VLOOKUP($B188,Vertices!$A$10:$F$203, 5, FALSE)","v":0},{"$f":"VLOOKUP($B188,Vertices!$A$10:$F$203, 6, FALSE)","v":60},{"$f":"VLOOKUP($C188,Vertices!$A$10:$F$203, 3, FALSE)","v":100},{"$f":"VLOOKUP($C188,Vertices!$A$10:$F$203, 4, FALSE)","v":20},{"$f":"VLOOKUP($C188,Vertices!$A$10:$F$203, 5, FALSE)","v":0},{"$f":"VLOOKUP($C188,Vertices!$A$10:$F$203, 6, FALSE)","v":60},{"$f":"VLOOKUP($D188,Vertices!$A$10:$F$203, 3, FALSE)","v":100},{"$f":"VLOOKUP($D188,Vertices!$A$10:$F$203, 4, FALSE)","v":0},{"$f":"VLOOKUP($D188,Vertices!$A$10:$F$203, 5, FALSE)","v":0},{"$f":"VLOOKUP($D188,Vertices!$A$10:$F$203, 6, FALSE)","v":80}]
[179,151,174,173,null,{"$f":"VLOOKUP($B189,Vertices!$A$10:$F$203, 3, FALSE)","v":100},{"$f":"VLOOKUP($B189,Vertices!$A$10:$F$203, 4, FALSE)","v":20},{"$f":"VLOOKUP($B189,Vertices!$A$10:$F$203, 5, FALSE)","v":0},{"$f":"VLOOKUP($B189,Vertices!$A$10:$F$203, 6, FALSE)","v":60},{"$f":"VLOOKUP($C189,Vertices!$A$10:$F$203, 3, FALSE)","v":100},{"$f":"VLOOKUP($C189,Vertices!$A$10:$F$203, 4, FALSE)","v":40},{"$f":"VLOOKUP($C189,Vertices!$A$10:$F$203, 5, FALSE)","v":0},{"$f":"VLOOKUP($C189,Vertices!$A$10:$F$203, 6, FALSE)","v":80},{"$f":"VLOOKUP($D189,Vertices!$A$10:$F$203, 3, FALSE)","v":100},{"$f":"VLOOKUP($D189,Vertices!$A$10:$F$203, 4, FALSE)","v":0},{"$f":"VLOOKUP($D189,Vertices!$A$10:$F$203, 5, FALSE)","v":0},{"$f":"VLOOKUP($D189,Vertices!$A$10:$F$203, 6, FALSE)","v":80}]
[180,151,152,174,null,{"$f":"VLOOKUP($B190,Vertices!$A$10:$F$203, 3, FALSE)","v":100},{"$f":"VLOOKUP($B190,Vertices!$A$10:$F$203, 4, FALSE)","v":20},{"$f":"VLOOKUP($B190,Vertices!$A$10:$F$203, 5, FALSE)","v":0},{"$f":"VLOOKUP($B190,Vertices!$A$10:$F$203, 6, FALSE)","v":60},{"$f":"VLOOKUP($C190,Vertices!$A$10:$F$203, 3, FALSE)","v":100},{"$f":"VLOOKUP($C190,Vertices!$A$10:$F$203, 4, FALSE)","v":40},{"$f":"VLOOKUP($C190,Vertices!$A$10:$F$203, 5, FALSE)","v":0},{"$f":"VLOOKUP($C190,Vertices!$A$10:$F$203, 6, FALSE)","v":60},{"$f":"VLOOKUP($D190,Vertices!$A$10:$F$203, 3, FALSE)","v":100},{"$f":"VLOOKUP($D190,Vertices!$A$10:$F$203, 4, FALSE)","v":40},{"$f":"VLOOKUP($D190,Vertices!$A$10:$F$203, 5, FALSE)","v":0},{"$f":"VLOOKUP($D190,Vertices!$A$10:$F$203, 6, FALSE)","v":80}]
[181,152,175,174,null,{"$f":"VLOOKUP($B191,Vertices!$A$10:$F$203, 3, FALSE)","v":100},{"$f":"VLOOKUP($B191,Vertices!$A$10:$F$203, 4, FALSE)","v":40},{"$f":"VLOOKUP($B191,Vertices!$A$10:$F$203, 5, FALSE)","v":0},{"$f":"VLOOKUP($B191,Vertices!$A$10:$F$203, 6, FALSE)","v":60},{"$f":"VLOOKUP($C191,Vertices!$A$10:$F$203, 3, FALSE)","v":100},{"$f":"VLOOKUP($C191,Vertices!$A$10:$F$203, 4, FALSE)","v":70},{"$f":"VLOOKUP($C191,Vertices!$A$10:$F$203, 5, FALSE)","v":0},{"$f":"VLOOKUP($C191,Vertices!$A$10:$F$203, 6, FALSE)","v":80},{"$f":"VLOOKUP($D191,Vertices!$A$10:$F$203, 3, FALSE)","v":100},{"$f":"VLOOKUP($D191,Vertices!$A$10:$F$203, 4, FALSE)","v":40},{"$f":"VLOOKUP($D191,Vertices!$A$10:$F$203, 5, FALSE)","v":0},{"$f":"VLOOKUP($D191,Vertices!$A$10:$F$203, 6, FALSE)","v":80}]
[182,152,153,175,null,{"$f":"VLOOKUP($B192,Vertices!$A$10:$F$203, 3, FALSE)","v":100},{"$f":"VLOOKUP($B192,Vertices!$A$10:$F$203, 4, FALSE)","v":40},{"$f":"VLOOKUP($B192,Vertices!$A$10:$F$203, 5, FALSE)","v":0},{"$f":"VLOOKUP($B192,Vertices!$A$10:$F$203, 6, FALSE)","v":60},{"$f":"VLOOKUP($C192,Vertices!$A$10:$F$203, 3, FALSE)","v":100},{"$f":"VLOOKUP($C192,Vertices!$A$10:$F$203, 4, FALSE)","v":70},{"$f":"VLOOKUP($C192,Vertices!$A$10:$F$203, 5, FALSE)","v":0},{"$f":"VLOOKUP($C192,Vertices!$A$10:$F$203, 6, FALSE)","v":60},{"$f":"VLOOKUP($D192,Vertices!$A$10:$F$203, 3, FALSE)","v":100},{"$f":"VLOOKUP($D192,Vertices!$A$10:$F$203, 4, FALSE)","v":70},{"$f":"VLOOKUP($D192,Vertices!$A$10:$F$203, 5, FALSE)","v":0},{"$f":"VLOOKUP($D192,Vertices!$A$10:$F$203, 6, FALSE)","v":80}]
[183,153,176,175,null,{"$f":"VLOOKUP($B193,Vertices!$A$10:$F$203, 3, FALSE)","v":100},{"$f":"VLOOKUP($B193,Vertices!$A$10:$F$203, 4, FALSE)","v":70},{"$f":"VLOOKUP($B193,Vertices!$A$10:$F$203, 5, FALSE)","v":0},{"$f":"VLOOKUP($B193,Vertices!$A$10:$F$203, 6, FALSE)","v":60},{"$f":"VLOOKUP($C193,Vertices!$A$10:$F$203, 3, FALSE)","v":100},{"$f":"VLOOKUP($C193,Vertices!$A$10:$F$203, 4, FALSE)","v":100},{"$f":"VLOOKUP($C193,Vertices!$A$10:$F$203, 5, FALSE)","v":0},{"$f":"VLOOKUP($C193,Vertices!$A$10:$F$203, 6, FALSE)","v":80},{"$f":"VLOOKUP($D193,Vertices!$A$10:$F$203, 3, FALSE)","v":100},{"$f":"VLOOKUP($D193,Vertices!$A$10:$F$203, 4, FALSE)","v":70},{"$f":"VLOOKUP($D193,Vertices!$A$10:$F$203, 5, FALSE)","v":0},{"$f":"VLOOKUP($D193,Vertices!$A$10:$F$203, 6, FALSE)","v":80}]
[184,153,154,176,null,{"$f":"VLOOKUP($B194,Vertices!$A$10:$F$203, 3, FALSE)","v":100},{"$f":"VLOOKUP($B194,Vertices!$A$10:$F$203, 4, FALSE)","v":70},{"$f":"VLOOKUP($B194,Vertices!$A$10:$F$203, 5, FALSE)","v":0},{"$f":"VLOOKUP($B194,Vertices!$A$10:$F$203, 6, FALSE)","v":60},{"$f":"VLOOKUP($C194,Vertices!$A$10:$F$203, 3, FALSE)","v":100},{"$f":"VLOOKUP($C194,Vertices!$A$10:$F$203, 4, FALSE)","v":100},{"$f":"VLOOKUP($C194,Vertices!$A$10:$F$203, 5, FALSE)","v":0},{"$f":"VLOOKUP($C194,Vertices!$A$10:$F$203, 6, FALSE)","v":60},{"$f":"VLOOKUP($D194,Vertices!$A$10:$F$203, 3, FALSE)","v":100},{"$f":"VLOOKUP($D194,Vertices!$A$10:$F$203, 4, FALSE)","v":100},{"$f":"VLOOKUP($D194,Vertices!$A$10:$F$203, 5, FALSE)","v":0},{"$f":"VLOOKUP($D194,Vertices!$A$10:$F$203, 6, FALSE)","v":80}]
[185,173,174,189,null,{"$f":"VLOOKUP($B195,Vertices!$A$10:$F$203, 3, FALSE)","v":100},{"$f":"VLOOKUP($B195,Vertices!$A$10:$F$203, 4, FALSE)","v":0},{"$f":"VLOOKUP($B195,Vertices!$A$10:$F$203, 5, FALSE)","v":0},{"$f":"VLOOKUP($B195,Vertices!$A$10:$F$203, 6, FALSE)","v":80},{"$f":"VLOOKUP($C195,Vertices!$A$10:$F$203, 3, FALSE)","v":100},{"$f":"VLOOKUP($C195,Vertices!$A$10:$F$203, 4, FALSE)","v":40},{"$f":"VLOOKUP($C195,Vertices!$A$10:$F$203, 5, FALSE)","v":0},{"$f":"VLOOKUP($C195,Vertices!$A$10:$F$203, 6, FALSE)","v":80},{"$f":"VLOOKUP($D195,Vertices!$A$10:$F$203, 3, FALSE)","v":100},{"$f":"VLOOKUP($D195,Vertices!$A$10:$F$203, 4, FALSE)","v":0},{"$f":"VLOOKUP($D195,Vertices!$A$10:$F$203, 5, FALSE)","v":0},{"$f":"VLOOKUP($D195,Vertices!$A$10:$F$203, 6, FALSE)","v":100}]
[186,174,190,189,null,{"$f":"VLOOKUP($B196,Vertices!$A$10:$F$203, 3, FALSE)","v":100},{"$f":"VLOOKUP($B196,Vertices!$A$10:$F$203, 4, FALSE)","v":40},{"$f":"VLOOKUP($B196,Vertices!$A$10:$F$203, 5, FALSE)","v":0},{"$f":"VLOOKUP($B196,Vertices!$A$10:$F$203, 6, FALSE)","v":80},{"$f":"VLOOKUP($C196,Vertices!$A$10:$F$203, 3, FALSE)","v":100},{"$f":"VLOOKUP($C196,Vertices!$A$10:$F$203, 4, FALSE)","v":100},{"$f":"VLOOKUP($C196,Vertices!$A$10:$F$203, 5, FALSE)","v":0},{"$f":"VLOOKUP($C196,Vertices!$A$10:$F$203, 6, FALSE)","v":100},{"$f":"VLOOKUP($D196,Vertices!$A$10:$F$203, 3, FALSE)","v":100},{"$f":"VLOOKUP($D196,Vertices!$A$10:$F$203, 4, FALSE)","v":0},{"$f":"VLOOKUP($D196,Vertices!$A$10:$F$203, 5, FALSE)","v":0},{"$f":"VLOOKUP($D196,Vertices!$A$10:$F$203, 6, FALSE)","v":100}]
[187,174,175,190,null,{"$f":"VLOOKUP($B197,Vertices!$A$10:$F$203, 3, FALSE)","v":100},{"$f":"VLOOKUP($B197,Vertices!$A$10:$F$203, 4, FALSE)","v":40},{"$f":"VLOOKUP($B197,Vertices!$A$10:$F$203, 5, FALSE)","v":0},{"$f":"VLOOKUP($B197,Vertices!$A$10:$F$203, 6, FALSE)","v":80},{"$f":"VLOOKUP($C197,Vertices!$A$10:$F$203, 3, FALSE)","v":100},{"$f":"VLOOKUP($C197,Vertices!$A$10:$F$203, 4, FALSE)","v":70},{"$f":"VLOOKUP($C197,Vertices!$A$10:$F$203, 5, FALSE)","v":0},{"$f":"VLOOKUP($C197,Vertices!$A$10:$F$203, 6, FALSE)","v":80},{"$f":"VLOOKUP($D197,Vertices!$A$10:$F$203, 3, FALSE)","v":100},{"$f":"VLOOKUP($D197,Vertices!$A$10:$F$203, 4, FALSE)","v":100},{"$f":"VLOOKUP($D197,Vertices!$A$10:$F$203, 5, FALSE)","v":0},{"$f":"VLOOKUP($D197,Vertices!$A$10:$F$203, 6, FALSE)","v":100}]
[188,175,176,190,null,{"$f":"VLOOKUP($B198,Vertices!$A$10:$F$203, 3, FALSE)","v":100},{"$f":"VLOOKUP($B198,Vertices!$A$10:$F$203, 4, FALSE)","v":70},{"$f":"VLOOKUP($B198,Vertices!$A$10:$F$203, 5, FALSE)","v":0},{"$f":"VLOOKUP($B198,Vertices!$A$10:$F$203, 6, FALSE)","v":80},{"$f":"VLOOKUP($C198,Vertices!$A$10:$F$203, 3, FALSE)","v":100},{"$f":"VLOOKUP($C198,Vertices!$A$10:$F$203, 4, FALSE)","v":100},{"$f":"VLOOKUP($C198,Vertices!$A$10:$F$203, 5, FALSE)","v":0},{"$f":"VLOOKUP($C198,Vertices!$A$10:$F$203, 6, FALSE)","v":80},{"$f":"VLOOKUP($D198,Vertices!$A$10:$F$203, 3, FALSE)","v":100},{"$f":"VLOOKUP($D198,Vertices!$A$10:$F$203, 4, FALSE)","v":100},{"$f":"VLOOKUP($D198,Vertices!$A$10:$F$203, 5, FALSE)","v":0},{"$f":"VLOOKUP($D198,Vertices!$A$10:$F$203, 6, FALSE)","v":100}]
[189,6,92,93,null,{"$f":"VLOOKUP($B199,Vertices!$A$10:$F$203, 3, FALSE)","v":0},{"$f":"VLOOKUP($B199,Vertices!$A$10:$F$203, 4, FALSE)","v":100},{"$f":"VLOOKUP($B199,Vertices!$A$10:$F$203, 5, FALSE)","v":0},{"$f":"VLOOKUP($B199,Vertices!$A$10:$F$203, 6, FALSE)","v":0},{"$f":"VLOOKUP($C199,Vertices!$A$10:$F$203, 3, FALSE)","v":0},{"$f":"VLOOKUP($C199,Vertices!$A$10:$F$203, 4, FALSE)","v":100},{"$f":"VLOOKUP($C199,Vertices!$A$10:$F$203, 5, FALSE)","v":0},{"$f":"VLOOKUP($C199,Vertices!$A$10:$F$203, 6, FALSE)","v":20},{"$f":"VLOOKUP($D199,Vertices!$A$10:$F$203, 3, FALSE)","v":10},{"$f":"VLOOKUP($D199,Vertices!$A$10:$F$203, 4, FALSE)","v":100},{"$f":"VLOOKUP($D199,Vertices!$A$10:$F$203, 5, FALSE)","v":0},{"$f":"VLOOKUP($D199,Vertices!$A$10:$F$203, 6, FALSE)","v":20}]
[190,6,93,12,null,{"$f":"VLOOKUP($B200,Vertices!$A$10:$F$203, 3, FALSE)","v":0},{"$f":"VLOOKUP($B200,Vertices!$A$10:$F$203, 4, FALSE)","v":100},{"$f":"VLOOKUP($B200,Vertices!$A$10:$F$203, 5, FALSE)","v":0},{"$f":"VLOOKUP($B200,Vertices!$A$10:$F$203, 6, FALSE)","v":0},{"$f":"VLOOKUP($C200,Vertices!$A$10:$F$203, 3, FALSE)","v":10},{"$f":"VLOOKUP($C200,Vertices!$A$10:$F$203, 4, FALSE)","v":100},{"$f":"VLOOKUP($C200,Vertices!$A$10:$F$203, 5, FALSE)","v":0},{"$f":"VLOOKUP($C200,Vertices!$A$10:$F$203, 6, FALSE)","v":20},{"$f":"VLOOKUP($D200,Vertices!$A$10:$F$203, 3, FALSE)","v":10},{"$f":"VLOOKUP($D200,Vertices!$A$10:$F$203, 4, FALSE)","v":100},{"$f":"VLOOKUP($D200,Vertices!$A$10:$F$203, 5, FALSE)","v":0},{"$f":"VLOOKUP($D200,Vertices!$A$10:$F$203, 6, FALSE)","v":0}]
[191,12,93,94,null,{"$f":"VLOOKUP($B201,Vertices!$A$10:$F$203, 3, FALSE)","v":10},{"$f":"VLOOKUP($B201,Vertices!$A$10:$F$203, 4, FALSE)","v":100},{"$f":"VLOOKUP($B201,Vertices!$A$10:$F$203, 5, FALSE)","v":0},{"$f":"VLOOKUP($B201,Vertices!$A$10:$F$203, 6, FALSE)","v":0},{"$f":"VLOOKUP($C201,Vertices!$A$10:$F$203, 3, FALSE)","v":10},{"$f":"VLOOKUP($C201,Vertices!$A$10:$F$203, 4, FALSE)","v":100},{"$f":"VLOOKUP($C201,Vertices!$A$10:$F$203, 5, FALSE)","v":0},{"$f":"VLOOKUP($C201,Vertices!$A$10:$F$203, 6, FALSE)","v":20},{"$f":"VLOOKUP($D201,Vertices!$A$10:$F$203, 3, FALSE)","v":20},{"$f":"VLOOKUP($D201,Vertices!$A$10:$F$203, 4, FALSE)","v":100},{"$f":"VLOOKUP($D201,Vertices!$A$10:$F$203, 5, FALSE)","v":0},{"$f":"VLOOKUP($D201,Vertices!$A$10:$F$203, 6, FALSE)","v":20}]
[192,12,94,18,null,{"$f":"VLOOKUP($B202,Vertices!$A$10:$F$203, 3, FALSE)","v":10},{"$f":"VLOOKUP($B202,Vertices!$A$10:$F$203, 4, FALSE)","v":100},{"$f":"VLOOKUP($B202,Vertices!$A$10:$F$203, 5, FALSE)","v":0},{"$f":"VLOOKUP($B202,Vertices!$A$10:$F$203, 6, FALSE)","v":0},{"$f":"VLOOKUP($C202,Vertices!$A$10:$F$203, 3, FALSE)","v":20},{"$f":"VLOOKUP($C202,Vertices!$A$10:$F$203, 4, FALSE)","v":100},{"$f":"VLOOKUP($C202,Vertices!$A$10:$F$203, 5, FALSE)","v":0},{"$f":"VLOOKUP($C202,Vertices!$A$10:$F$203, 6, FALSE)","v":20},{"$f":"VLOOKUP($D202,Vertices!$A$10:$F$203, 3, FALSE)","v":20},{"$f":"VLOOKUP($D202,Vertices!$A$10:$F$203, 4, FALSE)","v":100},{"$f":"VLOOKUP($D202,Vertices!$A$10:$F$203, 5, FALSE)","v":0},{"$f":"VLOOKUP($D202,Vertices!$A$10:$F$203, 6, FALSE)","v":0}]
[193,18,94,95,null,{"$f":"VLOOKUP($B203,Vertices!$A$10:$F$203, 3, FALSE)","v":20},{"$f":"VLOOKUP($B203,Vertices!$A$10:$F$203, 4, FALSE)","v":100},{"$f":"VLOOKUP($B203,Vertices!$A$10:$F$203, 5, FALSE)","v":0},{"$f":"VLOOKUP($B203,Vertices!$A$10:$F$203, 6, FALSE)","v":0},{"$f":"VLOOKUP($C203,Vertices!$A$10:$F$203, 3, FALSE)","v":20},{"$f":"VLOOKUP($C203,Vertices!$A$10:$F$203, 4, FALSE)","v":100},{"$f":"VLOOKUP($C203,Vertices!$A$10:$F$203, 5, FALSE)","v":0},{"$f":"VLOOKUP($C203,Vertices!$A$10:$F$203, 6, FALSE)","v":20},{"$f":"VLOOKUP($D203,Vertices!$A$10:$F$203, 3, FALSE)","v":40},{"$f":"VLOOKUP($D203,Vertices!$A$10:$F$203, 4, FALSE)","v":100},{"$f":"VLOOKUP($D203,Vertices!$A$10:$F$203, 5, FALSE)","v":0},{"$f":"VLOOKUP($D203,Vertices!$A$10:$F$203, 6, FALSE)","v":20}]
[194,18,95,24,null,{"$f":"VLOOKUP($B204,Vertices!$A$10:$F$203, 3, FALSE)","v":20},{"$f":"VLOOKUP($B204,Vertices!$A$10:$F$203, 4, FALSE)","v":100},{"$f":"VLOOKUP($B204,Vertices!$A$10:$F$203, 5, FALSE)","v":0},{"$f":"VLOOKUP($B204,Vertices!$A$10:$F$203, 6, FALSE)","v":0},{"$f":"VLOOKUP($C204,Vertices!$A$10:$F$203, 3, FALSE)","v":40},{"$f":"VLOOKUP($C204,Vertices!$A$10:$F$203, 4, FALSE)","v":100},{"$f":"VLOOKUP($C204,Vertices!$A$10:$F$203, 5, FALSE)","v":0},{"$f":"VLOOKUP($C204,Vertices!$A$10:$F$203, 6, FALSE)","v":20},{"$f":"VLOOKUP($D204,Vertices!$A$10:$F$203, 3, FALSE)","v":40},{"$f":"VLOOKUP($D204,Vertices!$A$10:$F$203, 4, FALSE)","v":100},{"$f":"VLOOKUP($D204,Vertices!$A$10:$F$203, 5, FALSE)","v":0},{"$f":"VLOOKUP($D204,Vertices!$A$10:$F$203, 6, FALSE)","v":0}]
[195,24,95,96,null,{"$f":"VLOOKUP($B205,Vertices!$A$10:$F$203, 3, FALSE)","v":40},{"$f":"VLOOKUP($B205,Vertices!$A$10:$F$203, 4, FALSE)","v":100},{"$f":"VLOOKUP($B205,Vertices!$A$10:$F$203, 5, FALSE)","v":0},{"$f":"VLOOKUP($B205,Vertices!$A$10:$F$203, 6, FALSE)","v":0},{"$f":"VLOOKUP($C205,Vertices!$A$10:$F$203, 3, FALSE)","v":40},{"$f":"VLOOKUP($C205,Vertices!$A$10:$F$203, 4, FALSE)","v":100},{"$f":"VLOOKUP($C205,Vertices!$A$10:$F$203, 5, FALSE)","v":0},{"$f":"VLOOKUP($C205,Vertices!$A$10:$F$203, 6, FALSE)","v":20},{"$f":"VLOOKUP($D205,Vertices!$A$10:$F$203, 3, FALSE)","v":70},{"$f":"VLOOKUP($D205,Vertices!$A$10:$F$203, 4, FALSE)","v":100},{"$f":"VLOOKUP($D205,Vertices!$A$10:$F$203, 5, FALSE)","v":0},{"$f":"VLOOKUP($D205,Vertices!$A$10:$F$203, 6, FALSE)","v":20}]
[196,24,96,30,null,{"$f":"VLOOKUP($B206,Vertices!$A$10:$F$203, 3, FALSE)","v":40},{"$f":"VLOOKUP($B206,Vertices!$A$10:$F$203, 4, FALSE)","v":100},{"$f":"VLOOKUP($B206,Vertices!$A$10:$F$203, 5, FALSE)","v":0},{"$f":"VLOOKUP($B206,Vertices!$A$10:$F$203, 6, FALSE)","v":0},{"$f":"VLOOKUP($C206,Vertices!$A$10:$F$203, 3, FALSE)","v":70},{"$f":"VLOOKUP($C206,Vertices!$A$10:$F$203, 4, FALSE)","v":100},{"$f":"VLOOKUP($C206,Vertices!$A$10:$F$203, 5, FALSE)","v":0},{"$f":"VLOOKUP($C206,Vertices!$A$10:$F$203, 6, FALSE)","v":20},{"$f":"VLOOKUP($D206,Vertices!$A$10:$F$203, 3, FALSE)","v":70},{"$f":"VLOOKUP($D206,Vertices!$A$10:$F$203, 4, FALSE)","v":100},{"$f":"VLOOKUP($D206,Vertices!$A$10:$F$203, 5, FALSE)","v":0},{"$f":"VLOOKUP($D206,Vertices!$A$10:$F$203, 6, FALSE)","v":0}]
[197,30,96,102,null,{"$f":"VLOOKUP($B207,Vertices!$A$10:$F$203, 3, FALSE)","v":70},{"$f":"VLOOKUP($B207,Vertices!$A$10:$F$203, 4, FALSE)","v":100},{"$f":"VLOOKUP($B207,Vertices!$A$10:$F$203, 5, FALSE)","v":0},{"$f":"VLOOKUP($B207,Vertices!$A$10:$F$203, 6, FALSE)","v":0},{"$f":"VLOOKUP($C207,Vertices!$A$10:$F$203, 3, FALSE)","v":70},{"$f":"VLOOKUP($C207,Vertices!$A$10:$F$203, 4, FALSE)","v":100},{"$f":"VLOOKUP($C207,Vertices!$A$10:$F$203, 5, FALSE)","v":0},{"$f":"VLOOKUP($C207,Vertices!$A$10:$F$203, 6, FALSE)","v":20},{"$f":"VLOOKUP($D207,Vertices!$A$10:$F$203, 3, FALSE)","v":100},{"$f":"VLOOKUP($D207,Vertices!$A$10:$F$203, 4, FALSE)","v":100},{"$f":"VLOOKUP($D207,Vertices!$A$10:$F$203, 5, FALSE)","v":0},{"$f":"VLOOKUP($D207,Vertices!$A$10:$F$203, 6, FALSE)","v":20}]
[198,30,102,36,null,{"$f":"VLOOKUP($B208,Vertices!$A$10:$F$203, 3, FALSE)","v":70},{"$f":"VLOOKUP($B208,Vertices!$A$10:$F$203, 4, FALSE)","v":100},{"$f":"VLOOKUP($B208,Vertices!$A$10:$F$203, 5, FALSE)","v":0},{"$f":"VLOOKUP($B208,Vertices!$A$10:$F$203, 6, FALSE)","v":0},{"$f":"VLOOKUP($C208,Vertices!$A$10:$F$203, 3, FALSE)","v":100},{"$f":"VLOOKUP($C208,Vertices!$A$10:$F$203, 4, FALSE)","v":100},{"$f":"VLOOKUP($C208,Vertices!$A$10:$F$203, 5, FALSE)","v":0},{"$f":"VLOOKUP($C208,Vertices!$A$10:$F$203, 6, FALSE)","v":20},{"$f":"VLOOKUP($D208,Vertices!$A$10:$F$203, 3, FALSE)","v":100},{"$f":"VLOOKUP($D208,Vertices!$A$10:$F$203, 4, FALSE)","v":100},{"$f":"VLOOKUP($D208,Vertices!$A$10:$F$203, 5, FALSE)","v":0},{"$f":"VLOOKUP($D208,Vertices!$A$10:$F$203, 6, FALSE)","v":0}]
[199,92,122,93,null,{"$f":"VLOOKUP($B209,Vertices!$A$10:$F$203, 3, FALSE)","v":0},{"$f":"VLOOKUP($B209,Vertices!$A$10:$F$203, 4, FALSE)","v":100},{"$f":"VLOOKUP($B209,Vertices!$A$10:$F$203, 5, FALSE)","v":0},{"$f":"VLOOKUP($B209,Vertices!$A$10:$F$203, 6, FALSE)","v":20},{"$f":"VLOOKUP($C209,Vertices!$A$10:$F$203, 3, FALSE)","v":0},{"$f":"VLOOKUP($C209,Vertices!$A$10:$F$203, 4, FALSE)","v":100},{"$f":"VLOOKUP($C209,Vertices!$A$10:$F$203, 5, FALSE)","v":0},{"$f":"VLOOKUP($C209,Vertices!$A$10:$F$203, 6, FALSE)","v":40},{"$f":"VLOOKUP($D209,Vertices!$A$10:$F$203, 3, FALSE)","v":10},{"$f":"VLOOKUP($D209,Vertices!$A$10:$F$203, 4, FALSE)","v":100},{"$f":"VLOOKUP($D209,Vertices!$A$10:$F$203, 5, FALSE)","v":0},{"$f":"VLOOKUP($D209,Vertices!$A$10:$F$203, 6, FALSE)","v":20}]
[200,122,123,93,null,{"$f":"VLOOKUP($B210,Vertices!$A$10:$F$203, 3, FALSE)","v":0},{"$f":"VLOOKUP($B210,Vertices!$A$10:$F$203, 4, FALSE)","v":100},{"$f":"VLOOKUP($B210,Vertices!$A$10:$F$203, 5, FALSE)","v":0},{"$f":"VLOOKUP($B210,Vertices!$A$10:$F$203, 6, FALSE)","v":40},{"$f":"VLOOKUP($C210,Vertices!$A$10:$F$203, 3, FALSE)","v":20},{"$f":"VLOOKUP($C210,Vertices!$A$10:$F$203, 4, FALSE)","v":100},{"$f":"VLOOKUP($C210,Vertices!$A$10:$F$203, 5, FALSE)","v":0},{"$f":"VLOOKUP($C210,Vertices!$A$10:$F$203, 6, FALSE)","v":40},{"$f":"VLOOKUP($D210,Vertices!$A$10:$F$203, 3, FALSE)","v":10},{"$f":"VLOOKUP($D210,Vertices!$A$10:$F$203, 4, FALSE)","v":100},{"$f":"VLOOKUP($D210,Vertices!$A$10:$F$203, 5, FALSE)","v":0},{"$f":"VLOOKUP($D210,Vertices!$A$10:$F$203, 6, FALSE)","v":20}]
[201,93,123,94,null,{"$f":"VLOOKUP($B211,Vertices!$A$10:$F$203, 3, FALSE)","v":10},{"$f":"VLOOKUP($B211,Vertices!$A$10:$F$203, 4, FALSE)","v":100},{"$f":"VLOOKUP($B211,Vertices!$A$10:$F$203, 5, FALSE)","v":0},{"$f":"VLOOKUP($B211,Vertices!$A$10:$F$203, 6, FALSE)","v":20},{"$f":"VLOOKUP($C211,Vertices!$A$10:$F$203, 3, FALSE)","v":20},{"$f":"VLOOKUP($C211,Vertices!$A$10:$F$203, 4, FALSE)","v":100},{"$f":"VLOOKUP($C211,Vertices!$A$10:$F$203, 5, FALSE)","v":0},{"$f":"VLOOKUP($C211,Vertices!$A$10:$F$203, 6, FALSE)","v":40},{"$f":"VLOOKUP($D211,Vertices!$A$10:$F$203, 3, FALSE)","v":20},{"$f":"VLOOKUP($D211,Vertices!$A$10:$F$203, 4, FALSE)","v":100},{"$f":"VLOOKUP($D211,Vertices!$A$10:$F$203, 5, FALSE)","v":0},{"$f":"VLOOKUP($D211,Vertices!$A$10:$F$203, 6, FALSE)","v":20}]
[202,94,123,124,null,{"$f":"VLOOKUP($B212,Vertices!$A$10:$F$203, 3, FALSE)","v":20},{"$f":"VLOOKUP($B212,Vertices!$A$10:$F$203, 4, FALSE)","v":100},{"$f":"VLOOKUP($B212,Vertices!$A$10:$F$203, 5, FALSE)","v":0},{"$f":"VLOOKUP($B212,Vertices!$A$10:$F$203, 6, FALSE)","v":20},{"$f":"VLOOKUP($C212,Vertices!$A$10:$F$203, 3, FALSE)","v":20},{"$f":"VLOOKUP($C212,Vertices!$A$10:$F$203, 4, FALSE)","v":100},{"$f":"VLOOKUP($C212,Vertices!$A$10:$F$203, 5, FALSE)","v":0},{"$f":"VLOOKUP($C212,Vertices!$A$10:$F$203, 6, FALSE)","v":40},{"$f":"VLOOKUP($D212,Vertices!$A$10:$F$203, 3, FALSE)","v":40},{"$f":"VLOOKUP($D212,Vertices!$A$10:$F$203, 4, FALSE)","v":100},{"$f":"VLOOKUP($D212,Vertices!$A$10:$F$203, 5, FALSE)","v":0},{"$f":"VLOOKUP($D212,Vertices!$A$10:$F$203, 6, FALSE)","v":40}]
[203,94,124,95,null,{"$f":"VLOOKUP($B213,Vertices!$A$10:$F$203, 3, FALSE)","v":20},{"$f":"VLOOKUP($B213,Vertices!$A$10:$F$203, 4, FALSE)","v":100},{"$f":"VLOOKUP($B213,Vertices!$A$10:$F$203, 5, FALSE)","v":0},{"$f":"VLOOKUP($B213,Vertices!$A$10:$F$203, 6, FALSE)","v":20},{"$f":"VLOOKUP($C213,Vertices!$A$10:$F$203, 3, FALSE)","v":40},{"$f":"VLOOKUP($C213,Vertices!$A$10:$F$203, 4, FALSE)","v":100},{"$f":"VLOOKUP($C213,Vertices!$A$10:$F$203, 5, FALSE)","v":0},{"$f":"VLOOKUP($C213,Vertices!$A$10:$F$203, 6, FALSE)","v":40},{"$f":"VLOOKUP($D213,Vertices!$A$10:$F$203, 3, FALSE)","v":40},{"$f":"VLOOKUP($D213,Vertices!$A$10:$F$203, 4, FALSE)","v":100},{"$f":"VLOOKUP($D213,Vertices!$A$10:$F$203, 5, FALSE)","v":0},{"$f":"VLOOKUP($D213,Vertices!$A$10:$F$203, 6, FALSE)","v":20}]
[204,95,124,125,null,{"$f":"VLOOKUP($B214,Vertices!$A$10:$F$203, 3, FALSE)","v":40},{"$f":"VLOOKUP($B214,Vertices!$A$10:$F$203, 4, FALSE)","v":100},{"$f":"VLOOKUP($B214,Vertices!$A$10:$F$203, 5, FALSE)","v":0},{"$f":"VLOOKUP($B214,Vertices!$A$10:$F$203, 6, FALSE)","v":20},{"$f":"VLOOKUP($C214,Vertices!$A$10:$F$203, 3, FALSE)","v":40},{"$f":"VLOOKUP($C214,Vertices!$A$10:$F$203, 4, FALSE)","v":100},{"$f":"VLOOKUP($C214,Vertices!$A$10:$F$203, 5, FALSE)","v":0},{"$f":"VLOOKUP($C214,Vertices!$A$10:$F$203, 6, FALSE)","v":40},{"$f":"VLOOKUP($D214,Vertices!$A$10:$F$203, 3, FALSE)","v":70},{"$f":"VLOOKUP($D214,Vertices!$A$10:$F$203, 4, FALSE)","v":100},{"$f":"VLOOKUP($D214,Vertices!$A$10:$F$203, 5, FALSE)","v":0},{"$f":"VLOOKUP($D214,Vertices!$A$10:$F$203, 6, FALSE)","v":40}]
[205,95,125,96,null,{"$f":"VLOOKUP($B215,Vertices!$A$10:$F$203, 3, FALSE)","v":40},{"$f":"VLOOKUP($B215,Vertices!$A$10:$F$203, 4, FALSE)","v":100},{"$f":"VLOOKUP($B215,Vertices!$A$10:$F$203, 5, FALSE)","v":0},{"$f":"VLOOKUP($B215,Vertices!$A$10:$F$203, 6, FALSE)","v":20},{"$f":"VLOOKUP($C215,Vertices!$A$10:$F$203, 3, FALSE)","v":70},{"$f":"VLOOKUP($C215,Vertices!$A$10:$F$203, 4, FALSE)","v":100},{"$f":"VLOOKUP($C215,Vertices!$A$10:$F$203, 5, FALSE)","v":0},{"$f":"VLOOKUP($C215,Vertices!$A$10:$F$203, 6, FALSE)","v":40},{"$f":"VLOOKUP($D215,Vertices!$A$10:$F$203, 3, FALSE)","v":70},{"$f":"VLOOKUP($D215,Vertices!$A$10:$F$203, 4, FALSE)","v":100},{"$f":"VLOOKUP($D215,Vertices!$A$10:$F$203, 5, FALSE)","v":0},{"$f":"VLOOKUP($D215,Vertices!$A$10:$F$203, 6, FALSE)","v":20}]
[206,96,125,130,null,{"$f":"VLOOKUP($B216,Vertices!$A$10:$F$203, 3, FALSE)","v":70},{"$f":"VLOOKUP($B216,Vertices!$A$10:$F$203, 4, FALSE)","v":100},{"$f":"VLOOKUP($B216,Vertices!$A$10:$F$203, 5, FALSE)","v":0},{"$f":"VLOOKUP($B216,Vertices!$A$10:$F$203, 6, FALSE)","v":20},{"$f":"VLOOKUP($C216,Vertices!$A$10:$F$203, 3, FALSE)","v":70},{"$f":"VLOOKUP($C216,Vertices!$A$10:$F$203, 4, FALSE)","v":100},{"$f":"VLOOKUP($C216,Vertices!$A$10:$F$203, 5, FALSE)","v":0},{"$f":"VLOOKUP($C216,Vertices!$A$10:$F$203, 6, FALSE)","v":40},{"$f":"VLOOKUP($D216,Vertices!$A$10:$F$203, 3, FALSE)","v":100},{"$f":"VLOOKUP($D216,Vertices!$A$10:$F$203, 4, FALSE)","v":100},{"$f":"VLOOKUP($D216,Vertices!$A$10:$F$203, 5, FALSE)","v":0},{"$f":"VLOOKUP($D216,Vertices!$A$10:$F$203, 6, FALSE)","v":40}]
[207,96,130,102,null,{"$f":"VLOOKUP($B217,Vertices!$A$10:$F$203, 3, FALSE)","v":70},{"$f":"VLOOKUP($B217,Vertices!$A$10:$F$203, 4, FALSE)","v":100},{"$f":"VLOOKUP($B217,Vertices!$A$10:$F$203, 5, FALSE)","v":0},{"$f":"VLOOKUP($B217,Vertices!$A$10:$F$203, 6, FALSE)","v":20},{"$f":"VLOOKUP($C217,Vertices!$A$10:$F$203, 3, FALSE)","v":100},{"$f":"VLOOKUP($C217,Vertices!$A$10:$F$203, 4, FALSE)","v":100},{"$f":"VLOOKUP($C217,Vertices!$A$10:$F$203, 5, FALSE)","v":0},{"$f":"VLOOKUP($C217,Vertices!$A$10:$F$203, 6, FALSE)","v":40},{"$f":"VLOOKUP($D217,Vertices!$A$10:$F$203, 3, FALSE)","v":100},{"$f":"VLOOKUP($D217,Vertices!$A$10:$F$203, 4, FALSE)","v":100},{"$f":"VLOOKUP($D217,Vertices!$A$10:$F$203, 5, FALSE)","v":0},{"$f":"VLOOKUP($D217,Vertices!$A$10:$F$203, 6, FALSE)","v":20}]
[208,122,146,147,null,{"$f":"VLOOKUP($B218,Vertices!$A$10:$F$203, 3, FALSE)","v":0},{"$f":"VLOOKUP($B218,Vertices!$A$10:$F$203, 4, FALSE)","v":100},{"$f":"VLOOKUP($B218,Vertices!$A$10:$F$203, 5, FALSE)","v":0},{"$f":"VLOOKUP($B218,Vertices!$A$10:$F$203, 6, FALSE)","v":40},{"$f":"VLOOKUP($C218,Vertices!$A$10:$F$203, 3, FALSE)","v":0},{"$f":"VLOOKUP($C218,Vertices!$A$10:$F$203, 4, FALSE)","v":100},{"$f":"VLOOKUP($C218,Vertices!$A$10:$F$203, 5, FALSE)","v":0},{"$f":"VLOOKUP($C218,Vertices!$A$10:$F$203, 6, FALSE)","v":60},{"$f":"VLOOKUP($D218,Vertices!$A$10:$F$203, 3, FALSE)","v":20},{"$f":"VLOOKUP($D218,Vertices!$A$10:$F$203, 4, FALSE)","v":100},{"$f":"VLOOKUP($D218,Vertices!$A$10:$F$203, 5, FALSE)","v":0},{"$f":"VLOOKUP($D218,Vertices!$A$10:$F$203, 6, FALSE)","v":60}]
[209,122,147,123,null,{"$f":"VLOOKUP($B219,Vertices!$A$10:$F$203, 3, FALSE)","v":0},{"$f":"VLOOKUP($B219,Vertices!$A$10:$F$203, 4, FALSE)","v":100},{"$f":"VLOOKUP($B219,Vertices!$A$10:$F$203, 5, FALSE)","v":0},{"$f":"VLOOKUP($B219,Vertices!$A$10:$F$203, 6, FALSE)","v":40},{"$f":"VLOOKUP($C219,Vertices!$A$10:$F$203, 3, FALSE)","v":20},{"$f":"VLOOKUP($C219,Vertices!$A$10:$F$203, 4, FALSE)","v":100},{"$f":"VLOOKUP($C219,Vertices!$A$10:$F$203, 5, FALSE)","v":0},{"$f":"VLOOKUP($C219,Vertices!$A$10:$F$203, 6, FALSE)","v":60},{"$f":"VLOOKUP($D219,Vertices!$A$10:$F$203, 3, FALSE)","v":20},{"$f":"VLOOKUP($D219,Vertices!$A$10:$F$203, 4, FALSE)","v":100},{"$f":"VLOOKUP($D219,Vertices!$A$10:$F$203, 5, FALSE)","v":0},{"$f":"VLOOKUP($D219,Vertices!$A$10:$F$203, 6, FALSE)","v":40}]
[210,123,147,148,null,{"$f":"VLOOKUP($B220,Vertices!$A$10:$F$203, 3, FALSE)","v":20},{"$f":"VLOOKUP($B220,Vertices!$A$10:$F$203, 4, FALSE)","v":100},{"$f":"VLOOKUP($B220,Vertices!$A$10:$F$203, 5, FALSE)","v":0},{"$f":"VLOOKUP($B220,Vertices!$A$10:$F$203, 6, FALSE)","v":40},{"$f":"VLOOKUP($C220,Vertices!$A$10:$F$203, 3, FALSE)","v":20},{"$f":"VLOOKUP($C220,Vertices!$A$10:$F$203, 4, FALSE)","v":100},{"$f":"VLOOKUP($C220,Vertices!$A$10:$F$203, 5, FALSE)","v":0},{"$f":"VLOOKUP($C220,Vertices!$A$10:$F$203, 6, FALSE)","v":60},{"$f":"VLOOKUP($D220,Vertices!$A$10:$F$203, 3, FALSE)","v":40},{"$f":"VLOOKUP($D220,Vertices!$A$10:$F$203, 4, FALSE)","v":100},{"$f":"VLOOKUP($D220,Vertices!$A$10:$F$203, 5, FALSE)","v":0},{"$f":"VLOOKUP($D220,Vertices!$A$10:$F$203, 6, FALSE)","v":60}]
[211,123,148,124,null,{"$f":"VLOOKUP($B221,Vertices!$A$10:$F$203, 3, FALSE)","v":20},{"$f":"VLOOKUP($B221,Vertices!$A$10:$F$203, 4, FALSE)","v":100},{"$f":"VLOOKUP($B221,Vertices!$A$10:$F$203, 5, FALSE)","v":0},{"$f":"VLOOKUP($B221,Vertices!$A$10:$F$203, 6, FALSE)","v":40},{"$f":"VLOOKUP($C221,Vertices!$A$10:$F$203, 3, FALSE)","v":40},{"$f":"VLOOKUP($C221,Vertices!$A$10:$F$203, 4, FALSE)","v":100},{"$f":"VLOOKUP($C221,Vertices!$A$10:$F$203, 5, FALSE)","v":0},{"$f":"VLOOKUP($C221,Vertices!$A$10:$F$203, 6, FALSE)","v":60},{"$f":"VLOOKUP($D221,Vertices!$A$10:$F$203, 3, FALSE)","v":40},{"$f":"VLOOKUP($D221,Vertices!$A$10:$F$203, 4, FALSE)","v":100},{"$f":"VLOOKUP($D221,Vertices!$A$10:$F$203, 5, FALSE)","v":0},{"$f":"VLOOKUP($D221,Vertices!$A$10:$F$203, 6, FALSE)","v":40}]
[212,124,148,149,null,{"$f":"VLOOKUP($B222,Vertices!$A$10:$F$203, 3, FALSE)","v":40},{"$f":"VLOOKUP($B222,Vertices!$A$10:$F$203, 4, FALSE)","v":100},{"$f":"VLOOKUP($B222,Vertices!$A$10:$F$203, 5, FALSE)","v":0},{"$f":"VLOOKUP($B222,Vertices!$A$10:$F$203, 6, FALSE)","v":40},{"$f":"VLOOKUP($C222,Vertices!$A$10:$F$203, 3, FALSE)","v":40},{"$f":"VLOOKUP($C222,Vertices!$A$10:$F$203, 4, FALSE)","v":100},{"$f":"VLOOKUP($C222,Vertices!$A$10:$F$203, 5, FALSE)","v":0},{"$f":"VLOOKUP($C222,Vertices!$A$10:$F$203, 6, FALSE)","v":60},{"$f":"VLOOKUP($D222,Vertices!$A$10:$F$203, 3, FALSE)","v":70},{"$f":"VLOOKUP($D222,Vertices!$A$10:$F$203, 4, FALSE)","v":100},{"$f":"VLOOKUP($D222,Vertices!$A$10:$F$203, 5, FALSE)","v":0},{"$f":"VLOOKUP($D222,Vertices!$A$10:$F$203, 6, FALSE)","v":60}]
[213,124,149,125,null,{"$f":"VLOOKUP($B223,Vertices!$A$10:$F$203, 3, FALSE)","v":40},{"$f":"VLOOKUP($B223,Vertices!$A$10:$F$203, 4, FALSE)","v":100},{"$f":"VLOOKUP($B223,Vertices!$A$10:$F$203, 5, FALSE)","v":0},{"$f":"VLOOKUP($B223,Vertices!$A$10:$F$203, 6, FALSE)","v":40},{"$f":"VLOOKUP($C223,Vertices!$A$10:$F$203, 3, FALSE)","v":70},{"$f":"VLOOKUP($C223,Vertices!$A$10:$F$203, 4, FALSE)","v":100},{"$f":"VLOOKUP($C223,Vertices!$A$10:$F$203, 5, FALSE)","v":0},{"$f":"VLOOKUP($C223,Vertices!$A$10:$F$203, 6, FALSE)","v":60},{"$f":"VLOOKUP($D223,Vertices!$A$10:$F$203, 3, FALSE)","v":70},{"$f":"VLOOKUP($D223,Vertices!$A$10:$F$203, 4, FALSE)","v":100},{"$f":"VLOOKUP($D223,Vertices!$A$10:$F$203, 5, FALSE)","v":0},{"$f":"VLOOKUP($D223,Vertices!$A$10:$F$203, 6, FALSE)","v":40}]
[214,125,149,154,null,{"$f":"VLOOKUP($B224,Vertices!$A$10:$F$203, 3, FALSE)","v":70},{"$f":"VLOOKUP($B224,Vertices!$A$10:$F$203, 4, FALSE)","v":100},{"$f":"VLOOKUP($B224,Vertices!$A$10:$F$203, 5, FALSE)","v":0},{"$f":"VLOOKUP($B224,Vertices!$A$10:$F$203, 6, FALSE)","v":40},{"$f":"VLOOKUP($C224,Vertices!$A$10:$F$203, 3, FALSE)","v":70},{"$f":"VLOOKUP($C224,Vertices!$A$10:$F$203, 4, FALSE)","v":100},{"$f":"VLOOKUP($C224,Vertices!$A$10:$F$203, 5, FALSE)","v":0},{"$f":"VLOOKUP($C224,Vertices!$A$10:$F$203, 6, FALSE)","v":60},{"$f":"VLOOKUP($D224,Vertices!$A$10:$F$203, 3, FALSE)","v":100},{"$f":"VLOOKUP($D224,Vertices!$A$10:$F$203, 4, FALSE)","v":100},{"$f":"VLOOKUP($D224,Vertices!$A$10:$F$203, 5, FALSE)","v":0},{"$f":"VLOOKUP($D224,Vertices!$A$10:$F$203, 6, FALSE)","v":60}]
[215,125,154,130,null,{"$f":"VLOOKUP($B225,Vertices!$A$10:$F$203, 3, FALSE)","v":70},{"$f":"VLOOKUP($B225,Vertices!$A$10:$F$203, 4, FALSE)","v":100},{"$f":"VLOOKUP($B225,Vertices!$A$10:$F$203, 5, FALSE)","v":0},{"$f":"VLOOKUP($B225,Vertices!$A$10:$F$203, 6, FALSE)","v":40},{"$f":"VLOOKUP($C225,Vertices!$A$10:$F$203, 3, FALSE)","v":100},{"$f":"VLOOKUP($C225,Vertices!$A$10:$F$203, 4, FALSE)","v":100},{"$f":"VLOOKUP($C225,Vertices!$A$10:$F$203, 5, FALSE)","v":0},{"$f":"VLOOKUP($C225,Vertices!$A$10:$F$203, 6, FALSE)","v":60},{"$f":"VLOOKUP($D225,Vertices!$A$10:$F$203, 3, FALSE)","v":100},{"$f":"VLOOKUP($D225,Vertices!$A$10:$F$203, 4, FALSE)","v":100},{"$f":"VLOOKUP($D225,Vertices!$A$10:$F$203, 5, FALSE)","v":0},{"$f":"VLOOKUP($D225,Vertices!$A$10:$F$203, 6, FALSE)","v":40}]
[216,146,170,147,null,{"$f":"VLOOKUP($B226,Vertices!$A$10:$F$203, 3, FALSE)","v":0},{"$f":"VLOOKUP($B226,Vertices!$A$10:$F$203, 4, FALSE)","v":100},{"$f":"VLOOKUP($B226,Vertices!$A$10:$F$203, 5, FALSE)","v":0},{"$f":"VLOOKUP($B226,Vertices!$A$10:$F$203, 6, FALSE)","v":60},{"$f":"VLOOKUP($C226,Vertices!$A$10:$F$203, 3, FALSE)","v":0},{"$f":"VLOOKUP($C226,Vertices!$A$10:$F$203, 4, FALSE)","v":100},{"$f":"VLOOKUP($C226,Vertices!$A$10:$F$203, 5, FALSE)","v":0},{"$f":"VLOOKUP($C226,Vertices!$A$10:$F$203, 6, FALSE)","v":80},{"$f":"VLOOKUP($D226,Vertices!$A$10:$F$203, 3, FALSE)","v":20},{"$f":"VLOOKUP($D226,Vertices!$A$10:$F$203, 4, FALSE)","v":100},{"$f":"VLOOKUP($D226,Vertices!$A$10:$F$203, 5, FALSE)","v":0},{"$f":"VLOOKUP($D226,Vertices!$A$10:$F$203, 6, FALSE)","v":60}]
[217,147,170,171,null,{"$f":"VLOOKUP($B227,Vertices!$A$10:$F$203, 3, FALSE)","v":20},{"$f":"VLOOKUP($B227,Vertices!$A$10:$F$203, 4, FALSE)","v":100},{"$f":"VLOOKUP($B227,Vertices!$A$10:$F$203, 5, FALSE)","v":0},{"$f":"VLOOKUP($B227,Vertices!$A$10:$F$203, 6, FALSE)","v":60},{"$f":"VLOOKUP($C227,Vertices!$A$10:$F$203, 3, FALSE)","v":0},{"$f":"VLOOKUP($C227,Vertices!$A$10:$F$203, 4, FALSE)","v":100},{"$f":"VLOOKUP($C227,Vertices!$A$10:$F$203, 5, FALSE)","v":0},{"$f":"VLOOKUP($C227,Vertices!$A$10:$F$203, 6, FALSE)","v":80},{"$f":"VLOOKUP($D227,Vertices!$A$10:$F$203, 3, FALSE)","v":40},{"$f":"VLOOKUP($D227,Vertices!$A$10:$F$203, 4, FALSE)","v":100},{"$f":"VLOOKUP($D227,Vertices!$A$10:$F$203, 5, FALSE)","v":0},{"$f":"VLOOKUP($D227,Vertices!$A$10:$F$203, 6, FALSE)","v":80}]
[218,147,171,148,null,{"$f":"VLOOKUP($B228,Vertices!$A$10:$F$203, 3, FALSE)","v":20},{"$f":"VLOOKUP($B228,Vertices!$A$10:$F$203, 4, FALSE)","v":100},{"$f":"VLOOKUP($B228,Vertices!$A$10:$F$203, 5, FALSE)","v":0},{"$f":"VLOOKUP($B228,Vertices!$A$10:$F$203, 6, FALSE)","v":60},{"$f":"VLOOKUP($C228,Vertices!$A$10:$F$203, 3, FALSE)","v":40},{"$f":"VLOOKUP($C228,Vertices!$A$10:$F$203, 4, FALSE)","v":100},{"$f":"VLOOKUP($C228,Vertices!$A$10:$F$203, 5, FALSE)","v":0},{"$f":"VLOOKUP($C228,Vertices!$A$10:$F$203, 6, FALSE)","v":80},{"$f":"VLOOKUP($D228,Vertices!$A$10:$F$203, 3, FALSE)","v":40},{"$f":"VLOOKUP($D228,Vertices!$A$10:$F$203, 4, FALSE)","v":100},{"$f":"VLOOKUP($D228,Vertices!$A$10:$F$203, 5, FALSE)","v":0},{"$f":"VLOOKUP($D228,Vertices!$A$10:$F$203, 6, FALSE)","v":60}]
[219,148,171,172,null,{"$f":"VLOOKUP($B229,Vertices!$A$10:$F$203, 3, FALSE)","v":40},{"$f":"VLOOKUP($B229,Vertices!$A$10:$F$203, 4, FALSE)","v":100},{"$f":"VLOOKUP($B229,Vertices!$A$10:$F$203, 5, FALSE)","v":0},{"$f":"VLOOKUP($B229,Vertices!$A$10:$F$203, 6, FALSE)","v":60},{"$f":"VLOOKUP($C229,Vertices!$A$10:$F$203, 3, FALSE)","v":40},{"$f":"VLOOKUP($C229,Vertices!$A$10:$F$203, 4, FALSE)","v":100},{"$f":"VLOOKUP($C229,Vertices!$A$10:$F$203, 5, FALSE)","v":0},{"$f":"VLOOKUP($C229,Vertices!$A$10:$F$203, 6, FALSE)","v":80},{"$f":"VLOOKUP($D229,Vertices!$A$10:$F$203, 3, FALSE)","v":70},{"$f":"VLOOKUP($D229,Vertices!$A$10:$F$203, 4, FALSE)","v":100},{"$f":"VLOOKUP($D229,Vertices!$A$10:$F$203, 5, FALSE)","v":0},{"$f":"VLOOKUP($D229,Vertices!$A$10:$F$203, 6, FALSE)","v":80}]
[220,148,172,149,null,{"$f":"VLOOKUP($B230,Vertices!$A$10:$F$203, 3, FALSE)","v":40},{"$f":"VLOOKUP($B230,Vertices!$A$10:$F$203, 4, FALSE)","v":100},{"$f":"VLOOKUP($B230,Vertices!$A$10:$F$203, 5, FALSE)","v":0},{"$f":"VLOOKUP($B230,Vertices!$A$10:$F$203, 6, FALSE)","v":60},{"$f":"VLOOKUP($C230,Vertices!$A$10:$F$203, 3, FALSE)","v":70},{"$f":"VLOOKUP($C230,Vertices!$A$10:$F$203, 4, FALSE)","v":100},{"$f":"VLOOKUP($C230,Vertices!$A$10:$F$203, 5, FALSE)","v":0},{"$f":"VLOOKUP($C230,Vertices!$A$10:$F$203, 6, FALSE)","v":80},{"$f":"VLOOKUP($D230,Vertices!$A$10:$F$203, 3, FALSE)","v":70},{"$f":"VLOOKUP($D230,Vertices!$A$10:$F$203, 4, FALSE)","v":100},{"$f":"VLOOKUP($D230,Vertices!$A$10:$F$203, 5, FALSE)","v":0},{"$f":"VLOOKUP($D230,Vertices!$A$10:$F$203, 6, FALSE)","v":60}]
[221,149,172,176,null,{"$f":"VLOOKUP($B231,Vertices!$A$10:$F$203, 3, FALSE)","v":70},{"$f":"VLOOKUP($B231,Vertices!$A$10:$F$203, 4, FALSE)","v":100},{"$f":"VLOOKUP($B231,Vertices!$A$10:$F$203, 5, FALSE)","v":0},{"$f":"VLOOKUP($B231,Vertices!$A$10:$F$203, 6, FALSE)","v":60},{"$f":"VLOOKUP($C231,Vertices!$A$10:$F$203, 3, FALSE)","v":70},{"$f":"VLOOKUP($C231,Vertices!$A$10:$F$203, 4, FALSE)","v":100},{"$f":"VLOOKUP($C231,Vertices!$A$10:$F$203, 5, FALSE)","v":0},{"$f":"VLOOKUP($C231,Vertices!$A$10:$F$203, 6, FALSE)","v":80},{"$f":"VLOOKUP($D231,Vertices!$A$10:$F$203, 3, FALSE)","v":100},{"$f":"VLOOKUP($D231,Vertices!$A$10:$F$203, 4, FALSE)","v":100},{"$f":"VLOOKUP($D231,Vertices!$A$10:$F$203, 5, FALSE)","v":0},{"$f":"VLOOKUP($D231,Vertices!$A$10:$F$203, 6, FALSE)","v":80}]
[222,149,176,154,null,{"$f":"VLOOKUP($B232,Vertices!$A$10:$F$203, 3, FALSE)","v":70},{"$f":"VLOOKUP($B232,Vertices!$A$10:$F$203, 4, FALSE)","v":100},{"$f":"VLOOKUP($B232,Vertices!$A$10:$F$203, 5, FALSE)","v":0},{"$f":"VLOOKUP($B232,Vertices!$A$10:$F$203, 6, FALSE)","v":60},{"$f":"VLOOKUP($C232,Vertices!$A$10:$F$203, 3, FALSE)","v":100},{"$f":"VLOOKUP($C232,Vertices!$A$10:$F$203, 4, FALSE)","v":100},{"$f":"VLOOKUP($C232,Vertices!$A$10:$F$203, 5, FALSE)","v":0},{"$f":"VLOOKUP($C232,Vertices!$A$10:$F$203, 6, FALSE)","v":80},{"$f":"VLOOKUP($D232,Vertices!$A$10:$F$203, 3, FALSE)","v":100},{"$f":"VLOOKUP($D232,Vertices!$A$10:$F$203, 4, FALSE)","v":100},{"$f":"VLOOKUP($D232,Vertices!$A$10:$F$203, 5, FALSE)","v":0},{"$f":"VLOOKUP($D232,Vertices!$A$10:$F$203, 6, FALSE)","v":60}]
[223,170,188,171,null,{"$f":"VLOOKUP($B233,Vertices!$A$10:$F$203, 3, FALSE)","v":0},{"$f":"VLOOKUP($B233,Vertices!$A$10:$F$203, 4, FALSE)","v":100},{"$f":"VLOOKUP($B233,Vertices!$A$10:$F$203, 5, FALSE)","v":0},{"$f":"VLOOKUP($B233,Vertices!$A$10:$F$203, 6, FALSE)","v":80},{"$f":"VLOOKUP($C233,Vertices!$A$10:$F$203, 3, FALSE)","v":0},{"$f":"VLOOKUP($C233,Vertices!$A$10:$F$203, 4, FALSE)","v":100},{"$f":"VLOOKUP($C233,Vertices!$A$10:$F$203, 5, FALSE)","v":0},{"$f":"VLOOKUP($C233,Vertices!$A$10:$F$203, 6, FALSE)","v":100},{"$f":"VLOOKUP($D233,Vertices!$A$10:$F$203, 3, FALSE)","v":40},{"$f":"VLOOKUP($D233,Vertices!$A$10:$F$203, 4, FALSE)","v":100},{"$f":"VLOOKUP($D233,Vertices!$A$10:$F$203, 5, FALSE)","v":0},{"$f":"VLOOKUP($D233,Vertices!$A$10:$F$203, 6, FALSE)","v":80}]
[224,171,188,190,null,{"$f":"VLOOKUP($B234,Vertices!$A$10:$F$203, 3, FALSE)","v":40},{"$f":"VLOOKUP($B234,Vertices!$A$10:$F$203, 4, FALSE)","v":100},{"$f":"VLOOKUP($B234,Vertices!$A$10:$F$203, 5, FALSE)","v":0},{"$f":"VLOOKUP($B234,Vertices!$A$10:$F$203, 6, FALSE)","v":80},{"$f":"VLOOKUP($C234,Vertices!$A$10:$F$203, 3, FALSE)","v":0},{"$f":"VLOOKUP($C234,Vertices!$A$10:$F$203, 4, FALSE)","v":100},{"$f":"VLOOKUP($C234,Vertices!$A$10:$F$203, 5, FALSE)","v":0},{"$f":"VLOOKUP($C234,Vertices!$A$10:$F$203, 6, FALSE)","v":100},{"$f":"VLOOKUP($D234,Vertices!$A$10:$F$203, 3, FALSE)","v":100},{"$f":"VLOOKUP($D234,Vertices!$A$10:$F$203, 4, FALSE)","v":100},{"$f":"VLOOKUP($D234,Vertices!$A$10:$F$203, 5, FALSE)","v":0},{"$f":"VLOOKUP($D234,Vertices!$A$10:$F$203, 6, FALSE)","v":100}]
[225,171,190,172,null,{"$f":"VLOOKUP($B235,Vertices!$A$10:$F$203, 3, FALSE)","v":40},{"$f":"VLOOKUP($B235,Vertices!$A$10:$F$203, 4, FALSE)","v":100},{"$f":"VLOOKUP($B235,Vertices!$A$10:$F$203, 5, FALSE)","v":0},{"$f":"VLOOKUP($B235,Vertices!$A$10:$F$203, 6, FALSE)","v":80},{"$f":"VLOOKUP($C235,Vertices!$A$10:$F$203, 3, FALSE)","v":100},{"$f":"VLOOKUP($C235,Vertices!$A$10:$F$203, 4, FALSE)","v":100},{"$f":"VLOOKUP($C235,Vertices!$A$10:$F$203, 5, FALSE)","v":0},{"$f":"VLOOKUP($C235,Vertices!$A$10:$F$203, 6, FALSE)","v":100},{"$f":"VLOOKUP($D235,Vertices!$A$10:$F$203, 3, FALSE)","v":70},{"$f":"VLOOKUP($D235,Vertices!$A$10:$F$203, 4, FALSE)","v":100},{"$f":"VLOOKUP($D235,Vertices!$A$10:$F$203, 5, FALSE)","v":0},{"$f":"VLOOKUP($D235,Vertices!$A$10:$F$203, 6, FALSE)","v":80}]
[226,172,190,176,null,{"$f":"VLOOKUP($B236,Vertices!$A$10:$F$203, 3, FALSE)","v":70},{"$f":"VLOOKUP($B236,Vertices!$A$10:$F$203, 4, FALSE)","v":100},{"$f":"VLOOKUP($B236,Vertices!$A$10:$F$203, 5, FALSE)","v":0},{"$f":"VLOOKUP($B236,Vertices!$A$10:$F$203, 6, FALSE)","v":80},{"$f":"VLOOKUP($C236,Vertices!$A$10:$F$203, 3, FALSE)","v":100},{"$f":"VLOOKUP($C236,Vertices!$A$10:$F$203, 4, FALSE)","v":100},{"$f":"VLOOKUP($C236,Vertices!$A$10:$F$203, 5, FALSE)","v":0},{"$f":"VLOOKUP($C236,Vertices!$A$10:$F$203, 6, FALSE)","v":100},{"$f":"VLOOKUP($D236,Vertices!$A$10:$F$203, 3, FALSE)","v":100},{"$f":"VLOOKUP($D236,Vertices!$A$10:$F$203, 4, FALSE)","v":100},{"$f":"VLOOKUP($D236,Vertices!$A$10:$F$203, 5, FALSE)","v":0},{"$f":"VLOOKUP($D236,Vertices!$A$10:$F$203, 6, FALSE)","v":80}]
[227,6,103,92,null,{"$f":"VLOOKUP($B237,Vertices!$A$10:$F$203, 3, FALSE)","v":0},{"$f":"VLOOKUP($B237,Vertices!$A$10:$F$203, 4, FALSE)","v":100},{"$f":"VLOOKUP($B237,Vertices!$A$10:$F$203, 5, FALSE)","v":0},{"$f":"VLOOKUP($B237,Vertices!$A$10:$F$203, 6, FALSE)","v":0},{"$f":"VLOOKUP($C237,Vertices!$A$10:$F$203, 3, FALSE)","v":0},{"$f":"VLOOKUP($C237,Vertices!$A$10:$F$203, 4, FALSE)","v":100},{"$f":"VLOOKUP($C237,Vertices!$A$10:$F$203, 5, FALSE)","v":10},{"$f":"VLOOKUP($C237,Vertices!$A$10:$F$203, 6, FALSE)","v":20},{"$f":"VLOOKUP($D237,Vertices!$A$10:$F$203, 3, FALSE)","v":0},{"$f":"VLOOKUP($D237,Vertices!$A$10:$F$203, 4, FALSE)","v":100},{"$f":"VLOOKUP($D237,Vertices!$A$10:$F$203, 5, FALSE)","v":0},{"$f":"VLOOKUP($D237,Vertices!$A$10:$F$203, 6, FALSE)","v":20}]
[228,6,42,103,null,{"$f":"VLOOKUP($B238,Vertices!$A$10:$F$203, 3, FALSE)","v":0},{"$f":"VLOOKUP($B238,Vertices!$A$10:$F$203, 4, FALSE)","v":100},{"$f":"VLOOKUP($B238,Vertices!$A$10:$F$203, 5, FALSE)","v":0},{"$f":"VLOOKUP($B238,Vertices!$A$10:$F$203, 6, FALSE)","v":0},{"$f":"VLOOKUP($C238,Vertices!$A$10:$F$203, 3, FALSE)","v":0},{"$f":"VLOOKUP($C238,Vertices!$A$10:$F$203, 4, FALSE)","v":100},{"$f":"VLOOKUP($C238,Vertices!$A$10:$F$203, 5, FALSE)","v":10},{"$f":"VLOOKUP($C238,Vertices!$A$10:$F$203, 6, FALSE)","v":0},{"$f":"VLOOKUP($D238,Vertices!$A$10:$F$203, 3, FALSE)","v":0},{"$f":"VLOOKUP($D238,Vertices!$A$10:$F$203, 4, FALSE)","v":100},{"$f":"VLOOKUP($D238,Vertices!$A$10:$F$203, 5, FALSE)","v":10},{"$f":"VLOOKUP($D238,Vertices!$A$10:$F$203, 6, FALSE)","v":20}]
[229,42,105,103,null,{"$f":"VLOOKUP($B239,Vertices!$A$10:$F$203, 3, FALSE)","v":0},{"$f":"VLOOKUP($B239,Vertices!$A$10:$F$203, 4, FALSE)","v":100},{"$f":"VLOOKUP($B239,Vertices!$A$10:$F$203, 5, FALSE)","v":10},{"$f":"VLOOKUP($B239,Vertices!$A$10:$F$203, 6, FALSE)","v":0},{"$f":"VLOOKUP($C239,Vertices!$A$10:$F$203, 3, FALSE)","v":0},{"$f":"VLOOKUP($C239,Vertices!$A$10:$F$203, 4, FALSE)","v":100},{"$f":"VLOOKUP($C239,Vertices!$A$10:$F$203, 5, FALSE)","v":20},{"$f":"VLOOKUP($C239,Vertices!$A$10:$F$203, 6, FALSE)","v":20},{"$f":"VLOOKUP($D239,Vertices!$A$10:$F$203, 3, FALSE)","v":0},{"$f":"VLOOKUP($D239,Vertices!$A$10:$F$203, 4, FALSE)","v":100},{"$f":"VLOOKUP($D239,Vertices!$A$10:$F$203, 5, FALSE)","v":10},{"$f":"VLOOKUP($D239,Vertices!$A$10:$F$203, 6, FALSE)","v":20}]
[230,42,53,105,null,{"$f":"VLOOKUP($B240,Vertices!$A$10:$F$203, 3, FALSE)","v":0},{"$f":"VLOOKUP($B240,Vertices!$A$10:$F$203, 4, FALSE)","v":100},{"$f":"VLOOKUP($B240,Vertices!$A$10:$F$203, 5, FALSE)","v":10},{"$f":"VLOOKUP($B240,Vertices!$A$10:$F$203, 6, FALSE)","v":0},{"$f":"VLOOKUP($C240,Vertices!$A$10:$F$203, 3, FALSE)","v":0},{"$f":"VLOOKUP($C240,Vertices!$A$10:$F$203, 4, FALSE)","v":100},{"$f":"VLOOKUP($C240,Vertices!$A$10:$F$203, 5, FALSE)","v":20},{"$f":"VLOOKUP($C240,Vertices!$A$10:$F$203, 6, FALSE)","v":0},{"$f":"VLOOKUP($D240,Vertices!$A$10:$F$203, 3, FALSE)","v":0},{"$f":"VLOOKUP($D240,Vertices!$A$10:$F$203, 4, FALSE)","v":100},{"$f":"VLOOKUP($D240,Vertices!$A$10:$F$203, 5, FALSE)","v":20},{"$f":"VLOOKUP($D240,Vertices!$A$10:$F$203, 6, FALSE)","v":20}]
[231,53,107,105,null,{"$f":"VLOOKUP($B241,Vertices!$A$10:$F$203, 3, FALSE)","v":0},{"$f":"VLOOKUP($B241,Vertices!$A$10:$F$203, 4, FALSE)","v":100},{"$f":"VLOOKUP($B241,Vertices!$A$10:$F$203, 5, FALSE)","v":20},{"$f":"VLOOKUP($B241,Vertices!$A$10:$F$203, 6, FALSE)","v":0},{"$f":"VLOOKUP($C241,Vertices!$A$10:$F$203, 3, FALSE)","v":0},{"$f":"VLOOKUP($C241,Vertices!$A$10:$F$203, 4, FALSE)","v":100},{"$f":"VLOOKUP($C241,Vertices!$A$10:$F$203, 5, FALSE)","v":40},{"$f":"VLOOKUP($C241,Vertices!$A$10:$F$203, 6, FALSE)","v":20},{"$f":"VLOOKUP($D241,Vertices!$A$10:$F$203, 3, FALSE)","v":0},{"$f":"VLOOKUP($D241,Vertices!$A$10:$F$203, 4, FALSE)","v":100},{"$f":"VLOOKUP($D241,Vertices!$A$10:$F$203, 5, FALSE)","v":20},{"$f":"VLOOKUP($D241,Vertices!$A$10:$F$203, 6, FALSE)","v":20}]
[232,53,64,107,null,{"$f":"VLOOKUP($B242,Vertices!$A$10:$F$203, 3, FALSE)","v":0},{"$f":"VLOOKUP($B242,Vertices!$A$10:$F$203, 4, FALSE)","v":100},{"$f":"VLOOKUP($B242,Vertices!$A$10:$F$203, 5, FALSE)","v":20},{"$f":"VLOOKUP($B242,Vertices!$A$10:$F$203, 6, FALSE)","v":0},{"$f":"VLOOKUP($C242,Vertices!$A$10:$F$203, 3, FALSE)","v":0},{"$f":"VLOOKUP($C242,Vertices!$A$10:$F$203, 4, FALSE)","v":100},{"$f":"VLOOKUP($C242,Vertices!$A$10:$F$203, 5, FALSE)","v":40},{"$f":"VLOOKUP($C242,Vertices!$A$10:$F$203, 6, FALSE)","v":0},{"$f":"VLOOKUP($D242,Vertices!$A$10:$F$203, 3, FALSE)","v":0},{"$f":"VLOOKUP($D242,Vertices!$A$10:$F$203, 4, FALSE)","v":100},{"$f":"VLOOKUP($D242,Vertices!$A$10:$F$203, 5, FALSE)","v":40},{"$f":"VLOOKUP($D242,Vertices!$A$10:$F$203, 6, FALSE)","v":20}]
[233,64,109,107,null,{"$f":"VLOOKUP($B243,Vertices!$A$10:$F$203, 3, FALSE)","v":0},{"$f":"VLOOKUP($B243,Vertices!$A$10:$F$203, 4, FALSE)","v":100},{"$f":"VLOOKUP($B243,Vertices!$A$10:$F$203, 5, FALSE)","v":40},{"$f":"VLOOKUP($B243,Vertices!$A$10:$F$203, 6, FALSE)","v":0},{"$f":"VLOOKUP($C243,Vertices!$A$10:$F$203, 3, FALSE)","v":0},{"$f":"VLOOKUP($C243,Vertices!$A$10:$F$203, 4, FALSE)","v":100},{"$f":"VLOOKUP($C243,Vertices!$A$10:$F$203, 5, FALSE)","v":70},{"$f":"VLOOKUP($C243,Vertices!$A$10:$F$203, 6, FALSE)","v":20},{"$f":"VLOOKUP($D243,Vertices!$A$10:$F$203, 3, FALSE)","v":0},{"$f":"VLOOKUP($D243,Vertices!$A$10:$F$203, 4, FALSE)","v":100},{"$f":"VLOOKUP($D243,Vertices!$A$10:$F$203, 5, FALSE)","v":40},{"$f":"VLOOKUP($D243,Vertices!$A$10:$F$203, 6, FALSE)","v":20}]
[234,64,75,109,null,{"$f":"VLOOKUP($B244,Vertices!$A$10:$F$203, 3, FALSE)","v":0},{"$f":"VLOOKUP($B244,Vertices!$A$10:$F$203, 4, FALSE)","v":100},{"$f":"VLOOKUP($B244,Vertices!$A$10:$F$203, 5, FALSE)","v":40},{"$f":"VLOOKUP($B244,Vertices!$A$10:$F$203, 6, FALSE)","v":0},{"$f":"VLOOKUP($C244,Vertices!$A$10:$F$203, 3, FALSE)","v":0},{"$f":"VLOOKUP($C244,Vertices!$A$10:$F$203, 4, FALSE)","v":100},{"$f":"VLOOKUP($C244,Vertices!$A$10:$F$203, 5, FALSE)","v":70},{"$f":"VLOOKUP($C244,Vertices!$A$10:$F$203, 6, FALSE)","v":0},{"$f":"VLOOKUP($D244,Vertices!$A$10:$F$203, 3, FALSE)","v":0},{"$f":"VLOOKUP($D244,Vertices!$A$10:$F$203, 4, FALSE)","v":100},{"$f":"VLOOKUP($D244,Vertices!$A$10:$F$203, 5, FALSE)","v":70},{"$f":"VLOOKUP($D244,Vertices!$A$10:$F$203, 6, FALSE)","v":20}]
[235,75,116,109,null,{"$f":"VLOOKUP($B245,Vertices!$A$10:$F$203, 3, FALSE)","v":0},{"$f":"VLOOKUP($B245,Vertices!$A$10:$F$203, 4, FALSE)","v":100},{"$f":"VLOOKUP($B245,Vertices!$A$10:$F$203, 5, FALSE)","v":70},{"$f":"VLOOKUP($B245,Vertices!$A$10:$F$203, 6, FALSE)","v":0},{"$f":"VLOOKUP($C245,Vertices!$A$10:$F$203, 3, FALSE)","v":0},{"$f":"VLOOKUP($C245,Vertices!$A$10:$F$203, 4, FALSE)","v":100},{"$f":"VLOOKUP($C245,Vertices!$A$10:$F$203, 5, FALSE)","v":100},{"$f":"VLOOKUP($C245,Vertices!$A$10:$F$203, 6, FALSE)","v":20},{"$f":"VLOOKUP($D245,Vertices!$A$10:$F$203, 3, FALSE)","v":0},{"$f":"VLOOKUP($D245,Vertices!$A$10:$F$203, 4, FALSE)","v":100},{"$f":"VLOOKUP($D245,Vertices!$A$10:$F$203, 5, FALSE)","v":70},{"$f":"VLOOKUP($D245,Vertices!$A$10:$F$203, 6, FALSE)","v":20}]
[236,75,86,116,null,{"$f":"VLOOKUP($B246,Vertices!$A$10:$F$203, 3, FALSE)","v":0},{"$f":"VLOOKUP($B246,Vertices!$A$10:$F$203, 4, FALSE)","v":100},{"$f":"VLOOKUP($B246,Vertices!$A$10:$F$203, 5, FALSE)","v":70},{"$f":"VLOOKUP($B246,Vertices!$A$10:$F$203, 6, FALSE)","v":0},{"$f":"VLOOKUP($C246,Vertices!$A$10:$F$203, 3, FALSE)","v":0},{"$f":"VLOOKUP($C246,Vertices!$A$10:$F$203, 4, FALSE)","v":100},{"$f":"VLOOKUP($C246,Vertices!$A$10:$F$203, 5, FALSE)","v":100},{"$f":"VLOOKUP($C246,Vertices!$A$10:$F$203, 6, FALSE)","v":0},{"$f":"VLOOKUP($D246,Vertices!$A$10:$F$203, 3, FALSE)","v":0},{"$f":"VLOOKUP($D246,Vertices!$A$10:$F$203, 4, FALSE)","v":100},{"$f":"VLOOKUP($D246,Vertices!$A$10:$F$203, 5, FALSE)","v":100},{"$f":"VLOOKUP($D246,Vertices!$A$10:$F$203, 6, FALSE)","v":20}]
[237,92,103,122,null,{"$f":"VLOOKUP($B247,Vertices!$A$10:$F$203, 3, FALSE)","v":0},{"$f":"VLOOKUP($B247,Vertices!$A$10:$F$203, 4, FALSE)","v":100},{"$f":"VLOOKUP($B247,Vertices!$A$10:$F$203, 5, FALSE)","v":0},{"$f":"VLOOKUP($B247,Vertices!$A$10:$F$203, 6, FALSE)","v":20},{"$f":"VLOOKUP($C247,Vertices!$A$10:$F$203, 3, FALSE)","v":0},{"$f":"VLOOKUP($C247,Vertices!$A$10:$F$203, 4, FALSE)","v":100},{"$f":"VLOOKUP($C247,Vertices!$A$10:$F$203, 5, FALSE)","v":10},{"$f":"VLOOKUP($C247,Vertices!$A$10:$F$203, 6, FALSE)","v":20},{"$f":"VLOOKUP($D247,Vertices!$A$10:$F$203, 3, FALSE)","v":0},{"$f":"VLOOKUP($D247,Vertices!$A$10:$F$203, 4, FALSE)","v":100},{"$f":"VLOOKUP($D247,Vertices!$A$10:$F$203, 5, FALSE)","v":0},{"$f":"VLOOKUP($D247,Vertices!$A$10:$F$203, 6, FALSE)","v":40}]
[238,122,103,131,null,{"$f":"VLOOKUP($B248,Vertices!$A$10:$F$203, 3, FALSE)","v":0},{"$f":"VLOOKUP($B248,Vertices!$A$10:$F$203, 4, FALSE)","v":100},{"$f":"VLOOKUP($B248,Vertices!$A$10:$F$203, 5, FALSE)","v":0},{"$f":"VLOOKUP($B248,Vertices!$A$10:$F$203, 6, FALSE)","v":40},{"$f":"VLOOKUP($C248,Vertices!$A$10:$F$203, 3, FALSE)","v":0},{"$f":"VLOOKUP($C248,Vertices!$A$10:$F$203, 4, FALSE)","v":100},{"$f":"VLOOKUP($C248,Vertices!$A$10:$F$203, 5, FALSE)","v":10},{"$f":"VLOOKUP($C248,Vertices!$A$10:$F$203, 6, FALSE)","v":20},{"$f":"VLOOKUP($D248,Vertices!$A$10:$F$203, 3, FALSE)","v":0},{"$f":"VLOOKUP($D248,Vertices!$A$10:$F$203, 4, FALSE)","v":100},{"$f":"VLOOKUP($D248,Vertices!$A$10:$F$203, 5, FALSE)","v":20},{"$f":"VLOOKUP($D248,Vertices!$A$10:$F$203, 6, FALSE)","v":40}]
[239,103,105,131,null,{"$f":"VLOOKUP($B249,Vertices!$A$10:$F$203, 3, FALSE)","v":0},{"$f":"VLOOKUP($B249,Vertices!$A$10:$F$203, 4, FALSE)","v":100},{"$f":"VLOOKUP($B249,Vertices!$A$10:$F$203, 5, FALSE)","v":10},{"$f":"VLOOKUP($B249,Vertices!$A$10:$F$203, 6, FALSE)","v":20},{"$f":"VLOOKUP($C249,Vertices!$A$10:$F$203, 3, FALSE)","v":0},{"$f":"VLOOKUP($C249,Vertices!$A$10:$F$203, 4, FALSE)","v":100},{"$f":"VLOOKUP($C249,Vertices!$A$10:$F$203, 5, FALSE)","v":20},{"$f":"VLOOKUP($C249,Vertices!$A$10:$F$203, 6, FALSE)","v":20},{"$f":"VLOOKUP($D249,Vertices!$A$10:$F$203, 3, FALSE)","v":0},{"$f":"VLOOKUP($D249,Vertices!$A$10:$F$203, 4, FALSE)","v":100},{"$f":"VLOOKUP($D249,Vertices!$A$10:$F$203, 5, FALSE)","v":20},{"$f":"VLOOKUP($D249,Vertices!$A$10:$F$203, 6, FALSE)","v":40}]
[240,105,133,131,null,{"$f":"VLOOKUP($B250,Vertices!$A$10:$F$203, 3, FALSE)","v":0},{"$f":"VLOOKUP($B250,Vertices!$A$10:$F$203, 4, FALSE)","v":100},{"$f":"VLOOKUP($B250,Vertices!$A$10:$F$203, 5, FALSE)","v":20},{"$f":"VLOOKUP($B250,Vertices!$A$10:$F$203, 6, FALSE)","v":20},{"$f":"VLOOKUP($C250,Vertices!$A$10:$F$203, 3, FALSE)","v":0},{"$f":"VLOOKUP($C250,Vertices!$A$10:$F$203, 4, FALSE)","v":100},{"$f":"VLOOKUP($C250,Vertices!$A$10:$F$203, 5, FALSE)","v":40},{"$f":"VLOOKUP($C250,Vertices!$A$10:$F$203, 6, FALSE)","v":40},{"$f":"VLOOKUP($D250,Vertices!$A$10:$F$203, 3, FALSE)","v":0},{"$f":"VLOOKUP($D250,Vertices!$A$10:$F$203, 4, FALSE)","v":100},{"$f":"VLOOKUP($D250,Vertices!$A$10:$F$203, 5, FALSE)","v":20},{"$f":"VLOOKUP($D250,Vertices!$A$10:$F$203, 6, FALSE)","v":40}]
[241,105,107,133,null,{"$f":"VLOOKUP($B251,Vertices!$A$10:$F$203, 3, FALSE)","v":0},{"$f":"VLOOKUP($B251,Vertices!$A$10:$F$203, 4, FALSE)","v":100},{"$f":"VLOOKUP($B251,Vertices!$A$10:$F$203, 5, FALSE)","v":20},{"$f":"VLOOKUP($B251,Vertices!$A$10:$F$203, 6, FALSE)","v":20},{"$f":"VLOOKUP($C251,Vertices!$A$10:$F$203, 3, FALSE)","v":0},{"$f":"VLOOKUP($C251,Vertices!$A$10:$F$203, 4, FALSE)","v":100},{"$f":"VLOOKUP($C251,Vertices!$A$10:$F$203, 5, FALSE)","v":40},{"$f":"VLOOKUP($C251,Vertices!$A$10:$F$203, 6, FALSE)","v":20},{"$f":"VLOOKUP($D251,Vertices!$A$10:$F$203, 3, FALSE)","v":0},{"$f":"VLOOKUP($D251,Vertices!$A$10:$F$203, 4, FALSE)","v":100},{"$f":"VLOOKUP($D251,Vertices!$A$10:$F$203, 5, FALSE)","v":40},{"$f":"VLOOKUP($D251,Vertices!$A$10:$F$203, 6, FALSE)","v":40}]
[242,107,135,133,null,{"$f":"VLOOKUP($B252,Vertices!$A$10:$F$203, 3, FALSE)","v":0},{"$f":"VLOOKUP($B252,Vertices!$A$10:$F$203, 4, FALSE)","v":100},{"$f":"VLOOKUP($B252,Vertices!$A$10:$F$203, 5, FALSE)","v":40},{"$f":"VLOOKUP($B252,Vertices!$A$10:$F$203, 6, FALSE)","v":20},{"$f":"VLOOKUP($C252,Vertices!$A$10:$F$203, 3, FALSE)","v":0},{"$f":"VLOOKUP($C252,Vertices!$A$10:$F$203, 4, FALSE)","v":100},{"$f":"VLOOKUP($C252,Vertices!$A$10:$F$203, 5, FALSE)","v":70},{"$f":"VLOOKUP($C252,Vertices!$A$10:$F$203, 6, FALSE)","v":40},{"$f":"VLOOKUP($D252,Vertices!$A$10:$F$203, 3, FALSE)","v":0},{"$f":"VLOOKUP($D252,Vertices!$A$10:$F$203, 4, FALSE)","v":100},{"$f":"VLOOKUP($D252,Vertices!$A$10:$F$203, 5, FALSE)","v":40},{"$f":"VLOOKUP($D252,Vertices!$A$10:$F$203, 6, FALSE)","v":40}]
[243,107,109,135,null,{"$f":"VLOOKUP($B253,Vertices!$A$10:$F$203, 3, FALSE)","v":0},{"$f":"VLOOKUP($B253,Vertices!$A$10:$F$203, 4, FALSE)","v":100},{"$f":"VLOOKUP($B253,Vertices!$A$10:$F$203, 5, FALSE)","v":40},{"$f":"VLOOKUP($B253,Vertices!$A$10:$F$203, 6, FALSE)","v":20},{"$f":"VLOOKUP($C253,Vertices!$A$10:$F$203, 3, FALSE)","v":0},{"$f":"VLOOKUP($C253,Vertices!$A$10:$F$203, 4, FALSE)","v":100},{"$f":"VLOOKUP($C253,Vertices!$A$10:$F$203, 5, FALSE)","v":70},{"$f":"VLOOKUP($C253,Vertices!$A$10:$F$203, 6, FALSE)","v":20},{"$f":"VLOOKUP($D253,Vertices!$A$10:$F$203, 3, FALSE)","v":0},{"$f":"VLOOKUP($D253,Vertices!$A$10:$F$203, 4, FALSE)","v":100},{"$f":"VLOOKUP($D253,Vertices!$A$10:$F$203, 5, FALSE)","v":70},{"$f":"VLOOKUP($D253,Vertices!$A$10:$F$203, 6, FALSE)","v":40}]
[244,109,141,135,null,{"$f":"VLOOKUP($B254,Vertices!$A$10:$F$203, 3, FALSE)","v":0},{"$f":"VLOOKUP($B254,Vertices!$A$10:$F$203, 4, FALSE)","v":100},{"$f":"VLOOKUP($B254,Vertices!$A$10:$F$203, 5, FALSE)","v":70},{"$f":"VLOOKUP($B254,Vertices!$A$10:$F$203, 6, FALSE)","v":20},{"$f":"VLOOKUP($C254,Vertices!$A$10:$F$203, 3, FALSE)","v":0},{"$f":"VLOOKUP($C254,Vertices!$A$10:$F$203, 4, FALSE)","v":100},{"$f":"VLOOKUP($C254,Vertices!$A$10:$F$203, 5, FALSE)","v":100},{"$f":"VLOOKUP($C254,Vertices!$A$10:$F$203, 6, FALSE)","v":40},{"$f":"VLOOKUP($D254,Vertices!$A$10:$F$203, 3, FALSE)","v":0},{"$f":"VLOOKUP($D254,Vertices!$A$10:$F$203, 4, FALSE)","v":100},{"$f":"VLOOKUP($D254,Vertices!$A$10:$F$203, 5, FALSE)","v":70},{"$f":"VLOOKUP($D254,Vertices!$A$10:$F$203, 6, FALSE)","v":40}]
[245,109,116,141,null,{"$f":"VLOOKUP($B255,Vertices!$A$10:$F$203, 3, FALSE)","v":0},{"$f":"VLOOKUP($B255,Vertices!$A$10:$F$203, 4, FALSE)","v":100},{"$f":"VLOOKUP($B255,Vertices!$A$10:$F$203, 5, FALSE)","v":70},{"$f":"VLOOKUP($B255,Vertices!$A$10:$F$203, 6, FALSE)","v":20},{"$f":"VLOOKUP($C255,Vertices!$A$10:$F$203, 3, FALSE)","v":0},{"$f":"VLOOKUP($C255,Vertices!$A$10:$F$203, 4, FALSE)","v":100},{"$f":"VLOOKUP($C255,Vertices!$A$10:$F$203, 5, FALSE)","v":100},{"$f":"VLOOKUP($C255,Vertices!$A$10:$F$203, 6, FALSE)","v":20},{"$f":"VLOOKUP($D255,Vertices!$A$10:$F$203, 3, FALSE)","v":0},{"$f":"VLOOKUP($D255,Vertices!$A$10:$F$203, 4, FALSE)","v":100},{"$f":"VLOOKUP($D255,Vertices!$A$10:$F$203, 5, FALSE)","v":100},{"$f":"VLOOKUP($D255,Vertices!$A$10:$F$203, 6, FALSE)","v":40}]
[246,122,155,146,null,{"$f":"VLOOKUP($B256,Vertices!$A$10:$F$203, 3, FALSE)","v":0},{"$f":"VLOOKUP($B256,Vertices!$A$10:$F$203, 4, FALSE)","v":100},{"$f":"VLOOKUP($B256,Vertices!$A$10:$F$203, 5, FALSE)","v":0},{"$f":"VLOOKUP($B256,Vertices!$A$10:$F$203, 6, FALSE)","v":40},{"$f":"VLOOKUP($C256,Vertices!$A$10:$F$203, 3, FALSE)","v":0},{"$f":"VLOOKUP($C256,Vertices!$A$10:$F$203, 4, FALSE)","v":100},{"$f":"VLOOKUP($C256,Vertices!$A$10:$F$203, 5, FALSE)","v":20},{"$f":"VLOOKUP($C256,Vertices!$A$10:$F$203, 6, FALSE)","v":60},{"$f":"VLOOKUP($D256,Vertices!$A$10:$F$203, 3, FALSE)","v":0},{"$f":"VLOOKUP($D256,Vertices!$A$10:$F$203, 4, FALSE)","v":100},{"$f":"VLOOKUP($D256,Vertices!$A$10:$F$203, 5, FALSE)","v":0},{"$f":"VLOOKUP($D256,Vertices!$A$10:$F$203, 6, FALSE)","v":60}]
[247,122,131,155,null,{"$f":"VLOOKUP($B257,Vertices!$A$10:$F$203, 3, FALSE)","v":0},{"$f":"VLOOKUP($B257,Vertices!$A$10:$F$203, 4, FALSE)","v":100},{"$f":"VLOOKUP($B257,Vertices!$A$10:$F$203, 5, FALSE)","v":0},{"$f":"VLOOKUP($B257,Vertices!$A$10:$F$203, 6, FALSE)","v":40},{"$f":"VLOOKUP($C257,Vertices!$A$10:$F$203, 3, FALSE)","v":0},{"$f":"VLOOKUP($C257,Vertices!$A$10:$F$203, 4, FALSE)","v":100},{"$f":"VLOOKUP($C257,Vertices!$A$10:$F$203, 5, FALSE)","v":20},{"$f":"VLOOKUP($C257,Vertices!$A$10:$F$203, 6, FALSE)","v":40},{"$f":"VLOOKUP($D257,Vertices!$A$10:$F$203, 3, FALSE)","v":0},{"$f":"VLOOKUP($D257,Vertices!$A$10:$F$203, 4, FALSE)","v":100},{"$f":"VLOOKUP($D257,Vertices!$A$10:$F$203, 5, FALSE)","v":20},{"$f":"VLOOKUP($D257,Vertices!$A$10:$F$203, 6, FALSE)","v":60}]
[248,131,157,155,null,{"$f":"VLOOKUP($B258,Vertices!$A$10:$F$203, 3, FALSE)","v":0},{"$f":"VLOOKUP($B258,Vertices!$A$10:$F$203, 4, FALSE)","v":100},{"$f":"VLOOKUP($B258,Vertices!$A$10:$F$203, 5, FALSE)","v":20},{"$f":"VLOOKUP($B258,Vertices!$A$10:$F$203, 6, FALSE)","v":40},{"$f":"VLOOKUP($C258,Vertices!$A$10:$F$203, 3, FALSE)","v":0},{"$f":"VLOOKUP($C258,Vertices!$A$10:$F$203, 4, FALSE)","v":100},{"$f":"VLOOKUP($C258,Vertices!$A$10:$F$203, 5, FALSE)","v":40},{"$f":"VLOOKUP($C258,Vertices!$A$10:$F$203, 6, FALSE)","v":60},{"$f":"VLOOKUP($D258,Vertices!$A$10:$F$203, 3, FALSE)","v":0},{"$f":"VLOOKUP($D258,Vertices!$A$10:$F$203, 4, FALSE)","v":100},{"$f":"VLOOKUP($D258,Vertices!$A$10:$F$203, 5, FALSE)","v":20},{"$f":"VLOOKUP($D258,Vertices!$A$10:$F$203, 6, FALSE)","v":60}]
[249,131,133,157,null,{"$f":"VLOOKUP($B259,Vertices!$A$10:$F$203, 3, FALSE)","v":0},{"$f":"VLOOKUP($B259,Vertices!$A$10:$F$203, 4, FALSE)","v":100},{"$f":"VLOOKUP($B259,Vertices!$A$10:$F$203, 5, FALSE)","v":20},{"$f":"VLOOKUP($B259,Vertices!$A$10:$F$203, 6, FALSE)","v":40},{"$f":"VLOOKUP($C259,Vertices!$A$10:$F$203, 3, FALSE)","v":0},{"$f":"VLOOKUP($C259,Vertices!$A$10:$F$203, 4, FALSE)","v":100},{"$f":"VLOOKUP($C259,Vertices!$A$10:$F$203, 5, FALSE)","v":40},{"$f":"VLOOKUP($C259,Vertices!$A$10:$F$203, 6, FALSE)","v":40},{"$f":"VLOOKUP($D259,Vertices!$A$10:$F$203, 3, FALSE)","v":0},{"$f":"VLOOKUP($D259,Vertices!$A$10:$F$203, 4, FALSE)","v":100},{"$f":"VLOOKUP($D259,Vertices!$A$10:$F$203, 5, FALSE)","v":40},{"$f":"VLOOKUP($D259,Vertices!$A$10:$F$203, 6, FALSE)","v":60}]
[250,133,159,157,null,{"$f":"VLOOKUP($B260,Vertices!$A$10:$F$203, 3, FALSE)","v":0},{"$f":"VLOOKUP($B260,Vertices!$A$10:$F$203, 4, FALSE)","v":100},{"$f":"VLOOKUP($B260,Vertices!$A$10:$F$203, 5, FALSE)","v":40},{"$f":"VLOOKUP($B260,Vertices!$A$10:$F$203, 6, FALSE)","v":40},{"$f":"VLOOKUP($C260,Vertices!$A$10:$F$203, 3, FALSE)","v":0},{"$f":"VLOOKUP($C260,Vertices!$A$10:$F$203, 4, FALSE)","v":100},{"$f":"VLOOKUP($C260,Vertices!$A$10:$F$203, 5, FALSE)","v":70},{"$f":"VLOOKUP($C260,Vertices!$A$10:$F$203, 6, FALSE)","v":60},{"$f":"VLOOKUP($D260,Vertices!$A$10:$F$203, 3, FALSE)","v":0},{"$f":"VLOOKUP($D260,Vertices!$A$10:$F$203, 4, FALSE)","v":100},{"$f":"VLOOKUP($D260,Vertices!$A$10:$F$203, 5, FALSE)","v":40},{"$f":"VLOOKUP($D260,Vertices!$A$10:$F$203, 6, FALSE)","v":60}]
[251,133,135,159,null,{"$f":"VLOOKUP($B261,Vertices!$A$10:$F$203, 3, FALSE)","v":0},{"$f":"VLOOKUP($B261,Vertices!$A$10:$F$203, 4, FALSE)","v":100},{"$f":"VLOOKUP($B261,Vertices!$A$10:$F$203, 5, FALSE)","v":40},{"$f":"VLOOKUP($B261,Vertices!$A$10:$F$203, 6, FALSE)","v":40},{"$f":"VLOOKUP($C261,Vertices!$A$10:$F$203, 3, FALSE)","v":0},{"$f":"VLOOKUP($C261,Vertices!$A$10:$F$203, 4, FALSE)","v":100},{"$f":"VLOOKUP($C261,Vertices!$A$10:$F$203, 5, FALSE)","v":70},{"$f":"VLOOKUP($C261,Vertices!$A$10:$F$203, 6, FALSE)","v":40},{"$f":"VLOOKUP($D261,Vertices!$A$10:$F$203, 3, FALSE)","v":0},{"$f":"VLOOKUP($D261,Vertices!$A$10:$F$203, 4, FALSE)","v":100},{"$f":"VLOOKUP($D261,Vertices!$A$10:$F$203, 5, FALSE)","v":70},{"$f":"VLOOKUP($D261,Vertices!$A$10:$F$203, 6, FALSE)","v":60}]
[252,135,165,159,null,{"$f":"VLOOKUP($B262,Vertices!$A$10:$F$203, 3, FALSE)","v":0},{"$f":"VLOOKUP($B262,Vertices!$A$10:$F$203, 4, FALSE)","v":100},{"$f":"VLOOKUP($B262,Vertices!$A$10:$F$203, 5, FALSE)","v":70},{"$f":"VLOOKUP($B262,Vertices!$A$10:$F$203, 6, FALSE)","v":40},{"$f":"VLOOKUP($C262,Vertices!$A$10:$F$203, 3, FALSE)","v":0},{"$f":"VLOOKUP($C262,Vertices!$A$10:$F$203, 4, FALSE)","v":100},{"$f":"VLOOKUP($C262,Vertices!$A$10:$F$203, 5, FALSE)","v":100},{"$f":"VLOOKUP($C262,Vertices!$A$10:$F$203, 6, FALSE)","v":60},{"$f":"VLOOKUP($D262,Vertices!$A$10:$F$203, 3, FALSE)","v":0},{"$f":"VLOOKUP($D262,Vertices!$A$10:$F$203, 4, FALSE)","v":100},{"$f":"VLOOKUP($D262,Vertices!$A$10:$F$203, 5, FALSE)","v":70},{"$f":"VLOOKUP($D262,Vertices!$A$10:$F$203, 6, FALSE)","v":60}]
[253,135,141,165,null,{"$f":"VLOOKUP($B263,Vertices!$A$10:$F$203, 3, FALSE)","v":0},{"$f":"VLOOKUP($B263,Vertices!$A$10:$F$203, 4, FALSE)","v":100},{"$f":"VLOOKUP($B263,Vertices!$A$10:$F$203, 5, FALSE)","v":70},{"$f":"VLOOKUP($B263,Vertices!$A$10:$F$203, 6, FALSE)","v":40},{"$f":"VLOOKUP($C263,Vertices!$A$10:$F$203, 3, FALSE)","v":0},{"$f":"VLOOKUP($C263,Vertices!$A$10:$F$203, 4, FALSE)","v":100},{"$f":"VLOOKUP($C263,Vertices!$A$10:$F$203, 5, FALSE)","v":100},{"$f":"VLOOKUP($C263,Vertices!$A$10:$F$203, 6, FALSE)","v":40},{"$f":"VLOOKUP($D263,Vertices!$A$10:$F$203, 3, FALSE)","v":0},{"$f":"VLOOKUP($D263,Vertices!$A$10:$F$203, 4, FALSE)","v":100},{"$f":"VLOOKUP($D263,Vertices!$A$10:$F$203, 5, FALSE)","v":100},{"$f":"VLOOKUP($D263,Vertices!$A$10:$F$203, 6, FALSE)","v":60}]
[254,146,155,170,null,{"$f":"VLOOKUP($B264,Vertices!$A$10:$F$203, 3, FALSE)","v":0},{"$f":"VLOOKUP($B264,Vertices!$A$10:$F$203, 4, FALSE)","v":100},{"$f":"VLOOKUP($B264,Vertices!$A$10:$F$203, 5, FALSE)","v":0},{"$f":"VLOOKUP($B264,Vertices!$A$10:$F$203, 6, FALSE)","v":60},{"$f":"VLOOKUP($C264,Vertices!$A$10:$F$203, 3, FALSE)","v":0},{"$f":"VLOOKUP($C264,Vertices!$A$10:$F$203, 4, FALSE)","v":100},{"$f":"VLOOKUP($C264,Vertices!$A$10:$F$203, 5, FALSE)","v":20},{"$f":"VLOOKUP($C264,Vertices!$A$10:$F$203, 6, FALSE)","v":60},{"$f":"VLOOKUP($D264,Vertices!$A$10:$F$203, 3, FALSE)","v":0},{"$f":"VLOOKUP($D264,Vertices!$A$10:$F$203, 4, FALSE)","v":100},{"$f":"VLOOKUP($D264,Vertices!$A$10:$F$203, 5, FALSE)","v":0},{"$f":"VLOOKUP($D264,Vertices!$A$10:$F$203, 6, FALSE)","v":80}]
[255,155,177,170,null,{"$f":"VLOOKUP($B265,Vertices!$A$10:$F$203, 3, FALSE)","v":0},{"$f":"VLOOKUP($B265,Vertices!$A$10:$F$203, 4, FALSE)","v":100},{"$f":"VLOOKUP($B265,Vertices!$A$10:$F$203, 5, FALSE)","v":20},{"$f":"VLOOKUP($B265,Vertices!$A$10:$F$203, 6, FALSE)","v":60},{"$f":"VLOOKUP($C265,Vertices!$A$10:$F$203, 3, FALSE)","v":0},{"$f":"VLOOKUP($C265,Vertices!$A$10:$F$203, 4, FALSE)","v":100},{"$f":"VLOOKUP($C265,Vertices!$A$10:$F$203, 5, FALSE)","v":40},{"$f":"VLOOKUP($C265,Vertices!$A$10:$F$203, 6, FALSE)","v":80},{"$f":"VLOOKUP($D265,Vertices!$A$10:$F$203, 3, FALSE)","v":0},{"$f":"VLOOKUP($D265,Vertices!$A$10:$F$203, 4, FALSE)","v":100},{"$f":"VLOOKUP($D265,Vertices!$A$10:$F$203, 5, FALSE)","v":0},{"$f":"VLOOKUP($D265,Vertices!$A$10:$F$203, 6, FALSE)","v":80}]
[256,155,157,177,null,{"$f":"VLOOKUP($B266,Vertices!$A$10:$F$203, 3, FALSE)","v":0},{"$f":"VLOOKUP($B266,Vertices!$A$10:$F$203, 4, FALSE)","v":100},{"$f":"VLOOKUP($B266,Vertices!$A$10:$F$203, 5, FALSE)","v":20},{"$f":"VLOOKUP($B266,Vertices!$A$10:$F$203, 6, FALSE)","v":60},{"$f":"VLOOKUP($C266,Vertices!$A$10:$F$203, 3, FALSE)","v":0},{"$f":"VLOOKUP($C266,Vertices!$A$10:$F$203, 4, FALSE)","v":100},{"$f":"VLOOKUP($C266,Vertices!$A$10:$F$203, 5, FALSE)","v":40},{"$f":"VLOOKUP($C266,Vertices!$A$10:$F$203, 6, FALSE)","v":60},{"$f":"VLOOKUP($D266,Vertices!$A$10:$F$203, 3, FALSE)","v":0},{"$f":"VLOOKUP($D266,Vertices!$A$10:$F$203, 4, FALSE)","v":100},{"$f":"VLOOKUP($D266,Vertices!$A$10:$F$203, 5, FALSE)","v":40},{"$f":"VLOOKUP($D266,Vertices!$A$10:$F$203, 6, FALSE)","v":80}]
[257,157,179,177,null,{"$f":"VLOOKUP($B267,Vertices!$A$10:$F$203, 3, FALSE)","v":0},{"$f":"VLOOKUP($B267,Vertices!$A$10:$F$203, 4, FALSE)","v":100},{"$f":"VLOOKUP($B267,Vertices!$A$10:$F$203, 5, FALSE)","v":40},{"$f":"VLOOKUP($B267,Vertices!$A$10:$F$203, 6, FALSE)","v":60},{"$f":"VLOOKUP($C267,Vertices!$A$10:$F$203, 3, FALSE)","v":0},{"$f":"VLOOKUP($C267,Vertices!$A$10:$F$203, 4, FALSE)","v":100},{"$f":"VLOOKUP($C267,Vertices!$A$10:$F$203, 5, FALSE)","v":70},{"$f":"VLOOKUP($C267,Vertices!$A$10:$F$203, 6, FALSE)","v":80},{"$f":"VLOOKUP($D267,Vertices!$A$10:$F$203, 3, FALSE)","v":0},{"$f":"VLOOKUP($D267,Vertices!$A$10:$F$203, 4, FALSE)","v":100},{"$f":"VLOOKUP($D267,Vertices!$A$10:$F$203, 5, FALSE)","v":40},{"$f":"VLOOKUP($D267,Vertices!$A$10:$F$203, 6, FALSE)","v":80}]
[258,157,159,179,null,{"$f":"VLOOKUP($B268,Vertices!$A$10:$F$203, 3, FALSE)","v":0},{"$f":"VLOOKUP($B268,Vertices!$A$10:$F$203, 4, FALSE)","v":100},{"$f":"VLOOKUP($B268,Vertices!$A$10:$F$203, 5, FALSE)","v":40},{"$f":"VLOOKUP($B268,Vertices!$A$10:$F$203, 6, FALSE)","v":60},{"$f":"VLOOKUP($C268,Vertices!$A$10:$F$203, 3, FALSE)","v":0},{"$f":"VLOOKUP($C268,Vertices!$A$10:$F$203, 4, FALSE)","v":100},{"$f":"VLOOKUP($C268,Vertices!$A$10:$F$203, 5, FALSE)","v":70},{"$f":"VLOOKUP($C268,Vertices!$A$10:$F$203, 6, FALSE)","v":60},{"$f":"VLOOKUP($D268,Vertices!$A$10:$F$203, 3, FALSE)","v":0},{"$f":"VLOOKUP($D268,Vertices!$A$10:$F$203, 4, FALSE)","v":100},{"$f":"VLOOKUP($D268,Vertices!$A$10:$F$203, 5, FALSE)","v":70},{"$f":"VLOOKUP($D268,Vertices!$A$10:$F$203, 6, FALSE)","v":80}]
[259,159,184,179,null,{"$f":"VLOOKUP($B269,Vertices!$A$10:$F$203, 3, FALSE)","v":0},{"$f":"VLOOKUP($B269,Vertices!$A$10:$F$203, 4, FALSE)","v":100},{"$f":"VLOOKUP($B269,Vertices!$A$10:$F$203, 5, FALSE)","v":70},{"$f":"VLOOKUP($B269,Vertices!$A$10:$F$203, 6, FALSE)","v":60},{"$f":"VLOOKUP($C269,Vertices!$A$10:$F$203, 3, FALSE)","v":0},{"$f":"VLOOKUP($C269,Vertices!$A$10:$F$203, 4, FALSE)","v":100},{"$f":"VLOOKUP($C269,Vertices!$A$10:$F$203, 5, FALSE)","v":100},{"$f":"VLOOKUP($C269,Vertices!$A$10:$F$203, 6, FALSE)","v":80},{"$f":"VLOOKUP($D269,Vertices!$A$10:$F$203, 3, FALSE)","v":0},{"$f":"VLOOKUP($D269,Vertices!$A$10:$F$203, 4, FALSE)","v":100},{"$f":"VLOOKUP($D269,Vertices!$A$10:$F$203, 5, FALSE)","v":70},{"$f":"VLOOKUP($D269,Vertices!$A$10:$F$203, 6, FALSE)","v":80}]
[260,159,165,184,null,{"$f":"VLOOKUP($B270,Vertices!$A$10:$F$203, 3, FALSE)","v":0},{"$f":"VLOOKUP($B270,Vertices!$A$10:$F$203, 4, FALSE)","v":100},{"$f":"VLOOKUP($B270,Vertices!$A$10:$F$203, 5, FALSE)","v":70},{"$f":"VLOOKUP($B270,Vertices!$A$10:$F$203, 6, FALSE)","v":60},{"$f":"VLOOKUP($C270,Vertices!$A$10:$F$203, 3, FALSE)","v":0},{"$f":"VLOOKUP($C270,Vertices!$A$10:$F$203, 4, FALSE)","v":100},{"$f":"VLOOKUP($C270,Vertices!$A$10:$F$203, 5, FALSE)","v":100},{"$f":"VLOOKUP($C270,Vertices!$A$10:$F$203, 6, FALSE)","v":60},{"$f":"VLOOKUP($D270,Vertices!$A$10:$F$203, 3, FALSE)","v":0},{"$f":"VLOOKUP($D270,Vertices!$A$10:$F$203, 4, FALSE)","v":100},{"$f":"VLOOKUP($D270,Vertices!$A$10:$F$203, 5, FALSE)","v":100},{"$f":"VLOOKUP($D270,Vertices!$A$10:$F$203, 6, FALSE)","v":80}]
[261,170,177,188,null,{"$f":"VLOOKUP($B271,Vertices!$A$10:$F$203, 3, FALSE)","v":0},{"$f":"VLOOKUP($B271,Vertices!$A$10:$F$203, 4, FALSE)","v":100},{"$f":"VLOOKUP($B271,Vertices!$A$10:$F$203, 5, FALSE)","v":0},{"$f":"VLOOKUP($B271,Vertices!$A$10:$F$203, 6, FALSE)","v":80},{"$f":"VLOOKUP($C271,Vertices!$A$10:$F$203, 3, FALSE)","v":0},{"$f":"VLOOKUP($C271,Vertices!$A$10:$F$203, 4, FALSE)","v":100},{"$f":"VLOOKUP($C271,Vertices!$A$10:$F$203, 5, FALSE)","v":40},{"$f":"VLOOKUP($C271,Vertices!$A$10:$F$203, 6, FALSE)","v":80},{"$f":"VLOOKUP($D271,Vertices!$A$10:$F$203, 3, FALSE)","v":0},{"$f":"VLOOKUP($D271,Vertices!$A$10:$F$203, 4, FALSE)","v":100},{"$f":"VLOOKUP($D271,Vertices!$A$10:$F$203, 5, FALSE)","v":0},{"$f":"VLOOKUP($D271,Vertices!$A$10:$F$203, 6, FALSE)","v":100}]
[262,177,192,188,null,{"$f":"VLOOKUP($B272,Vertices!$A$10:$F$203, 3, FALSE)","v":0},{"$f":"VLOOKUP($B272,Vertices!$A$10:$F$203, 4, FALSE)","v":100},{"$f":"VLOOKUP($B272,Vertices!$A$10:$F$203, 5, FALSE)","v":40},{"$f":"VLOOKUP($B272,Vertices!$A$10:$F$203, 6, FALSE)","v":80},{"$f":"VLOOKUP($C272,Vertices!$A$10:$F$203, 3, FALSE)","v":0},{"$f":"VLOOKUP($C272,Vertices!$A$10:$F$203, 4, FALSE)","v":100},{"$f":"VLOOKUP($C272,Vertices!$A$10:$F$203, 5, FALSE)","v":100},{"$f":"VLOOKUP($C272,Vertices!$A$10:$F$203, 6, FALSE)","v":100},{"$f":"VLOOKUP($D272,Vertices!$A$10:$F$203, 3, FALSE)","v":0},{"$f":"VLOOKUP($D272,Vertices!$A$10:$F$203, 4, FALSE)","v":100},{"$f":"VLOOKUP($D272,Vertices!$A$10:$F$203, 5, FALSE)","v":0},{"$f":"VLOOKUP($D272,Vertices!$A$10:$F$203, 6, FALSE)","v":100}]
[263,177,179,192,null,{"$f":"VLOOKUP($B273,Vertices!$A$10:$F$203, 3, FALSE)","v":0},{"$f":"VLOOKUP($B273,Vertices!$A$10:$F$203, 4, FALSE)","v":100},{"$f":"VLOOKUP($B273,Vertices!$A$10:$F$203, 5, FALSE)","v":40},{"$f":"VLOOKUP($B273,Vertices!$A$10:$F$203, 6, FALSE)","v":80},{"$f":"VLOOKUP($C273,Vertices!$A$10:$F$203, 3, FALSE)","v":0},{"$f":"VLOOKUP($C273,Vertices!$A$10:$F$203, 4, FALSE)","v":100},{"$f":"VLOOKUP($C273,Vertices!$A$10:$F$203, 5, FALSE)","v":70},{"$f":"VLOOKUP($C273,Vertices!$A$10:$F$203, 6, FALSE)","v":80},{"$f":"VLOOKUP($D273,Vertices!$A$10:$F$203, 3, FALSE)","v":0},{"$f":"VLOOKUP($D273,Vertices!$A$10:$F$203, 4, FALSE)","v":100},{"$f":"VLOOKUP($D273,Vertices!$A$10:$F$203, 5, FALSE)","v":100},{"$f":"VLOOKUP($D273,Vertices!$A$10:$F$203, 6, FALSE)","v":100}]
[264,179,184,192,null,{"$f":"VLOOKUP($B274,Vertices!$A$10:$F$203, 3, FALSE)","v":0},{"$f":"VLOOKUP($B274,Vertices!$A$10:$F$203, 4, FALSE)","v":100},{"$f":"VLOOKUP($B274,Vertices!$A$10:$F$203, 5, FALSE)","v":70},{"$f":"VLOOKUP($B274,Vertices!$A$10:$F$203, 6, FALSE)","v":80},{"$f":"VLOOKUP($C274,Vertices!$A$10:$F$203, 3, FALSE)","v":0},{"$f":"VLOOKUP($C274,Vertices!$A$10:$F$203, 4, FALSE)","v":100},{"$f":"VLOOKUP($C274,Vertices!$A$10:$F$203, 5, FALSE)","v":100},{"$f":"VLOOKUP($C274,Vertices!$A$10:$F$203, 6, FALSE)","v":80},{"$f":"VLOOKUP($D274,Vertices!$A$10:$F$203, 3, FALSE)","v":0},{"$f":"VLOOKUP($D274,Vertices!$A$10:$F$203, 4, FALSE)","v":100},{"$f":"VLOOKUP($D274,Vertices!$A$10:$F$203, 5, FALSE)","v":100},{"$f":"VLOOKUP($D274,Vertices!$A$10:$F$203, 6, FALSE)","v":100}]
[265,81,111,112,null,{"$f":"VLOOKUP($B275,Vertices!$A$10:$F$203, 3, FALSE)","v":0},{"$f":"VLOOKUP($B275,Vertices!$A$10:$F$203, 4, FALSE)","v":0},{"$f":"VLOOKUP($B275,Vertices!$A$10:$F$203, 5, FALSE)","v":100},{"$f":"VLOOKUP($B275,Vertices!$A$10:$F$203, 6, FALSE)","v":0},{"$f":"VLOOKUP($C275,Vertices!$A$10:$F$203, 3, FALSE)","v":0},{"$f":"VLOOKUP($C275,Vertices!$A$10:$F$203, 4, FALSE)","v":0},{"$f":"VLOOKUP($C275,Vertices!$A$10:$F$203, 5, FALSE)","v":100},{"$f":"VLOOKUP($C275,Vertices!$A$10:$F$203, 6, FALSE)","v":20},{"$f":"VLOOKUP($D275,Vertices!$A$10:$F$203, 3, FALSE)","v":0},{"$f":"VLOOKUP($D275,Vertices!$A$10:$F$203, 4, FALSE)","v":10},{"$f":"VLOOKUP($D275,Vertices!$A$10:$F$203, 5, FALSE)","v":100},{"$f":"VLOOKUP($D275,Vertices!$A$10:$F$203, 6, FALSE)","v":20}]
[266,81,112,82,null,{"$f":"VLOOKUP($B276,Vertices!$A$10:$F$203, 3, FALSE)","v":0},{"$f":"VLOOKUP($B276,Vertices!$A$10:$F$203, 4, FALSE)","v":0},{"$f":"VLOOKUP($B276,Vertices!$A$10:$F$203, 5, FALSE)","v":100},{"$f":"VLOOKUP($B276,Vertices!$A$10:$F$203, 6, FALSE)","v":0},{"$f":"VLOOKUP($C276,Vertices!$A$10:$F$203, 3, FALSE)","v":0},{"$f":"VLOOKUP($C276,Vertices!$A$10:$F$203, 4, FALSE)","v":10},{"$f":"VLOOKUP($C276,Vertices!$A$10:$F$203, 5, FALSE)","v":100},{"$f":"VLOOKUP($C276,Vertices!$A$10:$F$203, 6, FALSE)","v":20},{"$f":"VLOOKUP($D276,Vertices!$A$10:$F$203, 3, FALSE)","v":0},{"$f":"VLOOKUP($D276,Vertices!$A$10:$F$203, 4, FALSE)","v":10},{"$f":"VLOOKUP($D276,Vertices!$A$10:$F$203, 5, FALSE)","v":100},{"$f":"VLOOKUP($D276,Vertices!$A$10:$F$203, 6, FALSE)","v":0}]
[267,82,112,113,null,{"$f":"VLOOKUP($B277,Vertices!$A$10:$F$203, 3, FALSE)","v":0},{"$f":"VLOOKUP($B277,Vertices!$A$10:$F$203, 4, FALSE)","v":10},{"$f":"VLOOKUP($B277,Vertices!$A$10:$F$203, 5, FALSE)","v":100},{"$f":"VLOOKUP($B277,Vertices!$A$10:$F$203, 6, FALSE)","v":0},{"$f":"VLOOKUP($C277,Vertices!$A$10:$F$203, 3, FALSE)","v":0},{"$f":"VLOOKUP($C277,Vertices!$A$10:$F$203, 4, FALSE)","v":10},{"$f":"VLOOKUP($C277,Vertices!$A$10:$F$203, 5, FALSE)","v":100},{"$f":"VLOOKUP($C277,Vertices!$A$10:$F$203, 6, FALSE)","v":20},{"$f":"VLOOKUP($D277,Vertices!$A$10:$F$203, 3, FALSE)","v":0},{"$f":"VLOOKUP($D277,Vertices!$A$10:$F$203, 4, FALSE)","v":20},{"$f":"VLOOKUP($D277,Vertices!$A$10:$F$203, 5, FALSE)","v":100},{"$f":"VLOOKUP($D277,Vertices!$A$10:$F$203, 6, FALSE)","v":20}]
[268,82,113,83,null,{"$f":"VLOOKUP($B278,Vertices!$A$10:$F$203, 3, FALSE)","v":0},{"$f":"VLOOKUP($B278,Vertices!$A$10:$F$203, 4, FALSE)","v":10},{"$f":"VLOOKUP($B278,Vertices!$A$10:$F$203, 5, FALSE)","v":100},{"$f":"VLOOKUP($B278,Vertices!$A$10:$F$203, 6, FALSE)","v":0},{"$f":"VLOOKUP($C278,Vertices!$A$10:$F$203, 3, FALSE)","v":0},{"$f":"VLOOKUP($C278,Vertices!$A$10:$F$203, 4, FALSE)","v":20},{"$f":"VLOOKUP($C278,Vertices!$A$10:$F$203, 5, FALSE)","v":100},{"$f":"VLOOKUP($C278,Vertices!$A$10:$F$203, 6, FALSE)","v":20},{"$f":"VLOOKUP($D278,Vertices!$A$10:$F$203, 3, FALSE)","v":0},{"$f":"VLOOKUP($D278,Vertices!$A$10:$F$203, 4, FALSE)","v":20},{"$f":"VLOOKUP($D278,Vertices!$A$10:$F$203, 5, FALSE)","v":100},{"$f":"VLOOKUP($D278,Vertices!$A$10:$F$203, 6, FALSE)","v":0}]
[269,83,113,114,null,{"$f":"VLOOKUP($B279,Vertices!$A$10:$F$203, 3, FALSE)","v":0},{"$f":"VLOOKUP($B279,Vertices!$A$10:$F$203, 4, FALSE)","v":20},{"$f":"VLOOKUP($B279,Vertices!$A$10:$F$203, 5, FALSE)","v":100},{"$f":"VLOOKUP($B279,Vertices!$A$10:$F$203, 6, FALSE)","v":0},{"$f":"VLOOKUP($C279,Vertices!$A$10:$F$203, 3, FALSE)","v":0},{"$f":"VLOOKUP($C279,Vertices!$A$10:$F$203, 4, FALSE)","v":20},{"$f":"VLOOKUP($C279,Vertices!$A$10:$F$203, 5, FALSE)","v":100},{"$f":"VLOOKUP($C279,Vertices!$A$10:$F$203, 6, FALSE)","v":20},{"$f":"VLOOKUP($D279,Vertices!$A$10:$F$203, 3, FALSE)","v":0},{"$f":"VLOOKUP($D279,Vertices!$A$10:$F$203, 4, FALSE)","v":40},{"$f":"VLOOKUP($D279,Vertices!$A$10:$F$203, 5, FALSE)","v":100},{"$f":"VLOOKUP($D279,Vertices!$A$10:$F$203, 6, FALSE)","v":20}]
[270,83,114,84,null,{"$f":"VLOOKUP($B280,Vertices!$A$10:$F$203, 3, FALSE)","v":0},{"$f":"VLOOKUP($B280,Vertices!$A$10:$F$203, 4, FALSE)","v":20},{"$f":"VLOOKUP($B280,Vertices!$A$10:$F$203, 5, FALSE)","v":100},{"$f":"VLOOKUP($B280,Vertices!$A$10:$F$203, 6, FALSE)","v":0},{"$f":"VLOOKUP($C280,Vertices!$A$10:$F$203, 3, FALSE)","v":0},{"$f":"VLOOKUP($C280,Vertices!$A$10:$F$203, 4, FALSE)","v":40},{"$f":"VLOOKUP($C280,Vertices!$A$10:$F$203, 5, FALSE)","v":100},{"$f":"VLOOKUP($C280,Vertices!$A$10:$F$203, 6, FALSE)","v":20},{"$f":"VLOOKUP($D280,Vertices!$A$10:$F$203, 3, FALSE)","v":0},{"$f":"VLOOKUP($D280,Vertices!$A$10:$F$203, 4, FALSE)","v":40},{"$f":"VLOOKUP($D280,Vertices!$A$10:$F$203, 5, FALSE)","v":100},{"$f":"VLOOKUP($D280,Vertices!$A$10:$F$203, 6, FALSE)","v":0}]
[271,84,114,115,null,{"$f":"VLOOKUP($B281,Vertices!$A$10:$F$203, 3, FALSE)","v":0},{"$f":"VLOOKUP($B281,Vertices!$A$10:$F$203, 4, FALSE)","v":40},{"$f":"VLOOKUP($B281,Vertices!$A$10:$F$203, 5, FALSE)","v":100},{"$f":"VLOOKUP($B281,Vertices!$A$10:$F$203, 6, FALSE)","v":0},{"$f":"VLOOKUP($C281,Vertices!$A$10:$F$203, 3, FALSE)","v":0},{"$f":"VLOOKUP($C281,Vertices!$A$10:$F$203, 4, FALSE)","v":40},{"$f":"VLOOKUP($C281,Vertices!$A$10:$F$203, 5, FALSE)","v":100},{"$f":"VLOOKUP($C281,Vertices!$A$10:$F$203, 6, FALSE)","v":20},{"$f":"VLOOKUP($D281,Vertices!$A$10:$F$203, 3, FALSE)","v":0},{"$f":"VLOOKUP($D281,Vertices!$A$10:$F$203, 4, FALSE)","v":70},{"$f":"VLOOKUP($D281,Vertices!$A$10:$F$203, 5, FALSE)","v":100},{"$f":"VLOOKUP($D281,Vertices!$A$10:$F$203, 6, FALSE)","v":20}]
[272,84,115,85,null,{"$f":"VLOOKUP($B282,Vertices!$A$10:$F$203, 3, FALSE)","v":0},{"$f":"VLOOKUP($B282,Vertices!$A$10:$F$203, 4, FALSE)","v":40},{"$f":"VLOOKUP($B282,Vertices!$A$10:$F$203, 5, FALSE)","v":100},{"$f":"VLOOKUP($B282,Vertices!$A$10:$F$203, 6, FALSE)","v":0},{"$f":"VLOOKUP($C282,Vertices!$A$10:$F$203, 3, FALSE)","v":0},{"$f":"VLOOKUP($C282,Vertices!$A$10:$F$203, 4, FALSE)","v":70},{"$f":"VLOOKUP($C282,Vertices!$A$10:$F$203, 5, FALSE)","v":100},{"$f":"VLOOKUP($C282,Vertices!$A$10:$F$203, 6, FALSE)","v":20},{"$f":"VLOOKUP($D282,Vertices!$A$10:$F$203, 3, FALSE)","v":0},{"$f":"VLOOKUP($D282,Vertices!$A$10:$F$203, 4, FALSE)","v":70},{"$f":"VLOOKUP($D282,Vertices!$A$10:$F$203, 5, FALSE)","v":100},{"$f":"VLOOKUP($D282,Vertices!$A$10:$F$203, 6, FALSE)","v":0}]
[273,85,115,116,null,{"$f":"VLOOKUP($B283,Vertices!$A$10:$F$203, 3, FALSE)","v":0},{"$f":"VLOOKUP($B283,Vertices!$A$10:$F$203, 4, FALSE)","v":70},{"$f":"VLOOKUP($B283,Vertices!$A$10:$F$203, 5, FALSE)","v":100},{"$f":"VLOOKUP($B283,Vertices!$A$10:$F$203, 6, FALSE)","v":0},{"$f":"VLOOKUP($C283,Vertices!$A$10:$F$203, 3, FALSE)","v":0},{"$f":"VLOOKUP($C283,Vertices!$A$10:$F$203, 4, FALSE)","v":70},{"$f":"VLOOKUP($C283,Vertices!$A$10:$F$203, 5, FALSE)","v":100},{"$f":"VLOOKUP($C283,Vertices!$A$10:$F$203, 6, FALSE)","v":20},{"$f":"VLOOKUP($D283,Vertices!$A$10:$F$203, 3, FALSE)","v":0},{"$f":"VLOOKUP($D283,Vertices!$A$10:$F$203, 4, FALSE)","v":100},{"$f":"VLOOKUP($D283,Vertices!$A$10:$F$203, 5, FALSE)","v":100},{"$f":"VLOOKUP($D283,Vertices!$A$10:$F$203, 6, FALSE)","v":20}]
[274,85,116,86,null,{"$f":"VLOOKUP($B284,Vertices!$A$10:$F$203, 3, FALSE)","v":0},{"$f":"VLOOKUP($B284,Vertices!$A$10:$F$203, 4, FALSE)","v":70},{"$f":"VLOOKUP($B284,Vertices!$A$10:$F$203, 5, FALSE)","v":100},{"$f":"VLOOKUP($B284,Vertices!$A$10:$F$203, 6, FALSE)","v":0},{"$f":"VLOOKUP($C284,Vertices!$A$10:$F$203, 3, FALSE)","v":0},{"$f":"VLOOKUP($C284,Vertices!$A$10:$F$203, 4, FALSE)","v":100},{"$f":"VLOOKUP($C284,Vertices!$A$10:$F$203, 5, FALSE)","v":100},{"$f":"VLOOKUP($C284,Vertices!$A$10:$F$203, 6, FALSE)","v":20},{"$f":"VLOOKUP($D284,Vertices!$A$10:$F$203, 3, FALSE)","v":0},{"$f":"VLOOKUP($D284,Vertices!$A$10:$F$203, 4, FALSE)","v":100},{"$f":"VLOOKUP($D284,Vertices!$A$10:$F$203, 5, FALSE)","v":100},{"$f":"VLOOKUP($D284,Vertices!$A$10:$F$203, 6, FALSE)","v":0}]
[275,111,137,112,null,{"$f":"VLOOKUP($B285,Vertices!$A$10:$F$203, 3, FALSE)","v":0},{"$f":"VLOOKUP($B285,Vertices!$A$10:$F$203, 4, FALSE)","v":0},{"$f":"VLOOKUP($B285,Vertices!$A$10:$F$203, 5, FALSE)","v":100},{"$f":"VLOOKUP($B285,Vertices!$A$10:$F$203, 6, FALSE)","v":20},{"$f":"VLOOKUP($C285,Vertices!$A$10:$F$203, 3, FALSE)","v":0},{"$f":"VLOOKUP($C285,Vertices!$A$10:$F$203, 4, FALSE)","v":0},{"$f":"VLOOKUP($C285,Vertices!$A$10:$F$203, 5, FALSE)","v":100},{"$f":"VLOOKUP($C285,Vertices!$A$10:$F$203, 6, FALSE)","v":40},{"$f":"VLOOKUP($D285,Vertices!$A$10:$F$203, 3, FALSE)","v":0},{"$f":"VLOOKUP($D285,Vertices!$A$10:$F$203, 4, FALSE)","v":10},{"$f":"VLOOKUP($D285,Vertices!$A$10:$F$203, 5, FALSE)","v":100},{"$f":"VLOOKUP($D285,Vertices!$A$10:$F$203, 6, FALSE)","v":20}]
[276,137,138,112,null,{"$f":"VLOOKUP($B286,Vertices!$A$10:$F$203, 3, FALSE)","v":0},{"$f":"VLOOKUP($B286,Vertices!$A$10:$F$203, 4, FALSE)","v":0},{"$f":"VLOOKUP($B286,Vertices!$A$10:$F$203, 5, FALSE)","v":100},{"$f":"VLOOKUP($B286,Vertices!$A$10:$F$203, 6, FALSE)","v":40},{"$f":"VLOOKUP($C286,Vertices!$A$10:$F$203, 3, FALSE)","v":0},{"$f":"VLOOKUP($C286,Vertices!$A$10:$F$203, 4, FALSE)","v":20},{"$f":"VLOOKUP($C286,Vertices!$A$10:$F$203, 5, FALSE)","v":100},{"$f":"VLOOKUP($C286,Vertices!$A$10:$F$203, 6, FALSE)","v":40},{"$f":"VLOOKUP($D286,Vertices!$A$10:$F$203, 3, FALSE)","v":0},{"$f":"VLOOKUP($D286,Vertices!$A$10:$F$203, 4, FALSE)","v":10},{"$f":"VLOOKUP($D286,Vertices!$A$10:$F$203, 5, FALSE)","v":100},{"$f":"VLOOKUP($D286,Vertices!$A$10:$F$203, 6, FALSE)","v":20}]
[277,112,138,113,null,{"$f":"VLOOKUP($B287,Vertices!$A$10:$F$203, 3, FALSE)","v":0},{"$f":"VLOOKUP($B287,Vertices!$A$10:$F$203, 4, FALSE)","v":10},{"$f":"VLOOKUP($B287,Vertices!$A$10:$F$203, 5, FALSE)","v":100},{"$f":"VLOOKUP($B287,Vertices!$A$10:$F$203, 6, FALSE)","v":20},{"$f":"VLOOKUP($C287,Vertices!$A$10:$F$203, 3, FALSE)","v":0},{"$f":"VLOOKUP($C287,Vertices!$A$10:$F$203, 4, FALSE)","v":20},{"$f":"VLOOKUP($C287,Vertices!$A$10:$F$203, 5, FALSE)","v":100},{"$f":"VLOOKUP($C287,Vertices!$A$10:$F$203, 6, FALSE)","v":40},{"$f":"VLOOKUP($D287,Vertices!$A$10:$F$203, 3, FALSE)","v":0},{"$f":"VLOOKUP($D287,Vertices!$A$10:$F$203, 4, FALSE)","v":20},{"$f":"VLOOKUP($D287,Vertices!$A$10:$F$203, 5, FALSE)","v":100},{"$f":"VLOOKUP($D287,Vertices!$A$10:$F$203, 6, FALSE)","v":20}]
[278,113,138,139,null,{"$f":"VLOOKUP($B288,Vertices!$A$10:$F$203, 3, FALSE)","v":0},{"$f":"VLOOKUP($B288,Vertices!$A$10:$F$203, 4, FALSE)","v":20},{"$f":"VLOOKUP($B288,Vertices!$A$10:$F$203, 5, FALSE)","v":100},{"$f":"VLOOKUP($B288,Vertices!$A$10:$F$203, 6, FALSE)","v":20},{"$f":"VLOOKUP($C288,Vertices!$A$10:$F$203, 3, FALSE)","v":0},{"$f":"VLOOKUP($C288,Vertices!$A$10:$F$203, 4, FALSE)","v":20},{"$f":"VLOOKUP($C288,Vertices!$A$10:$F$203, 5, FALSE)","v":100},{"$f":"VLOOKUP($C288,Vertices!$A$10:$F$203, 6, FALSE)","v":40},{"$f":"VLOOKUP($D288,Vertices!$A$10:$F$203, 3, FALSE)","v":0},{"$f":"VLOOKUP($D288,Vertices!$A$10:$F$203, 4, FALSE)","v":40},{"$f":"VLOOKUP($D288,Vertices!$A$10:$F$203, 5, FALSE)","v":100},{"$f":"VLOOKUP($D288,Vertices!$A$10:$F$203, 6, FALSE)","v":40}]
[279,113,139,114,null,{"$f":"VLOOKUP($B289,Vertices!$A$10:$F$203, 3, FALSE)","v":0},{"$f":"VLOOKUP($B289,Vertices!$A$10:$F$203, 4, FALSE)","v":20},{"$f":"VLOOKUP($B289,Vertices!$A$10:$F$203, 5, FALSE)","v":100},{"$f":"VLOOKUP($B289,Vertices!$A$10:$F$203, 6, FALSE)","v":20},{"$f":"VLOOKUP($C289,Vertices!$A$10:$F$203, 3, FALSE)","v":0},{"$f":"VLOOKUP($C289,Vertices!$A$10:$F$203, 4, FALSE)","v":40},{"$f":"VLOOKUP($C289,Vertices!$A$10:$F$203, 5, FALSE)","v":100},{"$f":"VLOOKUP($C289,Vertices!$A$10:$F$203, 6, FALSE)","v":40},{"$f":"VLOOKUP($D289,Vertices!$A$10:$F$203, 3, FALSE)","v":0},{"$f":"VLOOKUP($D289,Vertices!$A$10:$F$203, 4, FALSE)","v":40},{"$f":"VLOOKUP($D289,Vertices!$A$10:$F$203, 5, FALSE)","v":100},{"$f":"VLOOKUP($D289,Vertices!$A$10:$F$203, 6, FALSE)","v":20}]
[280,114,139,140,null,{"$f":"VLOOKUP($B290,Vertices!$A$10:$F$203, 3, FALSE)","v":0},{"$f":"VLOOKUP($B290,Vertices!$A$10:$F$203, 4, FALSE)","v":40},{"$f":"VLOOKUP($B290,Vertices!$A$10:$F$203, 5, FALSE)","v":100},{"$f":"VLOOKUP($B290,Vertices!$A$10:$F$203, 6, FALSE)","v":20},{"$f":"VLOOKUP($C290,Vertices!$A$10:$F$203, 3, FALSE)","v":0},{"$f":"VLOOKUP($C290,Vertices!$A$10:$F$203, 4, FALSE)","v":40},{"$f":"VLOOKUP($C290,Vertices!$A$10:$F$203, 5, FALSE)","v":100},{"$f":"VLOOKUP($C290,Vertices!$A$10:$F$203, 6, FALSE)","v":40},{"$f":"VLOOKUP($D290,Vertices!$A$10:$F$203, 3, FALSE)","v":0},{"$f":"VLOOKUP($D290,Vertices!$A$10:$F$203, 4, FALSE)","v":70},{"$f":"VLOOKUP($D290,Vertices!$A$10:$F$203, 5, FALSE)","v":100},{"$f":"VLOOKUP($D290,Vertices!$A$10:$F$203, 6, FALSE)","v":40}]
[281,114,140,115,null,{"$f":"VLOOKUP($B291,Vertices!$A$10:$F$203, 3, FALSE)","v":0},{"$f":"VLOOKUP($B291,Vertices!$A$10:$F$203, 4, FALSE)","v":40},{"$f":"VLOOKUP($B291,Vertices!$A$10:$F$203, 5, FALSE)","v":100},{"$f":"VLOOKUP($B291,Vertices!$A$10:$F$203, 6, FALSE)","v":20},{"$f":"VLOOKUP($C291,Vertices!$A$10:$F$203, 3, FALSE)","v":0},{"$f":"VLOOKUP($C291,Vertices!$A$10:$F$203, 4, FALSE)","v":70},{"$f":"VLOOKUP($C291,Vertices!$A$10:$F$203, 5, FALSE)","v":100},{"$f":"VLOOKUP($C291,Vertices!$A$10:$F$203, 6, FALSE)","v":40},{"$f":"VLOOKUP($D291,Vertices!$A$10:$F$203, 3, FALSE)","v":0},{"$f":"VLOOKUP($D291,Vertices!$A$10:$F$203, 4, FALSE)","v":70},{"$f":"VLOOKUP($D291,Vertices!$A$10:$F$203, 5, FALSE)","v":100},{"$f":"VLOOKUP($D291,Vertices!$A$10:$F$203, 6, FALSE)","v":20}]
[282,115,140,141,null,{"$f":"VLOOKUP($B292,Vertices!$A$10:$F$203, 3, FALSE)","v":0},{"$f":"VLOOKUP($B292,Vertices!$A$10:$F$203, 4, FALSE)","v":70},{"$f":"VLOOKUP($B292,Vertices!$A$10:$F$203, 5, FALSE)","v":100},{"$f":"VLOOKUP($B292,Vertices!$A$10:$F$203, 6, FALSE)","v":20},{"$f":"VLOOKUP($C292,Vertices!$A$10:$F$203, 3, FALSE)","v":0},{"$f":"VLOOKUP($C292,Vertices!$A$10:$F$203, 4, FALSE)","v":70},{"$f":"VLOOKUP($C292,Vertices!$A$10:$F$203, 5, FALSE)","v":100},{"$f":"VLOOKUP($C292,Vertices!$A$10:$F$203, 6, FALSE)","v":40},{"$f":"VLOOKUP($D292,Vertices!$A$10:$F$203, 3, FALSE)","v":0},{"$f":"VLOOKUP($D292,Vertices!$A$10:$F$203, 4, FALSE)","v":100},{"$f":"VLOOKUP($D292,Vertices!$A$10:$F$203, 5, FALSE)","v":100},{"$f":"VLOOKUP($D292,Vertices!$A$10:$F$203, 6, FALSE)","v":40}]
[283,115,141,116,null,{"$f":"VLOOKUP($B293,Vertices!$A$10:$F$203, 3, FALSE)","v":0},{"$f":"VLOOKUP($B293,Vertices!$A$10:$F$203, 4, FALSE)","v":70},{"$f":"VLOOKUP($B293,Vertices!$A$10:$F$203, 5, FALSE)","v":100},{"$f":"VLOOKUP($B293,Vertices!$A$10:$F$203, 6, FALSE)","v":20},{"$f":"VLOOKUP($C293,Vertices!$A$10:$F$203, 3, FALSE)","v":0},{"$f":"VLOOKUP($C293,Vertices!$A$10:$F$203, 4, FALSE)","v":100},{"$f":"VLOOKUP($C293,Vertices!$A$10:$F$203, 5, FALSE)","v":100},{"$f":"VLOOKUP($C293,Vertices!$A$10:$F$203, 6, FALSE)","v":40},{"$f":"VLOOKUP($D293,Vertices!$A$10:$F$203, 3, FALSE)","v":0},{"$f":"VLOOKUP($D293,Vertices!$A$10:$F$203, 4, FALSE)","v":100},{"$f":"VLOOKUP($D293,Vertices!$A$10:$F$203, 5, FALSE)","v":100},{"$f":"VLOOKUP($D293,Vertices!$A$10:$F$203, 6, FALSE)","v":20}]
[284,137,161,162,null,{"$f":"VLOOKUP($B294,Vertices!$A$10:$F$203, 3, FALSE)","v":0},{"$f":"VLOOKUP($B294,Vertices!$A$10:$F$203, 4, FALSE)","v":0},{"$f":"VLOOKUP($B294,Vertices!$A$10:$F$203, 5, FALSE)","v":100},{"$f":"VLOOKUP($B294,Vertices!$A$10:$F$203, 6, FALSE)","v":40},{"$f":"VLOOKUP($C294,Vertices!$A$10:$F$203, 3, FALSE)","v":0},{"$f":"VLOOKUP($C294,Vertices!$A$10:$F$203, 4, FALSE)","v":0},{"$f":"VLOOKUP($C294,Vertices!$A$10:$F$203, 5, FALSE)","v":100},{"$f":"VLOOKUP($C294,Vertices!$A$10:$F$203, 6, FALSE)","v":60},{"$f":"VLOOKUP($D294,Vertices!$A$10:$F$203, 3, FALSE)","v":0},{"$f":"VLOOKUP($D294,Vertices!$A$10:$F$203, 4, FALSE)","v":20},{"$f":"VLOOKUP($D294,Vertices!$A$10:$F$203, 5, FALSE)","v":100},{"$f":"VLOOKUP($D294,Vertices!$A$10:$F$203, 6, FALSE)","v":60}]
[285,137,162,138,null,{"$f":"VLOOKUP($B295,Vertices!$A$10:$F$203, 3, FALSE)","v":0},{"$f":"VLOOKUP($B295,Vertices!$A$10:$F$203, 4, FALSE)","v":0},{"$f":"VLOOKUP($B295,Vertices!$A$10:$F$203, 5, FALSE)","v":100},{"$f":"VLOOKUP($B295,Vertices!$A$10:$F$203, 6, FALSE)","v":40},{"$f":"VLOOKUP($C295,Vertices!$A$10:$F$203, 3, FALSE)","v":0},{"$f":"VLOOKUP($C295,Vertices!$A$10:$F$203, 4, FALSE)","v":20},{"$f":"VLOOKUP($C295,Vertices!$A$10:$F$203, 5, FALSE)","v":100},{"$f":"VLOOKUP($C295,Vertices!$A$10:$F$203, 6, FALSE)","v":60},{"$f":"VLOOKUP($D295,Vertices!$A$10:$F$203, 3, FALSE)","v":0},{"$f":"VLOOKUP($D295,Vertices!$A$10:$F$203, 4, FALSE)","v":20},{"$f":"VLOOKUP($D295,Vertices!$A$10:$F$203, 5, FALSE)","v":100},{"$f":"VLOOKUP($D295,Vertices!$A$10:$F$203, 6, FALSE)","v":40}]
[286,138,162,163,null,{"$f":"VLOOKUP($B296,Vertices!$A$10:$F$203, 3, FALSE)","v":0},{"$f":"VLOOKUP($B296,Vertices!$A$10:$F$203, 4, FALSE)","v":20},{"$f":"VLOOKUP($B296,Vertices!$A$10:$F$203, 5, FALSE)","v":100},{"$f":"VLOOKUP($B296,Vertices!$A$10:$F$203, 6, FALSE)","v":40},{"$f":"VLOOKUP($C296,Vertices!$A$10:$F$203, 3, FALSE)","v":0},{"$f":"VLOOKUP($C296,Vertices!$A$10:$F$203, 4, FALSE)","v":20},{"$f":"VLOOKUP($C296,Vertices!$A$10:$F$203, 5, FALSE)","v":100},{"$f":"VLOOKUP($C296,Vertices!$A$10:$F$203, 6, FALSE)","v":60},{"$f":"VLOOKUP($D296,Vertices!$A$10:$F$203, 3, FALSE)","v":0},{"$f":"VLOOKUP($D296,Vertices!$A$10:$F$203, 4, FALSE)","v":40},{"$f":"VLOOKUP($D296,Vertices!$A$10:$F$203, 5, FALSE)","v":100},{"$f":"VLOOKUP($D296,Vertices!$A$10:$F$203, 6, FALSE)","v":60}]
[287,138,163,139,null,{"$f":"VLOOKUP($B297,Vertices!$A$10:$F$203, 3, FALSE)","v":0},{"$f":"VLOOKUP($B297,Vertices!$A$10:$F$203, 4, FALSE)","v":20},{"$f":"VLOOKUP($B297,Vertices!$A$10:$F$203, 5, FALSE)","v":100},{"$f":"VLOOKUP($B297,Vertices!$A$10:$F$203, 6, FALSE)","v":40},{"$f":"VLOOKUP($C297,Vertices!$A$10:$F$203, 3, FALSE)","v":0},{"$f":"VLOOKUP($C297,Vertices!$A$10:$F$203, 4, FALSE)","v":40},{"$f":"VLOOKUP($C297,Vertices!$A$10:$F$203, 5, FALSE)","v":100},{"$f":"VLOOKUP($C297,Vertices!$A$10:$F$203, 6, FALSE)","v":60},{"$f":"VLOOKUP($D297,Vertices!$A$10:$F$203, 3, FALSE)","v":0},{"$f":"VLOOKUP($D297,Vertices!$A$10:$F$203, 4, FALSE)","v":40},{"$f":"VLOOKUP($D297,Vertices!$A$10:$F$203, 5, FALSE)","v":100},{"$f":"VLOOKUP($D297,Vertices!$A$10:$F$203, 6, FALSE)","v":40}]
[288,139,163,164,null,{"$f":"VLOOKUP($B298,Vertices!$A$10:$F$203, 3, FALSE)","v":0},{"$f":"VLOOKUP($B298,Vertices!$A$10:$F$203, 4, FALSE)","v":40},{"$f":"VLOOKUP($B298,Vertices!$A$10:$F$203, 5, FALSE)","v":100},{"$f":"VLOOKUP($B298,Vertices!$A$10:$F$203, 6, FALSE)","v":40},{"$f":"VLOOKUP($C298,Vertices!$A$10:$F$203, 3, FALSE)","v":0},{"$f":"VLOOKUP($C298,Vertices!$A$10:$F$203, 4, FALSE)","v":40},{"$f":"VLOOKUP($C298,Vertices!$A$10:$F$203, 5, FALSE)","v":100},{"$f":"VLOOKUP($C298,Vertices!$A$10:$F$203, 6, FALSE)","v":60},{"$f":"VLOOKUP($D298,Vertices!$A$10:$F$203, 3, FALSE)","v":0},{"$f":"VLOOKUP($D298,Vertices!$A$10:$F$203, 4, FALSE)","v":70},{"$f":"VLOOKUP($D298,Vertices!$A$10:$F$203, 5, FALSE)","v":100},{"$f":"VLOOKUP($D298,Vertices!$A$10:$F$203, 6, FALSE)","v":60}]
[289,139,164,140,null,{"$f":"VLOOKUP($B299,Vertices!$A$10:$F$203, 3, FALSE)","v":0},{"$f":"VLOOKUP($B299,Vertices!$A$10:$F$203, 4, FALSE)","v":40},{"$f":"VLOOKUP($B299,Vertices!$A$10:$F$203, 5, FALSE)","v":100},{"$f":"VLOOKUP($B299,Vertices!$A$10:$F$203, 6, FALSE)","v":40},{"$f":"VLOOKUP($C299,Vertices!$A$10:$F$203, 3, FALSE)","v":0},{"$f":"VLOOKUP($C299,Vertices!$A$10:$F$203, 4, FALSE)","v":70},{"$f":"VLOOKUP($C299,Vertices!$A$10:$F$203, 5, FALSE)","v":100},{"$f":"VLOOKUP($C299,Vertices!$A$10:$F$203, 6, FALSE)","v":60},{"$f":"VLOOKUP($D299,Vertices!$A$10:$F$203, 3, FALSE)","v":0},{"$f":"VLOOKUP($D299,Vertices!$A$10:$F$203, 4, FALSE)","v":70},{"$f":"VLOOKUP($D299,Vertices!$A$10:$F$203, 5, FALSE)","v":100},{"$f":"VLOOKUP($D299,Vertices!$A$10:$F$203, 6, FALSE)","v":40}]
[290,140,164,165,null,{"$f":"VLOOKUP($B300,Vertices!$A$10:$F$203, 3, FALSE)","v":0},{"$f":"VLOOKUP($B300,Vertices!$A$10:$F$203, 4, FALSE)","v":70},{"$f":"VLOOKUP($B300,Vertices!$A$10:$F$203, 5, FALSE)","v":100},{"$f":"VLOOKUP($B300,Vertices!$A$10:$F$203, 6, FALSE)","v":40},{"$f":"VLOOKUP($C300,Vertices!$A$10:$F$203, 3, FALSE)","v":0},{"$f":"VLOOKUP($C300,Vertices!$A$10:$F$203, 4, FALSE)","v":70},{"$f":"VLOOKUP($C300,Vertices!$A$10:$F$203, 5, FALSE)","v":100},{"$f":"VLOOKUP($C300,Vertices!$A$10:$F$203, 6, FALSE)","v":60},{"$f":"VLOOKUP($D300,Vertices!$A$10:$F$203, 3, FALSE)","v":0},{"$f":"VLOOKUP($D300,Vertices!$A$10:$F$203, 4, FALSE)","v":100},{"$f":"VLOOKUP($D300,Vertices!$A$10:$F$203, 5, FALSE)","v":100},{"$f":"VLOOKUP($D300,Vertices!$A$10:$F$203, 6, FALSE)","v":60}]
[291,140,165,141,null,{"$f":"VLOOKUP($B301,Vertices!$A$10:$F$203, 3, FALSE)","v":0},{"$f":"VLOOKUP($B301,Vertices!$A$10:$F$203, 4, FALSE)","v":70},{"$f":"VLOOKUP($B301,Vertices!$A$10:$F$203, 5, FALSE)","v":100},{"$f":"VLOOKUP($B301,Vertices!$A$10:$F$203, 6, FALSE)","v":40},{"$f":"VLOOKUP($C301,Vertices!$A$10:$F$203, 3, FALSE)","v":0},{"$f":"VLOOKUP($C301,Vertices!$A$10:$F$203, 4, FALSE)","v":100},{"$f":"VLOOKUP($C301,Vertices!$A$10:$F$203, 5, FALSE)","v":100},{"$f":"VLOOKUP($C301,Vertices!$A$10:$F$203, 6, FALSE)","v":60},{"$f":"VLOOKUP($D301,Vertices!$A$10:$F$203, 3, FALSE)","v":0},{"$f":"VLOOKUP($D301,Vertices!$A$10:$F$203, 4, FALSE)","v":100},{"$f":"VLOOKUP($D301,Vertices!$A$10:$F$203, 5, FALSE)","v":100},{"$f":"VLOOKUP($D301,Vertices!$A$10:$F$203, 6, FALSE)","v":40}]
[292,161,181,162,null,{"$f":"VLOOKUP($B302,Vertices!$A$10:$F$203, 3, FALSE)","v":0},{"$f":"VLOOKUP($B302,Vertices!$A$10:$F$203, 4, FALSE)","v":0},{"$f":"VLOOKUP($B302,Vertices!$A$10:$F$203, 5, FALSE)","v":100},{"$f":"VLOOKUP($B302,Vertices!$A$10:$F$203, 6, FALSE)","v":60},{"$f":"VLOOKUP($C302,Vertices!$A$10:$F$203, 3, FALSE)","v":0},{"$f":"VLOOKUP($C302,Vertices!$A$10:$F$203, 4, FALSE)","v":0},{"$f":"VLOOKUP($C302,Vertices!$A$10:$F$203, 5, FALSE)","v":100},{"$f":"VLOOKUP($C302,Vertices!$A$10:$F$203, 6, FALSE)","v":80},{"$f":"VLOOKUP($D302,Vertices!$A$10:$F$203, 3, FALSE)","v":0},{"$f":"VLOOKUP($D302,Vertices!$A$10:$F$203, 4, FALSE)","v":20},{"$f":"VLOOKUP($D302,Vertices!$A$10:$F$203, 5, FALSE)","v":100},{"$f":"VLOOKUP($D302,Vertices!$A$10:$F$203, 6, FALSE)","v":60}]
[293,162,181,182,null,{"$f":"VLOOKUP($B303,Vertices!$A$10:$F$203, 3, FALSE)","v":0},{"$f":"VLOOKUP($B303,Vertices!$A$10:$F$203, 4, FALSE)","v":20},{"$f":"VLOOKUP($B303,Vertices!$A$10:$F$203, 5, FALSE)","v":100},{"$f":"VLOOKUP($B303,Vertices!$A$10:$F$203, 6, FALSE)","v":60},{"$f":"VLOOKUP($C303,Vertices!$A$10:$F$203, 3, FALSE)","v":0},{"$f":"VLOOKUP($C303,Vertices!$A$10:$F$203, 4, FALSE)","v":0},{"$f":"VLOOKUP($C303,Vertices!$A$10:$F$203, 5, FALSE)","v":100},{"$f":"VLOOKUP($C303,Vertices!$A$10:$F$203, 6, FALSE)","v":80},{"$f":"VLOOKUP($D303,Vertices!$A$10:$F$203, 3, FALSE)","v":0},{"$f":"VLOOKUP($D303,Vertices!$A$10:$F$203, 4, FALSE)","v":40},{"$f":"VLOOKUP($D303,Vertices!$A$10:$F$203, 5, FALSE)","v":100},{"$f":"VLOOKUP($D303,Vertices!$A$10:$F$203, 6, FALSE)","v":80}]
[294,162,182,163,null,{"$f":"VLOOKUP($B304,Vertices!$A$10:$F$203, 3, FALSE)","v":0},{"$f":"VLOOKUP($B304,Vertices!$A$10:$F$203, 4, FALSE)","v":20},{"$f":"VLOOKUP($B304,Vertices!$A$10:$F$203, 5, FALSE)","v":100},{"$f":"VLOOKUP($B304,Vertices!$A$10:$F$203, 6, FALSE)","v":60},{"$f":"VLOOKUP($C304,Vertices!$A$10:$F$203, 3, FALSE)","v":0},{"$f":"VLOOKUP($C304,Vertices!$A$10:$F$203, 4, FALSE)","v":40},{"$f":"VLOOKUP($C304,Vertices!$A$10:$F$203, 5, FALSE)","v":100},{"$f":"VLOOKUP($C304,Vertices!$A$10:$F$203, 6, FALSE)","v":80},{"$f":"VLOOKUP($D304,Vertices!$A$10:$F$203, 3, FALSE)","v":0},{"$f":"VLOOKUP($D304,Vertices!$A$10:$F$203, 4, FALSE)","v":40},{"$f":"VLOOKUP($D304,Vertices!$A$10:$F$203, 5, FALSE)","v":100},{"$f":"VLOOKUP($D304,Vertices!$A$10:$F$203, 6, FALSE)","v":60}]
[295,163,182,183,null,{"$f":"VLOOKUP($B305,Vertices!$A$10:$F$203, 3, FALSE)","v":0},{"$f":"VLOOKUP($B305,Vertices!$A$10:$F$203, 4, FALSE)","v":40},{"$f":"VLOOKUP($B305,Vertices!$A$10:$F$203, 5, FALSE)","v":100},{"$f":"VLOOKUP($B305,Vertices!$A$10:$F$203, 6, FALSE)","v":60},{"$f":"VLOOKUP($C305,Vertices!$A$10:$F$203, 3, FALSE)","v":0},{"$f":"VLOOKUP($C305,Vertices!$A$10:$F$203, 4, FALSE)","v":40},{"$f":"VLOOKUP($C305,Vertices!$A$10:$F$203, 5, FALSE)","v":100},{"$f":"VLOOKUP($C305,Vertices!$A$10:$F$203, 6, FALSE)","v":80},{"$f":"VLOOKUP($D305,Vertices!$A$10:$F$203, 3, FALSE)","v":0},{"$f":"VLOOKUP($D305,Vertices!$A$10:$F$203, 4, FALSE)","v":70},{"$f":"VLOOKUP($D305,Vertices!$A$10:$F$203, 5, FALSE)","v":100},{"$f":"VLOOKUP($D305,Vertices!$A$10:$F$203, 6, FALSE)","v":80}]
[296,163,183,164,null,{"$f":"VLOOKUP($B306,Vertices!$A$10:$F$203, 3, FALSE)","v":0},{"$f":"VLOOKUP($B306,Vertices!$A$10:$F$203, 4, FALSE)","v":40},{"$f":"VLOOKUP($B306,Vertices!$A$10:$F$203, 5, FALSE)","v":100},{"$f":"VLOOKUP($B306,Vertices!$A$10:$F$203, 6, FALSE)","v":60},{"$f":"VLOOKUP($C306,Vertices!$A$10:$F$203, 3, FALSE)","v":0},{"$f":"VLOOKUP($C306,Vertices!$A$10:$F$203, 4, FALSE)","v":70},{"$f":"VLOOKUP($C306,Vertices!$A$10:$F$203, 5, FALSE)","v":100},{"$f":"VLOOKUP($C306,Vertices!$A$10:$F$203, 6, FALSE)","v":80},{"$f":"VLOOKUP($D306,Vertices!$A$10:$F$203, 3, FALSE)","v":0},{"$f":"VLOOKUP($D306,Vertices!$A$10:$F$203, 4, FALSE)","v":70},{"$f":"VLOOKUP($D306,Vertices!$A$10:$F$203, 5, FALSE)","v":100},{"$f":"VLOOKUP($D306,Vertices!$A$10:$F$203, 6, FALSE)","v":60}]
[297,164,183,184,null,{"$f":"VLOOKUP($B307,Vertices!$A$10:$F$203, 3, FALSE)","v":0},{"$f":"VLOOKUP($B307,Vertices!$A$10:$F$203, 4, FALSE)","v":70},{"$f":"VLOOKUP($B307,Vertices!$A$10:$F$203, 5, FALSE)","v":100},{"$f":"VLOOKUP($B307,Vertices!$A$10:$F$203, 6, FALSE)","v":60},{"$f":"VLOOKUP($C307,Vertices!$A$10:$F$203, 3, FALSE)","v":0},{"$f":"VLOOKUP($C307,Vertices!$A$10:$F$203, 4, FALSE)","v":70},{"$f":"VLOOKUP($C307,Vertices!$A$10:$F$203, 5, FALSE)","v":100},{"$f":"VLOOKUP($C307,Vertices!$A$10:$F$203, 6, FALSE)","v":80},{"$f":"VLOOKUP($D307,Vertices!$A$10:$F$203, 3, FALSE)","v":0},{"$f":"VLOOKUP($D307,Vertices!$A$10:$F$203, 4, FALSE)","v":100},{"$f":"VLOOKUP($D307,Vertices!$A$10:$F$203, 5, FALSE)","v":100},{"$f":"VLOOKUP($D307,Vertices!$A$10:$F$203, 6, FALSE)","v":80}]
[298,164,184,165,null,{"$f":"VLOOKUP($B308,Vertices!$A$10:$F$203, 3, FALSE)","v":0},{"$f":"VLOOKUP($B308,Vertices!$A$10:$F$203, 4, FALSE)","v":70},{"$f":"VLOOKUP($B308,Vertices!$A$10:$F$203, 5, FALSE)","v":100},{"$f":"VLOOKUP($B308,Vertices!$A$10:$F$203, 6, FALSE)","v":60},{"$f":"VLOOKUP($C308,Vertices!$A$10:$F$203, 3, FALSE)","v":0},{"$f":"VLOOKUP($C308,Vertices!$A$10:$F$203, 4, FALSE)","v":100},{"$f":"VLOOKUP($C308,Vertices!$A$10:$F$203, 5, FALSE)","v":100},{"$f":"VLOOKUP($C308,Vertices!$A$10:$F$203, 6, FALSE)","v":80},{"$f":"VLOOKUP($D308,Vertices!$A$10:$F$203, 3, FALSE)","v":0},{"$f":"VLOOKUP($D308,Vertices!$A$10:$F$203, 4, FALSE)","v":100},{"$f":"VLOOKUP($D308,Vertices!$A$10:$F$203, 5, FALSE)","v":100},{"$f":"VLOOKUP($D308,Vertices!$A$10:$F$203, 6, FALSE)","v":60}]
[299,181,191,182,null,{"$f":"VLOOKUP($B309,Vertices!$A$10:$F$203, 3, FALSE)","v":0},{"$f":"VLOOKUP($B309,Vertices!$A$10:$F$203, 4, FALSE)","v":0},{"$f":"VLOOKUP($B309,Vertices!$A$10:$F$203, 5, FALSE)","v":100},{"$f":"VLOOKUP($B309,Vertices!$A$10:$F$203, 6, FALSE)","v":80},{"$f":"VLOOKUP($C309,Vertices!$A$10:$F$203, 3, FALSE)","v":0},{"$f":"VLOOKUP($C309,Vertices!$A$10:$F$203, 4, FALSE)","v":0},{"$f":"VLOOKUP($C309,Vertices!$A$10:$F$203, 5, FALSE)","v":100},{"$f":"VLOOKUP($C309,Vertices!$A$10:$F$203, 6, FALSE)","v":100},{"$f":"VLOOKUP($D309,Vertices!$A$10:$F$203, 3, FALSE)","v":0},{"$f":"VLOOKUP($D309,Vertices!$A$10:$F$203, 4, FALSE)","v":40},{"$f":"VLOOKUP($D309,Vertices!$A$10:$F$203, 5, FALSE)","v":100},{"$f":"VLOOKUP($D309,Vertices!$A$10:$F$203, 6, FALSE)","v":80}]
[300,182,191,192,null,{"$f":"VLOOKUP($B310,Vertices!$A$10:$F$203, 3, FALSE)","v":0},{"$f":"VLOOKUP($B310,Vertices!$A$10:$F$203, 4, FALSE)","v":40},{"$f":"VLOOKUP($B310,Vertices!$A$10:$F$203, 5, FALSE)","v":100},{"$f":"VLOOKUP($B310,Vertices!$A$10:$F$203, 6, FALSE)","v":80},{"$f":"VLOOKUP($C310,Vertices!$A$10:$F$203, 3, FALSE)","v":0},{"$f":"VLOOKUP($C310,Vertices!$A$10:$F$203, 4, FALSE)","v":0},{"$f":"VLOOKUP($C310,Vertices!$A$10:$F$203, 5, FALSE)","v":100},{"$f":"VLOOKUP($C310,Vertices!$A$10:$F$203, 6, FALSE)","v":100},{"$f":"VLOOKUP($D310,Vertices!$A$10:$F$203, 3, FALSE)","v":0},{"$f":"VLOOKUP($D310,Vertices!$A$10:$F$203, 4, FALSE)","v":100},{"$f":"VLOOKUP($D310,Vertices!$A$10:$F$203, 5, FALSE)","v":100},{"$f":"VLOOKUP($D310,Vertices!$A$10:$F$203, 6, FALSE)","v":100}]
[301,182,192,183,null,{"$f":"VLOOKUP($B311,Vertices!$A$10:$F$203, 3, FALSE)","v":0},{"$f":"VLOOKUP($B311,Vertices!$A$10:$F$203, 4, FALSE)","v":40},{"$f":"VLOOKUP($B311,Vertices!$A$10:$F$203, 5, FALSE)","v":100},{"$f":"VLOOKUP($B311,Vertices!$A$10:$F$203, 6, FALSE)","v":80},{"$f":"VLOOKUP($C311,Vertices!$A$10:$F$203, 3, FALSE)","v":0},{"$f":"VLOOKUP($C311,Vertices!$A$10:$F$203, 4, FALSE)","v":100},{"$f":"VLOOKUP($C311,Vertices!$A$10:$F$203, 5, FALSE)","v":100},{"$f":"VLOOKUP($C311,Vertices!$A$10:$F$203, 6, FALSE)","v":100},{"$f":"VLOOKUP($D311,Vertices!$A$10:$F$203, 3, FALSE)","v":0},{"$f":"VLOOKUP($D311,Vertices!$A$10:$F$203, 4, FALSE)","v":70},{"$f":"VLOOKUP($D311,Vertices!$A$10:$F$203, 5, FALSE)","v":100},{"$f":"VLOOKUP($D311,Vertices!$A$10:$F$203, 6, FALSE)","v":80}]
[302,183,192,184,null,{"$f":"VLOOKUP($B312,Vertices!$A$10:$F$203, 3, FALSE)","v":0},{"$f":"VLOOKUP($B312,Vertices!$A$10:$F$203, 4, FALSE)","v":70},{"$f":"VLOOKUP($B312,Vertices!$A$10:$F$203, 5, FALSE)","v":100},{"$f":"VLOOKUP($B312,Vertices!$A$10:$F$203, 6, FALSE)","v":80},{"$f":"VLOOKUP($C312,Vertices!$A$10:$F$203, 3, FALSE)","v":0},{"$f":"VLOOKUP($C312,Vertices!$A$10:$F$203, 4, FALSE)","v":100},{"$f":"VLOOKUP($C312,Vertices!$A$10:$F$203, 5, FALSE)","v":100},{"$f":"VLOOKUP($C312,Vertices!$A$10:$F$203, 6, FALSE)","v":100},{"$f":"VLOOKUP($D312,Vertices!$A$10:$F$203, 3, FALSE)","v":0},{"$f":"VLOOKUP($D312,Vertices!$A$10:$F$203, 4, FALSE)","v":100},{"$f":"VLOOKUP($D312,Vertices!$A$10:$F$203, 5, FALSE)","v":100},{"$f":"VLOOKUP($D312,Vertices!$A$10:$F$203, 6, FALSE)","v":80}]
[303,81,117,111,null,{"$f":"VLOOKUP($B313,Vertices!$A$10:$F$203, 3, FALSE)","v":0},{"$f":"VLOOKUP($B313,Vertices!$A$10:$F$203, 4, FALSE)","v":0},{"$f":"VLOOKUP($B313,Vertices!$A$10:$F$203, 5, FALSE)","v":100},{"$f":"VLOOKUP($B313,Vertices!$A$10:$F$203, 6, FALSE)","v":0},{"$f":"VLOOKUP($C313,Vertices!$A$10:$F$203, 3, FALSE)","v":10},{"$f":"VLOOKUP($C313,Vertices!$A$10:$F$203, 4, FALSE)","v":0},{"$f":"VLOOKUP($C313,Vertices!$A$10:$F$203, 5, FALSE)","v":100},{"$f":"VLOOKUP($C313,Vertices!$A$10:$F$203, 6, FALSE)","v":20},{"$f":"VLOOKUP($D313,Vertices!$A$10:$F$203, 3, FALSE)","v":0},{"$f":"VLOOKUP($D313,Vertices!$A$10:$F$203, 4, FALSE)","v":0},{"$f":"VLOOKUP($D313,Vertices!$A$10:$F$203, 5, FALSE)","v":100},{"$f":"VLOOKUP($D313,Vertices!$A$10:$F$203, 6, FALSE)","v":20}]
[304,81,87,117,null,{"$f":"VLOOKUP($B314,Vertices!$A$10:$F$203, 3, FALSE)","v":0},{"$f":"VLOOKUP($B314,Vertices!$A$10:$F$203, 4, FALSE)","v":0},{"$f":"VLOOKUP($B314,Vertices!$A$10:$F$203, 5, FALSE)","v":100},{"$f":"VLOOKUP($B314,Vertices!$A$10:$F$203, 6, FALSE)","v":0},{"$f":"VLOOKUP($C314,Vertices!$A$10:$F$203, 3, FALSE)","v":10},{"$f":"VLOOKUP($C314,Vertices!$A$10:$F$203, 4, FALSE)","v":0},{"$f":"VLOOKUP($C314,Vertices!$A$10:$F$203, 5, FALSE)","v":100},{"$f":"VLOOKUP($C314,Vertices!$A$10:$F$203, 6, FALSE)","v":0},{"$f":"VLOOKUP($D314,Vertices!$A$10:$F$203, 3, FALSE)","v":10},{"$f":"VLOOKUP($D314,Vertices!$A$10:$F$203, 4, FALSE)","v":0},{"$f":"VLOOKUP($D314,Vertices!$A$10:$F$203, 5, FALSE)","v":100},{"$f":"VLOOKUP($D314,Vertices!$A$10:$F$203, 6, FALSE)","v":20}]
[305,87,118,117,null,{"$f":"VLOOKUP($B315,Vertices!$A$10:$F$203, 3, FALSE)","v":10},{"$f":"VLOOKUP($B315,Vertices!$A$10:$F$203, 4, FALSE)","v":0},{"$f":"VLOOKUP($B315,Vertices!$A$10:$F$203, 5, FALSE)","v":100},{"$f":"VLOOKUP($B315,Vertices!$A$10:$F$203, 6, FALSE)","v":0},{"$f":"VLOOKUP($C315,Vertices!$A$10:$F$203, 3, FALSE)","v":20},{"$f":"VLOOKUP($C315,Vertices!$A$10:$F$203, 4, FALSE)","v":0},{"$f":"VLOOKUP($C315,Vertices!$A$10:$F$203, 5, FALSE)","v":100},{"$f":"VLOOKUP($C315,Vertices!$A$10:$F$203, 6, FALSE)","v":20},{"$f":"VLOOKUP($D315,Vertices!$A$10:$F$203, 3, FALSE)","v":10},{"$f":"VLOOKUP($D315,Vertices!$A$10:$F$203, 4, FALSE)","v":0},{"$f":"VLOOKUP($D315,Vertices!$A$10:$F$203, 5, FALSE)","v":100},{"$f":"VLOOKUP($D315,Vertices!$A$10:$F$203, 6, FALSE)","v":20}]
[306,87,88,118,null,{"$f":"VLOOKUP($B316,Vertices!$A$10:$F$203, 3, FALSE)","v":10},{"$f":"VLOOKUP($B316,Vertices!$A$10:$F$203, 4, FALSE)","v":0},{"$f":"VLOOKUP($B316,Vertices!$A$10:$F$203, 5, FALSE)","v":100},{"$f":"VLOOKUP($B316,Vertices!$A$10:$F$203, 6, FALSE)","v":0},{"$f":"VLOOKUP($C316,Vertices!$A$10:$F$203, 3, FALSE)","v":20},{"$f":"VLOOKUP($C316,Vertices!$A$10:$F$203, 4, FALSE)","v":0},{"$f":"VLOOKUP($C316,Vertices!$A$10:$F$203, 5, FALSE)","v":100},{"$f":"VLOOKUP($C316,Vertices!$A$10:$F$203, 6, FALSE)","v":0},{"$f":"VLOOKUP($D316,Vertices!$A$10:$F$203, 3, FALSE)","v":20},{"$f":"VLOOKUP($D316,Vertices!$A$10:$F$203, 4, FALSE)","v":0},{"$f":"VLOOKUP($D316,Vertices!$A$10:$F$203, 5, FALSE)","v":100},{"$f":"VLOOKUP($D316,Vertices!$A$10:$F$203, 6, FALSE)","v":20}]
[307,88,119,118,null,{"$f":"VLOOKUP($B317,Vertices!$A$10:$F$203, 3, FALSE)","v":20},{"$f":"VLOOKUP($B317,Vertices!$A$10:$F$203, 4, FALSE)","v":0},{"$f":"VLOOKUP($B317,Vertices!$A$10:$F$203, 5, FALSE)","v":100},{"$f":"VLOOKUP($B317,Vertices!$A$10:$F$203, 6, FALSE)","v":0},{"$f":"VLOOKUP($C317,Vertices!$A$10:$F$203, 3, FALSE)","v":40},{"$f":"VLOOKUP($C317,Vertices!$A$10:$F$203, 4, FALSE)","v":0},{"$f":"VLOOKUP($C317,Vertices!$A$10:$F$203, 5, FALSE)","v":100},{"$f":"VLOOKUP($C317,Vertices!$A$10:$F$203, 6, FALSE)","v":20},{"$f":"VLOOKUP($D317,Vertices!$A$10:$F$203, 3, FALSE)","v":20},{"$f":"VLOOKUP($D317,Vertices!$A$10:$F$203, 4, FALSE)","v":0},{"$f":"VLOOKUP($D317,Vertices!$A$10:$F$203, 5, FALSE)","v":100},{"$f":"VLOOKUP($D317,Vertices!$A$10:$F$203, 6, FALSE)","v":20}]
[308,88,89,119,null,{"$f":"VLOOKUP($B318,Vertices!$A$10:$F$203, 3, FALSE)","v":20},{"$f":"VLOOKUP($B318,Vertices!$A$10:$F$203, 4, FALSE)","v":0},{"$f":"VLOOKUP($B318,Vertices!$A$10:$F$203, 5, FALSE)","v":100},{"$f":"VLOOKUP($B318,Vertices!$A$10:$F$203, 6, FALSE)","v":0},{"$f":"VLOOKUP($C318,Vertices!$A$10:$F$203, 3, FALSE)","v":40},{"$f":"VLOOKUP($C318,Vertices!$A$10:$F$203, 4, FALSE)","v":0},{"$f":"VLOOKUP($C318,Vertices!$A$10:$F$203, 5, FALSE)","v":100},{"$f":"VLOOKUP($C318,Vertices!$A$10:$F$203, 6, FALSE)","v":0},{"$f":"VLOOKUP($D318,Vertices!$A$10:$F$203, 3, FALSE)","v":40},{"$f":"VLOOKUP($D318,Vertices!$A$10:$F$203, 4, FALSE)","v":0},{"$f":"VLOOKUP($D318,Vertices!$A$10:$F$203, 5, FALSE)","v":100},{"$f":"VLOOKUP($D318,Vertices!$A$10:$F$203, 6, FALSE)","v":20}]
[309,89,120,119,null,{"$f":"VLOOKUP($B319,Vertices!$A$10:$F$203, 3, FALSE)","v":40},{"$f":"VLOOKUP($B319,Vertices!$A$10:$F$203, 4, FALSE)","v":0},{"$f":"VLOOKUP($B319,Vertices!$A$10:$F$203, 5, FALSE)","v":100},{"$f":"VLOOKUP($B319,Vertices!$A$10:$F$203, 6, FALSE)","v":0},{"$f":"VLOOKUP($C319,Vertices!$A$10:$F$203, 3, FALSE)","v":70},{"$f":"VLOOKUP($C319,Vertices!$A$10:$F$203, 4, FALSE)","v":0},{"$f":"VLOOKUP($C319,Vertices!$A$10:$F$203, 5, FALSE)","v":100},{"$f":"VLOOKUP($C319,Vertices!$A$10:$F$203, 6, FALSE)","v":20},{"$f":"VLOOKUP($D319,Vertices!$A$10:$F$203, 3, FALSE)","v":40},{"$f":"VLOOKUP($D319,Vertices!$A$10:$F$203, 4, FALSE)","v":0},{"$f":"VLOOKUP($D319,Vertices!$A$10:$F$203, 5, FALSE)","v":100},{"$f":"VLOOKUP($D319,Vertices!$A$10:$F$203, 6, FALSE)","v":20}]
[310,89,90,120,null,{"$f":"VLOOKUP($B320,Vertices!$A$10:$F$203, 3, FALSE)","v":40},{"$f":"VLOOKUP($B320,Vertices!$A$10:$F$203, 4, FALSE)","v":0},{"$f":"VLOOKUP($B320,Vertices!$A$10:$F$203, 5, FALSE)","v":100},{"$f":"VLOOKUP($B320,Vertices!$A$10:$F$203, 6, FALSE)","v":0},{"$f":"VLOOKUP($C320,Vertices!$A$10:$F$203, 3, FALSE)","v":70},{"$f":"VLOOKUP($C320,Vertices!$A$10:$F$203, 4, FALSE)","v":0},{"$f":"VLOOKUP($C320,Vertices!$A$10:$F$203, 5, FALSE)","v":100},{"$f":"VLOOKUP($C320,Vertices!$A$10:$F$203, 6, FALSE)","v":0},{"$f":"VLOOKUP($D320,Vertices!$A$10:$F$203, 3, FALSE)","v":70},{"$f":"VLOOKUP($D320,Vertices!$A$10:$F$203, 4, FALSE)","v":0},{"$f":"VLOOKUP($D320,Vertices!$A$10:$F$203, 5, FALSE)","v":100},{"$f":"VLOOKUP($D320,Vertices!$A$10:$F$203, 6, FALSE)","v":20}]
[311,90,121,120,null,{"$f":"VLOOKUP($B321,Vertices!$A$10:$F$203, 3, FALSE)","v":70},{"$f":"VLOOKUP($B321,Vertices!$A$10:$F$203, 4, FALSE)","v":0},{"$f":"VLOOKUP($B321,Vertices!$A$10:$F$203, 5, FALSE)","v":100},{"$f":"VLOOKUP($B321,Vertices!$A$10:$F$203, 6, FALSE)","v":0},{"$f":"VLOOKUP($C321,Vertices!$A$10:$F$203, 3, FALSE)","v":100},{"$f":"VLOOKUP($C321,Vertices!$A$10:$F$203, 4, FALSE)","v":0},{"$f":"VLOOKUP($C321,Vertices!$A$10:$F$203, 5, FALSE)","v":100},{"$f":"VLOOKUP($C321,Vertices!$A$10:$F$203, 6, FALSE)","v":20},{"$f":"VLOOKUP($D321,Vertices!$A$10:$F$203, 3, FALSE)","v":70},{"$f":"VLOOKUP($D321,Vertices!$A$10:$F$203, 4, FALSE)","v":0},{"$f":"VLOOKUP($D321,Vertices!$A$10:$F$203, 5, FALSE)","v":100},{"$f":"VLOOKUP($D321,Vertices!$A$10:$F$203, 6, FALSE)","v":20}]
[312,90,91,121,null,{"$f":"VLOOKUP($B322,Vertices!$A$10:$F$203, 3, FALSE)","v":70},{"$f":"VLOOKUP($B322,Vertices!$A$10:$F$203, 4, FALSE)","v":0},{"$f":"VLOOKUP($B322,Vertices!$A$10:$F$203, 5, FALSE)","v":100},{"$f":"VLOOKUP($B322,Vertices!$A$10:$F$203, 6, FALSE)","v":0},{"$f":"VLOOKUP($C322,Vertices!$A$10:$F$203, 3, FALSE)","v":100},{"$f":"VLOOKUP($C322,Vertices!$A$10:$F$203, 4, FALSE)","v":0},{"$f":"VLOOKUP($C322,Vertices!$A$10:$F$203, 5, FALSE)","v":100},{"$f":"VLOOKUP($C322,Vertices!$A$10:$F$203, 6, FALSE)","v":0},{"$f":"VLOOKUP($D322,Vertices!$A$10:$F$203, 3, FALSE)","v":100},{"$f":"VLOOKUP($D322,Vertices!$A$10:$F$203, 4, FALSE)","v":0},{"$f":"VLOOKUP($D322,Vertices!$A$10:$F$203, 5, FALSE)","v":100},{"$f":"VLOOKUP($D322,Vertices!$A$10:$F$203, 6, FALSE)","v":20}]
[313,111,117,137,null,{"$f":"VLOOKUP($B323,Vertices!$A$10:$F$203, 3, FALSE)","v":0},{"$f":"VLOOKUP($B323,Vertices!$A$10:$F$203, 4, FALSE)","v":0},{"$f":"VLOOKUP($B323,Vertices!$A$10:$F$203, 5, FALSE)","v":100},{"$f":"VLOOKUP($B323,Vertices!$A$10:$F$203, 6, FALSE)","v":20},{"$f":"VLOOKUP($C323,Vertices!$A$10:$F$203, 3, FALSE)","v":10},{"$f":"VLOOKUP($C323,Vertices!$A$10:$F$203, 4, FALSE)","v":0},{"$f":"VLOOKUP($C323,Vertices!$A$10:$F$203, 5, FALSE)","v":100},{"$f":"VLOOKUP($C323,Vertices!$A$10:$F$203, 6, FALSE)","v":20},{"$f":"VLOOKUP($D323,Vertices!$A$10:$F$203, 3, FALSE)","v":0},{"$f":"VLOOKUP($D323,Vertices!$A$10:$F$203, 4, FALSE)","v":0},{"$f":"VLOOKUP($D323,Vertices!$A$10:$F$203, 5, FALSE)","v":100},{"$f":"VLOOKUP($D323,Vertices!$A$10:$F$203, 6, FALSE)","v":40}]
[314,137,117,142,null,{"$f":"VLOOKUP($B324,Vertices!$A$10:$F$203, 3, FALSE)","v":0},{"$f":"VLOOKUP($B324,Vertices!$A$10:$F$203, 4, FALSE)","v":0},{"$f":"VLOOKUP($B324,Vertices!$A$10:$F$203, 5, FALSE)","v":100},{"$f":"VLOOKUP($B324,Vertices!$A$10:$F$203, 6, FALSE)","v":40},{"$f":"VLOOKUP($C324,Vertices!$A$10:$F$203, 3, FALSE)","v":10},{"$f":"VLOOKUP($C324,Vertices!$A$10:$F$203, 4, FALSE)","v":0},{"$f":"VLOOKUP($C324,Vertices!$A$10:$F$203, 5, FALSE)","v":100},{"$f":"VLOOKUP($C324,Vertices!$A$10:$F$203, 6, FALSE)","v":20},{"$f":"VLOOKUP($D324,Vertices!$A$10:$F$203, 3, FALSE)","v":20},{"$f":"VLOOKUP($D324,Vertices!$A$10:$F$203, 4, FALSE)","v":0},{"$f":"VLOOKUP($D324,Vertices!$A$10:$F$203, 5, FALSE)","v":100},{"$f":"VLOOKUP($D324,Vertices!$A$10:$F$203, 6, FALSE)","v":40}]
[315,117,118,142,null,{"$f":"VLOOKUP($B325,Vertices!$A$10:$F$203, 3, FALSE)","v":10},{"$f":"VLOOKUP($B325,Vertices!$A$10:$F$203, 4, FALSE)","v":0},{"$f":"VLOOKUP($B325,Vertices!$A$10:$F$203, 5, FALSE)","v":100},{"$f":"VLOOKUP($B325,Vertices!$A$10:$F$203, 6, FALSE)","v":20},{"$f":"VLOOKUP($C325,Vertices!$A$10:$F$203, 3, FALSE)","v":20},{"$f":"VLOOKUP($C325,Vertices!$A$10:$F$203, 4, FALSE)","v":0},{"$f":"VLOOKUP($C325,Vertices!$A$10:$F$203, 5, FALSE)","v":100},{"$f":"VLOOKUP($C325,Vertices!$A$10:$F$203, 6, FALSE)","v":20},{"$f":"VLOOKUP($D325,Vertices!$A$10:$F$203, 3, FALSE)","v":20},{"$f":"VLOOKUP($D325,Vertices!$A$10:$F$203, 4, FALSE)","v":0},{"$f":"VLOOKUP($D325,Vertices!$A$10:$F$203, 5, FALSE)","v":100},{"$f":"VLOOKUP($D325,Vertices!$A$10:$F$203, 6, FALSE)","v":40}]
[316,118,143,142,null,{"$f":"VLOOKUP($B326,Vertices!$A$10:$F$203, 3, FALSE)","v":20},{"$f":"VLOOKUP($B326,Vertices!$A$10:$F$203, 4, FALSE)","v":0},{"$f":"VLOOKUP($B326,Vertices!$A$10:$F$203, 5, FALSE)","v":100},{"$f":"VLOOKUP($B326,Vertices!$A$10:$F$203, 6, FALSE)","v":20},{"$f":"VLOOKUP($C326,Vertices!$A$10:$F$203, 3, FALSE)","v":40},{"$f":"VLOOKUP($C326,Vertices!$A$10:$F$203, 4, FALSE)","v":0},{"$f":"VLOOKUP($C326,Vertices!$A$10:$F$203, 5, FALSE)","v":100},{"$f":"VLOOKUP($C326,Vertices!$A$10:$F$203, 6, FALSE)","v":40},{"$f":"VLOOKUP($D326,Vertices!$A$10:$F$203, 3, FALSE)","v":20},{"$f":"VLOOKUP($D326,Vertices!$A$10:$F$203, 4, FALSE)","v":0},{"$f":"VLOOKUP($D326,Vertices!$A$10:$F$203, 5, FALSE)","v":100},{"$f":"VLOOKUP($D326,Vertices!$A$10:$F$203, 6, FALSE)","v":40}]
[317,118,119,143,null,{"$f":"VLOOKUP($B327,Vertices!$A$10:$F$203, 3, FALSE)","v":20},{"$f":"VLOOKUP($B327,Vertices!$A$10:$F$203, 4, FALSE)","v":0},{"$f":"VLOOKUP($B327,Vertices!$A$10:$F$203, 5, FALSE)","v":100},{"$f":"VLOOKUP($B327,Vertices!$A$10:$F$203, 6, FALSE)","v":20},{"$f":"VLOOKUP($C327,Vertices!$A$10:$F$203, 3, FALSE)","v":40},{"$f":"VLOOKUP($C327,Vertices!$A$10:$F$203, 4, FALSE)","v":0},{"$f":"VLOOKUP($C327,Vertices!$A$10:$F$203, 5, FALSE)","v":100},{"$f":"VLOOKUP($C327,Vertices!$A$10:$F$203, 6, FALSE)","v":20},{"$f":"VLOOKUP($D327,Vertices!$A$10:$F$203, 3, FALSE)","v":40},{"$f":"VLOOKUP($D327,Vertices!$A$10:$F$203, 4, FALSE)","v":0},{"$f":"VLOOKUP($D327,Vertices!$A$10:$F$203, 5, FALSE)","v":100},{"$f":"VLOOKUP($D327,Vertices!$A$10:$F$203, 6, FALSE)","v":40}]
[318,119,144,143,null,{"$f":"VLOOKUP($B328,Vertices!$A$10:$F$203, 3, FALSE)","v":40},{"$f":"VLOOKUP($B328,Vertices!$A$10:$F$203, 4, FALSE)","v":0},{"$f":"VLOOKUP($B328,Vertices!$A$10:$F$203, 5, FALSE)","v":100},{"$f":"VLOOKUP($B328,Vertices!$A$10:$F$203, 6, FALSE)","v":20},{"$f":"VLOOKUP($C328,Vertices!$A$10:$F$203, 3, FALSE)","v":70},{"$f":"VLOOKUP($C328,Vertices!$A$10:$F$203, 4, FALSE)","v":0},{"$f":"VLOOKUP($C328,Vertices!$A$10:$F$203, 5, FALSE)","v":100},{"$f":"VLOOKUP($C328,Vertices!$A$10:$F$203, 6, FALSE)","v":40},{"$f":"VLOOKUP($D328,Vertices!$A$10:$F$203, 3, FALSE)","v":40},{"$f":"VLOOKUP($D328,Vertices!$A$10:$F$203, 4, FALSE)","v":0},{"$f":"VLOOKUP($D328,Vertices!$A$10:$F$203, 5, FALSE)","v":100},{"$f":"VLOOKUP($D328,Vertices!$A$10:$F$203, 6, FALSE)","v":40}]
[319,119,120,144,null,{"$f":"VLOOKUP($B329,Vertices!$A$10:$F$203, 3, FALSE)","v":40},{"$f":"VLOOKUP($B329,Vertices!$A$10:$F$203, 4, FALSE)","v":0},{"$f":"VLOOKUP($B329,Vertices!$A$10:$F$203, 5, FALSE)","v":100},{"$f":"VLOOKUP($B329,Vertices!$A$10:$F$203, 6, FALSE)","v":20},{"$f":"VLOOKUP($C329,Vertices!$A$10:$F$203, 3, FALSE)","v":70},{"$f":"VLOOKUP($C329,Vertices!$A$10:$F$203, 4, FALSE)","v":0},{"$f":"VLOOKUP($C329,Vertices!$A$10:$F$203, 5, FALSE)","v":100},{"$f":"VLOOKUP($C329,Vertices!$A$10:$F$203, 6, FALSE)","v":20},{"$f":"VLOOKUP($D329,Vertices!$A$10:$F$203, 3, FALSE)","v":70},{"$f":"VLOOKUP($D329,Vertices!$A$10:$F$203, 4, FALSE)","v":0},{"$f":"VLOOKUP($D329,Vertices!$A$10:$F$203, 5, FALSE)","v":100},{"$f":"VLOOKUP($D329,Vertices!$A$10:$F$203, 6, FALSE)","v":40}]
[320,120,145,144,null,{"$f":"VLOOKUP($B330,Vertices!$A$10:$F$203, 3, FALSE)","v":70},{"$f":"VLOOKUP($B330,Vertices!$A$10:$F$203, 4, FALSE)","v":0},{"$f":"VLOOKUP($B330,Vertices!$A$10:$F$203, 5, FALSE)","v":100},{"$f":"VLOOKUP($B330,Vertices!$A$10:$F$203, 6, FALSE)","v":20},{"$f":"VLOOKUP($C330,Vertices!$A$10:$F$203, 3, FALSE)","v":100},{"$f":"VLOOKUP($C330,Vertices!$A$10:$F$203, 4, FALSE)","v":0},{"$f":"VLOOKUP($C330,Vertices!$A$10:$F$203, 5, FALSE)","v":100},{"$f":"VLOOKUP($C330,Vertices!$A$10:$F$203, 6, FALSE)","v":40},{"$f":"VLOOKUP($D330,Vertices!$A$10:$F$203, 3, FALSE)","v":70},{"$f":"VLOOKUP($D330,Vertices!$A$10:$F$203, 4, FALSE)","v":0},{"$f":"VLOOKUP($D330,Vertices!$A$10:$F$203, 5, FALSE)","v":100},{"$f":"VLOOKUP($D330,Vertices!$A$10:$F$203, 6, FALSE)","v":40}]
[321,120,121,145,null,{"$f":"VLOOKUP($B331,Vertices!$A$10:$F$203, 3, FALSE)","v":70},{"$f":"VLOOKUP($B331,Vertices!$A$10:$F$203, 4, FALSE)","v":0},{"$f":"VLOOKUP($B331,Vertices!$A$10:$F$203, 5, FALSE)","v":100},{"$f":"VLOOKUP($B331,Vertices!$A$10:$F$203, 6, FALSE)","v":20},{"$f":"VLOOKUP($C331,Vertices!$A$10:$F$203, 3, FALSE)","v":100},{"$f":"VLOOKUP($C331,Vertices!$A$10:$F$203, 4, FALSE)","v":0},{"$f":"VLOOKUP($C331,Vertices!$A$10:$F$203, 5, FALSE)","v":100},{"$f":"VLOOKUP($C331,Vertices!$A$10:$F$203, 6, FALSE)","v":20},{"$f":"VLOOKUP($D331,Vertices!$A$10:$F$203, 3, FALSE)","v":100},{"$f":"VLOOKUP($D331,Vertices!$A$10:$F$203, 4, FALSE)","v":0},{"$f":"VLOOKUP($D331,Vertices!$A$10:$F$203, 5, FALSE)","v":100},{"$f":"VLOOKUP($D331,Vertices!$A$10:$F$203, 6, FALSE)","v":40}]
[322,137,166,161,null,{"$f":"VLOOKUP($B332,Vertices!$A$10:$F$203, 3, FALSE)","v":0},{"$f":"VLOOKUP($B332,Vertices!$A$10:$F$203, 4, FALSE)","v":0},{"$f":"VLOOKUP($B332,Vertices!$A$10:$F$203, 5, FALSE)","v":100},{"$f":"VLOOKUP($B332,Vertices!$A$10:$F$203, 6, FALSE)","v":40},{"$f":"VLOOKUP($C332,Vertices!$A$10:$F$203, 3, FALSE)","v":20},{"$f":"VLOOKUP($C332,Vertices!$A$10:$F$203, 4, FALSE)","v":0},{"$f":"VLOOKUP($C332,Vertices!$A$10:$F$203, 5, FALSE)","v":100},{"$f":"VLOOKUP($C332,Vertices!$A$10:$F$203, 6, FALSE)","v":60},{"$f":"VLOOKUP($D332,Vertices!$A$10:$F$203, 3, FALSE)","v":0},{"$f":"VLOOKUP($D332,Vertices!$A$10:$F$203, 4, FALSE)","v":0},{"$f":"VLOOKUP($D332,Vertices!$A$10:$F$203, 5, FALSE)","v":100},{"$f":"VLOOKUP($D332,Vertices!$A$10:$F$203, 6, FALSE)","v":60}]
[323,137,142,166,null,{"$f":"VLOOKUP($B333,Vertices!$A$10:$F$203, 3, FALSE)","v":0},{"$f":"VLOOKUP($B333,Vertices!$A$10:$F$203, 4, FALSE)","v":0},{"$f":"VLOOKUP($B333,Vertices!$A$10:$F$203, 5, FALSE)","v":100},{"$f":"VLOOKUP($B333,Vertices!$A$10:$F$203, 6, FALSE)","v":40},{"$f":"VLOOKUP($C333,Vertices!$A$10:$F$203, 3, FALSE)","v":20},{"$f":"VLOOKUP($C333,Vertices!$A$10:$F$203, 4, FALSE)","v":0},{"$f":"VLOOKUP($C333,Vertices!$A$10:$F$203, 5, FALSE)","v":100},{"$f":"VLOOKUP($C333,Vertices!$A$10:$F$203, 6, FALSE)","v":40},{"$f":"VLOOKUP($D333,Vertices!$A$10:$F$203, 3, FALSE)","v":20},{"$f":"VLOOKUP($D333,Vertices!$A$10:$F$203, 4, FALSE)","v":0},{"$f":"VLOOKUP($D333,Vertices!$A$10:$F$203, 5, FALSE)","v":100},{"$f":"VLOOKUP($D333,Vertices!$A$10:$F$203, 6, FALSE)","v":60}]
[324,142,167,166,null,{"$f":"VLOOKUP($B334,Vertices!$A$10:$F$203, 3, FALSE)","v":20},{"$f":"VLOOKUP($B334,Vertices!$A$10:$F$203, 4, FALSE)","v":0},{"$f":"VLOOKUP($B334,Vertices!$A$10:$F$203, 5, FALSE)","v":100},{"$f":"VLOOKUP($B334,Vertices!$A$10:$F$203, 6, FALSE)","v":40},{"$f":"VLOOKUP($C334,Vertices!$A$10:$F$203, 3, FALSE)","v":40},{"$f":"VLOOKUP($C334,Vertices!$A$10:$F$203, 4, FALSE)","v":0},{"$f":"VLOOKUP($C334,Vertices!$A$10:$F$203, 5, FALSE)","v":100},{"$f":"VLOOKUP($C334,Vertices!$A$10:$F$203, 6, FALSE)","v":60},{"$f":"VLOOKUP($D334,Vertices!$A$10:$F$203, 3, FALSE)","v":20},{"$f":"VLOOKUP($D334,Vertices!$A$10:$F$203, 4, FALSE)","v":0},{"$f":"VLOOKUP($D334,Vertices!$A$10:$F$203, 5, FALSE)","v":100},{"$f":"VLOOKUP($D334,Vertices!$A$10:$F$203, 6, FALSE)","v":60}]
[325,142,143,167,null,{"$f":"VLOOKUP($B335,Vertices!$A$10:$F$203, 3, FALSE)","v":20},{"$f":"VLOOKUP($B335,Vertices!$A$10:$F$203, 4, FALSE)","v":0},{"$f":"VLOOKUP($B335,Vertices!$A$10:$F$203, 5, FALSE)","v":100},{"$f":"VLOOKUP($B335,Vertices!$A$10:$F$203, 6, FALSE)","v":40},{"$f":"VLOOKUP($C335,Vertices!$A$10:$F$203, 3, FALSE)","v":40},{"$f":"VLOOKUP($C335,Vertices!$A$10:$F$203, 4, FALSE)","v":0},{"$f":"VLOOKUP($C335,Vertices!$A$10:$F$203, 5, FALSE)","v":100},{"$f":"VLOOKUP($C335,Vertices!$A$10:$F$203, 6, FALSE)","v":40},{"$f":"VLOOKUP($D335,Vertices!$A$10:$F$203, 3, FALSE)","v":40},{"$f":"VLOOKUP($D335,Vertices!$A$10:$F$203, 4, FALSE)","v":0},{"$f":"VLOOKUP($D335,Vertices!$A$10:$F$203, 5, FALSE)","v":100},{"$f":"VLOOKUP($D335,Vertices!$A$10:$F$203, 6, FALSE)","v":60}]
[326,143,168,167,null,{"$f":"VLOOKUP($B336,Vertices!$A$10:$F$203, 3, FALSE)","v":40},{"$f":"VLOOKUP($B336,Vertices!$A$10:$F$203, 4, FALSE)","v":0},{"$f":"VLOOKUP($B336,Vertices!$A$10:$F$203, 5, FALSE)","v":100},{"$f":"VLOOKUP($B336,Vertices!$A$10:$F$203, 6, FALSE)","v":40},{"$f":"VLOOKUP($C336,Vertices!$A$10:$F$203, 3, FALSE)","v":70},{"$f":"VLOOKUP($C336,Vertices!$A$10:$F$203, 4, FALSE)","v":0},{"$f":"VLOOKUP($C336,Vertices!$A$10:$F$203, 5, FALSE)","v":100},{"$f":"VLOOKUP($C336,Vertices!$A$10:$F$203, 6, FALSE)","v":60},{"$f":"VLOOKUP($D336,Vertices!$A$10:$F$203, 3, FALSE)","v":40},{"$f":"VLOOKUP($D336,Vertices!$A$10:$F$203, 4, FALSE)","v":0},{"$f":"VLOOKUP($D336,Vertices!$A$10:$F$203, 5, FALSE)","v":100},{"$f":"VLOOKUP($D336,Vertices!$A$10:$F$203, 6, FALSE)","v":60}]
[327,143,144,168,null,{"$f":"VLOOKUP($B337,Vertices!$A$10:$F$203, 3, FALSE)","v":40},{"$f":"VLOOKUP($B337,Vertices!$A$10:$F$203, 4, FALSE)","v":0},{"$f":"VLOOKUP($B337,Vertices!$A$10:$F$203, 5, FALSE)","v":100},{"$f":"VLOOKUP($B337,Vertices!$A$10:$F$203, 6, FALSE)","v":40},{"$f":"VLOOKUP($C337,Vertices!$A$10:$F$203, 3, FALSE)","v":70},{"$f":"VLOOKUP($C337,Vertices!$A$10:$F$203, 4, FALSE)","v":0},{"$f":"VLOOKUP($C337,Vertices!$A$10:$F$203, 5, FALSE)","v":100},{"$f":"VLOOKUP($C337,Vertices!$A$10:$F$203, 6, FALSE)","v":40},{"$f":"VLOOKUP($D337,Vertices!$A$10:$F$203, 3, FALSE)","v":70},{"$f":"VLOOKUP($D337,Vertices!$A$10:$F$203, 4, FALSE)","v":0},{"$f":"VLOOKUP($D337,Vertices!$A$10:$F$203, 5, FALSE)","v":100},{"$f":"VLOOKUP($D337,Vertices!$A$10:$F$203, 6, FALSE)","v":60}]
[328,144,169,168,null,{"$f":"VLOOKUP($B338,Vertices!$A$10:$F$203, 3, FALSE)","v":70},{"$f":"VLOOKUP($B338,Vertices!$A$10:$F$203, 4, FALSE)","v":0},{"$f":"VLOOKUP($B338,Vertices!$A$10:$F$203, 5, FALSE)","v":100},{"$f":"VLOOKUP($B338,Vertices!$A$10:$F$203, 6, FALSE)","v":40},{"$f":"VLOOKUP($C338,Vertices!$A$10:$F$203, 3, FALSE)","v":100},{"$f":"VLOOKUP($C338,Vertices!$A$10:$F$203, 4, FALSE)","v":0},{"$f":"VLOOKUP($C338,Vertices!$A$10:$F$203, 5, FALSE)","v":100},{"$f":"VLOOKUP($C338,Vertices!$A$10:$F$203, 6, FALSE)","v":60},{"$f":"VLOOKUP($D338,Vertices!$A$10:$F$203, 3, FALSE)","v":70},{"$f":"VLOOKUP($D338,Vertices!$A$10:$F$203, 4, FALSE)","v":0},{"$f":"VLOOKUP($D338,Vertices!$A$10:$F$203, 5, FALSE)","v":100},{"$f":"VLOOKUP($D338,Vertices!$A$10:$F$203, 6, FALSE)","v":60}]
[329,144,145,169,null,{"$f":"VLOOKUP($B339,Vertices!$A$10:$F$203, 3, FALSE)","v":70},{"$f":"VLOOKUP($B339,Vertices!$A$10:$F$203, 4, FALSE)","v":0},{"$f":"VLOOKUP($B339,Vertices!$A$10:$F$203, 5, FALSE)","v":100},{"$f":"VLOOKUP($B339,Vertices!$A$10:$F$203, 6, FALSE)","v":40},{"$f":"VLOOKUP($C339,Vertices!$A$10:$F$203, 3, FALSE)","v":100},{"$f":"VLOOKUP($C339,Vertices!$A$10:$F$203, 4, FALSE)","v":0},{"$f":"VLOOKUP($C339,Vertices!$A$10:$F$203, 5, FALSE)","v":100},{"$f":"VLOOKUP($C339,Vertices!$A$10:$F$203, 6, FALSE)","v":40},{"$f":"VLOOKUP($D339,Vertices!$A$10:$F$203, 3, FALSE)","v":100},{"$f":"VLOOKUP($D339,Vertices!$A$10:$F$203, 4, FALSE)","v":0},{"$f":"VLOOKUP($D339,Vertices!$A$10:$F$203, 5, FALSE)","v":100},{"$f":"VLOOKUP($D339,Vertices!$A$10:$F$203, 6, FALSE)","v":60}]
[330,161,166,181,null,{"$f":"VLOOKUP($B340,Vertices!$A$10:$F$203, 3, FALSE)","v":0},{"$f":"VLOOKUP($B340,Vertices!$A$10:$F$203, 4, FALSE)","v":0},{"$f":"VLOOKUP($B340,Vertices!$A$10:$F$203, 5, FALSE)","v":100},{"$f":"VLOOKUP($B340,Vertices!$A$10:$F$203, 6, FALSE)","v":60},{"$f":"VLOOKUP($C340,Vertices!$A$10:$F$203, 3, FALSE)","v":20},{"$f":"VLOOKUP($C340,Vertices!$A$10:$F$203, 4, FALSE)","v":0},{"$f":"VLOOKUP($C340,Vertices!$A$10:$F$203, 5, FALSE)","v":100},{"$f":"VLOOKUP($C340,Vertices!$A$10:$F$203, 6, FALSE)","v":60},{"$f":"VLOOKUP($D340,Vertices!$A$10:$F$203, 3, FALSE)","v":0},{"$f":"VLOOKUP($D340,Vertices!$A$10:$F$203, 4, FALSE)","v":0},{"$f":"VLOOKUP($D340,Vertices!$A$10:$F$203, 5, FALSE)","v":100},{"$f":"VLOOKUP($D340,Vertices!$A$10:$F$203, 6, FALSE)","v":80}]
[331,166,185,181,null,{"$f":"VLOOKUP($B341,Vertices!$A$10:$F$203, 3, FALSE)","v":20},{"$f":"VLOOKUP($B341,Vertices!$A$10:$F$203, 4, FALSE)","v":0},{"$f":"VLOOKUP($B341,Vertices!$A$10:$F$203, 5, FALSE)","v":100},{"$f":"VLOOKUP($B341,Vertices!$A$10:$F$203, 6, FALSE)","v":60},{"$f":"VLOOKUP($C341,Vertices!$A$10:$F$203, 3, FALSE)","v":40},{"$f":"VLOOKUP($C341,Vertices!$A$10:$F$203, 4, FALSE)","v":0},{"$f":"VLOOKUP($C341,Vertices!$A$10:$F$203, 5, FALSE)","v":100},{"$f":"VLOOKUP($C341,Vertices!$A$10:$F$203, 6, FALSE)","v":80},{"$f":"VLOOKUP($D341,Vertices!$A$10:$F$203, 3, FALSE)","v":0},{"$f":"VLOOKUP($D341,Vertices!$A$10:$F$203, 4, FALSE)","v":0},{"$f":"VLOOKUP($D341,Vertices!$A$10:$F$203, 5, FALSE)","v":100},{"$f":"VLOOKUP($D341,Vertices!$A$10:$F$203, 6, FALSE)","v":80}]
[332,166,167,185,null,{"$f":"VLOOKUP($B342,Vertices!$A$10:$F$203, 3, FALSE)","v":20},{"$f":"VLOOKUP($B342,Vertices!$A$10:$F$203, 4, FALSE)","v":0},{"$f":"VLOOKUP($B342,Vertices!$A$10:$F$203, 5, FALSE)","v":100},{"$f":"VLOOKUP($B342,Vertices!$A$10:$F$203, 6, FALSE)","v":60},{"$f":"VLOOKUP($C342,Vertices!$A$10:$F$203, 3, FALSE)","v":40},{"$f":"VLOOKUP($C342,Vertices!$A$10:$F$203, 4, FALSE)","v":0},{"$f":"VLOOKUP($C342,Vertices!$A$10:$F$203, 5, FALSE)","v":100},{"$f":"VLOOKUP($C342,Vertices!$A$10:$F$203, 6, FALSE)","v":60},{"$f":"VLOOKUP($D342,Vertices!$A$10:$F$203, 3, FALSE)","v":40},{"$f":"VLOOKUP($D342,Vertices!$A$10:$F$203, 4, FALSE)","v":0},{"$f":"VLOOKUP($D342,Vertices!$A$10:$F$203, 5, FALSE)","v":100},{"$f":"VLOOKUP($D342,Vertices!$A$10:$F$203, 6, FALSE)","v":80}]
[333,167,186,185,null,{"$f":"VLOOKUP($B343,Vertices!$A$10:$F$203, 3, FALSE)","v":40},{"$f":"VLOOKUP($B343,Vertices!$A$10:$F$203, 4, FALSE)","v":0},{"$f":"VLOOKUP($B343,Vertices!$A$10:$F$203, 5, FALSE)","v":100},{"$f":"VLOOKUP($B343,Vertices!$A$10:$F$203, 6, FALSE)","v":60},{"$f":"VLOOKUP($C343,Vertices!$A$10:$F$203, 3, FALSE)","v":70},{"$f":"VLOOKUP($C343,Vertices!$A$10:$F$203, 4, FALSE)","v":0},{"$f":"VLOOKUP($C343,Vertices!$A$10:$F$203, 5, FALSE)","v":100},{"$f":"VLOOKUP($C343,Vertices!$A$10:$F$203, 6, FALSE)","v":80},{"$f":"VLOOKUP($D343,Vertices!$A$10:$F$203, 3, FALSE)","v":40},{"$f":"VLOOKUP($D343,Vertices!$A$10:$F$203, 4, FALSE)","v":0},{"$f":"VLOOKUP($D343,Vertices!$A$10:$F$203, 5, FALSE)","v":100},{"$f":"VLOOKUP($D343,Vertices!$A$10:$F$203, 6, FALSE)","v":80}]
[334,167,168,186,null,{"$f":"VLOOKUP($B344,Vertices!$A$10:$F$203, 3, FALSE)","v":40},{"$f":"VLOOKUP($B344,Vertices!$A$10:$F$203, 4, FALSE)","v":0},{"$f":"VLOOKUP($B344,Vertices!$A$10:$F$203, 5, FALSE)","v":100},{"$f":"VLOOKUP($B344,Vertices!$A$10:$F$203, 6, FALSE)","v":60},{"$f":"VLOOKUP($C344,Vertices!$A$10:$F$203, 3, FALSE)","v":70},{"$f":"VLOOKUP($C344,Vertices!$A$10:$F$203, 4, FALSE)","v":0},{"$f":"VLOOKUP($C344,Vertices!$A$10:$F$203, 5, FALSE)","v":100},{"$f":"VLOOKUP($C344,Vertices!$A$10:$F$203, 6, FALSE)","v":60},{"$f":"VLOOKUP($D344,Vertices!$A$10:$F$203, 3, FALSE)","v":70},{"$f":"VLOOKUP($D344,Vertices!$A$10:$F$203, 4, FALSE)","v":0},{"$f":"VLOOKUP($D344,Vertices!$A$10:$F$203, 5, FALSE)","v":100},{"$f":"VLOOKUP($D344,Vertices!$A$10:$F$203, 6, FALSE)","v":80}]
[335,168,187,186,null,{"$f":"VLOOKUP($B345,Vertices!$A$10:$F$203, 3, FALSE)","v":70},{"$f":"VLOOKUP($B345,Vertices!$A$10:$F$203, 4, FALSE)","v":0},{"$f":"VLOOKUP($B345,Vertices!$A$10:$F$203, 5, FALSE)","v":100},{"$f":"VLOOKUP($B345,Vertices!$A$10:$F$203, 6, FALSE)","v":60},{"$f":"VLOOKUP($C345,Vertices!$A$10:$F$203, 3, FALSE)","v":100},{"$f":"VLOOKUP($C345,Vertices!$A$10:$F$203, 4, FALSE)","v":0},{"$f":"VLOOKUP($C345,Vertices!$A$10:$F$203, 5, FALSE)","v":100},{"$f":"VLOOKUP($C345,Vertices!$A$10:$F$203, 6, FALSE)","v":80},{"$f":"VLOOKUP($D345,Vertices!$A$10:$F$203, 3, FALSE)","v":70},{"$f":"VLOOKUP($D345,Vertices!$A$10:$F$203, 4, FALSE)","v":0},{"$f":"VLOOKUP($D345,Vertices!$A$10:$F$203, 5, FALSE)","v":100},{"$f":"VLOOKUP($D345,Vertices!$A$10:$F$203, 6, FALSE)","v":80}]
[336,168,169,187,null,{"$f":"VLOOKUP($B346,Vertices!$A$10:$F$203, 3, FALSE)","v":70},{"$f":"VLOOKUP($B346,Vertices!$A$10:$F$203, 4, FALSE)","v":0},{"$f":"VLOOKUP($B346,Vertices!$A$10:$F$203, 5, FALSE)","v":100},{"$f":"VLOOKUP($B346,Vertices!$A$10:$F$203, 6, FALSE)","v":60},{"$f":"VLOOKUP($C346,Vertices!$A$10:$F$203, 3, FALSE)","v":100},{"$f":"VLOOKUP($C346,Vertices!$A$10:$F$203, 4, FALSE)","v":0},{"$f":"VLOOKUP($C346,Vertices!$A$10:$F$203, 5, FALSE)","v":100},{"$f":"VLOOKUP($C346,Vertices!$A$10:$F$203, 6, FALSE)","v":60},{"$f":"VLOOKUP($D346,Vertices!$A$10:$F$203, 3, FALSE)","v":100},{"$f":"VLOOKUP($D346,Vertices!$A$10:$F$203, 4, FALSE)","v":0},{"$f":"VLOOKUP($D346,Vertices!$A$10:$F$203, 5, FALSE)","v":100},{"$f":"VLOOKUP($D346,Vertices!$A$10:$F$203, 6, FALSE)","v":80}]
[337,181,185,191,null,{"$f":"VLOOKUP($B347,Vertices!$A$10:$F$203, 3, FALSE)","v":0},{"$f":"VLOOKUP($B347,Vertices!$A$10:$F$203, 4, FALSE)","v":0},{"$f":"VLOOKUP($B347,Vertices!$A$10:$F$203, 5, FALSE)","v":100},{"$f":"VLOOKUP($B347,Vertices!$A$10:$F$203, 6, FALSE)","v":80},{"$f":"VLOOKUP($C347,Vertices!$A$10:$F$203, 3, FALSE)","v":40},{"$f":"VLOOKUP($C347,Vertices!$A$10:$F$203, 4, FALSE)","v":0},{"$f":"VLOOKUP($C347,Vertices!$A$10:$F$203, 5, FALSE)","v":100},{"$f":"VLOOKUP($C347,Vertices!$A$10:$F$203, 6, FALSE)","v":80},{"$f":"VLOOKUP($D347,Vertices!$A$10:$F$203, 3, FALSE)","v":0},{"$f":"VLOOKUP($D347,Vertices!$A$10:$F$203, 4, FALSE)","v":0},{"$f":"VLOOKUP($D347,Vertices!$A$10:$F$203, 5, FALSE)","v":100},{"$f":"VLOOKUP($D347,Vertices!$A$10:$F$203, 6, FALSE)","v":100}]
[338,185,193,191,null,{"$f":"VLOOKUP($B348,Vertices!$A$10:$F$203, 3, FALSE)","v":40},{"$f":"VLOOKUP($B348,Vertices!$A$10:$F$203, 4, FALSE)","v":0},{"$f":"VLOOKUP($B348,Vertices!$A$10:$F$203, 5, FALSE)","v":100},{"$f":"VLOOKUP($B348,Vertices!$A$10:$F$203, 6, FALSE)","v":80},{"$f":"VLOOKUP($C348,Vertices!$A$10:$F$203, 3, FALSE)","v":100},{"$f":"VLOOKUP($C348,Vertices!$A$10:$F$203, 4, FALSE)","v":0},{"$f":"VLOOKUP($C348,Vertices!$A$10:$F$203, 5, FALSE)","v":100},{"$f":"VLOOKUP($C348,Vertices!$A$10:$F$203, 6, FALSE)","v":100},{"$f":"VLOOKUP($D348,Vertices!$A$10:$F$203, 3, FALSE)","v":0},{"$f":"VLOOKUP($D348,Vertices!$A$10:$F$203, 4, FALSE)","v":0},{"$f":"VLOOKUP($D348,Vertices!$A$10:$F$203, 5, FALSE)","v":100},{"$f":"VLOOKUP($D348,Vertices!$A$10:$F$203, 6, FALSE)","v":100}]
[339,185,186,193,null,{"$f":"VLOOKUP($B349,Vertices!$A$10:$F$203, 3, FALSE)","v":40},{"$f":"VLOOKUP($B349,Vertices!$A$10:$F$203, 4, FALSE)","v":0},{"$f":"VLOOKUP($B349,Vertices!$A$10:$F$203, 5, FALSE)","v":100},{"$f":"VLOOKUP($B349,Vertices!$A$10:$F$203, 6, FALSE)","v":80},{"$f":"VLOOKUP($C349,Vertices!$A$10:$F$203, 3, FALSE)","v":70},{"$f":"VLOOKUP($C349,Vertices!$A$10:$F$203, 4, FALSE)","v":0},{"$f":"VLOOKUP($C349,Vertices!$A$10:$F$203, 5, FALSE)","v":100},{"$f":"VLOOKUP($C349,Vertices!$A$10:$F$203, 6, FALSE)","v":80},{"$f":"VLOOKUP($D349,Vertices!$A$10:$F$203, 3, FALSE)","v":100},{"$f":"VLOOKUP($D349,Vertices!$A$10:$F$203, 4, FALSE)","v":0},{"$f":"VLOOKUP($D349,Vertices!$A$10:$F$203, 5, FALSE)","v":100},{"$f":"VLOOKUP($D349,Vertices!$A$10:$F$203, 6, FALSE)","v":100}]
[340,186,187,193,null,{"$f":"VLOOKUP($B350,Vertices!$A$10:$F$203, 3, FALSE)","v":70},{"$f":"VLOOKUP($B350,Vertices!$A$10:$F$203, 4, FALSE)","v":0},{"$f":"VLOOKUP($B350,Vertices!$A$10:$F$203, 5, FALSE)","v":100},{"$f":"VLOOKUP($B350,Vertices!$A$10:$F$203, 6, FALSE)","v":80},{"$f":"VLOOKUP($C350,Vertices!$A$10:$F$203, 3, FALSE)","v":100},{"$f":"VLOOKUP($C350,Vertices!$A$10:$F$203, 4, FALSE)","v":0},{"$f":"VLOOKUP($C350,Vertices!$A$10:$F$203, 5, FALSE)","v":100},{"$f":"VLOOKUP($C350,Vertices!$A$10:$F$203, 6, FALSE)","v":80},{"$f":"VLOOKUP($D350,Vertices!$A$10:$F$203, 3, FALSE)","v":100},{"$f":"VLOOKUP($D350,Vertices!$A$10:$F$203, 4, FALSE)","v":0},{"$f":"VLOOKUP($D350,Vertices!$A$10:$F$203, 5, FALSE)","v":100},{"$f":"VLOOKUP($D350,Vertices!$A$10:$F$203, 6, FALSE)","v":100}]
[341,31,97,104,null,{"$f":"VLOOKUP($B351,Vertices!$A$10:$F$203, 3, FALSE)","v":100},{"$f":"VLOOKUP($B351,Vertices!$A$10:$F$203, 4, FALSE)","v":0},{"$f":"VLOOKUP($B351,Vertices!$A$10:$F$203, 5, FALSE)","v":0},{"$f":"VLOOKUP($B351,Vertices!$A$10:$F$203, 6, FALSE)","v":0},{"$f":"VLOOKUP($C351,Vertices!$A$10:$F$203, 3, FALSE)","v":100},{"$f":"VLOOKUP($C351,Vertices!$A$10:$F$203, 4, FALSE)","v":0},{"$f":"VLOOKUP($C351,Vertices!$A$10:$F$203, 5, FALSE)","v":0},{"$f":"VLOOKUP($C351,Vertices!$A$10:$F$203, 6, FALSE)","v":20},{"$f":"VLOOKUP($D351,Vertices!$A$10:$F$203, 3, FALSE)","v":100},{"$f":"VLOOKUP($D351,Vertices!$A$10:$F$203, 4, FALSE)","v":0},{"$f":"VLOOKUP($D351,Vertices!$A$10:$F$203, 5, FALSE)","v":10},{"$f":"VLOOKUP($D351,Vertices!$A$10:$F$203, 6, FALSE)","v":20}]
[342,31,104,47,null,{"$f":"VLOOKUP($B352,Vertices!$A$10:$F$203, 3, FALSE)","v":100},{"$f":"VLOOKUP($B352,Vertices!$A$10:$F$203, 4, FALSE)","v":0},{"$f":"VLOOKUP($B352,Vertices!$A$10:$F$203, 5, FALSE)","v":0},{"$f":"VLOOKUP($B352,Vertices!$A$10:$F$203, 6, FALSE)","v":0},{"$f":"VLOOKUP($C352,Vertices!$A$10:$F$203, 3, FALSE)","v":100},{"$f":"VLOOKUP($C352,Vertices!$A$10:$F$203, 4, FALSE)","v":0},{"$f":"VLOOKUP($C352,Vertices!$A$10:$F$203, 5, FALSE)","v":10},{"$f":"VLOOKUP($C352,Vertices!$A$10:$F$203, 6, FALSE)","v":20},{"$f":"VLOOKUP($D352,Vertices!$A$10:$F$203, 3, FALSE)","v":100},{"$f":"VLOOKUP($D352,Vertices!$A$10:$F$203, 4, FALSE)","v":0},{"$f":"VLOOKUP($D352,Vertices!$A$10:$F$203, 5, FALSE)","v":10},{"$f":"VLOOKUP($D352,Vertices!$A$10:$F$203, 6, FALSE)","v":0}]
[343,47,104,106,null,{"$f":"VLOOKUP($B353,Vertices!$A$10:$F$203, 3, FALSE)","v":100},{"$f":"VLOOKUP($B353,Vertices!$A$10:$F$203, 4, FALSE)","v":0},{"$f":"VLOOKUP($B353,Vertices!$A$10:$F$203, 5, FALSE)","v":10},{"$f":"VLOOKUP($B353,Vertices!$A$10:$F$203, 6, FALSE)","v":0},{"$f":"VLOOKUP($C353,Vertices!$A$10:$F$203, 3, FALSE)","v":100},{"$f":"VLOOKUP($C353,Vertices!$A$10:$F$203, 4, FALSE)","v":0},{"$f":"VLOOKUP($C353,Vertices!$A$10:$F$203, 5, FALSE)","v":10},{"$f":"VLOOKUP($C353,Vertices!$A$10:$F$203, 6, FALSE)","v":20},{"$f":"VLOOKUP($D353,Vertices!$A$10:$F$203, 3, FALSE)","v":100},{"$f":"VLOOKUP($D353,Vertices!$A$10:$F$203, 4, FALSE)","v":0},{"$f":"VLOOKUP($D353,Vertices!$A$10:$F$203, 5, FALSE)","v":20},{"$f":"VLOOKUP($D353,Vertices!$A$10:$F$203, 6, FALSE)","v":20}]
[344,47,106,58,null,{"$f":"VLOOKUP($B354,Vertices!$A$10:$F$203, 3, FALSE)","v":100},{"$f":"VLOOKUP($B354,Vertices!$A$10:$F$203, 4, FALSE)","v":0},{"$f":"VLOOKUP($B354,Vertices!$A$10:$F$203, 5, FALSE)","v":10},{"$f":"VLOOKUP($B354,Vertices!$A$10:$F$203, 6, FALSE)","v":0},{"$f":"VLOOKUP($C354,Vertices!$A$10:$F$203, 3, FALSE)","v":100},{"$f":"VLOOKUP($C354,Vertices!$A$10:$F$203, 4, FALSE)","v":0},{"$f":"VLOOKUP($C354,Vertices!$A$10:$F$203, 5, FALSE)","v":20},{"$f":"VLOOKUP($C354,Vertices!$A$10:$F$203, 6, FALSE)","v":20},{"$f":"VLOOKUP($D354,Vertices!$A$10:$F$203, 3, FALSE)","v":100},{"$f":"VLOOKUP($D354,Vertices!$A$10:$F$203, 4, FALSE)","v":0},{"$f":"VLOOKUP($D354,Vertices!$A$10:$F$203, 5, FALSE)","v":20},{"$f":"VLOOKUP($D354,Vertices!$A$10:$F$203, 6, FALSE)","v":0}]
[345,58,106,108,null,{"$f":"VLOOKUP($B355,Vertices!$A$10:$F$203, 3, FALSE)","v":100},{"$f":"VLOOKUP($B355,Vertices!$A$10:$F$203, 4, FALSE)","v":0},{"$f":"VLOOKUP($B355,Vertices!$A$10:$F$203, 5, FALSE)","v":20},{"$f":"VLOOKUP($B355,Vertices!$A$10:$F$203, 6, FALSE)","v":0},{"$f":"VLOOKUP($C355,Vertices!$A$10:$F$203, 3, FALSE)","v":100},{"$f":"VLOOKUP($C355,Vertices!$A$10:$F$203, 4, FALSE)","v":0},{"$f":"VLOOKUP($C355,Vertices!$A$10:$F$203, 5, FALSE)","v":20},{"$f":"VLOOKUP($C355,Vertices!$A$10:$F$203, 6, FALSE)","v":20},{"$f":"VLOOKUP($D355,Vertices!$A$10:$F$203, 3, FALSE)","v":100},{"$f":"VLOOKUP($D355,Vertices!$A$10:$F$203, 4, FALSE)","v":0},{"$f":"VLOOKUP($D355,Vertices!$A$10:$F$203, 5, FALSE)","v":40},{"$f":"VLOOKUP($D355,Vertices!$A$10:$F$203, 6, FALSE)","v":20}]
[346,58,108,69,null,{"$f":"VLOOKUP($B356,Vertices!$A$10:$F$203, 3, FALSE)","v":100},{"$f":"VLOOKUP($B356,Vertices!$A$10:$F$203, 4, FALSE)","v":0},{"$f":"VLOOKUP($B356,Vertices!$A$10:$F$203, 5, FALSE)","v":20},{"$f":"VLOOKUP($B356,Vertices!$A$10:$F$203, 6, FALSE)","v":0},{"$f":"VLOOKUP($C356,Vertices!$A$10:$F$203, 3, FALSE)","v":100},{"$f":"VLOOKUP($C356,Vertices!$A$10:$F$203, 4, FALSE)","v":0},{"$f":"VLOOKUP($C356,Vertices!$A$10:$F$203, 5, FALSE)","v":40},{"$f":"VLOOKUP($C356,Vertices!$A$10:$F$203, 6, FALSE)","v":20},{"$f":"VLOOKUP($D356,Vertices!$A$10:$F$203, 3, FALSE)","v":100},{"$f":"VLOOKUP($D356,Vertices!$A$10:$F$203, 4, FALSE)","v":0},{"$f":"VLOOKUP($D356,Vertices!$A$10:$F$203, 5, FALSE)","v":40},{"$f":"VLOOKUP($D356,Vertices!$A$10:$F$203, 6, FALSE)","v":0}]
[347,69,108,110,null,{"$f":"VLOOKUP($B357,Vertices!$A$10:$F$203, 3, FALSE)","v":100},{"$f":"VLOOKUP($B357,Vertices!$A$10:$F$203, 4, FALSE)","v":0},{"$f":"VLOOKUP($B357,Vertices!$A$10:$F$203, 5, FALSE)","v":40},{"$f":"VLOOKUP($B357,Vertices!$A$10:$F$203, 6, FALSE)","v":0},{"$f":"VLOOKUP($C357,Vertices!$A$10:$F$203, 3, FALSE)","v":100},{"$f":"VLOOKUP($C357,Vertices!$A$10:$F$203, 4, FALSE)","v":0},{"$f":"VLOOKUP($C357,Vertices!$A$10:$F$203, 5, FALSE)","v":40},{"$f":"VLOOKUP($C357,Vertices!$A$10:$F$203, 6, FALSE)","v":20},{"$f":"VLOOKUP($D357,Vertices!$A$10:$F$203, 3, FALSE)","v":100},{"$f":"VLOOKUP($D357,Vertices!$A$10:$F$203, 4, FALSE)","v":0},{"$f":"VLOOKUP($D357,Vertices!$A$10:$F$203, 5, FALSE)","v":70},{"$f":"VLOOKUP($D357,Vertices!$A$10:$F$203, 6, FALSE)","v":20}]
[348,69,110,80,null,{"$f":"VLOOKUP($B358,Vertices!$A$10:$F$203, 3, FALSE)","v":100},{"$f":"VLOOKUP($B358,Vertices!$A$10:$F$203, 4, FALSE)","v":0},{"$f":"VLOOKUP($B358,Vertices!$A$10:$F$203, 5, FALSE)","v":40},{"$f":"VLOOKUP($B358,Vertices!$A$10:$F$203, 6, FALSE)","v":0},{"$f":"VLOOKUP($C358,Vertices!$A$10:$F$203, 3, FALSE)","v":100},{"$f":"VLOOKUP($C358,Vertices!$A$10:$F$203, 4, FALSE)","v":0},{"$f":"VLOOKUP($C358,Vertices!$A$10:$F$203, 5, FALSE)","v":70},{"$f":"VLOOKUP($C358,Vertices!$A$10:$F$203, 6, FALSE)","v":20},{"$f":"VLOOKUP($D358,Vertices!$A$10:$F$203, 3, FALSE)","v":100},{"$f":"VLOOKUP($D358,Vertices!$A$10:$F$203, 4, FALSE)","v":0},{"$f":"VLOOKUP($D358,Vertices!$A$10:$F$203, 5, FALSE)","v":70},{"$f":"VLOOKUP($D358,Vertices!$A$10:$F$203, 6, FALSE)","v":0}]
[349,80,110,121,null,{"$f":"VLOOKUP($B359,Vertices!$A$10:$F$203, 3, FALSE)","v":100},{"$f":"VLOOKUP($B359,Vertices!$A$10:$F$203, 4, FALSE)","v":0},{"$f":"VLOOKUP($B359,Vertices!$A$10:$F$203, 5, FALSE)","v":70},{"$f":"VLOOKUP($B359,Vertices!$A$10:$F$203, 6, FALSE)","v":0},{"$f":"VLOOKUP($C359,Vertices!$A$10:$F$203, 3, FALSE)","v":100},{"$f":"VLOOKUP($C359,Vertices!$A$10:$F$203, 4, FALSE)","v":0},{"$f":"VLOOKUP($C359,Vertices!$A$10:$F$203, 5, FALSE)","v":70},{"$f":"VLOOKUP($C359,Vertices!$A$10:$F$203, 6, FALSE)","v":20},{"$f":"VLOOKUP($D359,Vertices!$A$10:$F$203, 3, FALSE)","v":100},{"$f":"VLOOKUP($D359,Vertices!$A$10:$F$203, 4, FALSE)","v":0},{"$f":"VLOOKUP($D359,Vertices!$A$10:$F$203, 5, FALSE)","v":100},{"$f":"VLOOKUP($D359,Vertices!$A$10:$F$203, 6, FALSE)","v":20}]
[350,80,121,91,null,{"$f":"VLOOKUP($B360,Vertices!$A$10:$F$203, 3, FALSE)","v":100},{"$f":"VLOOKUP($B360,Vertices!$A$10:$F$203, 4, FALSE)","v":0},{"$f":"VLOOKUP($B360,Vertices!$A$10:$F$203, 5, FALSE)","v":70},{"$f":"VLOOKUP($B360,Vertices!$A$10:$F$203, 6, FALSE)","v":0},{"$f":"VLOOKUP($C360,Vertices!$A$10:$F$203, 3, FALSE)","v":100},{"$f":"VLOOKUP($C360,Vertices!$A$10:$F$203, 4, FALSE)","v":0},{"$f":"VLOOKUP($C360,Vertices!$A$10:$F$203, 5, FALSE)","v":100},{"$f":"VLOOKUP($C360,Vertices!$A$10:$F$203, 6, FALSE)","v":20},{"$f":"VLOOKUP($D360,Vertices!$A$10:$F$203, 3, FALSE)","v":100},{"$f":"VLOOKUP($D360,Vertices!$A$10:$F$203, 4, FALSE)","v":0},{"$f":"VLOOKUP($D360,Vertices!$A$10:$F$203, 5, FALSE)","v":100},{"$f":"VLOOKUP($D360,Vertices!$A$10:$F$203, 6, FALSE)","v":0}]
[351,97,126,104,null,{"$f":"VLOOKUP($B361,Vertices!$A$10:$F$203, 3, FALSE)","v":100},{"$f":"VLOOKUP($B361,Vertices!$A$10:$F$203, 4, FALSE)","v":0},{"$f":"VLOOKUP($B361,Vertices!$A$10:$F$203, 5, FALSE)","v":0},{"$f":"VLOOKUP($B361,Vertices!$A$10:$F$203, 6, FALSE)","v":20},{"$f":"VLOOKUP($C361,Vertices!$A$10:$F$203, 3, FALSE)","v":100},{"$f":"VLOOKUP($C361,Vertices!$A$10:$F$203, 4, FALSE)","v":0},{"$f":"VLOOKUP($C361,Vertices!$A$10:$F$203, 5, FALSE)","v":0},{"$f":"VLOOKUP($C361,Vertices!$A$10:$F$203, 6, FALSE)","v":40},{"$f":"VLOOKUP($D361,Vertices!$A$10:$F$203, 3, FALSE)","v":100},{"$f":"VLOOKUP($D361,Vertices!$A$10:$F$203, 4, FALSE)","v":0},{"$f":"VLOOKUP($D361,Vertices!$A$10:$F$203, 5, FALSE)","v":10},{"$f":"VLOOKUP($D361,Vertices!$A$10:$F$203, 6, FALSE)","v":20}]
[352,126,132,104,null,{"$f":"VLOOKUP($B362,Vertices!$A$10:$F$203, 3, FALSE)","v":100},{"$f":"VLOOKUP($B362,Vertices!$A$10:$F$203, 4, FALSE)","v":0},{"$f":"VLOOKUP($B362,Vertices!$A$10:$F$203, 5, FALSE)","v":0},{"$f":"VLOOKUP($B362,Vertices!$A$10:$F$203, 6, FALSE)","v":40},{"$f":"VLOOKUP($C362,Vertices!$A$10:$F$203, 3, FALSE)","v":100},{"$f":"VLOOKUP($C362,Vertices!$A$10:$F$203, 4, FALSE)","v":0},{"$f":"VLOOKUP($C362,Vertices!$A$10:$F$203, 5, FALSE)","v":20},{"$f":"VLOOKUP($C362,Vertices!$A$10:$F$203, 6, FALSE)","v":40},{"$f":"VLOOKUP($D362,Vertices!$A$10:$F$203, 3, FALSE)","v":100},{"$f":"VLOOKUP($D362,Vertices!$A$10:$F$203, 4, FALSE)","v":0},{"$f":"VLOOKUP($D362,Vertices!$A$10:$F$203, 5, FALSE)","v":10},{"$f":"VLOOKUP($D362,Vertices!$A$10:$F$203, 6, FALSE)","v":20}]
[353,104,132,106,null,{"$f":"VLOOKUP($B363,Vertices!$A$10:$F$203, 3, FALSE)","v":100},{"$f":"VLOOKUP($B363,Vertices!$A$10:$F$203, 4, FALSE)","v":0},{"$f":"VLOOKUP($B363,Vertices!$A$10:$F$203, 5, FALSE)","v":10},{"$f":"VLOOKUP($B363,Vertices!$A$10:$F$203, 6, FALSE)","v":20},{"$f":"VLOOKUP($C363,Vertices!$A$10:$F$203, 3, FALSE)","v":100},{"$f":"VLOOKUP($C363,Vertices!$A$10:$F$203, 4, FALSE)","v":0},{"$f":"VLOOKUP($C363,Vertices!$A$10:$F$203, 5, FALSE)","v":20},{"$f":"VLOOKUP($C363,Vertices!$A$10:$F$203, 6, FALSE)","v":40},{"$f":"VLOOKUP($D363,Vertices!$A$10:$F$203, 3, FALSE)","v":100},{"$f":"VLOOKUP($D363,Vertices!$A$10:$F$203, 4, FALSE)","v":0},{"$f":"VLOOKUP($D363,Vertices!$A$10:$F$203, 5, FALSE)","v":20},{"$f":"VLOOKUP($D363,Vertices!$A$10:$F$203, 6, FALSE)","v":20}]
[354,106,132,134,null,{"$f":"VLOOKUP($B364,Vertices!$A$10:$F$203, 3, FALSE)","v":100},{"$f":"VLOOKUP($B364,Vertices!$A$10:$F$203, 4, FALSE)","v":0},{"$f":"VLOOKUP($B364,Vertices!$A$10:$F$203, 5, FALSE)","v":20},{"$f":"VLOOKUP($B364,Vertices!$A$10:$F$203, 6, FALSE)","v":20},{"$f":"VLOOKUP($C364,Vertices!$A$10:$F$203, 3, FALSE)","v":100},{"$f":"VLOOKUP($C364,Vertices!$A$10:$F$203, 4, FALSE)","v":0},{"$f":"VLOOKUP($C364,Vertices!$A$10:$F$203, 5, FALSE)","v":20},{"$f":"VLOOKUP($C364,Vertices!$A$10:$F$203, 6, FALSE)","v":40},{"$f":"VLOOKUP($D364,Vertices!$A$10:$F$203, 3, FALSE)","v":100},{"$f":"VLOOKUP($D364,Vertices!$A$10:$F$203, 4, FALSE)","v":0},{"$f":"VLOOKUP($D364,Vertices!$A$10:$F$203, 5, FALSE)","v":40},{"$f":"VLOOKUP($D364,Vertices!$A$10:$F$203, 6, FALSE)","v":40}]
[355,106,134,108,null,{"$f":"VLOOKUP($B365,Vertices!$A$10:$F$203, 3, FALSE)","v":100},{"$f":"VLOOKUP($B365,Vertices!$A$10:$F$203, 4, FALSE)","v":0},{"$f":"VLOOKUP($B365,Vertices!$A$10:$F$203, 5, FALSE)","v":20},{"$f":"VLOOKUP($B365,Vertices!$A$10:$F$203, 6, FALSE)","v":20},{"$f":"VLOOKUP($C365,Vertices!$A$10:$F$203, 3, FALSE)","v":100},{"$f":"VLOOKUP($C365,Vertices!$A$10:$F$203, 4, FALSE)","v":0},{"$f":"VLOOKUP($C365,Vertices!$A$10:$F$203, 5, FALSE)","v":40},{"$f":"VLOOKUP($C365,Vertices!$A$10:$F$203, 6, FALSE)","v":40},{"$f":"VLOOKUP($D365,Vertices!$A$10:$F$203, 3, FALSE)","v":100},{"$f":"VLOOKUP($D365,Vertices!$A$10:$F$203, 4, FALSE)","v":0},{"$f":"VLOOKUP($D365,Vertices!$A$10:$F$203, 5, FALSE)","v":40},{"$f":"VLOOKUP($D365,Vertices!$A$10:$F$203, 6, FALSE)","v":20}]
[356,108,134,136,null,{"$f":"VLOOKUP($B366,Vertices!$A$10:$F$203, 3, FALSE)","v":100},{"$f":"VLOOKUP($B366,Vertices!$A$10:$F$203, 4, FALSE)","v":0},{"$f":"VLOOKUP($B366,Vertices!$A$10:$F$203, 5, FALSE)","v":40},{"$f":"VLOOKUP($B366,Vertices!$A$10:$F$203, 6, FALSE)","v":20},{"$f":"VLOOKUP($C366,Vertices!$A$10:$F$203, 3, FALSE)","v":100},{"$f":"VLOOKUP($C366,Vertices!$A$10:$F$203, 4, FALSE)","v":0},{"$f":"VLOOKUP($C366,Vertices!$A$10:$F$203, 5, FALSE)","v":40},{"$f":"VLOOKUP($C366,Vertices!$A$10:$F$203, 6, FALSE)","v":40},{"$f":"VLOOKUP($D366,Vertices!$A$10:$F$203, 3, FALSE)","v":100},{"$f":"VLOOKUP($D366,Vertices!$A$10:$F$203, 4, FALSE)","v":0},{"$f":"VLOOKUP($D366,Vertices!$A$10:$F$203, 5, FALSE)","v":70},{"$f":"VLOOKUP($D366,Vertices!$A$10:$F$203, 6, FALSE)","v":40}]
[357,108,136,110,null,{"$f":"VLOOKUP($B367,Vertices!$A$10:$F$203, 3, FALSE)","v":100},{"$f":"VLOOKUP($B367,Vertices!$A$10:$F$203, 4, FALSE)","v":0},{"$f":"VLOOKUP($B367,Vertices!$A$10:$F$203, 5, FALSE)","v":40},{"$f":"VLOOKUP($B367,Vertices!$A$10:$F$203, 6, FALSE)","v":20},{"$f":"VLOOKUP($C367,Vertices!$A$10:$F$203, 3, FALSE)","v":100},{"$f":"VLOOKUP($C367,Vertices!$A$10:$F$203, 4, FALSE)","v":0},{"$f":"VLOOKUP($C367,Vertices!$A$10:$F$203, 5, FALSE)","v":70},{"$f":"VLOOKUP($C367,Vertices!$A$10:$F$203, 6, FALSE)","v":40},{"$f":"VLOOKUP($D367,Vertices!$A$10:$F$203, 3, FALSE)","v":100},{"$f":"VLOOKUP($D367,Vertices!$A$10:$F$203, 4, FALSE)","v":0},{"$f":"VLOOKUP($D367,Vertices!$A$10:$F$203, 5, FALSE)","v":70},{"$f":"VLOOKUP($D367,Vertices!$A$10:$F$203, 6, FALSE)","v":20}]
[358,110,136,145,null,{"$f":"VLOOKUP($B368,Vertices!$A$10:$F$203, 3, FALSE)","v":100},{"$f":"VLOOKUP($B368,Vertices!$A$10:$F$203, 4, FALSE)","v":0},{"$f":"VLOOKUP($B368,Vertices!$A$10:$F$203, 5, FALSE)","v":70},{"$f":"VLOOKUP($B368,Vertices!$A$10:$F$203, 6, FALSE)","v":20},{"$f":"VLOOKUP($C368,Vertices!$A$10:$F$203, 3, FALSE)","v":100},{"$f":"VLOOKUP($C368,Vertices!$A$10:$F$203, 4, FALSE)","v":0},{"$f":"VLOOKUP($C368,Vertices!$A$10:$F$203, 5, FALSE)","v":70},{"$f":"VLOOKUP($C368,Vertices!$A$10:$F$203, 6, FALSE)","v":40},{"$f":"VLOOKUP($D368,Vertices!$A$10:$F$203, 3, FALSE)","v":100},{"$f":"VLOOKUP($D368,Vertices!$A$10:$F$203, 4, FALSE)","v":0},{"$f":"VLOOKUP($D368,Vertices!$A$10:$F$203, 5, FALSE)","v":100},{"$f":"VLOOKUP($D368,Vertices!$A$10:$F$203, 6, FALSE)","v":40}]
[359,110,145,121,null,{"$f":"VLOOKUP($B369,Vertices!$A$10:$F$203, 3, FALSE)","v":100},{"$f":"VLOOKUP($B369,Vertices!$A$10:$F$203, 4, FALSE)","v":0},{"$f":"VLOOKUP($B369,Vertices!$A$10:$F$203, 5, FALSE)","v":70},{"$f":"VLOOKUP($B369,Vertices!$A$10:$F$203, 6, FALSE)","v":20},{"$f":"VLOOKUP($C369,Vertices!$A$10:$F$203, 3, FALSE)","v":100},{"$f":"VLOOKUP($C369,Vertices!$A$10:$F$203, 4, FALSE)","v":0},{"$f":"VLOOKUP($C369,Vertices!$A$10:$F$203, 5, FALSE)","v":100},{"$f":"VLOOKUP($C369,Vertices!$A$10:$F$203, 6, FALSE)","v":40},{"$f":"VLOOKUP($D369,Vertices!$A$10:$F$203, 3, FALSE)","v":100},{"$f":"VLOOKUP($D369,Vertices!$A$10:$F$203, 4, FALSE)","v":0},{"$f":"VLOOKUP($D369,Vertices!$A$10:$F$203, 5, FALSE)","v":100},{"$f":"VLOOKUP($D369,Vertices!$A$10:$F$203, 6, FALSE)","v":20}]
[360,126,150,156,null,{"$f":"VLOOKUP($B370,Vertices!$A$10:$F$203, 3, FALSE)","v":100},{"$f":"VLOOKUP($B370,Vertices!$A$10:$F$203, 4, FALSE)","v":0},{"$f":"VLOOKUP($B370,Vertices!$A$10:$F$203, 5, FALSE)","v":0},{"$f":"VLOOKUP($B370,Vertices!$A$10:$F$203, 6, FALSE)","v":40},{"$f":"VLOOKUP($C370,Vertices!$A$10:$F$203, 3, FALSE)","v":100},{"$f":"VLOOKUP($C370,Vertices!$A$10:$F$203, 4, FALSE)","v":0},{"$f":"VLOOKUP($C370,Vertices!$A$10:$F$203, 5, FALSE)","v":0},{"$f":"VLOOKUP($C370,Vertices!$A$10:$F$203, 6, FALSE)","v":60},{"$f":"VLOOKUP($D370,Vertices!$A$10:$F$203, 3, FALSE)","v":100},{"$f":"VLOOKUP($D370,Vertices!$A$10:$F$203, 4, FALSE)","v":0},{"$f":"VLOOKUP($D370,Vertices!$A$10:$F$203, 5, FALSE)","v":20},{"$f":"VLOOKUP($D370,Vertices!$A$10:$F$203, 6, FALSE)","v":60}]
[361,126,156,132,null,{"$f":"VLOOKUP($B371,Vertices!$A$10:$F$203, 3, FALSE)","v":100},{"$f":"VLOOKUP($B371,Vertices!$A$10:$F$203, 4, FALSE)","v":0},{"$f":"VLOOKUP($B371,Vertices!$A$10:$F$203, 5, FALSE)","v":0},{"$f":"VLOOKUP($B371,Vertices!$A$10:$F$203, 6, FALSE)","v":40},{"$f":"VLOOKUP($C371,Vertices!$A$10:$F$203, 3, FALSE)","v":100},{"$f":"VLOOKUP($C371,Vertices!$A$10:$F$203, 4, FALSE)","v":0},{"$f":"VLOOKUP($C371,Vertices!$A$10:$F$203, 5, FALSE)","v":20},{"$f":"VLOOKUP($C371,Vertices!$A$10:$F$203, 6, FALSE)","v":60},{"$f":"VLOOKUP($D371,Vertices!$A$10:$F$203, 3, FALSE)","v":100},{"$f":"VLOOKUP($D371,Vertices!$A$10:$F$203, 4, FALSE)","v":0},{"$f":"VLOOKUP($D371,Vertices!$A$10:$F$203, 5, FALSE)","v":20},{"$f":"VLOOKUP($D371,Vertices!$A$10:$F$203, 6, FALSE)","v":40}]
[362,132,156,158,null,{"$f":"VLOOKUP($B372,Vertices!$A$10:$F$203, 3, FALSE)","v":100},{"$f":"VLOOKUP($B372,Vertices!$A$10:$F$203, 4, FALSE)","v":0},{"$f":"VLOOKUP($B372,Vertices!$A$10:$F$203, 5, FALSE)","v":20},{"$f":"VLOOKUP($B372,Vertices!$A$10:$F$203, 6, FALSE)","v":40},{"$f":"VLOOKUP($C372,Vertices!$A$10:$F$203, 3, FALSE)","v":100},{"$f":"VLOOKUP($C372,Vertices!$A$10:$F$203, 4, FALSE)","v":0},{"$f":"VLOOKUP($C372,Vertices!$A$10:$F$203, 5, FALSE)","v":20},{"$f":"VLOOKUP($C372,Vertices!$A$10:$F$203, 6, FALSE)","v":60},{"$f":"VLOOKUP($D372,Vertices!$A$10:$F$203, 3, FALSE)","v":100},{"$f":"VLOOKUP($D372,Vertices!$A$10:$F$203, 4, FALSE)","v":0},{"$f":"VLOOKUP($D372,Vertices!$A$10:$F$203, 5, FALSE)","v":40},{"$f":"VLOOKUP($D372,Vertices!$A$10:$F$203, 6, FALSE)","v":60}]
[363,132,158,134,null,{"$f":"VLOOKUP($B373,Vertices!$A$10:$F$203, 3, FALSE)","v":100},{"$f":"VLOOKUP($B373,Vertices!$A$10:$F$203, 4, FALSE)","v":0},{"$f":"VLOOKUP($B373,Vertices!$A$10:$F$203, 5, FALSE)","v":20},{"$f":"VLOOKUP($B373,Vertices!$A$10:$F$203, 6, FALSE)","v":40},{"$f":"VLOOKUP($C373,Vertices!$A$10:$F$203, 3, FALSE)","v":100},{"$f":"VLOOKUP($C373,Vertices!$A$10:$F$203, 4, FALSE)","v":0},{"$f":"VLOOKUP($C373,Vertices!$A$10:$F$203, 5, FALSE)","v":40},{"$f":"VLOOKUP($C373,Vertices!$A$10:$F$203, 6, FALSE)","v":60},{"$f":"VLOOKUP($D373,Vertices!$A$10:$F$203, 3, FALSE)","v":100},{"$f":"VLOOKUP($D373,Vertices!$A$10:$F$203, 4, FALSE)","v":0},{"$f":"VLOOKUP($D373,Vertices!$A$10:$F$203, 5, FALSE)","v":40},{"$f":"VLOOKUP($D373,Vertices!$A$10:$F$203, 6, FALSE)","v":40}]
[364,134,158,160,null,{"$f":"VLOOKUP($B374,Vertices!$A$10:$F$203, 3, FALSE)","v":100},{"$f":"VLOOKUP($B374,Vertices!$A$10:$F$203, 4, FALSE)","v":0},{"$f":"VLOOKUP($B374,Vertices!$A$10:$F$203, 5, FALSE)","v":40},{"$f":"VLOOKUP($B374,Vertices!$A$10:$F$203, 6, FALSE)","v":40},{"$f":"VLOOKUP($C374,Vertices!$A$10:$F$203, 3, FALSE)","v":100},{"$f":"VLOOKUP($C374,Vertices!$A$10:$F$203, 4, FALSE)","v":0},{"$f":"VLOOKUP($C374,Vertices!$A$10:$F$203, 5, FALSE)","v":40},{"$f":"VLOOKUP($C374,Vertices!$A$10:$F$203, 6, FALSE)","v":60},{"$f":"VLOOKUP($D374,Vertices!$A$10:$F$203, 3, FALSE)","v":100},{"$f":"VLOOKUP($D374,Vertices!$A$10:$F$203, 4, FALSE)","v":0},{"$f":"VLOOKUP($D374,Vertices!$A$10:$F$203, 5, FALSE)","v":70},{"$f":"VLOOKUP($D374,Vertices!$A$10:$F$203, 6, FALSE)","v":60}]
[365,134,160,136,null,{"$f":"VLOOKUP($B375,Vertices!$A$10:$F$203, 3, FALSE)","v":100},{"$f":"VLOOKUP($B375,Vertices!$A$10:$F$203, 4, FALSE)","v":0},{"$f":"VLOOKUP($B375,Vertices!$A$10:$F$203, 5, FALSE)","v":40},{"$f":"VLOOKUP($B375,Vertices!$A$10:$F$203, 6, FALSE)","v":40},{"$f":"VLOOKUP($C375,Vertices!$A$10:$F$203, 3, FALSE)","v":100},{"$f":"VLOOKUP($C375,Vertices!$A$10:$F$203, 4, FALSE)","v":0},{"$f":"VLOOKUP($C375,Vertices!$A$10:$F$203, 5, FALSE)","v":70},{"$f":"VLOOKUP($C375,Vertices!$A$10:$F$203, 6, FALSE)","v":60},{"$f":"VLOOKUP($D375,Vertices!$A$10:$F$203, 3, FALSE)","v":100},{"$f":"VLOOKUP($D375,Vertices!$A$10:$F$203, 4, FALSE)","v":0},{"$f":"VLOOKUP($D375,Vertices!$A$10:$F$203, 5, FALSE)","v":70},{"$f":"VLOOKUP($D375,Vertices!$A$10:$F$203, 6, FALSE)","v":40}]
[366,136,160,169,null,{"$f":"VLOOKUP($B376,Vertices!$A$10:$F$203, 3, FALSE)","v":100},{"$f":"VLOOKUP($B376,Vertices!$A$10:$F$203, 4, FALSE)","v":0},{"$f":"VLOOKUP($B376,Vertices!$A$10:$F$203, 5, FALSE)","v":70},{"$f":"VLOOKUP($B376,Vertices!$A$10:$F$203, 6, FALSE)","v":40},{"$f":"VLOOKUP($C376,Vertices!$A$10:$F$203, 3, FALSE)","v":100},{"$f":"VLOOKUP($C376,Vertices!$A$10:$F$203, 4, FALSE)","v":0},{"$f":"VLOOKUP($C376,Vertices!$A$10:$F$203, 5, FALSE)","v":70},{"$f":"VLOOKUP($C376,Vertices!$A$10:$F$203, 6, FALSE)","v":60},{"$f":"VLOOKUP($D376,Vertices!$A$10:$F$203, 3, FALSE)","v":100},{"$f":"VLOOKUP($D376,Vertices!$A$10:$F$203, 4, FALSE)","v":0},{"$f":"VLOOKUP($D376,Vertices!$A$10:$F$203, 5, FALSE)","v":100},{"$f":"VLOOKUP($D376,Vertices!$A$10:$F$203, 6, FALSE)","v":60}]
[367,136,169,145,null,{"$f":"VLOOKUP($B377,Vertices!$A$10:$F$203, 3, FALSE)","v":100},{"$f":"VLOOKUP($B377,Vertices!$A$10:$F$203, 4, FALSE)","v":0},{"$f":"VLOOKUP($B377,Vertices!$A$10:$F$203, 5, FALSE)","v":70},{"$f":"VLOOKUP($B377,Vertices!$A$10:$F$203, 6, FALSE)","v":40},{"$f":"VLOOKUP($C377,Vertices!$A$10:$F$203, 3, FALSE)","v":100},{"$f":"VLOOKUP($C377,Vertices!$A$10:$F$203, 4, FALSE)","v":0},{"$f":"VLOOKUP($C377,Vertices!$A$10:$F$203, 5, FALSE)","v":100},{"$f":"VLOOKUP($C377,Vertices!$A$10:$F$203, 6, FALSE)","v":60},{"$f":"VLOOKUP($D377,Vertices!$A$10:$F$203, 3, FALSE)","v":100},{"$f":"VLOOKUP($D377,Vertices!$A$10:$F$203, 4, FALSE)","v":0},{"$f":"VLOOKUP($D377,Vertices!$A$10:$F$203, 5, FALSE)","v":100},{"$f":"VLOOKUP($D377,Vertices!$A$10:$F$203, 6, FALSE)","v":40}]
[368,150,173,156,null,{"$f":"VLOOKUP($B378,Vertices!$A$10:$F$203, 3, FALSE)","v":100},{"$f":"VLOOKUP($B378,Vertices!$A$10:$F$203, 4, FALSE)","v":0},{"$f":"VLOOKUP($B378,Vertices!$A$10:$F$203, 5, FALSE)","v":0},{"$f":"VLOOKUP($B378,Vertices!$A$10:$F$203, 6, FALSE)","v":60},{"$f":"VLOOKUP($C378,Vertices!$A$10:$F$203, 3, FALSE)","v":100},{"$f":"VLOOKUP($C378,Vertices!$A$10:$F$203, 4, FALSE)","v":0},{"$f":"VLOOKUP($C378,Vertices!$A$10:$F$203, 5, FALSE)","v":0},{"$f":"VLOOKUP($C378,Vertices!$A$10:$F$203, 6, FALSE)","v":80},{"$f":"VLOOKUP($D378,Vertices!$A$10:$F$203, 3, FALSE)","v":100},{"$f":"VLOOKUP($D378,Vertices!$A$10:$F$203, 4, FALSE)","v":0},{"$f":"VLOOKUP($D378,Vertices!$A$10:$F$203, 5, FALSE)","v":20},{"$f":"VLOOKUP($D378,Vertices!$A$10:$F$203, 6, FALSE)","v":60}]
[369,156,173,178,null,{"$f":"VLOOKUP($B379,Vertices!$A$10:$F$203, 3, FALSE)","v":100},{"$f":"VLOOKUP($B379,Vertices!$A$10:$F$203, 4, FALSE)","v":0},{"$f":"VLOOKUP($B379,Vertices!$A$10:$F$203, 5, FALSE)","v":20},{"$f":"VLOOKUP($B379,Vertices!$A$10:$F$203, 6, FALSE)","v":60},{"$f":"VLOOKUP($C379,Vertices!$A$10:$F$203, 3, FALSE)","v":100},{"$f":"VLOOKUP($C379,Vertices!$A$10:$F$203, 4, FALSE)","v":0},{"$f":"VLOOKUP($C379,Vertices!$A$10:$F$203, 5, FALSE)","v":0},{"$f":"VLOOKUP($C379,Vertices!$A$10:$F$203, 6, FALSE)","v":80},{"$f":"VLOOKUP($D379,Vertices!$A$10:$F$203, 3, FALSE)","v":100},{"$f":"VLOOKUP($D379,Vertices!$A$10:$F$203, 4, FALSE)","v":0},{"$f":"VLOOKUP($D379,Vertices!$A$10:$F$203, 5, FALSE)","v":40},{"$f":"VLOOKUP($D379,Vertices!$A$10:$F$203, 6, FALSE)","v":80}]
[370,156,178,158,null,{"$f":"VLOOKUP($B380,Vertices!$A$10:$F$203, 3, FALSE)","v":100},{"$f":"VLOOKUP($B380,Vertices!$A$10:$F$203, 4, FALSE)","v":0},{"$f":"VLOOKUP($B380,Vertices!$A$10:$F$203, 5, FALSE)","v":20},{"$f":"VLOOKUP($B380,Vertices!$A$10:$F$203, 6, FALSE)","v":60},{"$f":"VLOOKUP($C380,Vertices!$A$10:$F$203, 3, FALSE)","v":100},{"$f":"VLOOKUP($C380,Vertices!$A$10:$F$203, 4, FALSE)","v":0},{"$f":"VLOOKUP($C380,Vertices!$A$10:$F$203, 5, FALSE)","v":40},{"$f":"VLOOKUP($C380,Vertices!$A$10:$F$203, 6, FALSE)","v":80},{"$f":"VLOOKUP($D380,Vertices!$A$10:$F$203, 3, FALSE)","v":100},{"$f":"VLOOKUP($D380,Vertices!$A$10:$F$203, 4, FALSE)","v":0},{"$f":"VLOOKUP($D380,Vertices!$A$10:$F$203, 5, FALSE)","v":40},{"$f":"VLOOKUP($D380,Vertices!$A$10:$F$203, 6, FALSE)","v":60}]
[371,158,178,180,null,{"$f":"VLOOKUP($B381,Vertices!$A$10:$F$203, 3, FALSE)","v":100},{"$f":"VLOOKUP($B381,Vertices!$A$10:$F$203, 4, FALSE)","v":0},{"$f":"VLOOKUP($B381,Vertices!$A$10:$F$203, 5, FALSE)","v":40},{"$f":"VLOOKUP($B381,Vertices!$A$10:$F$203, 6, FALSE)","v":60},{"$f":"VLOOKUP($C381,Vertices!$A$10:$F$203, 3, FALSE)","v":100},{"$f":"VLOOKUP($C381,Vertices!$A$10:$F$203, 4, FALSE)","v":0},{"$f":"VLOOKUP($C381,Vertices!$A$10:$F$203, 5, FALSE)","v":40},{"$f":"VLOOKUP($C381,Vertices!$A$10:$F$203, 6, FALSE)","v":80},{"$f":"VLOOKUP($D381,Vertices!$A$10:$F$203, 3, FALSE)","v":100},{"$f":"VLOOKUP($D381,Vertices!$A$10:$F$203, 4, FALSE)","v":0},{"$f":"VLOOKUP($D381,Vertices!$A$10:$F$203, 5, FALSE)","v":70},{"$f":"VLOOKUP($D381,Vertices!$A$10:$F$203, 6, FALSE)","v":80}]
[372,158,180,160,null,{"$f":"VLOOKUP($B382,Vertices!$A$10:$F$203, 3, FALSE)","v":100},{"$f":"VLOOKUP($B382,Vertices!$A$10:$F$203, 4, FALSE)","v":0},{"$f":"VLOOKUP($B382,Vertices!$A$10:$F$203, 5, FALSE)","v":40},{"$f":"VLOOKUP($B382,Vertices!$A$10:$F$203, 6, FALSE)","v":60},{"$f":"VLOOKUP($C382,Vertices!$A$10:$F$203, 3, FALSE)","v":100},{"$f":"VLOOKUP($C382,Vertices!$A$10:$F$203, 4, FALSE)","v":0},{"$f":"VLOOKUP($C382,Vertices!$A$10:$F$203, 5, FALSE)","v":70},{"$f":"VLOOKUP($C382,Vertices!$A$10:$F$203, 6, FALSE)","v":80},{"$f":"VLOOKUP($D382,Vertices!$A$10:$F$203, 3, FALSE)","v":100},{"$f":"VLOOKUP($D382,Vertices!$A$10:$F$203, 4, FALSE)","v":0},{"$f":"VLOOKUP($D382,Vertices!$A$10:$F$203, 5, FALSE)","v":70},{"$f":"VLOOKUP($D382,Vertices!$A$10:$F$203, 6, FALSE)","v":60}]
[373,160,180,187,null,{"$f":"VLOOKUP($B383,Vertices!$A$10:$F$203, 3, FALSE)","v":100},{"$f":"VLOOKUP($B383,Vertices!$A$10:$F$203, 4, FALSE)","v":0},{"$f":"VLOOKUP($B383,Vertices!$A$10:$F$203, 5, FALSE)","v":70},{"$f":"VLOOKUP($B383,Vertices!$A$10:$F$203, 6, FALSE)","v":60},{"$f":"VLOOKUP($C383,Vertices!$A$10:$F$203, 3, FALSE)","v":100},{"$f":"VLOOKUP($C383,Vertices!$A$10:$F$203, 4, FALSE)","v":0},{"$f":"VLOOKUP($C383,Vertices!$A$10:$F$203, 5, FALSE)","v":70},{"$f":"VLOOKUP($C383,Vertices!$A$10:$F$203, 6, FALSE)","v":80},{"$f":"VLOOKUP($D383,Vertices!$A$10:$F$203, 3, FALSE)","v":100},{"$f":"VLOOKUP($D383,Vertices!$A$10:$F$203, 4, FALSE)","v":0},{"$f":"VLOOKUP($D383,Vertices!$A$10:$F$203, 5, FALSE)","v":100},{"$f":"VLOOKUP($D383,Vertices!$A$10:$F$203, 6, FALSE)","v":80}]
[374,160,187,169,null,{"$f":"VLOOKUP($B384,Vertices!$A$10:$F$203, 3, FALSE)","v":100},{"$f":"VLOOKUP($B384,Vertices!$A$10:$F$203, 4, FALSE)","v":0},{"$f":"VLOOKUP($B384,Vertices!$A$10:$F$203, 5, FALSE)","v":70},{"$f":"VLOOKUP($B384,Vertices!$A$10:$F$203, 6, FALSE)","v":60},{"$f":"VLOOKUP($C384,Vertices!$A$10:$F$203, 3, FALSE)","v":100},{"$f":"VLOOKUP($C384,Vertices!$A$10:$F$203, 4, FALSE)","v":0},{"$f":"VLOOKUP($C384,Vertices!$A$10:$F$203, 5, FALSE)","v":100},{"$f":"VLOOKUP($C384,Vertices!$A$10:$F$203, 6, FALSE)","v":80},{"$f":"VLOOKUP($D384,Vertices!$A$10:$F$203, 3, FALSE)","v":100},{"$f":"VLOOKUP($D384,Vertices!$A$10:$F$203, 4, FALSE)","v":0},{"$f":"VLOOKUP($D384,Vertices!$A$10:$F$203, 5, FALSE)","v":100},{"$f":"VLOOKUP($D384,Vertices!$A$10:$F$203, 6, FALSE)","v":60}]
[375,173,189,178,null,{"$f":"VLOOKUP($B385,Vertices!$A$10:$F$203, 3, FALSE)","v":100},{"$f":"VLOOKUP($B385,Vertices!$A$10:$F$203, 4, FALSE)","v":0},{"$f":"VLOOKUP($B385,Vertices!$A$10:$F$203, 5, FALSE)","v":0},{"$f":"VLOOKUP($B385,Vertices!$A$10:$F$203, 6, FALSE)","v":80},{"$f":"VLOOKUP($C385,Vertices!$A$10:$F$203, 3, FALSE)","v":100},{"$f":"VLOOKUP($C385,Vertices!$A$10:$F$203, 4, FALSE)","v":0},{"$f":"VLOOKUP($C385,Vertices!$A$10:$F$203, 5, FALSE)","v":0},{"$f":"VLOOKUP($C385,Vertices!$A$10:$F$203, 6, FALSE)","v":100},{"$f":"VLOOKUP($D385,Vertices!$A$10:$F$203, 3, FALSE)","v":100},{"$f":"VLOOKUP($D385,Vertices!$A$10:$F$203, 4, FALSE)","v":0},{"$f":"VLOOKUP($D385,Vertices!$A$10:$F$203, 5, FALSE)","v":40},{"$f":"VLOOKUP($D385,Vertices!$A$10:$F$203, 6, FALSE)","v":80}]
[376,178,189,193,null,{"$f":"VLOOKUP($B386,Vertices!$A$10:$F$203, 3, FALSE)","v":100},{"$f":"VLOOKUP($B386,Vertices!$A$10:$F$203, 4, FALSE)","v":0},{"$f":"VLOOKUP($B386,Vertices!$A$10:$F$203, 5, FALSE)","v":40},{"$f":"VLOOKUP($B386,Vertices!$A$10:$F$203, 6, FALSE)","v":80},{"$f":"VLOOKUP($C386,Vertices!$A$10:$F$203, 3, FALSE)","v":100},{"$f":"VLOOKUP($C386,Vertices!$A$10:$F$203, 4, FALSE)","v":0},{"$f":"VLOOKUP($C386,Vertices!$A$10:$F$203, 5, FALSE)","v":0},{"$f":"VLOOKUP($C386,Vertices!$A$10:$F$203, 6, FALSE)","v":100},{"$f":"VLOOKUP($D386,Vertices!$A$10:$F$203, 3, FALSE)","v":100},{"$f":"VLOOKUP($D386,Vertices!$A$10:$F$203, 4, FALSE)","v":0},{"$f":"VLOOKUP($D386,Vertices!$A$10:$F$203, 5, FALSE)","v":100},{"$f":"VLOOKUP($D386,Vertices!$A$10:$F$203, 6, FALSE)","v":100}]
[377,178,193,180,null,{"$f":"VLOOKUP($B387,Vertices!$A$10:$F$203, 3, FALSE)","v":100},{"$f":"VLOOKUP($B387,Vertices!$A$10:$F$203, 4, FALSE)","v":0},{"$f":"VLOOKUP($B387,Vertices!$A$10:$F$203, 5, FALSE)","v":40},{"$f":"VLOOKUP($B387,Vertices!$A$10:$F$203, 6, FALSE)","v":80},{"$f":"VLOOKUP($C387,Vertices!$A$10:$F$203, 3, FALSE)","v":100},{"$f":"VLOOKUP($C387,Vertices!$A$10:$F$203, 4, FALSE)","v":0},{"$f":"VLOOKUP($C387,Vertices!$A$10:$F$203, 5, FALSE)","v":100},{"$f":"VLOOKUP($C387,Vertices!$A$10:$F$203, 6, FALSE)","v":100},{"$f":"VLOOKUP($D387,Vertices!$A$10:$F$203, 3, FALSE)","v":100},{"$f":"VLOOKUP($D387,Vertices!$A$10:$F$203, 4, FALSE)","v":0},{"$f":"VLOOKUP($D387,Vertices!$A$10:$F$203, 5, FALSE)","v":70},{"$f":"VLOOKUP($D387,Vertices!$A$10:$F$203, 6, FALSE)","v":80}]
[378,180,193,187,null,{"$f":"VLOOKUP($B388,Vertices!$A$10:$F$203, 3, FALSE)","v":100},{"$f":"VLOOKUP($B388,Vertices!$A$10:$F$203, 4, FALSE)","v":0},{"$f":"VLOOKUP($B388,Vertices!$A$10:$F$203, 5, FALSE)","v":70},{"$f":"VLOOKUP($B388,Vertices!$A$10:$F$203, 6, FALSE)","v":80},{"$f":"VLOOKUP($C388,Vertices!$A$10:$F$203, 3, FALSE)","v":100},{"$f":"VLOOKUP($C388,Vertices!$A$10:$F$203, 4, FALSE)","v":0},{"$f":"VLOOKUP($C388,Vertices!$A$10:$F$203, 5, FALSE)","v":100},{"$f":"VLOOKUP($C388,Vertices!$A$10:$F$203, 6, FALSE)","v":100},{"$f":"VLOOKUP($D388,Vertices!$A$10:$F$203, 3, FALSE)","v":100},{"$f":"VLOOKUP($D388,Vertices!$A$10:$F$203, 4, FALSE)","v":0},{"$f":"VLOOKUP($D388,Vertices!$A$10:$F$203, 5, FALSE)","v":100},{"$f":"VLOOKUP($D388,Vertices!$A$10:$F$203, 6, FALSE)","v":80}]
[379,193,189,190,null,{"$f":"VLOOKUP($B389,Vertices!$A$10:$F$203, 3, FALSE)","v":100},{"$f":"VLOOKUP($B389,Vertices!$A$10:$F$203, 4, FALSE)","v":0},{"$f":"VLOOKUP($B389,Vertices!$A$10:$F$203, 5, FALSE)","v":100},{"$f":"VLOOKUP($B389,Vertices!$A$10:$F$203, 6, FALSE)","v":100},{"$f":"VLOOKUP($C389,Vertices!$A$10:$F$203, 3, FALSE)","v":100},{"$f":"VLOOKUP($C389,Vertices!$A$10:$F$203, 4, FALSE)","v":0},{"$f":"VLOOKUP($C389,Vertices!$A$10:$F$203, 5, FALSE)","v":0},{"$f":"VLOOKUP($C389,Vertices!$A$10:$F$203, 6, FALSE)","v":100},{"$f":"VLOOKUP($D389,Vertices!$A$10:$F$203, 3, FALSE)","v":100},{"$f":"VLOOKUP($D389,Vertices!$A$10:$F$203, 4, FALSE)","v":100},{"$f":"VLOOKUP($D389,Vertices!$A$10:$F$203, 5, FALSE)","v":0},{"$f":"VLOOKUP($D389,Vertices!$A$10:$F$203, 6, FALSE)","v":100}]
[380,193,188,191,null,{"$f":"VLOOKUP($B390,Vertices!$A$10:$F$203, 3, FALSE)","v":100},{"$f":"VLOOKUP($B390,Vertices!$A$10:$F$203, 4, FALSE)","v":0},{"$f":"VLOOKUP($B390,Vertices!$A$10:$F$203, 5, FALSE)","v":100},{"$f":"VLOOKUP($B390,Vertices!$A$10:$F$203, 6, FALSE)","v":100},{"$f":"VLOOKUP($C390,Vertices!$A$10:$F$203, 3, FALSE)","v":0},{"$f":"VLOOKUP($C390,Vertices!$A$10:$F$203, 4, FALSE)","v":100},{"$f":"VLOOKUP($C390,Vertices!$A$10:$F$203, 5, FALSE)","v":0},{"$f":"VLOOKUP($C390,Vertices!$A$10:$F$203, 6, FALSE)","v":100},{"$f":"VLOOKUP($D390,Vertices!$A$10:$F$203, 3, FALSE)","v":0},{"$f":"VLOOKUP($D390,Vertices!$A$10:$F$203, 4, FALSE)","v":0},{"$f":"VLOOKUP($D390,Vertices!$A$10:$F$203, 5, FALSE)","v":100},{"$f":"VLOOKUP($D390,Vertices!$A$10:$F$203, 6, FALSE)","v":100}]
[381,193,190,188,null,{"$f":"VLOOKUP($B391,Vertices!$A$10:$F$203, 3, FALSE)","v":100},{"$f":"VLOOKUP($B391,Vertices!$A$10:$F$203, 4, FALSE)","v":0},{"$f":"VLOOKUP($B391,Vertices!$A$10:$F$203, 5, FALSE)","v":100},{"$f":"VLOOKUP($B391,Vertices!$A$10:$F$203, 6, FALSE)","v":100},{"$f":"VLOOKUP($C391,Vertices!$A$10:$F$203, 3, FALSE)","v":100},{"$f":"VLOOKUP($C391,Vertices!$A$10:$F$203, 4, FALSE)","v":100},{"$f":"VLOOKUP($C391,Vertices!$A$10:$F$203, 5, FALSE)","v":0},{"$f":"VLOOKUP($C391,Vertices!$A$10:$F$203, 6, FALSE)","v":100},{"$f":"VLOOKUP($D391,Vertices!$A$10:$F$203, 3, FALSE)","v":0},{"$f":"VLOOKUP($D391,Vertices!$A$10:$F$203, 4, FALSE)","v":100},{"$f":"VLOOKUP($D391,Vertices!$A$10:$F$203, 5, FALSE)","v":0},{"$f":"VLOOKUP($D391,Vertices!$A$10:$F$203, 6, FALSE)","v":100}]
[382,191,188,192,null,{"$f":"VLOOKUP($B392,Vertices!$A$10:$F$203, 3, FALSE)","v":0},{"$f":"VLOOKUP($B392,Vertices!$A$10:$F$203, 4, FALSE)","v":0},{"$f":"VLOOKUP($B392,Vertices!$A$10:$F$203, 5, FALSE)","v":100},{"$f":"VLOOKUP($B392,Vertices!$A$10:$F$203, 6, FALSE)","v":100},{"$f":"VLOOKUP($C392,Vertices!$A$10:$F$203, 3, FALSE)","v":0},{"$f":"VLOOKUP($C392,Vertices!$A$10:$F$203, 4, FALSE)","v":100},{"$f":"VLOOKUP($C392,Vertices!$A$10:$F$203, 5, FALSE)","v":0},{"$f":"VLOOKUP($C392,Vertices!$A$10:$F$203, 6, FALSE)","v":100},{"$f":"VLOOKUP($D392,Vertices!$A$10:$F$203, 3, FALSE)","v":0},{"$f":"VLOOKUP($D392,Vertices!$A$10:$F$203, 4, FALSE)","v":100},{"$f":"VLOOKUP($D392,Vertices!$A$10:$F$203, 5, FALSE)","v":100},{"$f":"VLOOKUP($D392,Vertices!$A$10:$F$203, 6, FALSE)","v":100}]

{"sheet":"Volumes","index":4,"n_rows":392,"n_cols":15,"rows_kept":392,"merged":[[8,1,8,4],[8,5,8,8],[8,9,8,12]]}
["ISO 18621-11 Gamut Volume Computation Tool: Volume Computation"]
[]
[null,"Sample Name:",{"$f":"IF(ISTEXT(INDEX(INPUTdata!$B1:$B40, MATCH(\"DESCRIPTOR\",INPUTdata!$A1:$A40,FALSE))),INDEX(INPUTdata!$B1:$B40,MATCH(\"DESCRIPTOR\",INPUTdata!$A1:$A40,FALSE)), IF(ISTEXT(INDEX(INPUTdata!$B1:$B40,MATCH(\"FILE_DESCRIPTOR\",INPUTdata!$A1:$A40,FALSE))),INDEX(INPUTdata!$B1:$B40,MATCH(\"FILE_DESCRIPTOR\",INPUTdata!$A1:$A40,FALSE)),\"\"))","v":"ISO15339-2-CRPC6"}]
[null,"Gamut Volume:",{"$f":"N8","v":{"v":389561.5352246668,"d":"389562"}}]
[]
[null,null,"L*","a*","b*",{"$nulls":7},"NegativeValuesCount:",{"$f":"COUNTIF(N11:N1522,\"<-0.001\")","v":0}]
[null,"Vertex_p4:",{"$f":"AVERAGE(Vertices!G11,Vertices!G200)","v":{"v":51.455,"d":"51.46"}},{"v":0,"d":"0.00"},{"v":0,"d":"0.00"}]
[{"$nulls":13},{"$f":"SUM(N11:N392)","v":{"v":389561.5352246668,"d":"389562"}},{"$f":"SUM(O11:O392)","v":{"v":389561.5352246668,"d":"389562"}}]
[null,"Vertex_p1 - Vertex_p4",{"$nulls":3},"Vertex_p2 - Vertex_p4",{"$nulls":3},"Vertex_p3 - Vertex_p4",{"$nulls":3},"signed","absolute"]
["Face#","Vertex#","dL*","da*","db*","Vertex#","dL*","da*","db*","Vertex#","dL*","da*","db*","Volume (tetrahedrons)","Volume"]
[{"$f":"Faces!A11","v":1},{"$f":"Faces!B11","v":1},{"$f":"VLOOKUP(B11,Vertices!$A$11:$J$203,7,FALSE )-$C$7","v":{"v":43.545,"d":"43.55"}},{"$f":"VLOOKUP(B11,Vertices!$A$11:$J$203,8,FALSE )-$D$7","v":{"v":1,"d":"1.00"}},{"$f":"VLOOKUP(B11,Vertices!$A$11:$J$203,9,FALSE )-$E$7","v":{"v":-4,"d":"-4.00"}},{"$f":"Faces!C11","v":8},{"$f":"VLOOKUP(F11,Vertices!$A$11:$J$203,7,FALSE )-$C$7","v":{"v":34.705,"d":"34.71"}},{"$f":"VLOOKUP(F11,Vertices!$A$11:$J$203,8,FALSE )-$D$7","v":4.15},{"$f":"VLOOKUP(F11,Vertices!$A$11:$J$203,9,FALSE )-$E$7","v":{"v":-9.7,"d":"-9.70"}},{"$f":"Faces!D11","v":7},{"$f":"VLOOKUP(J11,Vertices!$A$11:$J$203,7,FALSE )-$C$7","v":{"v":39.535,"d":"39.54"}},{"$f":"VLOOKUP(J11,Vertices!$A$11:$J$203,8,FALSE )-$D$7","v":-2.33},{"$f":"VLOOKUP(J11,Vertices!$A$11:$J$203,9,FALSE )-$E$7","v":-8.84},{"$f":"-1*(C11*H11*M11+D11*I11*K11+E11*G11*L11-C11*I11*L11-D11*G11*M11-E11*H11*K11)/6","v":{"v":279.7696858333334,"d":"279.77"}},{"$f":"ABS(N11)","v":{"v":279.7696858333334,"d":"279.77"}}]
[{"$f":"Faces!A12","v":2},{"$f":"Faces!B12","v":1},{"$f":"VLOOKUP(B12,Vertices!$A$11:$J$203,7,FALSE )-$C$7","v":{"v":43.545,"d":"43.55"}},{"$f":"VLOOKUP(B12,Vertices!$A$11:$J$203,8,FALSE )-$D$7","v":{"v":1,"d":"1.00"}},{"$f":"VLOOKUP(B12,Vertices!$A$11:$J$203,9,FALSE )-$E$7","v":{"v":-4,"d":"-4.00"}},{"$f":"Faces!C12","v":2},{"$f":"VLOOKUP(F12,Vertices!$A$11:$J$203,7,FALSE )-$C$7","v":{"v":38.435,"d":"38.44"}},{"$f":"VLOOKUP(F12,Vertices!$A$11:$J$203,8,FALSE )-$D$7","v":7.72},{"$f":"VLOOKUP(F12,Vertices!$A$11:$J$203,9,FALSE )-$E$7","v":-5.04},{"$f":"Faces!D12","v":8},{"$f":"VLOOKUP(J12,Vertices!$A$11:$J$203,7,FALSE )-$C$7","v":{"v":34.705,"d":"34.71"}},{"$f":"VLOOKUP(J12,Vertices!$A$11:$J$203,8,FALSE )-$D$7","v":4.15},{"$f":"VLOOKUP(J12,Vertices!$A$11:$J$203,9,FALSE )-$E$7","v":{"v":-9.7,"d":"-9.70"}},{"$f":"-1*(C12*H12*M12+D12*I12*K12+E12*G12*L12-C12*I12*L12-D12*G12*M12-E12*H12*K12)/6","v":{"v":286.4101433333333,"d":"286.41"}},{"$f":"ABS(N12)","v":{"v":286.4101433333333,"d":"286.41"}}]
[{"$f":"Faces!A13","v":3},{"$f":"Faces!B13","v":7},{"$f":"VLOOKUP(B13,Vertices!$A$11:$J$203,7,FALSE )-$C$7","v":{"v":39.535,"d":"39.54"}},{"$f":"VLOOKUP(B13,Vertices!$A$11:$J$203,8,FALSE )-$D$7","v":-2.33},{"$f":"VLOOKUP(B13,Vertices!$A$11:$J$203,9,FALSE )-$E$7","v":-8.84},{"$f":"Faces!C13","v":14},{"$f":"VLOOKUP(F13,Vertices!$A$11:$J$203,7,FALSE )-$C$7","v":{"v":30.995000000000005,"d":"31.00"}},{"$f":"VLOOKUP(F13,Vertices!$A$11:$J$203,8,FALSE )-$D$7","v":0.61},{"$f":"VLOOKUP(F13,Vertices!$A$11:$J$203,9,FALSE )-$E$7","v":-14.26},{"$f":"Faces!D13","v":13},{"$f":"VLOOKUP(J13,Vertices!$A$11:$J$203,7,FALSE )-$C$7","v":{"v":35.635000000000005,"d":"35.64"}},{"$f":"VLOOKUP(J13,Vertices!$A$11:$J$203,8,FALSE )-$D$7","v":-5.66},{"$f":"VLOOKUP(J13,Vertices!$A$11:$J$203,9,FALSE )-$E$7","v":-13.59},{"v":262.19098233333335,"d":"262.19"},{"v":262.19098233333335,"d":"262.19"}]
[{"$f":"Faces!A14","v":4},{"$f":"Faces!B14","v":7},{"$f":"VLOOKUP(B14,Vertices!$A$11:$J$203,7,FALSE )-$C$7","v":{"v":39.535,"d":"39.54"}},{"$f":"VLOOKUP(B14,Vertices!$A$11:$J$203,8,FALSE )-$D$7","v":-2.33},{"$f":"VLOOKUP(B14,Vertices!$A$11:$J$203,9,FALSE )-$E$7","v":-8.84},{"$f":"Faces!C14","v":8},{"$f":"VLOOKUP(F14,Vertices!$A$11:$J$203,7,FALSE )-$C$7","v":{"v":34.705,"d":"34.71"}},{"$f":"VLOOKUP(F14,Vertices!$A$11:$J$203,8,FALSE )-$D$7","v":4.15},{"$f":"VLOOKUP(F14,Vertices!$A$11:$J$203,9,FALSE )-$E$7","v":{"v":-9.7,"d":"-9.70"}},{"$f":"Faces!D14","v":14},{"$f":"VLOOKUP(J14,Vertices!$A$11:$J$203,7,FALSE )-$C$7","v":{"v":30.995000000000005,"d":"31.00"}},{"$f":"VLOOKUP(J14,Vertices!$A$11:$J$203,8,FALSE )-$D$7","v":0.61},{"$f":"VLOOKUP(J14,Vertices!$A$11:$J$203,9,FALSE )-$E$7","v":-14.26},{"v":268.05953933333325,"d":"268.06"},{"v":268.05953933333325,"d":"268.06"}]
[{"$f":"Faces!A15","v":5},{"$f":"Faces!B15","v":8},{"$f":"VLOOKUP(B15,Vertices!$A$11:$J$203,7,FALSE )-$C$7","v":{"v":34.705,"d":"34.71"}},{"$f":"VLOOKUP(B15,Vertices!$A$11:$J$203,8,FALSE )-$D$7","v":4.15},{"$f":"VLOOKUP(B15,Vertices!$A$11:$J$203,9,FALSE )-$E$7","v":{"v":-9.7,"d":"-9.70"}},{"$f":"Faces!C15","v":15},{"$f":"VLOOKUP(F15,Vertices!$A$11:$J$203,7,FALSE )-$C$7","v":{"v":26.575000000000003,"d":"26.58"}},{"$f":"VLOOKUP(F15,Vertices!$A$11:$J$203,8,FALSE )-$D$7","v":6.71},{"$f":"VLOOKUP(F15,Vertices!$A$11:$J$203,9,FALSE )-$E$7","v":-14.88},{"$f":"Faces!D15","v":14},{"$f":"VLOOKUP(J15,Vertices!$A$11:$J$203,7,FALSE )-$C$7","v":{"v":30.995000000000005,"d":"31.00"}},{"$f":"VLOOKUP(J15,Vertices!$A$11:$J$203,8,FALSE )-$D$7","v":0.61},{"$f":"VLOOKUP(J15,Vertices!$A$11:$J$203,9,FALSE )-$E$7","v":-14.26},{"v":247.81962066666665,"d":"247.82"},{"v":247.81962066666665,"d":"247.82"}]
[{"$f":"Faces!A16","v":6},{"$f":"Faces!B16","v":8},{"$f":"VLOOKUP(B16,Vertices!$A$11:$J$203,7,FALSE )-$C$7","v":{"v":34.705,"d":"34.71"}},{"$f":"VLOOKUP(B16,Vertices!$A$11:$J$203,8,FALSE )-$D$7","v":4.15},{"$f":"VLOOKUP(B16,Vertices!$A$11:$J$203,9,FALSE )-$E$7","v":{"v":-9.7,"d":"-9.70"}},{"$f":"Faces!C16","v":9},{"$f":"VLOOKUP(F16,Vertices!$A$11:$J$203,7,FALSE )-$C$7","v":{"v":30.055000000000007,"d":"30.06"}},{"$f":"VLOOKUP(F16,Vertices!$A$11:$J$203,8,FALSE )-$D$7","v":10.45},{"$f":"VLOOKUP(F16,Vertices!$A$11:$J$203,9,FALSE )-$E$7","v":-10.46},{"$f":"Faces!D16","v":15},{"$f":"VLOOKUP(J16,Vertices!$A$11:$J$203,7,FALSE )-$C$7","v":{"v":26.575000000000003,"d":"26.58"}},{"$f":"VLOOKUP(J16,Vertices!$A$11:$J$203,8,FALSE )-$D$7","v":6.71},{"$f":"VLOOKUP(J16,Vertices!$A$11:$J$203,9,FALSE )-$E$7","v":-14.88},{"v":253.45257533333316,"d":"253.45"},{"v":253.45257533333316,"d":"253.45"}]
[{"$f":"Faces!A17","v":7},{"$f":"Faces!B17","v":2},{"$f":"VLOOKUP(B17,Vertices!$A$11:$J$203,7,FALSE )-$C$7","v":{"v":38.435,"d":"38.44"}},{"$f":"VLOOKUP(B17,Vertices!$A$11:$J$203,8,FALSE )-$D$7","v":7.72},{"$f":"VLOOKUP(B17,Vertices!$A$11:$J$203,9,FALSE )-$E$7","v":-5.04},{"$f":"Faces!C17","v":9},{"$f":"VLOOKUP(F17,Vertices!$A$11:$J$203,7,FALSE )-$C$7","v":{"v":30.055000000000007,"d":"30.06"}},{"$f":"VLOOKUP(F17,Vertices!$A$11:$J$203,8,FALSE )-$D$7","v":10.45},{"$f":"VLOOKUP(F17,Vertices!$A$11:$J$203,9,FALSE )-$E$7","v":-10.46},{"$f":"Faces!D17","v":8},{"$f":"VLOOKUP(J17,Vertices!$A$11:$J$203,7,FALSE )-$C$7","v":{"v":34.705,"d":"34.71"}},{"$f":"VLOOKUP(J17,Vertices!$A$11:$J$203,8,FALSE )-$D$7","v":4.15},{"$f":"VLOOKUP(J17,Vertices!$A$11:$J$203,9,FALSE )-$E$7","v":{"v":-9.7,"d":"-9.70"}},{"v":263.3596793333332,"d":"263.36"},{"v":263.3596793333332,"d":"263.36"}]
[{"$f":"Faces!A18","v":8},{"$f":"Faces!B18","v":2},{"$f":"VLOOKUP(B18,Vertices!$A$11:$J$203,7,FALSE )-$C$7","v":{"v":38.435,"d":"38.44"}},{"$f":"VLOOKUP(B18,Vertices!$A$11:$J$203,8,FALSE )-$D$7","v":7.72},{"$f":"VLOOKUP(B18,Vertices!$A$11:$J$203,9,FALSE )-$E$7","v":-5.04},{"$f":"Faces!C18","v":3},{"$f":"VLOOKUP(F18,Vertices!$A$11:$J$203,7,FALSE )-$C$7","v":{"v":33.595,"d":"33.60"}},{"$f":"VLOOKUP(F18,Vertices!$A$11:$J$203,8,FALSE )-$D$7","v":14.22},{"$f":"VLOOKUP(F18,Vertices!$A$11:$J$203,9,FALSE )-$E$7","v":-5.96},{"$f":"Faces!D18","v":9},{"$f":"VLOOKUP(J18,Vertices!$A$11:$J$203,7,FALSE )-$C$7","v":{"v":30.055000000000007,"d":"30.06"}},{"$f":"VLOOKUP(J18,Vertices!$A$11:$J$203,8,FALSE )-$D$7","v":10.45},{"$f":"VLOOKUP(J18,Vertices!$A$11:$J$203,9,FALSE )-$E$7","v":-10.46},{"v":268.07751333333334,"d":"268.08"},{"v":268.07751333333334,"d":"268.08"}]
[{"$f":"Faces!A19","v":9},{"$f":"Faces!B19","v":13},{"$f":"VLOOKUP(B19,Vertices!$A$11:$J$203,7,FALSE )-$C$7","v":{"v":35.635000000000005,"d":"35.64"}},{"$f":"VLOOKUP(B19,Vertices!$A$11:$J$203,8,FALSE )-$D$7","v":-5.66},{"$f":"VLOOKUP(B19,Vertices!$A$11:$J$203,9,FALSE )-$E$7","v":-13.59},{"$f":"Faces!C19","v":20},{"$f":"VLOOKUP(F19,Vertices!$A$11:$J$203,7,FALSE )-$C$7","v":{"v":23.47500000000001,"d":"23.48"}},{"$f":"VLOOKUP(F19,Vertices!$A$11:$J$203,8,FALSE )-$D$7","v":-6.85},{"$f":"VLOOKUP(F19,Vertices!$A$11:$J$203,9,FALSE )-$E$7","v":-23.48},{"$f":"Faces!D19","v":19},{"$f":"VLOOKUP(J19,Vertices!$A$11:$J$203,7,FALSE )-$C$7","v":{"v":27.695000000000007,"d":"27.70"}},{"$f":"VLOOKUP(J19,Vertices!$A$11:$J$203,8,FALSE )-$D$7","v":-12.76},{"$f":"VLOOKUP(J19,Vertices!$A$11:$J$203,9,FALSE )-$E$7","v":-23.17},{"v":487.6698353333331,"d":"487.67"},{"v":487.6698353333331,"d":"487.67"}]
[{"$f":"Faces!A20","v":10},{"$f":"Faces!B20","v":13},{"$f":"VLOOKUP(B20,Vertices!$A$11:$J$203,7,FALSE )-$C$7","v":{"v":35.635000000000005,"d":"35.64"}},{"$f":"VLOOKUP(B20,Vertices!$A$11:$J$203,8,FALSE )-$D$7","v":-5.66},{"$f":"VLOOKUP(B20,Vertices!$A$11:$J$203,9,FALSE )-$E$7","v":-13.59},{"$f":"Faces!C20","v":14},{"$f":"VLOOKUP(F20,Vertices!$A$11:$J$203,7,FALSE )-$C$7","v":{"v":30.995000000000005,"d":"31.00"}},{"$f":"VLOOKUP(F20,Vertices!$A$11:$J$203,8,FALSE )-$D$7","v":0.61},{"$f":"VLOOKUP(F20,Vertices!$A$11:$J$203,9,FALSE )-$E$7","v":-14.26},{"$f":"Faces!D20","v":20},{"$f":"VLOOKUP(J20,Vertices!$A$11:$J$203,7,FALSE )-$C$7","v":{"v":23.47500000000001,"d":"23.48"}},{"$f":"VLOOKUP(J20,Vertices!$A$11:$J$203,8,FALSE )-$D$7","v":-6.85},{"$f":"VLOOKUP(J20,Vertices!$A$11:$J$203,9,FALSE )-$E$7","v":-23.48},{"v":522.6184123333334,"d":"522.62"},{"v":522.6184123333334,"d":"522.62"}]
[{"$f":"Faces!A21","v":11},{"$f":"Faces!B21","v":14},{"$f":"VLOOKUP(B21,Vertices!$A$11:$J$203,7,FALSE )-$C$7","v":{"v":30.995000000000005,"d":"31.00"}},{"$f":"VLOOKUP(B21,Vertices!$A$11:$J$203,8,FALSE )-$D$7","v":0.61},{"$f":"VLOOKUP(B21,Vertices!$A$11:$J$203,9,FALSE )-$E$7","v":-14.26},{"$f":"Faces!C21","v":21},{"$f":"VLOOKUP(F21,Vertices!$A$11:$J$203,7,FALSE )-$C$7","v":{"v":19.455,"d":"19.46"}},{"$f":"VLOOKUP(F21,Vertices!$A$11:$J$203,8,FALSE )-$D$7","v":-1.14},{"$f":"VLOOKUP(F21,Vertices!$A$11:$J$203,9,FALSE )-$E$7","v":-23.78},{"$f":"Faces!D21","v":20},{"$f":"VLOOKUP(J21,Vertices!$A$11:$J$203,7,FALSE )-$C$7","v":{"v":23.47500000000001,"d":"23.48"}},{"$f":"VLOOKUP(J21,Vertices!$A$11:$J$203,8,FALSE )-$D$7","v":-6.85},{"$f":"VLOOKUP(J21,Vertices!$A$11:$J$203,9,FALSE )-$E$7","v":-23.48},{"v":460.3879811666668,"d":"460.39"},{"v":460.3879811666668,"d":"460.39"}]
[{"$f":"Faces!A22","v":12},{"$f":"Faces!B22","v":14},{"$f":"VLOOKUP(B22,Vertices!$A$11:$J$203,7,FALSE )-$C$7","v":{"v":30.995000000000005,"d":"31.00"}},{"$f":"VLOOKUP(B22,Vertices!$A$11:$J$203,8,FALSE )-$D$7","v":0.61},{"$f":"VLOOKUP(B22,Vertices!$A$11:$J$203,9,FALSE )-$E$7","v":-14.26},{"$f":"Faces!C22","v":15},{"$f":"VLOOKUP(F22,Vertices!$A$11:$J$203,7,FALSE )-$C$7","v":{"v":26.575000000000003,"d":"26.58"}},{"$f":"VLOOKUP(F22,Vertices!$A$11:$J$203,8,FALSE )-$D$7","v":6.71},{"$f":"VLOOKUP(F22,Vertices!$A$11:$J$203,9,FALSE )-$E$7","v":-14.88},{"$f":"Faces!D22","v":21},{"$f":"VLOOKUP(J22,Vertices!$A$11:$J$203,7,FALSE )-$C$7","v":{"v":19.455,"d":"19.46"}},{"$f":"VLOOKUP(J22,Vertices!$A$11:$J$203,8,FALSE )-$D$7","v":-1.14},{"$f":"VLOOKUP(J22,Vertices!$A$11:$J$203,9,FALSE )-$E$7","v":-23.78},{"v":494.8323585000001,"d":"494.83"},{"v":494.8323585000001,"d":"494.83"}]
[{"$f":"Faces!A23","v":13},{"$f":"Faces!B23","v":15},{"$f":"VLOOKUP(B23,Vertices!$A$11:$J$203,7,FALSE )-$C$7","v":{"v":26.575000000000003,"d":"26.58"}},{"$f":"VLOOKUP(B23,Vertices!$A$11:$J$203,8,FALSE )-$D$7","v":6.71},{"$f":"VLOOKUP(B23,Vertices!$A$11:$J$203,9,FALSE )-$E$7","v":-14.88},{"$f":"Faces!C23","v":22},{"$f":"VLOOKUP(F23,Vertices!$A$11:$J$203,7,FALSE )-$C$7","v":{"v":11.155000000000001,"d":"11.16"}},{"$f":"VLOOKUP(F23,Vertices!$A$11:$J$203,8,FALSE )-$D$7","v":11.35},{"$f":"VLOOKUP(F23,Vertices!$A$11:$J$203,9,FALSE )-$E$7","v":-24.11},{"$f":"Faces!D23","v":21},{"$f":"VLOOKUP(J23,Vertices!$A$11:$J$203,7,FALSE )-$C$7","v":{"v":19.455,"d":"19.46"}},{"$f":"VLOOKUP(J23,Vertices!$A$11:$J$203,8,FALSE )-$D$7","v":-1.14},{"$f":"VLOOKUP(J23,Vertices!$A$11:$J$203,9,FALSE )-$E$7","v":-23.78},{"v":965.9358234166666,"d":"965.94"},{"v":965.9358234166666,"d":"965.94"}]
[{"$f":"Faces!A24","v":14},{"$f":"Faces!B24","v":15},{"$f":"VLOOKUP(B24,Vertices!$A$11:$J$203,7,FALSE )-$C$7","v":{"v":26.575000000000003,"d":"26.58"}},{"$f":"VLOOKUP(B24,Vertices!$A$11:$J$203,8,FALSE )-$D$7","v":6.71},{"$f":"VLOOKUP(B24,Vertices!$A$11:$J$203,9,FALSE )-$E$7","v":-14.88},{"$f":"Faces!C24","v":16},{"$f":"VLOOKUP(F24,Vertices!$A$11:$J$203,7,FALSE )-$C$7","v":{"v":17.394999999999996,"d":"17.40"}},{"$f":"VLOOKUP(F24,Vertices!$A$11:$J$203,8,FALSE )-$D$7","v":20.07},{"$f":"VLOOKUP(F24,Vertices!$A$11:$J$203,9,FALSE )-$E$7","v":-15.71},{"$f":"Faces!D24","v":22},{"$f":"VLOOKUP(J24,Vertices!$A$11:$J$203,7,FALSE )-$C$7","v":{"v":11.155000000000001,"d":"11.16"}},{"$f":"VLOOKUP(J24,Vertices!$A$11:$J$203,8,FALSE )-$D$7","v":11.35},{"$f":"VLOOKUP(J24,Vertices!$A$11:$J$203,9,FALSE )-$E$7","v":-24.11},{"v":1014.831864666667,"d":"1014.83"},{"v":1014.831864666667,"d":"1014.83"}]
[{"$f":"Faces!A25","v":15},{"$f":"Faces!B25","v":9},{"$f":"VLOOKUP(B25,Vertices!$A$11:$J$203,7,FALSE )-$C$7","v":{"v":30.055000000000007,"d":"30.06"}},{"$f":"VLOOKUP(B25,Vertices!$A$11:$J$203,8,FALSE )-$D$7","v":10.45},{"$f":"VLOOKUP(B25,Vertices!$A$11:$J$203,9,FALSE )-$E$7","v":-10.46},{"$f":"Faces!C25","v":16},{"$f":"VLOOKUP(F25,Vertices!$A$11:$J$203,7,FALSE )-$C$7","v":{"v":17.394999999999996,"d":"17.40"}},{"$f":"VLOOKUP(F25,Vertices!$A$11:$J$203,8,FALSE )-$D$7","v":20.07},{"$f":"VLOOKUP(F25,Vertices!$A$11:$J$203,9,FALSE )-$E$7","v":-15.71},{"$f":"Faces!D25","v":15},{"$f":"VLOOKUP(J25,Vertices!$A$11:$J$203,7,FALSE )-$C$7","v":{"v":26.575000000000003,"d":"26.58"}},{"$f":"VLOOKUP(J25,Vertices!$A$11:$J$203,8,FALSE )-$D$7","v":6.71},{"$f":"VLOOKUP(J25,Vertices!$A$11:$J$203,9,FALSE )-$E$7","v":-14.88},{"v":517.8919578333335,"d":"517.89"},{"v":517.8919578333335,"d":"517.89"}]
[{"$f":"Faces!A26","v":16},{"$f":"Faces!B26","v":9},{"$f":"VLOOKUP(B26,Vertices!$A$11:$J$203,7,FALSE )-$C$7","v":{"v":30.055000000000007,"d":"30.06"}},{"$f":"VLOOKUP(B26,Vertices!$A$11:$J$203,8,FALSE )-$D$7","v":10.45},{"$f":"VLOOKUP(B26,Vertices!$A$11:$J$203,9,FALSE )-$E$7","v":-10.46},{"$f":"Faces!C26","v":10},{"$f":"VLOOKUP(F26,Vertices!$A$11:$J$203,7,FALSE )-$C$7","v":{"v":20.47500000000001,"d":"20.48"}},{"$f":"VLOOKUP(F26,Vertices!$A$11:$J$203,8,FALSE )-$D$7","v":24.14},{"$f":"VLOOKUP(F26,Vertices!$A$11:$J$203,9,FALSE )-$E$7","v":-11.59},{"$f":"Faces!D26","v":16},{"$f":"VLOOKUP(J26,Vertices!$A$11:$J$203,7,FALSE )-$C$7","v":{"v":17.394999999999996,"d":"17.40"}},{"$f":"VLOOKUP(J26,Vertices!$A$11:$J$203,8,FALSE )-$D$7","v":20.07},{"$f":"VLOOKUP(J26,Vertices!$A$11:$J$203,9,FALSE )-$E$7","v":-15.71},{"v":509.7314854166678,"d":"509.73"},{"v":509.7314854166678,"d":"509.73"}]
[{"$f":"Faces!A27","v":17},{"$f":"Faces!B27","v":3},{"$f":"VLOOKUP(B27,Vertices!$A$11:$J$203,7,FALSE )-$C$7","v":{"v":33.595,"d":"33.60"}},{"$f":"VLOOKUP(B27,Vertices!$A$11:$J$203,8,FALSE )-$D$7","v":14.22},{"$f":"VLOOKUP(B27,Vertices!$A$11:$J$203,9,FALSE )-$E$7","v":-5.96},{"$f":"Faces!C27","v":10},{"$f":"VLOOKUP(F27,Vertices!$A$11:$J$203,7,FALSE )-$C$7","v":{"v":20.47500000000001,"d":"20.48"}},{"$f":"VLOOKUP(F27,Vertices!$A$11:$J$203,8,FALSE )-$D$7","v":24.14},{"$f":"VLOOKUP(F27,Vertices!$A$11:$J$203,9,FALSE )-$E$7","v":-11.59},{"$f":"Faces!D27","v":9},{"$f":"VLOOKUP(J27,Vertices!$A$11:$J$203,7,FALSE )-$C$7","v":{"v":30.055000000000007,"d":"30.06"}},{"$f":"VLOOKUP(J27,Vertices!$A$11:$J$203,8,FALSE )-$D$7","v":10.45},{"$f":"VLOOKUP(J27,Vertices!$A$11:$J$203,9,FALSE )-$E$7","v":-10.46},{"v":545.495237083333,"d":"545.50"},{"v":545.495237083333,"d":"545.50"}]
[{"$f":"Faces!A28","v":18},{"$f":"Faces!B28","v":3},{"$f":"VLOOKUP(B28,Vertices!$A$11:$J$203,7,FALSE )-$C$7","v":{"v":33.595,"d":"33.60"}},{"$f":"VLOOKUP(B28,Vertices!$A$11:$J$203,8,FALSE )-$D$7","v":14.22},{"$f":"VLOOKUP(B28,Vertices!$A$11:$J$203,9,FALSE )-$E$7","v":-5.96},{"$f":"Faces!C28","v":4},{"$f":"VLOOKUP(F28,Vertices!$A$11:$J$203,7,FALSE )-$C$7","v":{"v":23.635000000000005,"d":"23.64"}},{"$f":"VLOOKUP(F28,Vertices!$A$11:$J$203,8,FALSE )-$D$7","v":{"v":28.3,"d":"28.30"}},{"$f":"VLOOKUP(F28,Vertices!$A$11:$J$203,9,FALSE )-$E$7","v":-7.25},{"$f":"Faces!D28","v":10},{"$f":"VLOOKUP(J28,Vertices!$A$11:$J$203,7,FALSE )-$C$7","v":{"v":20.47500000000001,"d":"20.48"}},{"$f":"VLOOKUP(J28,Vertices!$A$11:$J$203,8,FALSE )-$D$7","v":24.14},{"$f":"VLOOKUP(J28,Vertices!$A$11:$J$203,9,FALSE )-$E$7","v":-11.59},{"v":550.3358226666669,"d":"550.34"},{"v":550.3358226666669,"d":"550.34"}]
[{"$f":"Faces!A29","v":19},{"$f":"Faces!B29","v":19},{"$f":"VLOOKUP(B29,Vertices!$A$11:$J$203,7,FALSE )-$C$7","v":{"v":27.695000000000007,"d":"27.70"}},{"$f":"VLOOKUP(B29,Vertices!$A$11:$J$203,8,FALSE )-$D$7","v":-12.76},{"$f":"VLOOKUP(B29,Vertices!$A$11:$J$203,9,FALSE )-$E$7","v":-23.17},{"$f":"Faces!C29","v":26},{"$f":"VLOOKUP(F29,Vertices!$A$11:$J$203,7,FALSE )-$C$7","v":{"v":11.774999999999999,"d":"11.78"}},{"$f":"VLOOKUP(F29,Vertices!$A$11:$J$203,8,FALSE )-$D$7","v":-19.67},{"$f":"VLOOKUP(F29,Vertices!$A$11:$J$203,9,FALSE )-$E$7","v":{"v":-37.4,"d":"-37.40"}},{"$f":"Faces!D29","v":25},{"$f":"VLOOKUP(J29,Vertices!$A$11:$J$203,7,FALSE )-$C$7","v":{"v":15.335000000000008,"d":"15.34"}},{"$f":"VLOOKUP(J29,Vertices!$A$11:$J$203,8,FALSE )-$D$7","v":-25.16},{"$f":"VLOOKUP(J29,Vertices!$A$11:$J$203,9,FALSE )-$E$7","v":-37.63},{"v":670.2522461666669,"d":"670.25"},{"v":670.2522461666669,"d":"670.25"}]
[{"$f":"Faces!A30","v":20},{"$f":"Faces!B30","v":19},{"$f":"VLOOKUP(B30,Vertices!$A$11:$J$203,7,FALSE )-$C$7","v":{"v":27.695000000000007,"d":"27.70"}},{"$f":"VLOOKUP(B30,Vertices!$A$11:$J$203,8,FALSE )-$D$7","v":-12.76},{"$f":"VLOOKUP(B30,Vertices!$A$11:$J$203,9,FALSE )-$E$7","v":-23.17},{"$f":"Faces!C30","v":20},{"$f":"VLOOKUP(F30,Vertices!$A$11:$J$203,7,FALSE )-$C$7","v":{"v":23.47500000000001,"d":"23.48"}},{"$f":"VLOOKUP(F30,Vertices!$A$11:$J$203,8,FALSE )-$D$7","v":-6.85},{"$f":"VLOOKUP(F30,Vertices!$A$11:$J$203,9,FALSE )-$E$7","v":-23.48},{"$f":"Faces!D30","v":26},{"$f":"VLOOKUP(J30,Vertices!$A$11:$J$203,7,FALSE )-$C$7","v":{"v":11.774999999999999,"d":"11.78"}},{"$f":"VLOOKUP(J30,Vertices!$A$11:$J$203,8,FALSE )-$D$7","v":-19.67},{"$f":"VLOOKUP(J30,Vertices!$A$11:$J$203,9,FALSE )-$E$7","v":{"v":-37.4,"d":"-37.40"}},{"v":756.8042211666667,"d":"756.80"},{"v":756.8042211666667,"d":"756.80"}]
[{"$f":"Faces!A31","v":21},{"$f":"Faces!B31","v":20},{"$f":"VLOOKUP(B31,Vertices!$A$11:$J$203,7,FALSE )-$C$7","v":{"v":23.47500000000001,"d":"23.48"}},{"$f":"VLOOKUP(B31,Vertices!$A$11:$J$203,8,FALSE )-$D$7","v":-6.85},{"$f":"VLOOKUP(B31,Vertices!$A$11:$J$203,9,FALSE )-$E$7","v":-23.48},{"$f":"Faces!C31","v":27},{"$f":"VLOOKUP(F31,Vertices!$A$11:$J$203,7,FALSE )-$C$7","v":{"v":8.395000000000003,"d":"8.40"}},{"$f":"VLOOKUP(F31,Vertices!$A$11:$J$203,8,FALSE )-$D$7","v":-14.41},{"$f":"VLOOKUP(F31,Vertices!$A$11:$J$203,9,FALSE )-$E$7","v":-37.22},{"$f":"Faces!D31","v":26},{"$f":"VLOOKUP(J31,Vertices!$A$11:$J$203,7,FALSE )-$C$7","v":{"v":11.774999999999999,"d":"11.78"}},{"$f":"VLOOKUP(J31,Vertices!$A$11:$J$203,8,FALSE )-$D$7","v":-19.67},{"$f":"VLOOKUP(J31,Vertices!$A$11:$J$203,9,FALSE )-$E$7","v":{"v":-37.4,"d":"-37.40"}},{"v":631.7276796666663,"d":"631.73"},{"v":631.7276796666663,"d":"631.73"}]
[{"$f":"Faces!A32","v":22},{"$f":"Faces!B32","v":20},{"$f":"VLOOKUP(B32,Vertices!$A$11:$J$203,7,FALSE )-$C$7","v":{"v":23.47500000000001,"d":"23.48"}},{"$f":"VLOOKUP(B32,Vertices!$A$11:$J$203,8,FALSE )-$D$7","v":-6.85},{"$f":"VLOOKUP(B32,Vertices!$A$11:$J$203,9,FALSE )-$E$7","v":-23.48},{"$f":"Faces!C32","v":21},{"$f":"VLOOKUP(F32,Vertices!$A$11:$J$203,7,FALSE )-$C$7","v":{"v":19.455,"d":"19.46"}},{"$f":"VLOOKUP(F32,Vertices!$A$11:$J$203,8,FALSE )-$D$7","v":-1.14},{"$f":"VLOOKUP(F32,Vertices!$A$11:$J$203,9,FALSE )-$E$7","v":-23.78},{"$f":"Faces!D32","v":27},{"$f":"VLOOKUP(J32,Vertices!$A$11:$J$203,7,FALSE )-$C$7","v":{"v":8.395000000000003,"d":"8.40"}},{"$f":"VLOOKUP(J32,Vertices!$A$11:$J$203,8,FALSE )-$D$7","v":-14.41},{"$f":"VLOOKUP(J32,Vertices!$A$11:$J$203,9,FALSE )-$E$7","v":-37.22},{"v":713.830979166667,"d":"713.83"},{"v":713.830979166667,"d":"713.83"}]
[{"$f":"Faces!A33","v":23},{"$f":"Faces!B33","v":21},{"$f":"VLOOKUP(B33,Vertices!$A$11:$J$203,7,FALSE )-$C$7","v":{"v":19.455,"d":"19.46"}},{"$f":"VLOOKUP(B33,Vertices!$A$11:$J$203,8,FALSE )-$D$7","v":-1.14},{"$f":"VLOOKUP(B33,Vertices!$A$11:$J$203,9,FALSE )-$E$7","v":-23.78},{"$f":"Faces!C33","v":28},{"$f":"VLOOKUP(F33,Vertices!$A$11:$J$203,7,FALSE )-$C$7","v":{"v":1.3049999999999997,"d":"1.31"}},{"$f":"VLOOKUP(F33,Vertices!$A$11:$J$203,8,FALSE )-$D$7","v":-2.91},{"$f":"VLOOKUP(F33,Vertices!$A$11:$J$203,9,FALSE )-$E$7","v":-36.75},{"$f":"Faces!D33","v":27},{"$f":"VLOOKUP(J33,Vertices!$A$11:$J$203,7,FALSE )-$C$7","v":{"v":8.395000000000003,"d":"8.40"}},{"$f":"VLOOKUP(J33,Vertices!$A$11:$J$203,8,FALSE )-$D$7","v":-14.41},{"$f":"VLOOKUP(J33,Vertices!$A$11:$J$203,9,FALSE )-$E$7","v":-37.22},{"v":1338.82877875,"d":"1338.83"},{"v":1338.82877875,"d":"1338.83"}]
[{"$f":"Faces!A34","v":24},{"$f":"Faces!B34","v":21},{"$f":"VLOOKUP(B34,Vertices!$A$11:$J$203,7,FALSE )-$C$7","v":{"v":19.455,"d":"19.46"}},{"$f":"VLOOKUP(B34,Vertices!$A$11:$J$203,8,FALSE )-$D$7","v":-1.14},{"$f":"VLOOKUP(B34,Vertices!$A$11:$J$203,9,FALSE )-$E$7","v":-23.78},{"$f":"Faces!C34","v":22},{"$f":"VLOOKUP(F34,Vertices!$A$11:$J$203,7,FALSE )-$C$7","v":{"v":11.155000000000001,"d":"11.16"}},{"$f":"VLOOKUP(F34,Vertices!$A$11:$J$203,8,FALSE )-$D$7","v":11.35},{"$f":"VLOOKUP(F34,Vertices!$A$11:$J$203,9,FALSE )-$E$7","v":-24.11},{"$f":"Faces!D34","v":28},{"$f":"VLOOKUP(J34,Vertices!$A$11:$J$203,7,FALSE )-$C$7","v":{"v":1.3049999999999997,"d":"1.31"}},{"$f":"VLOOKUP(J34,Vertices!$A$11:$J$203,8,FALSE )-$D$7","v":-2.91},{"$f":"VLOOKUP(J34,Vertices!$A$11:$J$203,9,FALSE )-$E$7","v":-36.75},{"v":1464.5352544999998,"d":"1464.54"},{"v":1464.5352544999998,"d":"1464.54"}]
[{"$f":"Faces!A35","v":25},{"$f":"Faces!B35","v":22},{"$f":"VLOOKUP(B35,Vertices!$A$11:$J$203,7,FALSE )-$C$7","v":{"v":11.155000000000001,"d":"11.16"}},{"$f":"VLOOKUP(B35,Vertices!$A$11:$J$203,8,FALSE )-$D$7","v":11.35},{"$f":"VLOOKUP(B35,Vertices!$A$11:$J$203,9,FALSE )-$E$7","v":-24.11},{"$f":"Faces!C35","v":29},{"$f":"VLOOKUP(F35,Vertices!$A$11:$J$203,7,FALSE )-$C$7","v":{"v":-9.994999999999997,"d":"-10.00"}},{"$f":"VLOOKUP(F35,Vertices!$A$11:$J$203,8,FALSE )-$D$7","v":16.82},{"$f":"VLOOKUP(F35,Vertices!$A$11:$J$203,9,FALSE )-$E$7","v":-35.88},{"$f":"Faces!D35","v":28},{"$f":"VLOOKUP(J35,Vertices!$A$11:$J$203,7,FALSE )-$C$7","v":{"v":1.3049999999999997,"d":"1.31"}},{"$f":"VLOOKUP(J35,Vertices!$A$11:$J$203,8,FALSE )-$D$7","v":-2.91},{"$f":"VLOOKUP(J35,Vertices!$A$11:$J$203,9,FALSE )-$E$7","v":-36.75},{"v":2155.4194525,"d":"2155.42"},{"v":2155.4194525,"d":"2155.42"}]
[{"$f":"Faces!A36","v":26},{"$f":"Faces!B36","v":22},{"$f":"VLOOKUP(B36,Vertices!$A$11:$J$203,7,FALSE )-$C$7","v":{"v":11.155000000000001,"d":"11.16"}},{"$f":"VLOOKUP(B36,Vertices!$A$11:$J$203,8,FALSE )-$D$7","v":11.35},{"$f":"VLOOKUP(B36,Vertices!$A$11:$J$203,9,FALSE )-$E$7","v":-24.11},{"$f":"Faces!C36","v":23},{"$f":"VLOOKUP(F36,Vertices!$A$11:$J$203,7,FALSE )-$C$7","v":{"v":-1.7950000000000017,"d":"-1.80"}},{"$f":"VLOOKUP(F36,Vertices!$A$11:$J$203,8,FALSE )-$D$7","v":32.93},{"$f":"VLOOKUP(F36,Vertices!$A$11:$J$203,9,FALSE )-$E$7","v":-23.47},{"$f":"Faces!D36","v":29},{"$f":"VLOOKUP(J36,Vertices!$A$11:$J$203,7,FALSE )-$C$7","v":{"v":-9.994999999999997,"d":"-10.00"}},{"$f":"VLOOKUP(J36,Vertices!$A$11:$J$203,8,FALSE )-$D$7","v":16.82},{"$f":"VLOOKUP(J36,Vertices!$A$11:$J$203,9,FALSE )-$E$7","v":-35.88},{"v":2342.0578294999996,"d":"2342.06"},{"v":2342.0578294999996,"d":"2342.06"}]
[{"$f":"Faces!A37","v":27},{"$f":"Faces!B37","v":16},{"$f":"VLOOKUP(B37,Vertices!$A$11:$J$203,7,FALSE )-$C$7","v":{"v":17.394999999999996,"d":"17.40"}},{"$f":"VLOOKUP(B37,Vertices!$A$11:$J$203,8,FALSE )-$D$7","v":20.07},{"$f":"VLOOKUP(B37,Vertices!$A$11:$J$203,9,FALSE )-$E$7","v":-15.71},{"$f":"Faces!C37","v":23},{"$f":"VLOOKUP(F37,Vertices!$A$11:$J$203,7,FALSE )-$C$7","v":{"v":-1.7950000000000017,"d":"-1.80"}},{"$f":"VLOOKUP(F37,Vertices!$A$11:$J$203,8,FALSE )-$D$7","v":32.93},{"$f":"VLOOKUP(F37,Vertices!$A$11:$J$203,9,FALSE )-$E$7","v":-23.47},{"$f":"Faces!D37","v":22},{"$f":"VLOOKUP(J37,Vertices!$A$11:$J$203,7,FALSE )-$C$7","v":{"v":11.155000000000001,"d":"11.16"}},{"$f":"VLOOKUP(J37,Vertices!$A$11:$J$203,8,FALSE )-$D$7","v":11.35},{"$f":"VLOOKUP(J37,Vertices!$A$11:$J$203,9,FALSE )-$E$7","v":-24.11},{"v":1534.8411079999994,"d":"1534.84"},{"v":1534.8411079999994,"d":"1534.84"}]
[{"$f":"Faces!A38","v":28},{"$f":"Faces!B38","v":16},{"$f":"VLOOKUP(B38,Vertices!$A$11:$J$203,7,FALSE )-$C$7","v":{"v":17.394999999999996,"d":"17.40"}},{"$f":"VLOOKUP(B38,Vertices!$A$11:$J$203,8,FALSE )-$D$7","v":20.07},{"$f":"VLOOKUP(B38,Vertices!$A$11:$J$203,9,FALSE )-$E$7","v":-15.71},{"$f":"Faces!C38","v":17},{"$f":"VLOOKUP(F38,Vertices!$A$11:$J$203,7,FALSE )-$C$7","v":{"v":3.405000000000001,"d":"3.41"}},{"$f":"VLOOKUP(F38,Vertices!$A$11:$J$203,8,FALSE )-$D$7","v":42.94},{"$f":"VLOOKUP(F38,Vertices!$A$11:$J$203,9,FALSE )-$E$7","v":-15.19},{"$f":"Faces!D38","v":23},{"$f":"VLOOKUP(J38,Vertices!$A$11:$J$203,7,FALSE )-$C$7","v":{"v":-1.7950000000000017,"d":"-1.80"}},{"$f":"VLOOKUP(J38,Vertices!$A$11:$J$203,8,FALSE )-$D$7","v":32.93},{"$f":"VLOOKUP(J38,Vertices!$A$11:$J$203,9,FALSE )-$E$7","v":-23.47},{"v":1608.4800201666665,"d":"1608.48"},{"v":1608.4800201666665,"d":"1608.48"}]
[{"$f":"Faces!A39","v":29},{"$f":"Faces!B39","v":10},{"$f":"VLOOKUP(B39,Vertices!$A$11:$J$203,7,FALSE )-$C$7","v":{"v":20.47500000000001,"d":"20.48"}},{"$f":"VLOOKUP(B39,Vertices!$A$11:$J$203,8,FALSE )-$D$7","v":24.14},{"$f":"VLOOKUP(B39,Vertices!$A$11:$J$203,9,FALSE )-$E$7","v":-11.59},{"$f":"Faces!C39","v":17},{"$f":"VLOOKUP(F39,Vertices!$A$11:$J$203,7,FALSE )-$C$7","v":{"v":3.405000000000001,"d":"3.41"}},{"$f":"VLOOKUP(F39,Vertices!$A$11:$J$203,8,FALSE )-$D$7","v":42.94},{"$f":"VLOOKUP(F39,Vertices!$A$11:$J$203,9,FALSE )-$E$7","v":-15.19},{"$f":"Faces!D39","v":16},{"$f":"VLOOKUP(J39,Vertices!$A$11:$J$203,7,FALSE )-$C$7","v":{"v":17.394999999999996,"d":"17.40"}},{"$f":"VLOOKUP(J39,Vertices!$A$11:$J$203,8,FALSE )-$D$7","v":20.07},{"$f":"VLOOKUP(J39,Vertices!$A$11:$J$203,9,FALSE )-$E$7","v":-15.71},{"v":798.7160011666678,"d":"798.72"},{"v":798.7160011666678,"d":"798.72"}]
[{"$f":"Faces!A40","v":30},{"$f":"Faces!B40","v":10},{"$f":"VLOOKUP(B40,Vertices!$A$11:$J$203,7,FALSE )-$C$7","v":{"v":20.47500000000001,"d":"20.48"}},{"$f":"VLOOKUP(B40,Vertices!$A$11:$J$203,8,FALSE )-$D$7","v":24.14},{"$f":"VLOOKUP(B40,Vertices!$A$11:$J$203,9,FALSE )-$E$7","v":-11.59},{"$f":"Faces!C40","v":11},{"$f":"VLOOKUP(F40,Vertices!$A$11:$J$203,7,FALSE )-$C$7","v":{"v":5.945,"d":"5.95"}},{"$f":"VLOOKUP(F40,Vertices!$A$11:$J$203,8,FALSE )-$D$7","v":47.81},{"$f":"VLOOKUP(F40,Vertices!$A$11:$J$203,9,FALSE )-$E$7","v":-11.05},{"$f":"Faces!D40","v":17},{"$f":"VLOOKUP(J40,Vertices!$A$11:$J$203,7,FALSE )-$C$7","v":{"v":3.405000000000001,"d":"3.41"}},{"$f":"VLOOKUP(J40,Vertices!$A$11:$J$203,8,FALSE )-$D$7","v":42.94},{"$f":"VLOOKUP(J40,Vertices!$A$11:$J$203,9,FALSE )-$E$7","v":-15.19},{"v":825.7905871666675,"d":"825.79"},{"v":825.7905871666675,"d":"825.79"}]
[{"$f":"Faces!A41","v":31},{"$f":"Faces!B41","v":4},{"$f":"VLOOKUP(B41,Vertices!$A$11:$J$203,7,FALSE )-$C$7","v":{"v":23.635000000000005,"d":"23.64"}},{"$f":"VLOOKUP(B41,Vertices!$A$11:$J$203,8,FALSE )-$D$7","v":{"v":28.3,"d":"28.30"}},{"$f":"VLOOKUP(B41,Vertices!$A$11:$J$203,9,FALSE )-$E$7","v":-7.25},{"$f":"Faces!C41","v":11},{"$f":"VLOOKUP(F41,Vertices!$A$11:$J$203,7,FALSE )-$C$7","v":{"v":5.945,"d":"5.95"}},{"$f":"VLOOKUP(F41,Vertices!$A$11:$J$203,8,FALSE )-$D$7","v":47.81},{"$f":"VLOOKUP(F41,Vertices!$A$11:$J$203,9,FALSE )-$E$7","v":-11.05},{"$f":"Faces!D41","v":10},{"$f":"VLOOKUP(J41,Vertices!$A$11:$J$203,7,FALSE )-$C$7","v":{"v":20.47500000000001,"d":"20.48"}},{"$f":"VLOOKUP(J41,Vertices!$A$11:$J$203,8,FALSE )-$D$7","v":24.14},{"$f":"VLOOKUP(J41,Vertices!$A$11:$J$203,9,FALSE )-$E$7","v":-11.59},{"v":864.7128615000005,"d":"864.71"},{"v":864.7128615000005,"d":"864.71"}]
[{"$f":"Faces!A42","v":32},{"$f":"Faces!B42","v":4},{"$f":"VLOOKUP(B42,Vertices!$A$11:$J$203,7,FALSE )-$C$7","v":{"v":23.635000000000005,"d":"23.64"}},{"$f":"VLOOKUP(B42,Vertices!$A$11:$J$203,8,FALSE )-$D$7","v":{"v":28.3,"d":"28.30"}},{"$f":"VLOOKUP(B42,Vertices!$A$11:$J$203,9,FALSE )-$E$7","v":-7.25},{"$f":"Faces!C42","v":5},{"$f":"VLOOKUP(F42,Vertices!$A$11:$J$203,7,FALSE )-$C$7","v":{"v":8.515,"d":"8.52"}},{"$f":"VLOOKUP(F42,Vertices!$A$11:$J$203,8,FALSE )-$D$7","v":52.78},{"$f":"VLOOKUP(F42,Vertices!$A$11:$J$203,9,FALSE )-$E$7","v":-6.79},{"$f":"Faces!D42","v":11},{"$f":"VLOOKUP(J42,Vertices!$A$11:$J$203,7,FALSE )-$C$7","v":{"v":5.945,"d":"5.95"}},{"$f":"VLOOKUP(J42,Vertices!$A$11:$J$203,8,FALSE )-$D$7","v":47.81},{"$f":"VLOOKUP(J42,Vertices!$A$11:$J$203,9,FALSE )-$E$7","v":-11.05},{"v":877.9941885000004,"d":"877.99"},{"v":877.9941885000004,"d":"877.99"}]
[{"$f":"Faces!A43","v":33},{"$f":"Faces!B43","v":25},{"$f":"VLOOKUP(B43,Vertices!$A$11:$J$203,7,FALSE )-$C$7","v":{"v":15.335000000000008,"d":"15.34"}},{"$f":"VLOOKUP(B43,Vertices!$A$11:$J$203,8,FALSE )-$D$7","v":-25.16},{"$f":"VLOOKUP(B43,Vertices!$A$11:$J$203,9,FALSE )-$E$7","v":-37.63},{"$f":"Faces!C43","v":32},{"$f":"VLOOKUP(F43,Vertices!$A$11:$J$203,7,FALSE )-$C$7","v":{"v":1.615000000000002,"d":"1.62"}},{"$f":"VLOOKUP(F43,Vertices!$A$11:$J$203,8,FALSE )-$D$7","v":{"v":-32.1,"d":"-32.10"}},{"$f":"VLOOKUP(F43,Vertices!$A$11:$J$203,9,FALSE )-$E$7","v":-49.14},{"$f":"Faces!D43","v":31},{"$f":"VLOOKUP(J43,Vertices!$A$11:$J$203,7,FALSE )-$C$7","v":{"v":4.545000000000002,"d":"4.55"}},{"$f":"VLOOKUP(J43,Vertices!$A$11:$J$203,8,FALSE )-$D$7","v":{"v":-37,"d":"-37.00"}},{"$f":"VLOOKUP(J43,Vertices!$A$11:$J$203,9,FALSE )-$E$7","v":{"v":-50,"d":"-50.00"}},{"v":487.15792949999997,"d":"487.16"},{"v":487.15792949999997,"d":"487.16"}]
[{"$f":"Faces!A44","v":34},{"$f":"Faces!B44","v":25},{"$f":"VLOOKUP(B44,Vertices!$A$11:$J$203,7,FALSE )-$C$7","v":{"v":15.335000000000008,"d":"15.34"}},{"$f":"VLOOKUP(B44,Vertices!$A$11:$J$203,8,FALSE )-$D$7","v":-25.16},{"$f":"VLOOKUP(B44,Vertices!$A$11:$J$203,9,FALSE )-$E$7","v":-37.63},{"$f":"Faces!C44","v":26},{"$f":"VLOOKUP(F44,Vertices!$A$11:$J$203,7,FALSE )-$C$7","v":{"v":11.774999999999999,"d":"11.78"}},{"$f":"VLOOKUP(F44,Vertices!$A$11:$J$203,8,FALSE )-$D$7","v":-19.67},{"$f":"VLOOKUP(F44,Vertices!$A$11:$J$203,9,FALSE )-$E$7","v":{"v":-37.4,"d":"-37.40"}},{"$f":"Faces!D44","v":32},{"$f":"VLOOKUP(J44,Vertices!$A$11:$J$203,7,FALSE )-$C$7","v":{"v":1.615000000000002,"d":"1.62"}},{"$f":"VLOOKUP(J44,Vertices!$A$11:$J$203,8,FALSE )-$D$7","v":{"v":-32.1,"d":"-32.10"}},{"$f":"VLOOKUP(J44,Vertices!$A$11:$J$203,9,FALSE )-$E$7","v":-49.14},{"v":599.7161989166664,"d":"599.72"},{"v":599.7161989166664,"d":"599.72"}]
[{"$f":"Faces!A45","v":35},{"$f":"Faces!B45","v":26},{"$f":"VLOOKUP(B45,Vertices!$A$11:$J$203,7,FALSE )-$C$7","v":{"v":11.774999999999999,"d":"11.78"}},{"$f":"VLOOKUP(B45,Vertices!$A$11:$J$203,8,FALSE )-$D$7","v":-19.67},{"$f":"VLOOKUP(B45,Vertices!$A$11:$J$203,9,FALSE )-$E$7","v":{"v":-37.4,"d":"-37.40"}},{"$f":"Faces!C45","v":33},{"$f":"VLOOKUP(F45,Vertices!$A$11:$J$203,7,FALSE )-$C$7","v":{"v":-1.2250000000000014,"d":"-1.23"}},{"$f":"VLOOKUP(F45,Vertices!$A$11:$J$203,8,FALSE )-$D$7","v":-27.18},{"$f":"VLOOKUP(F45,Vertices!$A$11:$J$203,9,FALSE )-$E$7","v":-48.51},{"$f":"Faces!D45","v":32},{"$f":"VLOOKUP(J45,Vertices!$A$11:$J$203,7,FALSE )-$C$7","v":{"v":1.615000000000002,"d":"1.62"}},{"$f":"VLOOKUP(J45,Vertices!$A$11:$J$203,8,FALSE )-$D$7","v":{"v":-32.1,"d":"-32.10"}},{"$f":"VLOOKUP(J45,Vertices!$A$11:$J$203,9,FALSE )-$E$7","v":-49.14},{"v":499.3296207499996,"d":"499.33"},{"v":499.3296207499996,"d":"499.33"}]
[{"$f":"Faces!A46","v":36},{"$f":"Faces!B46","v":26},{"$f":"VLOOKUP(B46,Vertices!$A$11:$J$203,7,FALSE )-$C$7","v":{"v":11.774999999999999,"d":"11.78"}},{"$f":"VLOOKUP(B46,Vertices!$A$11:$J$203,8,FALSE )-$D$7","v":-19.67},{"$f":"VLOOKUP(B46,Vertices!$A$11:$J$203,9,FALSE )-$E$7","v":{"v":-37.4,"d":"-37.40"}},{"$f":"Faces!C46","v":27},{"$f":"VLOOKUP(F46,Vertices!$A$11:$J$203,7,FALSE )-$C$7","v":{"v":8.395000000000003,"d":"8.40"}},{"$f":"VLOOKUP(F46,Vertices!$A$11:$J$203,8,FALSE )-$D$7","v":-14.41},{"$f":"VLOOKUP(F46,Vertices!$A$11:$J$203,9,FALSE )-$E$7","v":-37.22},{"$f":"Faces!D46","v":33},{"$f":"VLOOKUP(J46,Vertices!$A$11:$J$203,7,FALSE )-$C$7","v":{"v":-1.2250000000000014,"d":"-1.23"}},{"$f":"VLOOKUP(J46,Vertices!$A$11:$J$203,8,FALSE )-$D$7","v":-27.18},{"$f":"VLOOKUP(J46,Vertices!$A$11:$J$203,9,FALSE )-$E$7","v":-48.51},{"v":565.715247333333,"d":"565.72"},{"v":565.715247333333,"d":"565.72"}]
[{"$f":"Faces!A47","v":37},{"$f":"Faces!B47","v":27},{"$f":"VLOOKUP(B47,Vertices!$A$11:$J$203,7,FALSE )-$C$7","v":{"v":8.395000000000003,"d":"8.40"}},{"$f":"VLOOKUP(B47,Vertices!$A$11:$J$203,8,FALSE )-$D$7","v":-14.41},{"$f":"VLOOKUP(B47,Vertices!$A$11:$J$203,9,FALSE )-$E$7","v":-37.22},{"$f":"Faces!C47","v":34},{"$f":"VLOOKUP(F47,Vertices!$A$11:$J$203,7,FALSE )-$C$7","v":{"v":-7.335000000000001,"d":"-7.34"}},{"$f":"VLOOKUP(F47,Vertices!$A$11:$J$203,8,FALSE )-$D$7","v":-16.25},{"$f":"VLOOKUP(F47,Vertices!$A$11:$J$203,9,FALSE )-$E$7","v":-47.39},{"$f":"Faces!D47","v":33},{"$f":"VLOOKUP(J47,Vertices!$A$11:$J$203,7,FALSE )-$C$7","v":{"v":-1.2250000000000014,"d":"-1.23"}},{"$f":"VLOOKUP(J47,Vertices!$A$11:$J$203,8,FALSE )-$D$7","v":-27.18},{"$f":"VLOOKUP(J47,Vertices!$A$11:$J$203,9,FALSE )-$E$7","v":-48.51},{"v":1097.369889416667,"d":"1097.37"},{"v":1097.369889416667,"d":"1097.37"}]
[{"$f":"Faces!A48","v":38},{"$f":"Faces!B48","v":27},{"$f":"VLOOKUP(B48,Vertices!$A$11:$J$203,7,FALSE )-$C$7","v":{"v":8.395000000000003,"d":"8.40"}},{"$f":"VLOOKUP(B48,Vertices!$A$11:$J$203,8,FALSE )-$D$7","v":-14.41},{"$f":"VLOOKUP(B48,Vertices!$A$11:$J$203,9,FALSE )-$E$7","v":-37.22},{"$f":"Faces!C48","v":28},{"$f":"VLOOKUP(F48,Vertices!$A$11:$J$203,7,FALSE )-$C$7","v":{"v":1.3049999999999997,"d":"1.31"}},{"$f":"VLOOKUP(F48,Vertices!$A$11:$J$203,8,FALSE )-$D$7","v":-2.91},{"$f":"VLOOKUP(F48,Vertices!$A$11:$J$203,9,FALSE )-$E$7","v":-36.75},{"$f":"Faces!D48","v":34},{"$f":"VLOOKUP(J48,Vertices!$A$11:$J$203,7,FALSE )-$C$7","v":{"v":-7.335000000000001,"d":"-7.34"}},{"$f":"VLOOKUP(J48,Vertices!$A$11:$J$203,8,FALSE )-$D$7","v":-16.25},{"$f":"VLOOKUP(J48,Vertices!$A$11:$J$203,9,FALSE )-$E$7","v":-47.39},{"v":1174.5790695000003,"d":"1174.58"},{"v":1174.5790695000003,"d":"1174.58"}]
[{"$f":"Faces!A49","v":39},{"$f":"Faces!B49","v":28},{"$f":"VLOOKUP(B49,Vertices!$A$11:$J$203,7,FALSE )-$C$7","v":{"v":1.3049999999999997,"d":"1.31"}},{"$f":"VLOOKUP(B49,Vertices!$A$11:$J$203,8,FALSE )-$D$7","v":-2.91},{"$f":"VLOOKUP(B49,Vertices!$A$11:$J$203,9,FALSE )-$E$7","v":-36.75},{"$f":"Faces!C49","v":35},{"$f":"VLOOKUP(F49,Vertices!$A$11:$J$203,7,FALSE )-$C$7","v":{"v":-17.225,"d":"-17.23"}},{"$f":"VLOOKUP(F49,Vertices!$A$11:$J$203,8,FALSE )-$D$7","v":2.27},{"$f":"VLOOKUP(F49,Vertices!$A$11:$J$203,9,FALSE )-$E$7","v":{"v":-46.2,"d":"-46.20"}},{"$f":"Faces!D49","v":34},{"$f":"VLOOKUP(J49,Vertices!$A$11:$J$203,7,FALSE )-$C$7","v":{"v":-7.335000000000001,"d":"-7.34"}},{"$f":"VLOOKUP(J49,Vertices!$A$11:$J$203,8,FALSE )-$D$7","v":-16.25},{"$f":"VLOOKUP(J49,Vertices!$A$11:$J$203,9,FALSE )-$E$7","v":-47.39},{"v":1771.5489015000005,"d":"1771.55"},{"v":1771.5489015000005,"d":"1771.55"}]
[{"$f":"Faces!A50","v":40},{"$f":"Faces!B50","v":28},{"$f":"VLOOKUP(B50,Vertices!$A$11:$J$203,7,FALSE )-$C$7","v":{"v":1.3049999999999997,"d":"1.31"}},{"$f":"VLOOKUP(B50,Vertices!$A$11:$J$203,8,FALSE )-$D$7","v":-2.91},{"$f":"VLOOKUP(B50,Vertices!$A$11:$J$203,9,FALSE )-$E$7","v":-36.75},{"$f":"Faces!C50","v":29},{"$f":"VLOOKUP(F50,Vertices!$A$11:$J$203,7,FALSE )-$C$7","v":{"v":-9.994999999999997,"d":"-10.00"}},{"$f":"VLOOKUP(F50,Vertices!$A$11:$J$203,8,FALSE )-$D$7","v":16.82},{"$f":"VLOOKUP(F50,Vertices!$A$11:$J$203,9,FALSE )-$E$7","v":-35.88},{"$f":"Faces!D50","v":35},{"$f":"VLOOKUP(J50,Vertices!$A$11:$J$203,7,FALSE )-$C$7","v":{"v":-17.225,"d":"-17.23"}},{"$f":"VLOOKUP(J50,Vertices!$A$11:$J$203,8,FALSE )-$D$7","v":2.27},{"$f":"VLOOKUP(J50,Vertices!$A$11:$J$203,9,FALSE )-$E$7","v":{"v":-46.2,"d":"-46.20"}},{"v":1862.6835382500003,"d":"1862.68"},{"v":1862.6835382500003,"d":"1862.68"}]
[{"$f":"Faces!A51","v":41},{"$f":"Faces!B51","v":29},{"$f":"VLOOKUP(B51,Vertices!$A$11:$J$203,7,FALSE )-$C$7","v":{"v":-9.994999999999997,"d":"-10.00"}},{"$f":"VLOOKUP(B51,Vertices!$A$11:$J$203,8,FALSE )-$D$7","v":16.82},{"$f":"VLOOKUP(B51,Vertices!$A$11:$J$203,9,FALSE )-$E$7","v":-35.88},{"$f":"Faces!C51","v":36},{"$f":"VLOOKUP(F51,Vertices!$A$11:$J$203,7,FALSE )-$C$7","v":{"v":-26.455,"d":"-26.46"}},{"$f":"VLOOKUP(F51,Vertices!$A$11:$J$203,8,FALSE )-$D$7","v":{"v":20,"d":"20.00"}},{"$f":"VLOOKUP(F51,Vertices!$A$11:$J$203,9,FALSE )-$E$7","v":{"v":-46,"d":"-46.00"}},{"$f":"Faces!D51","v":35},{"$f":"VLOOKUP(J51,Vertices!$A$11:$J$203,7,FALSE )-$C$7","v":{"v":-17.225,"d":"-17.23"}},{"$f":"VLOOKUP(J51,Vertices!$A$11:$J$203,8,FALSE )-$D$7","v":2.27},{"$f":"VLOOKUP(J51,Vertices!$A$11:$J$203,9,FALSE )-$E$7","v":{"v":-46.2,"d":"-46.20"}},{"v":1540.7819770000003,"d":"1540.78"},{"v":1540.7819770000003,"d":"1540.78"}]
[{"$f":"Faces!A52","v":42},{"$f":"Faces!B52","v":29},{"$f":"VLOOKUP(B52,Vertices!$A$11:$J$203,7,FALSE )-$C$7","v":{"v":-9.994999999999997,"d":"-10.00"}},{"$f":"VLOOKUP(B52,Vertices!$A$11:$J$203,8,FALSE )-$D$7","v":16.82},{"$f":"VLOOKUP(B52,Vertices!$A$11:$J$203,9,FALSE )-$E$7","v":-35.88},{"$f":"Faces!C52","v":30},{"$f":"VLOOKUP(F52,Vertices!$A$11:$J$203,7,FALSE )-$C$7","v":{"v":-19.615,"d":"-19.62"}},{"$f":"VLOOKUP(F52,Vertices!$A$11:$J$203,8,FALSE )-$D$7","v":35.11},{"$f":"VLOOKUP(F52,Vertices!$A$11:$J$203,9,FALSE )-$E$7","v":-35.02},{"$f":"Faces!D52","v":36},{"$f":"VLOOKUP(J52,Vertices!$A$11:$J$203,7,FALSE )-$C$7","v":{"v":-26.455,"d":"-26.46"}},{"$f":"VLOOKUP(J52,Vertices!$A$11:$J$203,8,FALSE )-$D$7","v":{"v":20,"d":"20.00"}},{"$f":"VLOOKUP(J52,Vertices!$A$11:$J$203,9,FALSE )-$E$7","v":{"v":-46,"d":"-46.00"}},{"v":1617.0684553333333,"d":"1617.07"},{"v":1617.0684553333333,"d":"1617.07"}]
[{"$f":"Faces!A53","v":43},{"$f":"Faces!B53","v":23},{"$f":"VLOOKUP(B53,Vertices!$A$11:$J$203,7,FALSE )-$C$7","v":{"v":-1.7950000000000017,"d":"-1.80"}},{"$f":"VLOOKUP(B53,Vertices!$A$11:$J$203,8,FALSE )-$D$7","v":32.93},{"$f":"VLOOKUP(B53,Vertices!$A$11:$J$203,9,FALSE )-$E$7","v":-23.47},{"$f":"Faces!C53","v":30},{"$f":"VLOOKUP(F53,Vertices!$A$11:$J$203,7,FALSE )-$C$7","v":{"v":-19.615,"d":"-19.62"}},{"$f":"VLOOKUP(F53,Vertices!$A$11:$J$203,8,FALSE )-$D$7","v":35.11},{"$f":"VLOOKUP(F53,Vertices!$A$11:$J$203,9,FALSE )-$E$7","v":-35.02},{"$f":"Faces!D53","v":29},{"$f":"VLOOKUP(J53,Vertices!$A$11:$J$203,7,FALSE )-$C$7","v":{"v":-9.994999999999997,"d":"-10.00"}},{"$f":"VLOOKUP(J53,Vertices!$A$11:$J$203,8,FALSE )-$D$7","v":16.82},{"$f":"VLOOKUP(J53,Vertices!$A$11:$J$203,9,FALSE )-$E$7","v":-35.88},{"v":1823.0513269166665,"d":"1823.05"},{"v":1823.0513269166665,"d":"1823.05"}]
[{"$f":"Faces!A54","v":44},{"$f":"Faces!B54","v":23},{"$f":"VLOOKUP(B54,Vertices!$A$11:$J$203,7,FALSE )-$C$7","v":{"v":-1.7950000000000017,"d":"-1.80"}},{"$f":"VLOOKUP(B54,Vertices!$A$11:$J$203,8,FALSE )-$D$7","v":32.93},{"$f":"VLOOKUP(B54,Vertices!$A$11:$J$203,9,FALSE )-$E$7","v":-23.47},{"$f":"Faces!C54","v":24},{"$f":"VLOOKUP(F54,Vertices!$A$11:$J$203,7,FALSE )-$C$7","v":{"v":-12.424999999999997,"d":"-12.43"}},{"$f":"VLOOKUP(F54,Vertices!$A$11:$J$203,8,FALSE )-$D$7","v":52.81},{"$f":"VLOOKUP(F54,Vertices!$A$11:$J$203,9,FALSE )-$E$7","v":-21.85},{"$f":"Faces!D54","v":30},{"$f":"VLOOKUP(J54,Vertices!$A$11:$J$203,7,FALSE )-$C$7","v":{"v":-19.615,"d":"-19.62"}},{"$f":"VLOOKUP(J54,Vertices!$A$11:$J$203,8,FALSE )-$D$7","v":35.11},{"$f":"VLOOKUP(J54,Vertices!$A$11:$J$203,9,FALSE )-$E$7","v":-35.02},{"v":2057.6350431666665,"d":"2057.64"},{"v":2057.6350431666665,"d":"2057.64"}]
[{"$f":"Faces!A55","v":45},{"$f":"Faces!B55","v":17},{"$f":"VLOOKUP(B55,Vertices!$A$11:$J$203,7,FALSE )-$C$7","v":{"v":3.405000000000001,"d":"3.41"}},{"$f":"VLOOKUP(B55,Vertices!$A$11:$J$203,8,FALSE )-$D$7","v":42.94},{"$f":"VLOOKUP(B55,Vertices!$A$11:$J$203,9,FALSE )-$E$7","v":-15.19},{"$f":"Faces!C55","v":24},{"$f":"VLOOKUP(F55,Vertices!$A$11:$J$203,7,FALSE )-$C$7","v":{"v":-12.424999999999997,"d":"-12.43"}},{"$f":"VLOOKUP(F55,Vertices!$A$11:$J$203,8,FALSE )-$D$7","v":52.81},{"$f":"VLOOKUP(F55,Vertices!$A$11:$J$203,9,FALSE )-$E$7","v":-21.85},{"$f":"Faces!D55","v":23},{"$f":"VLOOKUP(J55,Vertices!$A$11:$J$203,7,FALSE )-$C$7","v":{"v":-1.7950000000000017,"d":"-1.80"}},{"$f":"VLOOKUP(J55,Vertices!$A$11:$J$203,8,FALSE )-$D$7","v":32.93},{"$f":"VLOOKUP(J55,Vertices!$A$11:$J$203,9,FALSE )-$E$7","v":-23.47},{"v":1305.5020906666666,"d":"1305.50"},{"v":1305.5020906666666,"d":"1305.50"}]
[{"$f":"Faces!A56","v":46},{"$f":"Faces!B56","v":17},{"$f":"VLOOKUP(B56,Vertices!$A$11:$J$203,7,FALSE )-$C$7","v":{"v":3.405000000000001,"d":"3.41"}},{"$f":"VLOOKUP(B56,Vertices!$A$11:$J$203,8,FALSE )-$D$7","v":42.94},{"$f":"VLOOKUP(B56,Vertices!$A$11:$J$203,9,FALSE )-$E$7","v":-15.19},{"$f":"Faces!C56","v":18},{"$f":"VLOOKUP(F56,Vertices!$A$11:$J$203,7,FALSE )-$C$7","v":{"v":-7.854999999999997,"d":"-7.86"}},{"$f":"VLOOKUP(F56,Vertices!$A$11:$J$203,8,FALSE )-$D$7","v":63.95},{"$f":"VLOOKUP(F56,Vertices!$A$11:$J$203,9,FALSE )-$E$7","v":-13.07},{"$f":"Faces!D56","v":24},{"$f":"VLOOKUP(J56,Vertices!$A$11:$J$203,7,FALSE )-$C$7","v":{"v":-12.424999999999997,"d":"-12.43"}},{"$f":"VLOOKUP(J56,Vertices!$A$11:$J$203,8,FALSE )-$D$7","v":52.81},{"$f":"VLOOKUP(J56,Vertices!$A$11:$J$203,9,FALSE )-$E$7","v":-21.85},{"v":1428.790597,"d":"1428.79"},{"v":1428.790597,"d":"1428.79"}]
[{"$f":"Faces!A57","v":47},{"$f":"Faces!B57","v":11},{"$f":"VLOOKUP(B57,Vertices!$A$11:$J$203,7,FALSE )-$C$7","v":{"v":5.945,"d":"5.95"}},{"$f":"VLOOKUP(B57,Vertices!$A$11:$J$203,8,FALSE )-$D$7","v":47.81},{"$f":"VLOOKUP(B57,Vertices!$A$11:$J$203,9,FALSE )-$E$7","v":-11.05},{"$f":"Faces!C57","v":18},{"$f":"VLOOKUP(F57,Vertices!$A$11:$J$203,7,FALSE )-$C$7","v":{"v":-7.854999999999997,"d":"-7.86"}},{"$f":"VLOOKUP(F57,Vertices!$A$11:$J$203,8,FALSE )-$D$7","v":63.95},{"$f":"VLOOKUP(F57,Vertices!$A$11:$J$203,9,FALSE )-$E$7","v":-13.07},{"$f":"Faces!D57","v":17},{"$f":"VLOOKUP(J57,Vertices!$A$11:$J$203,7,FALSE )-$C$7","v":{"v":3.405000000000001,"d":"3.41"}},{"$f":"VLOOKUP(J57,Vertices!$A$11:$J$203,8,FALSE )-$D$7","v":42.94},{"$f":"VLOOKUP(J57,Vertices!$A$11:$J$203,9,FALSE )-$E$7","v":-15.19},{"v":689.5884861666667,"d":"689.59"},{"v":689.5884861666667,"d":"689.59"}]
[{"$f":"Faces!A58","v":48},{"$f":"Faces!B58","v":11},{"$f":"VLOOKUP(B58,Vertices!$A$11:$J$203,7,FALSE )-$C$7","v":{"v":5.945,"d":"5.95"}},{"$f":"VLOOKUP(B58,Vertices!$A$11:$J$203,8,FALSE )-$D$7","v":47.81},{"$f":"VLOOKUP(B58,Vertices!$A$11:$J$203,9,FALSE )-$E$7","v":-11.05},{"$f":"Faces!C58","v":12},{"$f":"VLOOKUP(F58,Vertices!$A$11:$J$203,7,FALSE )-$C$7","v":{"v":-5.634999999999998,"d":"-5.64"}},{"$f":"VLOOKUP(F58,Vertices!$A$11:$J$203,8,FALSE )-$D$7","v":69.39},{"$f":"VLOOKUP(F58,Vertices!$A$11:$J$203,9,FALSE )-$E$7","v":-8.63},{"$f":"Faces!D58","v":18},{"$f":"VLOOKUP(J58,Vertices!$A$11:$J$203,7,FALSE )-$C$7","v":{"v":-7.854999999999997,"d":"-7.86"}},{"$f":"VLOOKUP(J58,Vertices!$A$11:$J$203,8,FALSE )-$D$7","v":63.95},{"$f":"VLOOKUP(J58,Vertices!$A$11:$J$203,9,FALSE )-$E$7","v":-13.07},{"v":738.6412873333329,"d":"738.64"},{"v":738.6412873333329,"d":"738.64"}]
[{"$f":"Faces!A59","v":49},{"$f":"Faces!B59","v":5},{"$f":"VLOOKUP(B59,Vertices!$A$11:$J$203,7,FALSE )-$C$7","v":{"v":8.515,"d":"8.52"}},{"$f":"VLOOKUP(B59,Vertices!$A$11:$J$203,8,FALSE )-$D$7","v":52.78},{"$f":"VLOOKUP(B59,Vertices!$A$11:$J$203,9,FALSE )-$E$7","v":-6.79},{"$f":"Faces!C59","v":12},{"$f":"VLOOKUP(F59,Vertices!$A$11:$J$203,7,FALSE )-$C$7","v":{"v":-5.634999999999998,"d":"-5.64"}},{"$f":"VLOOKUP(F59,Vertices!$A$11:$J$203,8,FALSE )-$D$7","v":69.39},{"$f":"VLOOKUP(F59,Vertices!$A$11:$J$203,9,FALSE )-$E$7","v":-8.63},{"$f":"Faces!D59","v":11},{"$f":"VLOOKUP(J59,Vertices!$A$11:$J$203,7,FALSE )-$C$7","v":{"v":5.945,"d":"5.95"}},{"$f":"VLOOKUP(J59,Vertices!$A$11:$J$203,8,FALSE )-$D$7","v":47.81},{"$f":"VLOOKUP(J59,Vertices!$A$11:$J$203,9,FALSE )-$E$7","v":-11.05},{"v":729.9461058333333,"d":"729.95"},{"v":729.9461058333333,"d":"729.95"}]
[{"$f":"Faces!A60","v":50},{"$f":"Faces!B60","v":5},{"$f":"VLOOKUP(B60,Vertices!$A$11:$J$203,7,FALSE )-$C$7","v":{"v":8.515,"d":"8.52"}},{"$f":"VLOOKUP(B60,Vertices!$A$11:$J$203,8,FALSE )-$D$7","v":52.78},{"$f":"VLOOKUP(B60,Vertices!$A$11:$J$203,9,FALSE )-$E$7","v":-6.79},{"$f":"Faces!C60","v":6},{"$f":"VLOOKUP(F60,Vertices!$A$11:$J$203,7,FALSE )-$C$7","v":{"v":-3.4549999999999983,"d":"-3.46"}},{"$f":"VLOOKUP(F60,Vertices!$A$11:$J$203,8,FALSE )-$D$7","v":{"v":75,"d":"75.00"}},{"$f":"VLOOKUP(F60,Vertices!$A$11:$J$203,9,FALSE )-$E$7","v":{"v":-4,"d":"-4.00"}},{"$f":"Faces!D60","v":12},{"$f":"VLOOKUP(J60,Vertices!$A$11:$J$203,7,FALSE )-$C$7","v":{"v":-5.634999999999998,"d":"-5.64"}},{"$f":"VLOOKUP(J60,Vertices!$A$11:$J$203,8,FALSE )-$D$7","v":69.39},{"$f":"VLOOKUP(J60,Vertices!$A$11:$J$203,9,FALSE )-$E$7","v":-8.63},{"v":795.6240752499999,"d":"795.62"},{"v":795.6240752499999,"d":"795.62"}]
[{"$f":"Faces!A61","v":51},{"$f":"Faces!B61","v":1},{"$f":"VLOOKUP(B61,Vertices!$A$11:$J$203,7,FALSE )-$C$7","v":{"v":43.545,"d":"43.55"}},{"$f":"VLOOKUP(B61,Vertices!$A$11:$J$203,8,FALSE )-$D$7","v":{"v":1,"d":"1.00"}},{"$f":"VLOOKUP(B61,Vertices!$A$11:$J$203,9,FALSE )-$E$7","v":{"v":-4,"d":"-4.00"}},{"$f":"Faces!C61","v":38},{"$f":"VLOOKUP(F61,Vertices!$A$11:$J$203,7,FALSE )-$C$7","v":{"v":37.80500000000001,"d":"37.81"}},{"$f":"VLOOKUP(F61,Vertices!$A$11:$J$203,8,FALSE )-$D$7","v":6.85},{"$f":"VLOOKUP(F61,Vertices!$A$11:$J$203,9,FALSE )-$E$7","v":3.27},{"$f":"Faces!D61","v":2},{"$f":"VLOOKUP(J61,Vertices!$A$11:$J$203,7,FALSE )-$C$7","v":{"v":38.435,"d":"38.44"}},{"$f":"VLOOKUP(J61,Vertices!$A$11:$J$203,8,FALSE )-$D$7","v":7.72},{"$f":"VLOOKUP(J61,Vertices!$A$11:$J$203,9,FALSE )-$E$7","v":-5.04},{"v":400.11578800000007,"d":"400.12"},{"v":400.11578800000007,"d":"400.12"}]
[{"$f":"Faces!A62","v":52},{"$f":"Faces!B62","v":1},{"$f":"VLOOKUP(B62,Vertices!$A$11:$J$203,7,FALSE )-$C$7","v":{"v":43.545,"d":"43.55"}},{"$f":"VLOOKUP(B62,Vertices!$A$11:$J$203,8,FALSE )-$D$7","v":{"v":1,"d":"1.00"}},{"$f":"VLOOKUP(B62,Vertices!$A$11:$J$203,9,FALSE )-$E$7","v":{"v":-4,"d":"-4.00"}},{"$f":"Faces!C62","v":37},{"$f":"VLOOKUP(F62,Vertices!$A$11:$J$203,7,FALSE )-$C$7","v":{"v":42.765,"d":"42.77"}},{"$f":"VLOOKUP(F62,Vertices!$A$11:$J$203,8,FALSE )-$D$7","v":0.12},{"$f":"VLOOKUP(F62,Vertices!$A$11:$J$203,9,FALSE )-$E$7","v":4.76},{"$f":"Faces!D62","v":38},{"$f":"VLOOKUP(J62,Vertices!$A$11:$J$203,7,FALSE )-$C$7","v":{"v":37.80500000000001,"d":"37.81"}},{"$f":"VLOOKUP(J62,Vertices!$A$11:$J$203,8,FALSE )-$D$7","v":6.85},{"$f":"VLOOKUP(J62,Vertices!$A$11:$J$203,9,FALSE )-$E$7","v":3.27},{"v":419.3742603333333,"d":"419.37"},{"v":419.3742603333333,"d":"419.37"}]
[{"$f":"Faces!A63","v":53},{"$f":"Faces!B63","v":2},{"$f":"VLOOKUP(B63,Vertices!$A$11:$J$203,7,FALSE )-$C$7","v":{"v":38.435,"d":"38.44"}},{"$f":"VLOOKUP(B63,Vertices!$A$11:$J$203,8,FALSE )-$D$7","v":7.72},{"$f":"VLOOKUP(B63,Vertices!$A$11:$J$203,9,FALSE )-$E$7","v":-5.04},{"$f":"Faces!C63","v":39},{"$f":"VLOOKUP(F63,Vertices!$A$11:$J$203,7,FALSE )-$C$7","v":{"v":33.045,"d":"33.05"}},{"$f":"VLOOKUP(F63,Vertices!$A$11:$J$203,8,FALSE )-$D$7","v":13.39},{"$f":"VLOOKUP(F63,Vertices!$A$11:$J$203,9,FALSE )-$E$7","v":1.97},{"$f":"Faces!D63","v":3},{"$f":"VLOOKUP(J63,Vertices!$A$11:$J$203,7,FALSE )-$C$7","v":{"v":33.595,"d":"33.60"}},{"$f":"VLOOKUP(J63,Vertices!$A$11:$J$203,8,FALSE )-$D$7","v":14.22},{"$f":"VLOOKUP(J63,Vertices!$A$11:$J$203,9,FALSE )-$E$7","v":-5.96},{"v":368.9546008333335,"d":"368.95"},{"v":368.9546008333335,"d":"368.95"}]
[{"$f":"Faces!A64","v":54},{"$f":"Faces!B64","v":2},{"$f":"VLOOKUP(B64,Vertices!$A$11:$J$203,7,FALSE )-$C$7","v":{"v":38.435,"d":"38.44"}},{"$f":"VLOOKUP(B64,Vertices!$A$11:$J$203,8,FALSE )-$D$7","v":7.72},{"$f":"VLOOKUP(B64,Vertices!$A$11:$J$203,9,FALSE )-$E$7","v":-5.04},{"$f":"Faces!C64","v":38},{"$f":"VLOOKUP(F64,Vertices!$A$11:$J$203,7,FALSE )-$C$7","v":{"v":37.80500000000001,"d":"37.81"}},{"$f":"VLOOKUP(F64,Vertices!$A$11:$J$203,8,FALSE )-$D$7","v":6.85},{"$f":"VLOOKUP(F64,Vertices!$A$11:$J$203,9,FALSE )-$E$7","v":3.27},{"$f":"Faces!D64","v":39},{"$f":"VLOOKUP(J64,Vertices!$A$11:$J$203,7,FALSE )-$C$7","v":{"v":33.045,"d":"33.05"}},{"$f":"VLOOKUP(J64,Vertices!$A$11:$J$203,8,FALSE )-$D$7","v":13.39},{"$f":"VLOOKUP(J64,Vertices!$A$11:$J$203,9,FALSE )-$E$7","v":1.97},{"v":385.90446500000013,"d":"385.90"},{"v":385.90446500000013,"d":"385.90"}]
[{"$f":"Faces!A65","v":55},{"$f":"Faces!B65","v":38},{"$f":"VLOOKUP(B65,Vertices!$A$11:$J$203,7,FALSE )-$C$7","v":{"v":37.80500000000001,"d":"37.81"}},{"$f":"VLOOKUP(B65,Vertices!$A$11:$J$203,8,FALSE )-$D$7","v":6.85},{"$f":"VLOOKUP(B65,Vertices!$A$11:$J$203,9,FALSE )-$E$7","v":3.27},{"$f":"Faces!C65","v":50},{"$f":"VLOOKUP(F65,Vertices!$A$11:$J$203,7,FALSE )-$C$7","v":{"v":32.495000000000005,"d":"32.50"}},{"$f":"VLOOKUP(F65,Vertices!$A$11:$J$203,8,FALSE )-$D$7","v":12.54},{"$f":"VLOOKUP(F65,Vertices!$A$11:$J$203,9,FALSE )-$E$7","v":{"v":9.9,"d":"9.90"}},{"$f":"Faces!D65","v":39},{"$f":"VLOOKUP(J65,Vertices!$A$11:$J$203,7,FALSE )-$C$7","v":{"v":33.045,"d":"33.05"}},{"$f":"VLOOKUP(J65,Vertices!$A$11:$J$203,8,FALSE )-$D$7","v":13.39},{"$f":"VLOOKUP(J65,Vertices!$A$11:$J$203,9,FALSE )-$E$7","v":1.97},{"v":367.88864766666694,"d":"367.89"},{"v":367.88864766666694,"d":"367.89"}]
[{"$f":"Faces!A66","v":56},{"$f":"Faces!B66","v":38},{"$f":"VLOOKUP(B66,Vertices!$A$11:$J$203,7,FALSE )-$C$7","v":{"v":37.80500000000001,"d":"37.81"}},{"$f":"VLOOKUP(B66,Vertices!$A$11:$J$203,8,FALSE )-$D$7","v":6.85},{"$f":"VLOOKUP(B66,Vertices!$A$11:$J$203,9,FALSE )-$E$7","v":3.27},{"$f":"Faces!C66","v":49},{"$f":"VLOOKUP(F66,Vertices!$A$11:$J$203,7,FALSE )-$C$7","v":{"v":37.144999999999996,"d":"37.15"}},{"$f":"VLOOKUP(F66,Vertices!$A$11:$J$203,8,FALSE )-$D$7","v":6.01},{"$f":"VLOOKUP(F66,Vertices!$A$11:$J$203,9,FALSE )-$E$7","v":11.51},{"$f":"Faces!D66","v":50},{"$f":"VLOOKUP(J66,Vertices!$A$11:$J$203,7,FALSE )-$C$7","v":{"v":32.495000000000005,"d":"32.50"}},{"$f":"VLOOKUP(J66,Vertices!$A$11:$J$203,8,FALSE )-$D$7","v":12.54},{"$f":"VLOOKUP(J66,Vertices!$A$11:$J$203,9,FALSE )-$E$7","v":{"v":9.9,"d":"9.90"}},{"v":379.9437983333333,"d":"379.94"},{"v":379.9437983333333,"d":"379.94"}]
[{"$f":"Faces!A67","v":57},{"$f":"Faces!B67","v":37},{"$f":"VLOOKUP(B67,Vertices!$A$11:$J$203,7,FALSE )-$C$7","v":{"v":42.765,"d":"42.77"}},{"$f":"VLOOKUP(B67,Vertices!$A$11:$J$203,8,FALSE )-$D$7","v":0.12},{"$f":"VLOOKUP(B67,Vertices!$A$11:$J$203,9,FALSE )-$E$7","v":4.76},{"$f":"Faces!C67","v":49},{"$f":"VLOOKUP(F67,Vertices!$A$11:$J$203,7,FALSE )-$C$7","v":{"v":37.144999999999996,"d":"37.15"}},{"$f":"VLOOKUP(F67,Vertices!$A$11:$J$203,8,FALSE )-$D$7","v":6.01},{"$f":"VLOOKUP(F67,Vertices!$A$11:$J$203,9,FALSE )-$E$7","v":11.51},{"$f":"Faces!D67","v":38},{"$f":"VLOOKUP(J67,Vertices!$A$11:$J$203,7,FALSE )-$C$7","v":{"v":37.80500000000001,"d":"37.81"}},{"$f":"VLOOKUP(J67,Vertices!$A$11:$J$203,8,FALSE )-$D$7","v":6.85},{"$f":"VLOOKUP(J67,Vertices!$A$11:$J$203,9,FALSE )-$E$7","v":3.27},{"v":394.002407,"d":"394.00"},{"v":394.002407,"d":"394.00"}]
[{"$f":"Faces!A68","v":58},{"$f":"Faces!B68","v":37},{"$f":"VLOOKUP(B68,Vertices!$A$11:$J$203,7,FALSE )-$C$7","v":{"v":42.765,"d":"42.77"}},{"$f":"VLOOKUP(B68,Vertices!$A$11:$J$203,8,FALSE )-$D$7","v":0.12},{"$f":"VLOOKUP(B68,Vertices!$A$11:$J$203,9,FALSE )-$E$7","v":4.76},{"$f":"Faces!C68","v":48},{"$f":"VLOOKUP(F68,Vertices!$A$11:$J$203,7,FALSE )-$C$7","v":{"v":42.035,"d":"42.04"}},{"$f":"VLOOKUP(F68,Vertices!$A$11:$J$203,8,FALSE )-$D$7","v":-0.71},{"$f":"VLOOKUP(F68,Vertices!$A$11:$J$203,9,FALSE )-$E$7","v":13.36},{"$f":"Faces!D68","v":49},{"$f":"VLOOKUP(J68,Vertices!$A$11:$J$203,7,FALSE )-$C$7","v":{"v":37.144999999999996,"d":"37.15"}},{"$f":"VLOOKUP(J68,Vertices!$A$11:$J$203,8,FALSE )-$D$7","v":6.01},{"$f":"VLOOKUP(J68,Vertices!$A$11:$J$203,9,FALSE )-$E$7","v":11.51},{"v":408.94797175,"d":"408.95"},{"v":408.94797175,"d":"408.95"}]
[{"$f":"Faces!A69","v":59},{"$f":"Faces!B69","v":3},{"$f":"VLOOKUP(B69,Vertices!$A$11:$J$203,7,FALSE )-$C$7","v":{"v":33.595,"d":"33.60"}},{"$f":"VLOOKUP(B69,Vertices!$A$11:$J$203,8,FALSE )-$D$7","v":14.22},{"$f":"VLOOKUP(B69,Vertices!$A$11:$J$203,9,FALSE )-$E$7","v":-5.96},{"$f":"Faces!C69","v":40},{"$f":"VLOOKUP(F69,Vertices!$A$11:$J$203,7,FALSE )-$C$7","v":{"v":23.275000000000006,"d":"23.28"}},{"$f":"VLOOKUP(F69,Vertices!$A$11:$J$203,8,FALSE )-$D$7","v":27.53},{"$f":"VLOOKUP(F69,Vertices!$A$11:$J$203,9,FALSE )-$E$7","v":0.06},{"$f":"Faces!D69","v":4},{"$f":"VLOOKUP(J69,Vertices!$A$11:$J$203,7,FALSE )-$C$7","v":{"v":23.635000000000005,"d":"23.64"}},{"$f":"VLOOKUP(J69,Vertices!$A$11:$J$203,8,FALSE )-$D$7","v":{"v":28.3,"d":"28.30"}},{"$f":"VLOOKUP(J69,Vertices!$A$11:$J$203,9,FALSE )-$E$7","v":-7.25},{"v":731.7330170833329,"d":"731.73"},{"v":731.7330170833329,"d":"731.73"}]
[{"$f":"Faces!A70","v":60},{"$f":"Faces!B70","v":3},{"$f":"VLOOKUP(B70,Vertices!$A$11:$J$203,7,FALSE )-$C$7","v":{"v":33.595,"d":"33.60"}},{"$f":"VLOOKUP(B70,Vertices!$A$11:$J$203,8,FALSE )-$D$7","v":14.22},{"$f":"VLOOKUP(B70,Vertices!$A$11:$J$203,9,FALSE )-$E$7","v":-5.96},{"$f":"Faces!C70","v":39},{"$f":"VLOOKUP(F70,Vertices!$A$11:$J$203,7,FALSE )-$C$7","v":{"v":33.045,"d":"33.05"}},{"$f":"VLOOKUP(F70,Vertices!$A$11:$J$203,8,FALSE )-$D$7","v":13.39},{"$f":"VLOOKUP(F70,Vertices!$A$11:$J$203,9,FALSE )-$E$7","v":1.97},{"$f":"Faces!D70","v":40},{"$f":"VLOOKUP(J70,Vertices!$A$11:$J$203,7,FALSE )-$C$7","v":{"v":23.275000000000006,"d":"23.28"}},{"$f":"VLOOKUP(J70,Vertices!$A$11:$J$203,8,FALSE )-$D$7","v":27.53},{"$f":"VLOOKUP(J70,Vertices!$A$11:$J$203,9,FALSE )-$E$7","v":0.06},{"v":789.2871685833333,"d":"789.29"},{"v":789.2871685833333,"d":"789.29"}]
[{"$f":"Faces!A71","v":61},{"$f":"Faces!B71","v":39},{"$f":"VLOOKUP(B71,Vertices!$A$11:$J$203,7,FALSE )-$C$7","v":{"v":33.045,"d":"33.05"}},{"$f":"VLOOKUP(B71,Vertices!$A$11:$J$203,8,FALSE )-$D$7","v":13.39},{"$f":"VLOOKUP(B71,Vertices!$A$11:$J$203,9,FALSE )-$E$7","v":1.97},{"$f":"Faces!C71","v":51},{"$f":"VLOOKUP(F71,Vertices!$A$11:$J$203,7,FALSE )-$C$7","v":{"v":22.924999999999997,"d":"22.93"}},{"$f":"VLOOKUP(F71,Vertices!$A$11:$J$203,8,FALSE )-$D$7","v":26.78},{"$f":"VLOOKUP(F71,Vertices!$A$11:$J$203,9,FALSE )-$E$7","v":7.27},{"$f":"Faces!D71","v":40},{"$f":"VLOOKUP(J71,Vertices!$A$11:$J$203,7,FALSE )-$C$7","v":{"v":23.275000000000006,"d":"23.28"}},{"$f":"VLOOKUP(J71,Vertices!$A$11:$J$203,8,FALSE )-$D$7","v":27.53},{"$f":"VLOOKUP(J71,Vertices!$A$11:$J$203,9,FALSE )-$E$7","v":0.06},{"v":716.3218739166668,"d":"716.32"},{"v":716.3218739166668,"d":"716.32"}]
[{"$f":"Faces!A72","v":62},{"$f":"Faces!B72","v":39},{"$f":"VLOOKUP(B72,Vertices!$A$11:$J$203,7,FALSE )-$C$7","v":{"v":33.045,"d":"33.05"}},{"$f":"VLOOKUP(B72,Vertices!$A$11:$J$203,8,FALSE )-$D$7","v":13.39},{"$f":"VLOOKUP(B72,Vertices!$A$11:$J$203,9,FALSE )-$E$7","v":1.97},{"$f":"Faces!C72","v":50},{"$f":"VLOOKUP(F72,Vertices!$A$11:$J$203,7,FALSE )-$C$7","v":{"v":32.495000000000005,"d":"32.50"}},{"$f":"VLOOKUP(F72,Vertices!$A$11:$J$203,8,FALSE )-$D$7","v":12.54},{"$f":"VLOOKUP(F72,Vertices!$A$11:$J$203,9,FALSE )-$E$7","v":{"v":9.9,"d":"9.90"}},{"$f":"Faces!D72","v":51},{"$f":"VLOOKUP(J72,Vertices!$A$11:$J$203,7,FALSE )-$C$7","v":{"v":22.924999999999997,"d":"22.93"}},{"$f":"VLOOKUP(J72,Vertices!$A$11:$J$203,8,FALSE )-$D$7","v":26.78},{"$f":"VLOOKUP(J72,Vertices!$A$11:$J$203,9,FALSE )-$E$7","v":7.27},{"v":787.4443542500002,"d":"787.44"},{"v":787.4443542500002,"d":"787.44"}]
[{"$f":"Faces!A73","v":63},{"$f":"Faces!B73","v":50},{"$f":"VLOOKUP(B73,Vertices!$A$11:$J$203,7,FALSE )-$C$7","v":{"v":32.495000000000005,"d":"32.50"}},{"$f":"VLOOKUP(B73,Vertices!$A$11:$J$203,8,FALSE )-$D$7","v":12.54},{"$f":"VLOOKUP(B73,Vertices!$A$11:$J$203,9,FALSE )-$E$7","v":{"v":9.9,"d":"9.90"}},{"$f":"Faces!C73","v":62},{"$f":"VLOOKUP(F73,Vertices!$A$11:$J$203,7,FALSE )-$C$7","v":{"v":22.22500000000001,"d":"22.23"}},{"$f":"VLOOKUP(F73,Vertices!$A$11:$J$203,8,FALSE )-$D$7","v":25.38},{"$f":"VLOOKUP(F73,Vertices!$A$11:$J$203,9,FALSE )-$E$7","v":22.21},{"$f":"Faces!D73","v":51},{"$f":"VLOOKUP(J73,Vertices!$A$11:$J$203,7,FALSE )-$C$7","v":{"v":22.924999999999997,"d":"22.93"}},{"$f":"VLOOKUP(J73,Vertices!$A$11:$J$203,8,FALSE )-$D$7","v":26.78},{"$f":"VLOOKUP(J73,Vertices!$A$11:$J$203,9,FALSE )-$E$7","v":7.27},{"v":1473.4746256666676,"d":"1473.47"},{"v":1473.4746256666676,"d":"1473.47"}]
[{"$f":"Faces!A74","v":64},{"$f":"Faces!B74","v":50},{"$f":"VLOOKUP(B74,Vertices!$A$11:$J$203,7,FALSE )-$C$7","v":{"v":32.495000000000005,"d":"32.50"}},{"$f":"VLOOKUP(B74,Vertices!$A$11:$J$203,8,FALSE )-$D$7","v":12.54},{"$f":"VLOOKUP(B74,Vertices!$A$11:$J$203,9,FALSE )-$E$7","v":{"v":9.9,"d":"9.90"}},{"$f":"Faces!C74","v":61},{"$f":"VLOOKUP(F74,Vertices!$A$11:$J$203,7,FALSE )-$C$7","v":{"v":31.445000000000007,"d":"31.45"}},{"$f":"VLOOKUP(F74,Vertices!$A$11:$J$203,8,FALSE )-$D$7","v":{"v":11.2,"d":"11.20"}},{"$f":"VLOOKUP(F74,Vertices!$A$11:$J$203,9,FALSE )-$E$7","v":26.63},{"$f":"Faces!D74","v":62},{"$f":"VLOOKUP(J74,Vertices!$A$11:$J$203,7,FALSE )-$C$7","v":{"v":22.22500000000001,"d":"22.23"}},{"$f":"VLOOKUP(J74,Vertices!$A$11:$J$203,8,FALSE )-$D$7","v":25.38},{"$f":"VLOOKUP(J74,Vertices!$A$11:$J$203,9,FALSE )-$E$7","v":22.21},{"v":1629.7645401666666,"d":"1629.76"},{"v":1629.7645401666666,"d":"1629.76"}]
[{"$f":"Faces!A75","v":65},{"$f":"Faces!B75","v":49},{"$f":"VLOOKUP(B75,Vertices!$A$11:$J$203,7,FALSE )-$C$7","v":{"v":37.144999999999996,"d":"37.15"}},{"$f":"VLOOKUP(B75,Vertices!$A$11:$J$203,8,FALSE )-$D$7","v":6.01},{"$f":"VLOOKUP(B75,Vertices!$A$11:$J$203,9,FALSE )-$E$7","v":11.51},{"$f":"Faces!C75","v":61},{"$f":"VLOOKUP(F75,Vertices!$A$11:$J$203,7,FALSE )-$C$7","v":{"v":31.445000000000007,"d":"31.45"}},{"$f":"VLOOKUP(F75,Vertices!$A$11:$J$203,8,FALSE )-$D$7","v":{"v":11.2,"d":"11.20"}},{"$f":"VLOOKUP(F75,Vertices!$A$11:$J$203,9,FALSE )-$E$7","v":26.63},{"$f":"Faces!D75","v":50},{"$f":"VLOOKUP(J75,Vertices!$A$11:$J$203,7,FALSE )-$C$7","v":{"v":32.495000000000005,"d":"32.50"}},{"$f":"VLOOKUP(J75,Vertices!$A$11:$J$203,8,FALSE )-$D$7","v":12.54},{"$f":"VLOOKUP(J75,Vertices!$A$11:$J$203,9,FALSE )-$E$7","v":{"v":9.9,"d":"9.90"}},{"v":767.6969087499994,"d":"767.70"},{"v":767.6969087499994,"d":"767.70"}]
[{"$f":"Faces!A76","v":66},{"$f":"Faces!B76","v":49},{"$f":"VLOOKUP(B76,Vertices!$A$11:$J$203,7,FALSE )-$C$7","v":{"v":37.144999999999996,"d":"37.15"}},{"$f":"VLOOKUP(B76,Vertices!$A$11:$J$203,8,FALSE )-$D$7","v":6.01},{"$f":"VLOOKUP(B76,Vertices!$A$11:$J$203,9,FALSE )-$E$7","v":11.51},{"$f":"Faces!C76","v":60},{"$f":"VLOOKUP(F76,Vertices!$A$11:$J$203,7,FALSE )-$C$7","v":{"v":35.925,"d":"35.93"}},{"$f":"VLOOKUP(F76,Vertices!$A$11:$J$203,8,FALSE )-$D$7","v":4.65},{"$f":"VLOOKUP(F76,Vertices!$A$11:$J$203,9,FALSE )-$E$7","v":28.98},{"$f":"Faces!D76","v":61},{"$f":"VLOOKUP(J76,Vertices!$A$11:$J$203,7,FALSE )-$C$7","v":{"v":31.445000000000007,"d":"31.45"}},{"$f":"VLOOKUP(J76,Vertices!$A$11:$J$203,8,FALSE )-$D$7","v":{"v":11.2,"d":"11.20"}},{"$f":"VLOOKUP(J76,Vertices!$A$11:$J$203,9,FALSE )-$E$7","v":26.63},{"$f":"-1*(C76*H76*M76+D76*I76*K76+E76*G76*L76-C76*I76*L76-D76*G76*M76-E76*H76*K76)/6","v":{"v":796.9071127499998,"d":"796.91"}},{"$f":"ABS(N76)","v":{"v":796.9071127499998,"d":"796.91"}}]
[{"$f":"Faces!A77","v":67},{"$f":"Faces!B77","v":48},{"$f":"VLOOKUP(B77,Vertices!$A$11:$J$203,7,FALSE )-$C$7","v":{"v":42.035,"d":"42.04"}},{"$f":"VLOOKUP(B77,Vertices!$A$11:$J$203,8,FALSE )-$D$7","v":-0.71},{"$f":"VLOOKUP(B77,Vertices!$A$11:$J$203,9,FALSE )-$E$7","v":13.36},{"$f":"Faces!C77","v":60},{"$f":"VLOOKUP(F77,Vertices!$A$11:$J$203,7,FALSE )-$C$7","v":{"v":35.925,"d":"35.93"}},{"$f":"VLOOKUP(F77,Vertices!$A$11:$J$203,8,FALSE )-$D$7","v":4.65},{"$f":"VLOOKUP(F77,Vertices!$A$11:$J$203,9,FALSE )-$E$7","v":28.98},{"$f":"Faces!D77","v":49},{"$f":"VLOOKUP(J77,Vertices!$A$11:$J$203,7,FALSE )-$C$7","v":{"v":37.144999999999996,"d":"37.15"}},{"$f":"VLOOKUP(J77,Vertices!$A$11:$J$203,8,FALSE )-$D$7","v":6.01},{"$f":"VLOOKUP(J77,Vertices!$A$11:$J$203,9,FALSE )-$E$7","v":11.51},{"v":827.5341814999998,"d":"827.53"},{"v":827.5341814999998,"d":"827.53"}]
[{"$f":"Faces!A78","v":68},{"$f":"Faces!B78","v":48},{"$f":"VLOOKUP(B78,Vertices!$A$11:$J$203,7,FALSE )-$C$7","v":{"v":42.035,"d":"42.04"}},{"$f":"VLOOKUP(B78,Vertices!$A$11:$J$203,8,FALSE )-$D$7","v":-0.71},{"$f":"VLOOKUP(B78,Vertices!$A$11:$J$203,9,FALSE )-$E$7","v":13.36},{"$f":"Faces!C78","v":59},{"$f":"VLOOKUP(F78,Vertices!$A$11:$J$203,7,FALSE )-$C$7","v":{"v":40.675,"d":"40.68"}},{"$f":"VLOOKUP(F78,Vertices!$A$11:$J$203,8,FALSE )-$D$7","v":-2.16},{"$f":"VLOOKUP(F78,Vertices!$A$11:$J$203,9,FALSE )-$E$7","v":{"v":31.6,"d":"31.60"}},{"$f":"Faces!D78","v":60},{"$f":"VLOOKUP(J78,Vertices!$A$11:$J$203,7,FALSE )-$C$7","v":{"v":35.925,"d":"35.93"}},{"$f":"VLOOKUP(J78,Vertices!$A$11:$J$203,8,FALSE )-$D$7","v":4.65},{"$f":"VLOOKUP(J78,Vertices!$A$11:$J$203,9,FALSE )-$E$7","v":28.98},{"v":868.8948405000002,"d":"868.89"},{"v":868.8948405000002,"d":"868.89"}]
[{"$f":"Faces!A79","v":69},{"$f":"Faces!B79","v":4},{"$f":"VLOOKUP(B79,Vertices!$A$11:$J$203,7,FALSE )-$C$7","v":{"v":23.635000000000005,"d":"23.64"}},{"$f":"VLOOKUP(B79,Vertices!$A$11:$J$203,8,FALSE )-$D$7","v":{"v":28.3,"d":"28.30"}},{"$f":"VLOOKUP(B79,Vertices!$A$11:$J$203,9,FALSE )-$E$7","v":-7.25},{"$f":"Faces!C79","v":41},{"$f":"VLOOKUP(F79,Vertices!$A$11:$J$203,7,FALSE )-$C$7","v":{"v":8.515,"d":"8.52"}},{"$f":"VLOOKUP(F79,Vertices!$A$11:$J$203,8,FALSE )-$D$7","v":51.94},{"$f":"VLOOKUP(F79,Vertices!$A$11:$J$203,9,FALSE )-$E$7","v":-0.71},{"$f":"Faces!D79","v":5},{"$f":"VLOOKUP(J79,Vertices!$A$11:$J$203,7,FALSE )-$C$7","v":{"v":8.515,"d":"8.52"}},{"$f":"VLOOKUP(J79,Vertices!$A$11:$J$203,8,FALSE )-$D$7","v":52.78},{"$f":"VLOOKUP(J79,Vertices!$A$11:$J$203,9,FALSE )-$E$7","v":-6.79},{"v":1006.0758379999997,"d":"1006.08"},{"v":1006.0758379999997,"d":"1006.08"}]
[{"$f":"Faces!A80","v":70},{"$f":"Faces!B80","v":4},{"$f":"VLOOKUP(B80,Vertices!$A$11:$J$203,7,FALSE )-$C$7","v":{"v":23.635000000000005,"d":"23.64"}},{"$f":"VLOOKUP(B80,Vertices!$A$11:$J$203,8,FALSE )-$D$7","v":{"v":28.3,"d":"28.30"}},{"$f":"VLOOKUP(B80,Vertices!$A$11:$J$203,9,FALSE )-$E$7","v":-7.25},{"$f":"Faces!C80","v":40},{"$f":"VLOOKUP(F80,Vertices!$A$11:$J$203,7,FALSE )-$C$7","v":{"v":23.275000000000006,"d":"23.28"}},{"$f":"VLOOKUP(F80,Vertices!$A$11:$J$203,8,FALSE )-$D$7","v":27.53},{"$f":"VLOOKUP(F80,Vertices!$A$11:$J$203,9,FALSE )-$E$7","v":0.06},{"$f":"Faces!D80","v":41},{"$f":"VLOOKUP(J80,Vertices!$A$11:$J$203,7,FALSE )-$C$7","v":{"v":8.515,"d":"8.52"}},{"$f":"VLOOKUP(J80,Vertices!$A$11:$J$203,8,FALSE )-$D$7","v":51.94},{"$f":"VLOOKUP(J80,Vertices!$A$11:$J$203,9,FALSE )-$E$7","v":-0.71},{"v":1186.4216845,"d":"1186.42"},{"v":1186.4216845,"d":"1186.42"}]
[{"$f":"Faces!A81","v":71},{"$f":"Faces!B81","v":40},{"$f":"VLOOKUP(B81,Vertices!$A$11:$J$203,7,FALSE )-$C$7","v":{"v":23.275000000000006,"d":"23.28"}},{"$f":"VLOOKUP(B81,Vertices!$A$11:$J$203,8,FALSE )-$D$7","v":27.53},{"$f":"VLOOKUP(B81,Vertices!$A$11:$J$203,9,FALSE )-$E$7","v":0.06},{"$f":"Faces!C81","v":52},{"$f":"VLOOKUP(F81,Vertices!$A$11:$J$203,7,FALSE )-$C$7","v":{"v":8.454999999999998,"d":"8.46"}},{"$f":"VLOOKUP(F81,Vertices!$A$11:$J$203,8,FALSE )-$D$7","v":51.04},{"$f":"VLOOKUP(F81,Vertices!$A$11:$J$203,9,FALSE )-$E$7","v":5.29},{"$f":"Faces!D81","v":41},{"$f":"VLOOKUP(J81,Vertices!$A$11:$J$203,7,FALSE )-$C$7","v":{"v":8.515,"d":"8.52"}},{"$f":"VLOOKUP(J81,Vertices!$A$11:$J$203,8,FALSE )-$D$7","v":51.94},{"$f":"VLOOKUP(J81,Vertices!$A$11:$J$203,9,FALSE )-$E$7","v":-0.71},{"v":972.1567545000004,"d":"972.16"},{"v":972.1567545000004,"d":"972.16"}]
[{"$f":"Faces!A82","v":72},{"$f":"Faces!B82","v":40},{"$f":"VLOOKUP(B82,Vertices!$A$11:$J$203,7,FALSE )-$C$7","v":{"v":23.275000000000006,"d":"23.28"}},{"$f":"VLOOKUP(B82,Vertices!$A$11:$J$203,8,FALSE )-$D$7","v":27.53},{"$f":"VLOOKUP(B82,Vertices!$A$11:$J$203,9,FALSE )-$E$7","v":0.06},{"$f":"Faces!C82","v":51},{"$f":"VLOOKUP(F82,Vertices!$A$11:$J$203,7,FALSE )-$C$7","v":{"v":22.924999999999997,"d":"22.93"}},{"$f":"VLOOKUP(F82,Vertices!$A$11:$J$203,8,FALSE )-$D$7","v":26.78},{"$f":"VLOOKUP(F82,Vertices!$A$11:$J$203,9,FALSE )-$E$7","v":7.27},{"$f":"Faces!D82","v":52},{"$f":"VLOOKUP(J82,Vertices!$A$11:$J$203,7,FALSE )-$C$7","v":{"v":8.454999999999998,"d":"8.46"}},{"$f":"VLOOKUP(J82,Vertices!$A$11:$J$203,8,FALSE )-$D$7","v":51.04},{"$f":"VLOOKUP(J82,Vertices!$A$11:$J$203,9,FALSE )-$E$7","v":5.29},{"v":1154.8303251666664,"d":"1154.83"},{"v":1154.8303251666664,"d":"1154.83"}]
[{"$f":"Faces!A83","v":73},{"$f":"Faces!B83","v":51},{"$f":"VLOOKUP(B83,Vertices!$A$11:$J$203,7,FALSE )-$C$7","v":{"v":22.924999999999997,"d":"22.93"}},{"$f":"VLOOKUP(B83,Vertices!$A$11:$J$203,8,FALSE )-$D$7","v":26.78},{"$f":"VLOOKUP(B83,Vertices!$A$11:$J$203,9,FALSE )-$E$7","v":7.27},{"$f":"Faces!C83","v":63},{"$f":"VLOOKUP(F83,Vertices!$A$11:$J$203,7,FALSE )-$C$7","v":{"v":8.245000000000005,"d":"8.25"}},{"$f":"VLOOKUP(F83,Vertices!$A$11:$J$203,8,FALSE )-$D$7","v":49.54},{"$f":"VLOOKUP(F83,Vertices!$A$11:$J$203,9,FALSE )-$E$7","v":17.71},{"$f":"Faces!D83","v":52},{"$f":"VLOOKUP(J83,Vertices!$A$11:$J$203,7,FALSE )-$C$7","v":{"v":8.454999999999998,"d":"8.46"}},{"$f":"VLOOKUP(J83,Vertices!$A$11:$J$203,8,FALSE )-$D$7","v":51.04},{"$f":"VLOOKUP(J83,Vertices!$A$11:$J$203,9,FALSE )-$E$7","v":5.29},{"v":1976.3710579999997,"d":"1976.37"},{"v":1976.3710579999997,"d":"1976.37"}]
[{"$f":"Faces!A84","v":74},{"$f":"Faces!B84","v":51},{"$f":"VLOOKUP(B84,Vertices!$A$11:$J$203,7,FALSE )-$C$7","v":{"v":22.924999999999997,"d":"22.93"}},{"$f":"VLOOKUP(B84,Vertices!$A$11:$J$203,8,FALSE )-$D$7","v":26.78},{"$f":"VLOOKUP(B84,Vertices!$A$11:$J$203,9,FALSE )-$E$7","v":7.27},{"$f":"Faces!C84","v":62},{"$f":"VLOOKUP(F84,Vertices!$A$11:$J$203,7,FALSE )-$C$7","v":{"v":22.22500000000001,"d":"22.23"}},{"$f":"VLOOKUP(F84,Vertices!$A$11:$J$203,8,FALSE )-$D$7","v":25.38},{"$f":"VLOOKUP(F84,Vertices!$A$11:$J$203,9,FALSE )-$E$7","v":22.21},{"$f":"Faces!D84","v":63},{"$f":"VLOOKUP(J84,Vertices!$A$11:$J$203,7,FALSE )-$C$7","v":{"v":8.245000000000005,"d":"8.25"}},{"$f":"VLOOKUP(J84,Vertices!$A$11:$J$203,8,FALSE )-$D$7","v":49.54},{"$f":"VLOOKUP(J84,Vertices!$A$11:$J$203,9,FALSE )-$E$7","v":17.71},{"v":2345.5431726666666,"d":"2345.54"},{"v":2345.5431726666666,"d":"2345.54"}]
[{"$f":"Faces!A85","v":75},{"$f":"Faces!B85","v":62},{"$f":"VLOOKUP(B85,Vertices!$A$11:$J$203,7,FALSE )-$C$7","v":{"v":22.22500000000001,"d":"22.23"}},{"$f":"VLOOKUP(B85,Vertices!$A$11:$J$203,8,FALSE )-$D$7","v":25.38},{"$f":"VLOOKUP(B85,Vertices!$A$11:$J$203,9,FALSE )-$E$7","v":22.21},{"$f":"Faces!C85","v":74},{"$f":"VLOOKUP(F85,Vertices!$A$11:$J$203,7,FALSE )-$C$7","v":{"v":7.555,"d":"7.56"}},{"$f":"VLOOKUP(F85,Vertices!$A$11:$J$203,8,FALSE )-$D$7","v":47.84},{"$f":"VLOOKUP(F85,Vertices!$A$11:$J$203,9,FALSE )-$E$7","v":37.98},{"$f":"Faces!D85","v":63},{"$f":"VLOOKUP(J85,Vertices!$A$11:$J$203,7,FALSE )-$C$7","v":{"v":8.245000000000005,"d":"8.25"}},{"$f":"VLOOKUP(J85,Vertices!$A$11:$J$203,8,FALSE )-$D$7","v":49.54},{"$f":"VLOOKUP(J85,Vertices!$A$11:$J$203,9,FALSE )-$E$7","v":17.71},{"v":3147.170260333334,"d":"3147.17"},{"v":3147.170260333334,"d":"3147.17"}]
[{"$f":"Faces!A86","v":76},{"$f":"Faces!B86","v":62},{"$f":"VLOOKUP(B86,Vertices!$A$11:$J$203,7,FALSE )-$C$7","v":{"v":22.22500000000001,"d":"22.23"}},{"$f":"VLOOKUP(B86,Vertices!$A$11:$J$203,8,FALSE )-$D$7","v":25.38},{"$f":"VLOOKUP(B86,Vertices!$A$11:$J$203,9,FALSE )-$E$7","v":22.21},{"$f":"Faces!C86","v":73},{"$f":"VLOOKUP(F86,Vertices!$A$11:$J$203,7,FALSE )-$C$7","v":{"v":21.034999999999997,"d":"21.04"}},{"$f":"VLOOKUP(F86,Vertices!$A$11:$J$203,8,FALSE )-$D$7","v":24.04},{"$f":"VLOOKUP(F86,Vertices!$A$11:$J$203,9,FALSE )-$E$7","v":47.27},{"$f":"Faces!D86","v":74},{"$f":"VLOOKUP(J86,Vertices!$A$11:$J$203,7,FALSE )-$C$7","v":{"v":7.555,"d":"7.56"}},{"$f":"VLOOKUP(J86,Vertices!$A$11:$J$203,8,FALSE )-$D$7","v":47.84},{"$f":"VLOOKUP(J86,Vertices!$A$11:$J$203,9,FALSE )-$E$7","v":37.98},{"v":3810.553873166669,"d":"3810.55"},{"v":3810.553873166669,"d":"3810.55"}]
[{"$f":"Faces!A87","v":77},{"$f":"Faces!B87","v":61},{"$f":"VLOOKUP(B87,Vertices!$A$11:$J$203,7,FALSE )-$C$7","v":{"v":31.445000000000007,"d":"31.45"}},{"$f":"VLOOKUP(B87,Vertices!$A$11:$J$203,8,FALSE )-$D$7","v":{"v":11.2,"d":"11.20"}},{"$f":"VLOOKUP(B87,Vertices!$A$11:$J$203,9,FALSE )-$E$7","v":26.63},{"$f":"Faces!C87","v":73},{"$f":"VLOOKUP(F87,Vertices!$A$11:$J$203,7,FALSE )-$C$7","v":{"v":21.034999999999997,"d":"21.04"}},{"$f":"VLOOKUP(F87,Vertices!$A$11:$J$203,8,FALSE )-$D$7","v":24.04},{"$f":"VLOOKUP(F87,Vertices!$A$11:$J$203,9,FALSE )-$E$7","v":47.27},{"$f":"Faces!D87","v":62},{"$f":"VLOOKUP(J87,Vertices!$A$11:$J$203,7,FALSE )-$C$7","v":{"v":22.22500000000001,"d":"22.23"}},{"$f":"VLOOKUP(J87,Vertices!$A$11:$J$203,8,FALSE )-$D$7","v":25.38},{"$f":"VLOOKUP(J87,Vertices!$A$11:$J$203,9,FALSE )-$E$7","v":22.21},{"v":2402.139555000002,"d":"2402.14"},{"v":2402.139555000002,"d":"2402.14"}]
[{"$f":"Faces!A88","v":78},{"$f":"Faces!B88","v":61},{"$f":"VLOOKUP(B88,Vertices!$A$11:$J$203,7,FALSE )-$C$7","v":{"v":31.445000000000007,"d":"31.45"}},{"$f":"VLOOKUP(B88,Vertices!$A$11:$J$203,8,FALSE )-$D$7","v":{"v":11.2,"d":"11.20"}},{"$f":"VLOOKUP(B88,Vertices!$A$11:$J$203,9,FALSE )-$E$7","v":26.63},{"$f":"Faces!C88","v":72},{"$f":"VLOOKUP(F88,Vertices!$A$11:$J$203,7,FALSE )-$C$7","v":{"v":29.924999999999997,"d":"29.93"}},{"$f":"VLOOKUP(F88,Vertices!$A$11:$J$203,8,FALSE )-$D$7","v":9.87},{"$f":"VLOOKUP(F88,Vertices!$A$11:$J$203,9,FALSE )-$E$7","v":54.53},{"$f":"Faces!D88","v":73},{"$f":"VLOOKUP(J88,Vertices!$A$11:$J$203,7,FALSE )-$C$7","v":{"v":21.034999999999997,"d":"21.04"}},{"$f":"VLOOKUP(J88,Vertices!$A$11:$J$203,8,FALSE )-$D$7","v":24.04},{"$f":"VLOOKUP(J88,Vertices!$A$11:$J$203,9,FALSE )-$E$7","v":47.27},{"v":2652.9846945000027,"d":"2652.98"},{"v":2652.9846945000027,"d":"2652.98"}]
[{"$f":"Faces!A89","v":79},{"$f":"Faces!B89","v":60},{"$f":"VLOOKUP(B89,Vertices!$A$11:$J$203,7,FALSE )-$C$7","v":{"v":35.925,"d":"35.93"}},{"$f":"VLOOKUP(B89,Vertices!$A$11:$J$203,8,FALSE )-$D$7","v":4.65},{"$f":"VLOOKUP(B89,Vertices!$A$11:$J$203,9,FALSE )-$E$7","v":28.98},{"$f":"Faces!C89","v":72},{"$f":"VLOOKUP(F89,Vertices!$A$11:$J$203,7,FALSE )-$C$7","v":{"v":29.924999999999997,"d":"29.93"}},{"$f":"VLOOKUP(F89,Vertices!$A$11:$J$203,8,FALSE )-$D$7","v":9.87},{"$f":"VLOOKUP(F89,Vertices!$A$11:$J$203,9,FALSE )-$E$7","v":54.53},{"$f":"Faces!D89","v":61},{"$f":"VLOOKUP(J89,Vertices!$A$11:$J$203,7,FALSE )-$C$7","v":{"v":31.445000000000007,"d":"31.45"}},{"$f":"VLOOKUP(J89,Vertices!$A$11:$J$203,8,FALSE )-$D$7","v":{"v":11.2,"d":"11.20"}},{"$f":"VLOOKUP(J89,Vertices!$A$11:$J$203,9,FALSE )-$E$7","v":26.63},{"v":1251.9754082500006,"d":"1251.98"},{"v":1251.9754082500006,"d":"1251.98"}]
[{"$f":"Faces!A90","v":80},{"$f":"Faces!B90","v":60},{"$f":"VLOOKUP(B90,Vertices!$A$11:$J$203,7,FALSE )-$C$7","v":{"v":35.925,"d":"35.93"}},{"$f":"VLOOKUP(B90,Vertices!$A$11:$J$203,8,FALSE )-$D$7","v":4.65},{"$f":"VLOOKUP(B90,Vertices!$A$11:$J$203,9,FALSE )-$E$7","v":28.98},{"$f":"Faces!C90","v":71},{"$f":"VLOOKUP(F90,Vertices!$A$11:$J$203,7,FALSE )-$C$7","v":{"v":34.235,"d":"34.24"}},{"$f":"VLOOKUP(F90,Vertices!$A$11:$J$203,8,FALSE )-$D$7","v":3.32},{"$f":"VLOOKUP(F90,Vertices!$A$11:$J$203,9,FALSE )-$E$7","v":58.28},{"$f":"Faces!D90","v":72},{"$f":"VLOOKUP(J90,Vertices!$A$11:$J$203,7,FALSE )-$C$7","v":{"v":29.924999999999997,"d":"29.93"}},{"$f":"VLOOKUP(J90,Vertices!$A$11:$J$203,8,FALSE )-$D$7","v":9.87},{"$f":"VLOOKUP(J90,Vertices!$A$11:$J$203,9,FALSE )-$E$7","v":54.53},{"v":1303.16198775,"d":"1303.16"},{"v":1303.16198775,"d":"1303.16"}]
[{"$f":"Faces!A91","v":81},{"$f":"Faces!B91","v":59},{"$f":"VLOOKUP(B91,Vertices!$A$11:$J$203,7,FALSE )-$C$7","v":{"v":40.675,"d":"40.68"}},{"$f":"VLOOKUP(B91,Vertices!$A$11:$J$203,8,FALSE )-$D$7","v":-2.16},{"$f":"VLOOKUP(B91,Vertices!$A$11:$J$203,9,FALSE )-$E$7","v":{"v":31.6,"d":"31.60"}},{"$f":"Faces!C91","v":71},{"$f":"VLOOKUP(F91,Vertices!$A$11:$J$203,7,FALSE )-$C$7","v":{"v":34.235,"d":"34.24"}},{"$f":"VLOOKUP(F91,Vertices!$A$11:$J$203,8,FALSE )-$D$7","v":3.32},{"$f":"VLOOKUP(F91,Vertices!$A$11:$J$203,9,FALSE )-$E$7","v":58.28},{"$f":"Faces!D91","v":60},{"$f":"VLOOKUP(J91,Vertices!$A$11:$J$203,7,FALSE )-$C$7","v":{"v":35.925,"d":"35.93"}},{"$f":"VLOOKUP(J91,Vertices!$A$11:$J$203,8,FALSE )-$D$7","v":4.65},{"$f":"VLOOKUP(J91,Vertices!$A$11:$J$203,9,FALSE )-$E$7","v":28.98},{"v":1371.2334769999998,"d":"1371.23"},{"v":1371.2334769999998,"d":"1371.23"}]
[{"$f":"Faces!A92","v":82},{"$f":"Faces!B92","v":59},{"$f":"VLOOKUP(B92,Vertices!$A$11:$J$203,7,FALSE )-$C$7","v":{"v":40.675,"d":"40.68"}},{"$f":"VLOOKUP(B92,Vertices!$A$11:$J$203,8,FALSE )-$D$7","v":-2.16},{"$f":"VLOOKUP(B92,Vertices!$A$11:$J$203,9,FALSE )-$E$7","v":{"v":31.6,"d":"31.60"}},{"$f":"Faces!C92","v":70},{"$f":"VLOOKUP(F92,Vertices!$A$11:$J$203,7,FALSE )-$C$7","v":{"v":38.83500000000001,"d":"38.84"}},{"$f":"VLOOKUP(F92,Vertices!$A$11:$J$203,8,FALSE )-$D$7","v":-3.55},{"$f":"VLOOKUP(F92,Vertices!$A$11:$J$203,9,FALSE )-$E$7","v":62.44},{"$f":"Faces!D92","v":71},{"$f":"VLOOKUP(J92,Vertices!$A$11:$J$203,7,FALSE )-$C$7","v":{"v":34.235,"d":"34.24"}},{"$f":"VLOOKUP(J92,Vertices!$A$11:$J$203,8,FALSE )-$D$7","v":3.32},{"$f":"VLOOKUP(J92,Vertices!$A$11:$J$203,9,FALSE )-$E$7","v":58.28},{"v":1443.5309343333327,"d":"1443.53"},{"v":1443.5309343333327,"d":"1443.53"}]
[{"$f":"Faces!A93","v":83},{"$f":"Faces!B93","v":5},{"$f":"VLOOKUP(B93,Vertices!$A$11:$J$203,7,FALSE )-$C$7","v":{"v":8.515,"d":"8.52"}},{"$f":"VLOOKUP(B93,Vertices!$A$11:$J$203,8,FALSE )-$D$7","v":52.78},{"$f":"VLOOKUP(B93,Vertices!$A$11:$J$203,9,FALSE )-$E$7","v":-6.79},{"$f":"Faces!C93","v":42},{"$f":"VLOOKUP(F93,Vertices!$A$11:$J$203,7,FALSE )-$C$7","v":{"v":-3.164999999999999,"d":"-3.17"}},{"$f":"VLOOKUP(F93,Vertices!$A$11:$J$203,8,FALSE )-$D$7","v":{"v":74.1,"d":"74.10"}},{"$f":"VLOOKUP(F93,Vertices!$A$11:$J$203,9,FALSE )-$E$7","v":0.87},{"$f":"Faces!D93","v":6},{"$f":"VLOOKUP(J93,Vertices!$A$11:$J$203,7,FALSE )-$C$7","v":{"v":-3.4549999999999983,"d":"-3.46"}},{"$f":"VLOOKUP(J93,Vertices!$A$11:$J$203,8,FALSE )-$D$7","v":{"v":75,"d":"75.00"}},{"$f":"VLOOKUP(J93,Vertices!$A$11:$J$203,9,FALSE )-$E$7","v":{"v":-4,"d":"-4.00"}},{"v":672.1437179999998,"d":"672.14"},{"v":672.1437179999998,"d":"672.14"}]
[{"$f":"Faces!A94","v":84},{"$f":"Faces!B94","v":5},{"$f":"VLOOKUP(B94,Vertices!$A$11:$J$203,7,FALSE )-$C$7","v":{"v":8.515,"d":"8.52"}},{"$f":"VLOOKUP(B94,Vertices!$A$11:$J$203,8,FALSE )-$D$7","v":52.78},{"$f":"VLOOKUP(B94,Vertices!$A$11:$J$203,9,FALSE )-$E$7","v":-6.79},{"$f":"Faces!C94","v":41},{"$f":"VLOOKUP(F94,Vertices!$A$11:$J$203,7,FALSE )-$C$7","v":{"v":8.515,"d":"8.52"}},{"$f":"VLOOKUP(F94,Vertices!$A$11:$J$203,8,FALSE )-$D$7","v":51.94},{"$f":"VLOOKUP(F94,Vertices!$A$11:$J$203,9,FALSE )-$E$7","v":-0.71},{"$f":"Faces!D94","v":42},{"$f":"VLOOKUP(J94,Vertices!$A$11:$J$203,7,FALSE )-$C$7","v":{"v":-3.164999999999999,"d":"-3.17"}},{"$f":"VLOOKUP(J94,Vertices!$A$11:$J$203,8,FALSE )-$D$7","v":{"v":74.1,"d":"74.10"}},{"$f":"VLOOKUP(J94,Vertices!$A$11:$J$203,9,FALSE )-$E$7","v":0.87},{"v":806.6788139999999,"d":"806.68"},{"v":806.6788139999999,"d":"806.68"}]
[{"$f":"Faces!A95","v":85},{"$f":"Faces!B95","v":41},{"$f":"VLOOKUP(B95,Vertices!$A$11:$J$203,7,FALSE )-$C$7","v":{"v":8.515,"d":"8.52"}},{"$f":"VLOOKUP(B95,Vertices!$A$11:$J$203,8,FALSE )-$D$7","v":51.94},{"$f":"VLOOKUP(B95,Vertices!$A$11:$J$203,9,FALSE )-$E$7","v":-0.71},{"$f":"Faces!C95","v":53},{"$f":"VLOOKUP(F95,Vertices!$A$11:$J$203,7,FALSE )-$C$7","v":{"v":-2.9849999999999994,"d":"-2.99"}},{"$f":"VLOOKUP(F95,Vertices!$A$11:$J$203,8,FALSE )-$D$7","v":73.14},{"$f":"VLOOKUP(F95,Vertices!$A$11:$J$203,9,FALSE )-$E$7","v":5.87},{"$f":"Faces!D95","v":42},{"$f":"VLOOKUP(J95,Vertices!$A$11:$J$203,7,FALSE )-$C$7","v":{"v":-3.164999999999999,"d":"-3.17"}},{"$f":"VLOOKUP(J95,Vertices!$A$11:$J$203,8,FALSE )-$D$7","v":{"v":74.1,"d":"74.10"}},{"$f":"VLOOKUP(J95,Vertices!$A$11:$J$203,9,FALSE )-$E$7","v":0.87},{"v":666.5527079999999,"d":"666.55"},{"v":666.5527079999999,"d":"666.55"}]
[{"$f":"Faces!A96","v":86},{"$f":"Faces!B96","v":41},{"$f":"VLOOKUP(B96,Vertices!$A$11:$J$203,7,FALSE )-$C$7","v":{"v":8.515,"d":"8.52"}},{"$f":"VLOOKUP(B96,Vertices!$A$11:$J$203,8,FALSE )-$D$7","v":51.94},{"$f":"VLOOKUP(B96,Vertices!$A$11:$J$203,9,FALSE )-$E$7","v":-0.71},{"$f":"Faces!C96","v":52},{"$f":"VLOOKUP(F96,Vertices!$A$11:$J$203,7,FALSE )-$C$7","v":{"v":8.454999999999998,"d":"8.46"}},{"$f":"VLOOKUP(F96,Vertices!$A$11:$J$203,8,FALSE )-$D$7","v":51.04},{"$f":"VLOOKUP(F96,Vertices!$A$11:$J$203,9,FALSE )-$E$7","v":5.29},{"$f":"Faces!D96","v":53},{"$f":"VLOOKUP(J96,Vertices!$A$11:$J$203,7,FALSE )-$C$7","v":{"v":-2.9849999999999994,"d":"-2.99"}},{"$f":"VLOOKUP(J96,Vertices!$A$11:$J$203,8,FALSE )-$D$7","v":73.14},{"$f":"VLOOKUP(J96,Vertices!$A$11:$J$203,9,FALSE )-$E$7","v":5.87},{"v":781.4393829999998,"d":"781.44"},{"v":781.4393829999998,"d":"781.44"}]
[{"$f":"Faces!A97","v":87},{"$f":"Faces!B97","v":52},{"$f":"VLOOKUP(B97,Vertices!$A$11:$J$203,7,FALSE )-$C$7","v":{"v":8.454999999999998,"d":"8.46"}},{"$f":"VLOOKUP(B97,Vertices!$A$11:$J$203,8,FALSE )-$D$7","v":51.04},{"$f":"VLOOKUP(B97,Vertices!$A$11:$J$203,9,FALSE )-$E$7","v":5.29},{"$f":"Faces!C97","v":64},{"$f":"VLOOKUP(F97,Vertices!$A$11:$J$203,7,FALSE )-$C$7","v":{"v":-2.844999999999999,"d":"-2.85"}},{"$f":"VLOOKUP(F97,Vertices!$A$11:$J$203,8,FALSE )-$D$7","v":71.46},{"$f":"VLOOKUP(F97,Vertices!$A$11:$J$203,9,FALSE )-$E$7","v":16.14},{"$f":"Faces!D97","v":53},{"$f":"VLOOKUP(J97,Vertices!$A$11:$J$203,7,FALSE )-$C$7","v":{"v":-2.9849999999999994,"d":"-2.99"}},{"$f":"VLOOKUP(J97,Vertices!$A$11:$J$203,8,FALSE )-$D$7","v":73.14},{"$f":"VLOOKUP(J97,Vertices!$A$11:$J$203,9,FALSE )-$E$7","v":5.87},{"v":1335.5532741666666,"d":"1335.55"},{"v":1335.5532741666666,"d":"1335.55"}]
[{"$f":"Faces!A98","v":88},{"$f":"Faces!B98","v":52},{"$f":"VLOOKUP(B98,Vertices!$A$11:$J$203,7,FALSE )-$C$7","v":{"v":8.454999999999998,"d":"8.46"}},{"$f":"VLOOKUP(B98,Vertices!$A$11:$J$203,8,FALSE )-$D$7","v":51.04},{"$f":"VLOOKUP(B98,Vertices!$A$11:$J$203,9,FALSE )-$E$7","v":5.29},{"$f":"Faces!C98","v":63},{"$f":"VLOOKUP(F98,Vertices!$A$11:$J$203,7,FALSE )-$C$7","v":{"v":8.245000000000005,"d":"8.25"}},{"$f":"VLOOKUP(F98,Vertices!$A$11:$J$203,8,FALSE )-$D$7","v":49.54},{"$f":"VLOOKUP(F98,Vertices!$A$11:$J$203,9,FALSE )-$E$7","v":17.71},{"$f":"Faces!D98","v":64},{"$f":"VLOOKUP(J98,Vertices!$A$11:$J$203,7,FALSE )-$C$7","v":{"v":-2.844999999999999,"d":"-2.85"}},{"$f":"VLOOKUP(J98,Vertices!$A$11:$J$203,8,FALSE )-$D$7","v":71.46},{"$f":"VLOOKUP(J98,Vertices!$A$11:$J$203,9,FALSE )-$E$7","v":16.14},{"v":1573.5411775000005,"d":"1573.54"},{"v":1573.5411775000005,"d":"1573.54"}]
[{"$f":"Faces!A99","v":89},{"$f":"Faces!B99","v":63},{"$f":"VLOOKUP(B99,Vertices!$A$11:$J$203,7,FALSE )-$C$7","v":{"v":8.245000000000005,"d":"8.25"}},{"$f":"VLOOKUP(B99,Vertices!$A$11:$J$203,8,FALSE )-$D$7","v":49.54},{"$f":"VLOOKUP(B99,Vertices!$A$11:$J$203,9,FALSE )-$E$7","v":17.71},{"$f":"Faces!C99","v":75},{"$f":"VLOOKUP(F99,Vertices!$A$11:$J$203,7,FALSE )-$C$7","v":{"v":-3.2049999999999983,"d":"-3.21"}},{"$f":"VLOOKUP(F99,Vertices!$A$11:$J$203,8,FALSE )-$D$7","v":69.27},{"$f":"VLOOKUP(F99,Vertices!$A$11:$J$203,9,FALSE )-$E$7","v":32.31},{"$f":"Faces!D99","v":64},{"$f":"VLOOKUP(J99,Vertices!$A$11:$J$203,7,FALSE )-$C$7","v":{"v":-2.844999999999999,"d":"-2.85"}},{"$f":"VLOOKUP(J99,Vertices!$A$11:$J$203,8,FALSE )-$D$7","v":71.46},{"$f":"VLOOKUP(J99,Vertices!$A$11:$J$203,9,FALSE )-$E$7","v":16.14},{"v":2062.61914125,"d":"2062.62"},{"v":2062.61914125,"d":"2062.62"}]
[{"$f":"Faces!A100","v":90},{"$f":"Faces!B100","v":63},{"$f":"VLOOKUP(B100,Vertices!$A$11:$J$203,7,FALSE )-$C$7","v":{"v":8.245000000000005,"d":"8.25"}},{"$f":"VLOOKUP(B100,Vertices!$A$11:$J$203,8,FALSE )-$D$7","v":49.54},{"$f":"VLOOKUP(B100,Vertices!$A$11:$J$203,9,FALSE )-$E$7","v":17.71},{"$f":"Faces!C100","v":74},{"$f":"VLOOKUP(F100,Vertices!$A$11:$J$203,7,FALSE )-$C$7","v":{"v":7.555,"d":"7.56"}},{"$f":"VLOOKUP(F100,Vertices!$A$11:$J$203,8,FALSE )-$D$7","v":47.84},{"$f":"VLOOKUP(F100,Vertices!$A$11:$J$203,9,FALSE )-$E$7","v":37.98},{"$f":"Faces!D100","v":75},{"$f":"VLOOKUP(J100,Vertices!$A$11:$J$203,7,FALSE )-$C$7","v":{"v":-3.2049999999999983,"d":"-3.21"}},{"$f":"VLOOKUP(J100,Vertices!$A$11:$J$203,8,FALSE )-$D$7","v":69.27},{"$f":"VLOOKUP(J100,Vertices!$A$11:$J$203,9,FALSE )-$E$7","v":32.31},{"v":2514.4350944166654,"d":"2514.44"},{"v":2514.4350944166654,"d":"2514.44"}]
[{"$f":"Faces!A101","v":91},{"$f":"Faces!B101","v":74},{"$f":"VLOOKUP(B101,Vertices!$A$11:$J$203,7,FALSE )-$C$7","v":{"v":7.555,"d":"7.56"}},{"$f":"VLOOKUP(B101,Vertices!$A$11:$J$203,8,FALSE )-$D$7","v":47.84},{"$f":"VLOOKUP(B101,Vertices!$A$11:$J$203,9,FALSE )-$E$7","v":37.98},{"$f":"Faces!C101","v":86},{"$f":"VLOOKUP(F101,Vertices!$A$11:$J$203,7,FALSE )-$C$7","v":{"v":-4.454999999999998,"d":"-4.46"}},{"$f":"VLOOKUP(F101,Vertices!$A$11:$J$203,8,FALSE )-$D$7","v":{"v":68,"d":"68.00"}},{"$f":"VLOOKUP(F101,Vertices!$A$11:$J$203,9,FALSE )-$E$7","v":{"v":48,"d":"48.00"}},{"$f":"Faces!D101","v":75},{"$f":"VLOOKUP(J101,Vertices!$A$11:$J$203,7,FALSE )-$C$7","v":{"v":-3.2049999999999983,"d":"-3.21"}},{"$f":"VLOOKUP(J101,Vertices!$A$11:$J$203,8,FALSE )-$D$7","v":69.27},{"$f":"VLOOKUP(J101,Vertices!$A$11:$J$203,9,FALSE )-$E$7","v":32.31},{"v":2072.980718499999,"d":"2072.98"},{"v":2072.980718499999,"d":"2072.98"}]
[{"$f":"Faces!A102","v":92},{"$f":"Faces!B102","v":74},{"$f":"VLOOKUP(B102,Vertices!$A$11:$J$203,7,FALSE )-$C$7","v":{"v":7.555,"d":"7.56"}},{"$f":"VLOOKUP(B102,Vertices!$A$11:$J$203,8,FALSE )-$D$7","v":47.84},{"$f":"VLOOKUP(B102,Vertices!$A$11:$J$203,9,FALSE )-$E$7","v":37.98},{"$f":"Faces!C102","v":85},{"$f":"VLOOKUP(F102,Vertices!$A$11:$J$203,7,FALSE )-$C$7","v":{"v":6.524999999999999,"d":"6.53"}},{"$f":"VLOOKUP(F102,Vertices!$A$11:$J$203,8,FALSE )-$D$7","v":46.89},{"$f":"VLOOKUP(F102,Vertices!$A$11:$J$203,9,FALSE )-$E$7","v":57.54},{"$f":"Faces!D102","v":86},{"$f":"VLOOKUP(J102,Vertices!$A$11:$J$203,7,FALSE )-$C$7","v":{"v":-4.454999999999998,"d":"-4.46"}},{"$f":"VLOOKUP(J102,Vertices!$A$11:$J$203,8,FALSE )-$D$7","v":{"v":68,"d":"68.00"}},{"$f":"VLOOKUP(J102,Vertices!$A$11:$J$203,9,FALSE )-$E$7","v":{"v":48,"d":"48.00"}},{"v":2502.9468145000005,"d":"2502.95"},{"v":2502.9468145000005,"d":"2502.95"}]
[{"$f":"Faces!A103","v":93},{"$f":"Faces!B103","v":73},{"$f":"VLOOKUP(B103,Vertices!$A$11:$J$203,7,FALSE )-$C$7","v":{"v":21.034999999999997,"d":"21.04"}},{"$f":"VLOOKUP(B103,Vertices!$A$11:$J$203,8,FALSE )-$D$7","v":24.04},{"$f":"VLOOKUP(B103,Vertices!$A$11:$J$203,9,FALSE )-$E$7","v":47.27},{"$f":"Faces!C103","v":85},{"$f":"VLOOKUP(F103,Vertices!$A$11:$J$203,7,FALSE )-$C$7","v":{"v":6.524999999999999,"d":"6.53"}},{"$f":"VLOOKUP(F103,Vertices!$A$11:$J$203,8,FALSE )-$D$7","v":46.89},{"$f":"VLOOKUP(F103,Vertices!$A$11:$J$203,9,FALSE )-$E$7","v":57.54},{"$f":"Faces!D103","v":74},{"$f":"VLOOKUP(J103,Vertices!$A$11:$J$203,7,FALSE )-$C$7","v":{"v":7.555,"d":"7.56"}},{"$f":"VLOOKUP(J103,Vertices!$A$11:$J$203,8,FALSE )-$D$7","v":47.84},{"$f":"VLOOKUP(J103,Vertices!$A$11:$J$203,9,FALSE )-$E$7","v":37.98},{"v":2989.9138312500013,"d":"2989.91"},{"v":2989.9138312500013,"d":"2989.91"}]
[{"$f":"Faces!A104","v":94},{"$f":"Faces!B104","v":73},{"$f":"VLOOKUP(B104,Vertices!$A$11:$J$203,7,FALSE )-$C$7","v":{"v":21.034999999999997,"d":"21.04"}},{"$f":"VLOOKUP(B104,Vertices!$A$11:$J$203,8,FALSE )-$D$7","v":24.04},{"$f":"VLOOKUP(B104,Vertices!$A$11:$J$203,9,FALSE )-$E$7","v":47.27},{"$f":"Faces!C104","v":84},{"$f":"VLOOKUP(F104,Vertices!$A$11:$J$203,7,FALSE )-$C$7","v":{"v":19.905,"d":"19.91"}},{"$f":"VLOOKUP(F104,Vertices!$A$11:$J$203,8,FALSE )-$D$7","v":23.52},{"$f":"VLOOKUP(F104,Vertices!$A$11:$J$203,9,FALSE )-$E$7","v":71.84},{"$f":"Faces!D104","v":85},{"$f":"VLOOKUP(J104,Vertices!$A$11:$J$203,7,FALSE )-$C$7","v":{"v":6.524999999999999,"d":"6.53"}},{"$f":"VLOOKUP(J104,Vertices!$A$11:$J$203,8,FALSE )-$D$7","v":46.89},{"$f":"VLOOKUP(J104,Vertices!$A$11:$J$203,9,FALSE )-$E$7","v":57.54},{"v":3631.7711557499983,"d":"3631.77"},{"v":3631.7711557499983,"d":"3631.77"}]
[{"$f":"Faces!A105","v":95},{"$f":"Faces!B105","v":72},{"$f":"VLOOKUP(B105,Vertices!$A$11:$J$203,7,FALSE )-$C$7","v":{"v":29.924999999999997,"d":"29.93"}},{"$f":"VLOOKUP(B105,Vertices!$A$11:$J$203,8,FALSE )-$D$7","v":9.87},{"$f":"VLOOKUP(B105,Vertices!$A$11:$J$203,9,FALSE )-$E$7","v":54.53},{"$f":"Faces!C105","v":84},{"$f":"VLOOKUP(F105,Vertices!$A$11:$J$203,7,FALSE )-$C$7","v":{"v":19.905,"d":"19.91"}},{"$f":"VLOOKUP(F105,Vertices!$A$11:$J$203,8,FALSE )-$D$7","v":23.52},{"$f":"VLOOKUP(F105,Vertices!$A$11:$J$203,9,FALSE )-$E$7","v":71.84},{"$f":"Faces!D105","v":73},{"$f":"VLOOKUP(J105,Vertices!$A$11:$J$203,7,FALSE )-$C$7","v":{"v":21.034999999999997,"d":"21.04"}},{"$f":"VLOOKUP(J105,Vertices!$A$11:$J$203,8,FALSE )-$D$7","v":24.04},{"$f":"VLOOKUP(J105,Vertices!$A$11:$J$203,9,FALSE )-$E$7","v":47.27},{"v":2277.948737750001,"d":"2277.95"},{"v":2277.948737750001,"d":"2277.95"}]
[{"$f":"Faces!A106","v":96},{"$f":"Faces!B106","v":72},{"$f":"VLOOKUP(B106,Vertices!$A$11:$J$203,7,FALSE )-$C$7","v":{"v":29.924999999999997,"d":"29.93"}},{"$f":"VLOOKUP(B106,Vertices!$A$11:$J$203,8,FALSE )-$D$7","v":9.87},{"$f":"VLOOKUP(B106,Vertices!$A$11:$J$203,9,FALSE )-$E$7","v":54.53},{"$f":"Faces!C106","v":83},{"$f":"VLOOKUP(F106,Vertices!$A$11:$J$203,7,FALSE )-$C$7","v":{"v":28.72500000000001,"d":"28.73"}},{"$f":"VLOOKUP(F106,Vertices!$A$11:$J$203,8,FALSE )-$D$7","v":9.35},{"$f":"VLOOKUP(F106,Vertices!$A$11:$J$203,9,FALSE )-$E$7","v":82.04},{"$f":"Faces!D106","v":84},{"$f":"VLOOKUP(J106,Vertices!$A$11:$J$203,7,FALSE )-$C$7","v":{"v":19.905,"d":"19.91"}},{"$f":"VLOOKUP(J106,Vertices!$A$11:$J$203,8,FALSE )-$D$7","v":23.52},{"$f":"VLOOKUP(J106,Vertices!$A$11:$J$203,9,FALSE )-$E$7","v":71.84},{"v":2533.252482249998,"d":"2533.25"},{"v":2533.252482249998,"d":"2533.25"}]
[{"$f":"Faces!A107","v":97},{"$f":"Faces!B107","v":71},{"$f":"VLOOKUP(B107,Vertices!$A$11:$J$203,7,FALSE )-$C$7","v":{"v":34.235,"d":"34.24"}},{"$f":"VLOOKUP(B107,Vertices!$A$11:$J$203,8,FALSE )-$D$7","v":3.32},{"$f":"VLOOKUP(B107,Vertices!$A$11:$J$203,9,FALSE )-$E$7","v":58.28},{"$f":"Faces!C107","v":83},{"$f":"VLOOKUP(F107,Vertices!$A$11:$J$203,7,FALSE )-$C$7","v":{"v":28.72500000000001,"d":"28.73"}},{"$f":"VLOOKUP(F107,Vertices!$A$11:$J$203,8,FALSE )-$D$7","v":9.35},{"$f":"VLOOKUP(F107,Vertices!$A$11:$J$203,9,FALSE )-$E$7","v":82.04},{"$f":"Faces!D107","v":72},{"$f":"VLOOKUP(J107,Vertices!$A$11:$J$203,7,FALSE )-$C$7","v":{"v":29.924999999999997,"d":"29.93"}},{"$f":"VLOOKUP(J107,Vertices!$A$11:$J$203,8,FALSE )-$D$7","v":9.87},{"$f":"VLOOKUP(J107,Vertices!$A$11:$J$203,9,FALSE )-$E$7","v":54.53},{"v":1183.224590916667,"d":"1183.22"},{"v":1183.224590916667,"d":"1183.22"}]
[{"$f":"Faces!A108","v":98},{"$f":"Faces!B108","v":71},{"$f":"VLOOKUP(B108,Vertices!$A$11:$J$203,7,FALSE )-$C$7","v":{"v":34.235,"d":"34.24"}},{"$f":"VLOOKUP(B108,Vertices!$A$11:$J$203,8,FALSE )-$D$7","v":3.32},{"$f":"VLOOKUP(B108,Vertices!$A$11:$J$203,9,FALSE )-$E$7","v":58.28},{"$f":"Faces!C108","v":82},{"$f":"VLOOKUP(F108,Vertices!$A$11:$J$203,7,FALSE )-$C$7","v":{"v":32.985,"d":"32.99"}},{"$f":"VLOOKUP(F108,Vertices!$A$11:$J$203,8,FALSE )-$D$7","v":2.78},{"$f":"VLOOKUP(F108,Vertices!$A$11:$J$203,9,FALSE )-$E$7","v":87.22},{"$f":"Faces!D108","v":83},{"$f":"VLOOKUP(J108,Vertices!$A$11:$J$203,7,FALSE )-$C$7","v":{"v":28.72500000000001,"d":"28.73"}},{"$f":"VLOOKUP(J108,Vertices!$A$11:$J$203,8,FALSE )-$D$7","v":9.35},{"$f":"VLOOKUP(J108,Vertices!$A$11:$J$203,9,FALSE )-$E$7","v":82.04},{"v":1242.8383318333329,"d":"1242.84"},{"v":1242.8383318333329,"d":"1242.84"}]
[{"$f":"Faces!A109","v":99},{"$f":"Faces!B109","v":70},{"$f":"VLOOKUP(B109,Vertices!$A$11:$J$203,7,FALSE )-$C$7","v":{"v":38.83500000000001,"d":"38.84"}},{"$f":"VLOOKUP(B109,Vertices!$A$11:$J$203,8,FALSE )-$D$7","v":-3.55},{"$f":"VLOOKUP(B109,Vertices!$A$11:$J$203,9,FALSE )-$E$7","v":62.44},{"$f":"Faces!C109","v":82},{"$f":"VLOOKUP(F109,Vertices!$A$11:$J$203,7,FALSE )-$C$7","v":{"v":32.985,"d":"32.99"}},{"$f":"VLOOKUP(F109,Vertices!$A$11:$J$203,8,FALSE )-$D$7","v":2.78},{"$f":"VLOOKUP(F109,Vertices!$A$11:$J$203,9,FALSE )-$E$7","v":87.22},{"$f":"Faces!D109","v":71},{"$f":"VLOOKUP(J109,Vertices!$A$11:$J$203,7,FALSE )-$C$7","v":{"v":34.235,"d":"34.24"}},{"$f":"VLOOKUP(J109,Vertices!$A$11:$J$203,8,FALSE )-$D$7","v":3.32},{"$f":"VLOOKUP(J109,Vertices!$A$11:$J$203,9,FALSE )-$E$7","v":58.28},{"v":1305.6840965000004,"d":"1305.68"},{"v":1305.6840965000004,"d":"1305.68"}]
[{"$f":"Faces!A110","v":100},{"$f":"Faces!B110","v":70},{"$f":"VLOOKUP(B110,Vertices!$A$11:$J$203,7,FALSE )-$C$7","v":{"v":38.83500000000001,"d":"38.84"}},{"$f":"VLOOKUP(B110,Vertices!$A$11:$J$203,8,FALSE )-$D$7","v":-3.55},{"$f":"VLOOKUP(B110,Vertices!$A$11:$J$203,9,FALSE )-$E$7","v":62.44},{"$f":"Faces!C110","v":81},{"$f":"VLOOKUP(F110,Vertices!$A$11:$J$203,7,FALSE )-$C$7","v":{"v":37.545,"d":"37.55"}},{"$f":"VLOOKUP(F110,Vertices!$A$11:$J$203,8,FALSE )-$D$7","v":{"v":-4,"d":"-4.00"}},{"$f":"VLOOKUP(F110,Vertices!$A$11:$J$203,9,FALSE )-$E$7","v":{"v":93,"d":"93.00"}},{"$f":"Faces!D110","v":82},{"$f":"VLOOKUP(J110,Vertices!$A$11:$J$203,7,FALSE )-$C$7","v":{"v":32.985,"d":"32.99"}},{"$f":"VLOOKUP(J110,Vertices!$A$11:$J$203,8,FALSE )-$D$7","v":2.78},{"$f":"VLOOKUP(J110,Vertices!$A$11:$J$203,9,FALSE )-$E$7","v":87.22},{"v":1349.7571185000004,"d":"1349.76"},{"v":1349.7571185000004,"d":"1349.76"}]
[{"$f":"Faces!A111","v":101},{"$f":"Faces!B111","v":1},{"$f":"VLOOKUP(B111,Vertices!$A$11:$J$203,7,FALSE )-$C$7","v":{"v":43.545,"d":"43.55"}},{"$f":"VLOOKUP(B111,Vertices!$A$11:$J$203,8,FALSE )-$D$7","v":{"v":1,"d":"1.00"}},{"$f":"VLOOKUP(B111,Vertices!$A$11:$J$203,9,FALSE )-$E$7","v":{"v":-4,"d":"-4.00"}},{"$f":"Faces!C111","v":7},{"$f":"VLOOKUP(F111,Vertices!$A$11:$J$203,7,FALSE )-$C$7","v":{"v":39.535,"d":"39.54"}},{"$f":"VLOOKUP(F111,Vertices!$A$11:$J$203,8,FALSE )-$D$7","v":-2.33},{"$f":"VLOOKUP(F111,Vertices!$A$11:$J$203,9,FALSE )-$E$7","v":-8.84},{"$f":"Faces!D111","v":43},{"$f":"VLOOKUP(J111,Vertices!$A$11:$J$203,7,FALSE )-$C$7","v":{"v":38.815,"d":"38.82"}},{"$f":"VLOOKUP(J111,Vertices!$A$11:$J$203,8,FALSE )-$D$7","v":-3.53},{"$f":"VLOOKUP(J111,Vertices!$A$11:$J$203,9,FALSE )-$E$7","v":-0.18},{"v":246.68292683333334,"d":"246.68"},{"v":246.68292683333334,"d":"246.68"}]
[{"$f":"Faces!A112","v":102},{"$f":"Faces!B112","v":1},{"$f":"VLOOKUP(B112,Vertices!$A$11:$J$203,7,FALSE )-$C$7","v":{"v":43.545,"d":"43.55"}},{"$f":"VLOOKUP(B112,Vertices!$A$11:$J$203,8,FALSE )-$D$7","v":{"v":1,"d":"1.00"}},{"$f":"VLOOKUP(B112,Vertices!$A$11:$J$203,9,FALSE )-$E$7","v":{"v":-4,"d":"-4.00"}},{"$f":"Faces!C112","v":43},{"$f":"VLOOKUP(F112,Vertices!$A$11:$J$203,7,FALSE )-$C$7","v":{"v":38.815,"d":"38.82"}},{"$f":"VLOOKUP(F112,Vertices!$A$11:$J$203,8,FALSE )-$D$7","v":-3.53},{"$f":"VLOOKUP(F112,Vertices!$A$11:$J$203,9,FALSE )-$E$7","v":-0.18},{"$f":"Faces!D112","v":37},{"$f":"VLOOKUP(J112,Vertices!$A$11:$J$203,7,FALSE )-$C$7","v":{"v":42.765,"d":"42.77"}},{"$f":"VLOOKUP(J112,Vertices!$A$11:$J$203,8,FALSE )-$D$7","v":0.12},{"$f":"VLOOKUP(J112,Vertices!$A$11:$J$203,9,FALSE )-$E$7","v":4.76},{"v":257.61124233333334,"d":"257.61"},{"v":257.61124233333334,"d":"257.61"}]
[{"$f":"Faces!A113","v":103},{"$f":"Faces!B113","v":7},{"$f":"VLOOKUP(B113,Vertices!$A$11:$J$203,7,FALSE )-$C$7","v":{"v":39.535,"d":"39.54"}},{"$f":"VLOOKUP(B113,Vertices!$A$11:$J$203,8,FALSE )-$D$7","v":-2.33},{"$f":"VLOOKUP(B113,Vertices!$A$11:$J$203,9,FALSE )-$E$7","v":-8.84},{"$f":"Faces!C113","v":13},{"$f":"VLOOKUP(F113,Vertices!$A$11:$J$203,7,FALSE )-$C$7","v":{"v":35.635000000000005,"d":"35.64"}},{"$f":"VLOOKUP(F113,Vertices!$A$11:$J$203,8,FALSE )-$D$7","v":-5.66},{"$f":"VLOOKUP(F113,Vertices!$A$11:$J$203,9,FALSE )-$E$7","v":-13.59},{"$f":"Faces!D113","v":44},{"$f":"VLOOKUP(J113,Vertices!$A$11:$J$203,7,FALSE )-$C$7","v":{"v":34.925,"d":"34.93"}},{"$f":"VLOOKUP(J113,Vertices!$A$11:$J$203,8,FALSE )-$D$7","v":-7.13},{"$f":"VLOOKUP(J113,Vertices!$A$11:$J$203,9,FALSE )-$E$7","v":{"v":-5,"d":"-5.00"}},{"v":253.77241916666654,"d":"253.77"},{"v":253.77241916666654,"d":"253.77"}]
[{"$f":"Faces!A114","v":104},{"$f":"Faces!B114","v":7},{"$f":"VLOOKUP(B114,Vertices!$A$11:$J$203,7,FALSE )-$C$7","v":{"v":39.535,"d":"39.54"}},{"$f":"VLOOKUP(B114,Vertices!$A$11:$J$203,8,FALSE )-$D$7","v":-2.33},{"$f":"VLOOKUP(B114,Vertices!$A$11:$J$203,9,FALSE )-$E$7","v":-8.84},{"$f":"Faces!C114","v":44},{"$f":"VLOOKUP(F114,Vertices!$A$11:$J$203,7,FALSE )-$C$7","v":{"v":34.925,"d":"34.93"}},{"$f":"VLOOKUP(F114,Vertices!$A$11:$J$203,8,FALSE )-$D$7","v":-7.13},{"$f":"VLOOKUP(F114,Vertices!$A$11:$J$203,9,FALSE )-$E$7","v":{"v":-5,"d":"-5.00"}},{"$f":"Faces!D114","v":43},{"$f":"VLOOKUP(J114,Vertices!$A$11:$J$203,7,FALSE )-$C$7","v":{"v":38.815,"d":"38.82"}},{"$f":"VLOOKUP(J114,Vertices!$A$11:$J$203,8,FALSE )-$D$7","v":-3.53},{"$f":"VLOOKUP(J114,Vertices!$A$11:$J$203,9,FALSE )-$E$7","v":-0.18},{"v":261.0238523333333,"d":"261.02"},{"v":261.0238523333333,"d":"261.02"}]
[{"$f":"Faces!A115","v":105},{"$f":"Faces!B115","v":43},{"$f":"VLOOKUP(B115,Vertices!$A$11:$J$203,7,FALSE )-$C$7","v":{"v":38.815,"d":"38.82"}},{"$f":"VLOOKUP(B115,Vertices!$A$11:$J$203,8,FALSE )-$D$7","v":-3.53},{"$f":"VLOOKUP(B115,Vertices!$A$11:$J$203,9,FALSE )-$E$7","v":-0.18},{"$f":"Faces!C115","v":44},{"$f":"VLOOKUP(F115,Vertices!$A$11:$J$203,7,FALSE )-$C$7","v":{"v":34.925,"d":"34.93"}},{"$f":"VLOOKUP(F115,Vertices!$A$11:$J$203,8,FALSE )-$D$7","v":-7.13},{"$f":"VLOOKUP(F115,Vertices!$A$11:$J$203,9,FALSE )-$E$7","v":{"v":-5,"d":"-5.00"}},{"$f":"Faces!D115","v":55},{"$f":"VLOOKUP(J115,Vertices!$A$11:$J$203,7,FALSE )-$C$7","v":{"v":34.30500000000001,"d":"34.31"}},{"$f":"VLOOKUP(J115,Vertices!$A$11:$J$203,8,FALSE )-$D$7","v":-8.38},{"$f":"VLOOKUP(J115,Vertices!$A$11:$J$203,9,FALSE )-$E$7","v":3.36},{"v":254.64269483333337,"d":"254.64"},{"v":254.64269483333337,"d":"254.64"}]
[{"$f":"Faces!A116","v":106},{"$f":"Faces!B116","v":43},{"$f":"VLOOKUP(B116,Vertices!$A$11:$J$203,7,FALSE )-$C$7","v":{"v":38.815,"d":"38.82"}},{"$f":"VLOOKUP(B116,Vertices!$A$11:$J$203,8,FALSE )-$D$7","v":-3.53},{"$f":"VLOOKUP(B116,Vertices!$A$11:$J$203,9,FALSE )-$E$7","v":-0.18},{"$f":"Faces!C116","v":55},{"$f":"VLOOKUP(F116,Vertices!$A$11:$J$203,7,FALSE )-$C$7","v":{"v":34.30500000000001,"d":"34.31"}},{"$f":"VLOOKUP(F116,Vertices!$A$11:$J$203,8,FALSE )-$D$7","v":-8.38},{"$f":"VLOOKUP(F116,Vertices!$A$11:$J$203,9,FALSE )-$E$7","v":3.36},{"$f":"Faces!D116","v":54},{"$f":"VLOOKUP(J116,Vertices!$A$11:$J$203,7,FALSE )-$C$7","v":{"v":38.125,"d":"38.13"}},{"$f":"VLOOKUP(J116,Vertices!$A$11:$J$203,8,FALSE )-$D$7","v":-4.56},{"$f":"VLOOKUP(J116,Vertices!$A$11:$J$203,9,FALSE )-$E$7","v":8.31},{"v":263.91889125,"d":"263.92"},{"v":263.91889125,"d":"263.92"}]
[{"$f":"Faces!A117","v":107},{"$f":"Faces!B117","v":37},{"$f":"VLOOKUP(B117,Vertices!$A$11:$J$203,7,FALSE )-$C$7","v":{"v":42.765,"d":"42.77"}},{"$f":"VLOOKUP(B117,Vertices!$A$11:$J$203,8,FALSE )-$D$7","v":0.12},{"$f":"VLOOKUP(B117,Vertices!$A$11:$J$203,9,FALSE )-$E$7","v":4.76},{"$f":"Faces!C117","v":43},{"$f":"VLOOKUP(F117,Vertices!$A$11:$J$203,7,FALSE )-$C$7","v":{"v":38.815,"d":"38.82"}},{"$f":"VLOOKUP(F117,Vertices!$A$11:$J$203,8,FALSE )-$D$7","v":-3.53},{"$f":"VLOOKUP(F117,Vertices!$A$11:$J$203,9,FALSE )-$E$7","v":-0.18},{"$f":"Faces!D117","v":54},{"$f":"VLOOKUP(J117,Vertices!$A$11:$J$203,7,FALSE )-$C$7","v":{"v":38.125,"d":"38.13"}},{"$f":"VLOOKUP(J117,Vertices!$A$11:$J$203,8,FALSE )-$D$7","v":-4.56},{"$f":"VLOOKUP(J117,Vertices!$A$11:$J$203,9,FALSE )-$E$7","v":8.31},{"v":255.16813058333332,"d":"255.17"},{"v":255.16813058333332,"d":"255.17"}]
[{"$f":"Faces!A118","v":108},{"$f":"Faces!B118","v":37},{"$f":"VLOOKUP(B118,Vertices!$A$11:$J$203,7,FALSE )-$C$7","v":{"v":42.765,"d":"42.77"}},{"$f":"VLOOKUP(B118,Vertices!$A$11:$J$203,8,FALSE )-$D$7","v":0.12},{"$f":"VLOOKUP(B118,Vertices!$A$11:$J$203,9,FALSE )-$E$7","v":4.76},{"$f":"Faces!C118","v":54},{"$f":"VLOOKUP(F118,Vertices!$A$11:$J$203,7,FALSE )-$C$7","v":{"v":38.125,"d":"38.13"}},{"$f":"VLOOKUP(F118,Vertices!$A$11:$J$203,8,FALSE )-$D$7","v":-4.56},{"$f":"VLOOKUP(F118,Vertices!$A$11:$J$203,9,FALSE )-$E$7","v":8.31},{"$f":"Faces!D118","v":48},{"$f":"VLOOKUP(J118,Vertices!$A$11:$J$203,7,FALSE )-$C$7","v":{"v":42.035,"d":"42.04"}},{"$f":"VLOOKUP(J118,Vertices!$A$11:$J$203,8,FALSE )-$D$7","v":-0.71},{"$f":"VLOOKUP(J118,Vertices!$A$11:$J$203,9,FALSE )-$E$7","v":13.36},{"v":264.7752499166666,"d":"264.78"},{"v":264.7752499166666,"d":"264.78"}]
[{"$f":"Faces!A119","v":109},{"$f":"Faces!B119","v":13},{"$f":"VLOOKUP(B119,Vertices!$A$11:$J$203,7,FALSE )-$C$7","v":{"v":35.635000000000005,"d":"35.64"}},{"$f":"VLOOKUP(B119,Vertices!$A$11:$J$203,8,FALSE )-$D$7","v":-5.66},{"$f":"VLOOKUP(B119,Vertices!$A$11:$J$203,9,FALSE )-$E$7","v":-13.59},{"$f":"Faces!C119","v":19},{"$f":"VLOOKUP(F119,Vertices!$A$11:$J$203,7,FALSE )-$C$7","v":{"v":27.695000000000007,"d":"27.70"}},{"$f":"VLOOKUP(F119,Vertices!$A$11:$J$203,8,FALSE )-$D$7","v":-12.76},{"$f":"VLOOKUP(F119,Vertices!$A$11:$J$203,9,FALSE )-$E$7","v":-23.17},{"$f":"Faces!D119","v":45},{"$f":"VLOOKUP(J119,Vertices!$A$11:$J$203,7,FALSE )-$C$7","v":{"v":27.095,"d":"27.10"}},{"$f":"VLOOKUP(J119,Vertices!$A$11:$J$203,8,FALSE )-$D$7","v":-14.75},{"$f":"VLOOKUP(J119,Vertices!$A$11:$J$203,9,FALSE )-$E$7","v":-14.77},{"v":561.9156601666666,"d":"561.92"},{"v":561.9156601666666,"d":"561.92"}]
[{"$f":"Faces!A120","v":110},{"$f":"Faces!B120","v":13},{"$f":"VLOOKUP(B120,Vertices!$A$11:$J$203,7,FALSE )-$C$7","v":{"v":35.635000000000005,"d":"35.64"}},{"$f":"VLOOKUP(B120,Vertices!$A$11:$J$203,8,FALSE )-$D$7","v":-5.66},{"$f":"VLOOKUP(B120,Vertices!$A$11:$J$203,9,FALSE )-$E$7","v":-13.59},{"$f":"Faces!C120","v":45},{"$f":"VLOOKUP(F120,Vertices!$A$11:$J$203,7,FALSE )-$C$7","v":{"v":27.095,"d":"27.10"}},{"$f":"VLOOKUP(F120,Vertices!$A$11:$J$203,8,FALSE )-$D$7","v":-14.75},{"$f":"VLOOKUP(F120,Vertices!$A$11:$J$203,9,FALSE )-$E$7","v":-14.77},{"$f":"Faces!D120","v":44},{"$f":"VLOOKUP(J120,Vertices!$A$11:$J$203,7,FALSE )-$C$7","v":{"v":34.925,"d":"34.93"}},{"$f":"VLOOKUP(J120,Vertices!$A$11:$J$203,8,FALSE )-$D$7","v":-7.13},{"$f":"VLOOKUP(J120,Vertices!$A$11:$J$203,9,FALSE )-$E$7","v":{"v":-5,"d":"-5.00"}},{"v":557.8588340833332,"d":"557.86"},{"v":557.8588340833332,"d":"557.86"}]
[{"$f":"Faces!A121","v":111},{"$f":"Faces!B121","v":44},{"$f":"VLOOKUP(B121,Vertices!$A$11:$J$203,7,FALSE )-$C$7","v":{"v":34.925,"d":"34.93"}},{"$f":"VLOOKUP(B121,Vertices!$A$11:$J$203,8,FALSE )-$D$7","v":-7.13},{"$f":"VLOOKUP(B121,Vertices!$A$11:$J$203,9,FALSE )-$E$7","v":{"v":-5,"d":"-5.00"}},{"$f":"Faces!C121","v":45},{"$f":"VLOOKUP(F121,Vertices!$A$11:$J$203,7,FALSE )-$C$7","v":{"v":27.095,"d":"27.10"}},{"$f":"VLOOKUP(F121,Vertices!$A$11:$J$203,8,FALSE )-$D$7","v":-14.75},{"$f":"VLOOKUP(F121,Vertices!$A$11:$J$203,9,FALSE )-$E$7","v":-14.77},{"$f":"Faces!D121","v":56},{"$f":"VLOOKUP(J121,Vertices!$A$11:$J$203,7,FALSE )-$C$7","v":{"v":26.525000000000006,"d":"26.53"}},{"$f":"VLOOKUP(J121,Vertices!$A$11:$J$203,8,FALSE )-$D$7","v":-16.63},{"$f":"VLOOKUP(J121,Vertices!$A$11:$J$203,9,FALSE )-$E$7","v":-6.56},{"v":562.7236218333333,"d":"562.72"},{"v":562.7236218333333,"d":"562.72"}]
[{"$f":"Faces!A122","v":112},{"$f":"Faces!B122","v":44},{"$f":"VLOOKUP(B122,Vertices!$A$11:$J$203,7,FALSE )-$C$7","v":{"v":34.925,"d":"34.93"}},{"$f":"VLOOKUP(B122,Vertices!$A$11:$J$203,8,FALSE )-$D$7","v":-7.13},{"$f":"VLOOKUP(B122,Vertices!$A$11:$J$203,9,FALSE )-$E$7","v":{"v":-5,"d":"-5.00"}},{"$f":"Faces!C122","v":56},{"$f":"VLOOKUP(F122,Vertices!$A$11:$J$203,7,FALSE )-$C$7","v":{"v":26.525000000000006,"d":"26.53"}},{"$f":"VLOOKUP(F122,Vertices!$A$11:$J$203,8,FALSE )-$D$7","v":-16.63},{"$f":"VLOOKUP(F122,Vertices!$A$11:$J$203,9,FALSE )-$E$7","v":-6.56},{"$f":"Faces!D122","v":55},{"$f":"VLOOKUP(J122,Vertices!$A$11:$J$203,7,FALSE )-$C$7","v":{"v":34.30500000000001,"d":"34.31"}},{"$f":"VLOOKUP(J122,Vertices!$A$11:$J$203,8,FALSE )-$D$7","v":-8.38},{"$f":"VLOOKUP(J122,Vertices!$A$11:$J$203,9,FALSE )-$E$7","v":3.36},{"v":562.0817509999998,"d":"562.08"},{"v":562.0817509999998,"d":"562.08"}]
[{"$f":"Faces!A123","v":113},{"$f":"Faces!B123","v":55},{"$f":"VLOOKUP(B123,Vertices!$A$11:$J$203,7,FALSE )-$C$7","v":{"v":34.30500000000001,"d":"34.31"}},{"$f":"VLOOKUP(B123,Vertices!$A$11:$J$203,8,FALSE )-$D$7","v":-8.38},{"$f":"VLOOKUP(B123,Vertices!$A$11:$J$203,9,FALSE )-$E$7","v":3.36},{"$f":"Faces!C123","v":56},{"$f":"VLOOKUP(F123,Vertices!$A$11:$J$203,7,FALSE )-$C$7","v":{"v":26.525000000000006,"d":"26.53"}},{"$f":"VLOOKUP(F123,Vertices!$A$11:$J$203,8,FALSE )-$D$7","v":-16.63},{"$f":"VLOOKUP(F123,Vertices!$A$11:$J$203,9,FALSE )-$E$7","v":-6.56},{"$f":"Faces!D123","v":67},{"$f":"VLOOKUP(J123,Vertices!$A$11:$J$203,7,FALSE )-$C$7","v":{"v":25.435000000000002,"d":"25.44"}},{"$f":"VLOOKUP(J123,Vertices!$A$11:$J$203,8,FALSE )-$D$7","v":-19.94},{"$f":"VLOOKUP(J123,Vertices!$A$11:$J$203,9,FALSE )-$E$7","v":10.51},{"v":1184.116914583333,"d":"1184.12"},{"v":1184.116914583333,"d":"1184.12"}]
[{"$f":"Faces!A124","v":114},{"$f":"Faces!B124","v":55},{"$f":"VLOOKUP(B124,Vertices!$A$11:$J$203,7,FALSE )-$C$7","v":{"v":34.30500000000001,"d":"34.31"}},{"$f":"VLOOKUP(B124,Vertices!$A$11:$J$203,8,FALSE )-$D$7","v":-8.38},{"$f":"VLOOKUP(B124,Vertices!$A$11:$J$203,9,FALSE )-$E$7","v":3.36},{"$f":"Faces!C124","v":67},{"$f":"VLOOKUP(F124,Vertices!$A$11:$J$203,7,FALSE )-$C$7","v":{"v":25.435000000000002,"d":"25.44"}},{"$f":"VLOOKUP(F124,Vertices!$A$11:$J$203,8,FALSE )-$D$7","v":-19.94},{"$f":"VLOOKUP(F124,Vertices!$A$11:$J$203,9,FALSE )-$E$7","v":10.51},{"$f":"Faces!D124","v":66},{"$f":"VLOOKUP(J124,Vertices!$A$11:$J$203,7,FALSE )-$C$7","v":{"v":33.08500000000001,"d":"33.09"}},{"$f":"VLOOKUP(J124,Vertices!$A$11:$J$203,8,FALSE )-$D$7","v":-10.68},{"$f":"VLOOKUP(J124,Vertices!$A$11:$J$203,9,FALSE )-$E$7","v":21.05},{"v":1278.6253738333342,"d":"1278.63"},{"v":1278.6253738333342,"d":"1278.63"}]
[{"$f":"Faces!A125","v":115},{"$f":"Faces!B125","v":54},{"$f":"VLOOKUP(B125,Vertices!$A$11:$J$203,7,FALSE )-$C$7","v":{"v":38.125,"d":"38.13"}},{"$f":"VLOOKUP(B125,Vertices!$A$11:$J$203,8,FALSE )-$D$7","v":-4.56},{"$f":"VLOOKUP(B125,Vertices!$A$11:$J$203,9,FALSE )-$E$7","v":8.31},{"$f":"Faces!C125","v":55},{"$f":"VLOOKUP(F125,Vertices!$A$11:$J$203,7,FALSE )-$C$7","v":{"v":34.30500000000001,"d":"34.31"}},{"$f":"VLOOKUP(F125,Vertices!$A$11:$J$203,8,FALSE )-$D$7","v":-8.38},{"$f":"VLOOKUP(F125,Vertices!$A$11:$J$203,9,FALSE )-$E$7","v":3.36},{"$f":"Faces!D125","v":66},{"$f":"VLOOKUP(J125,Vertices!$A$11:$J$203,7,FALSE )-$C$7","v":{"v":33.08500000000001,"d":"33.09"}},{"$f":"VLOOKUP(J125,Vertices!$A$11:$J$203,8,FALSE )-$D$7","v":-10.68},{"$f":"VLOOKUP(J125,Vertices!$A$11:$J$203,9,FALSE )-$E$7","v":21.05},{"v":551.9633753333335,"d":"551.96"},{"v":551.9633753333335,"d":"551.96"}]
[{"$f":"Faces!A126","v":116},{"$f":"Faces!B126","v":54},{"$f":"VLOOKUP(B126,Vertices!$A$11:$J$203,7,FALSE )-$C$7","v":{"v":38.125,"d":"38.13"}},{"$f":"VLOOKUP(B126,Vertices!$A$11:$J$203,8,FALSE )-$D$7","v":-4.56},{"$f":"VLOOKUP(B126,Vertices!$A$11:$J$203,9,FALSE )-$E$7","v":8.31},{"$f":"Faces!C126","v":66},{"$f":"VLOOKUP(F126,Vertices!$A$11:$J$203,7,FALSE )-$C$7","v":{"v":33.08500000000001,"d":"33.09"}},{"$f":"VLOOKUP(F126,Vertices!$A$11:$J$203,8,FALSE )-$D$7","v":-10.68},{"$f":"VLOOKUP(F126,Vertices!$A$11:$J$203,9,FALSE )-$E$7","v":21.05},{"$f":"Faces!D126","v":65},{"$f":"VLOOKUP(J126,Vertices!$A$11:$J$203,7,FALSE )-$C$7","v":{"v":36.83500000000001,"d":"36.84"}},{"$f":"VLOOKUP(J126,Vertices!$A$11:$J$203,8,FALSE )-$D$7","v":-6.45},{"$f":"VLOOKUP(J126,Vertices!$A$11:$J$203,9,FALSE )-$E$7","v":26.23},{"v":597.7563765,"d":"597.76"},{"v":597.7563765,"d":"597.76"}]
[{"$f":"Faces!A127","v":117},{"$f":"Faces!B127","v":48},{"$f":"VLOOKUP(B127,Vertices!$A$11:$J$203,7,FALSE )-$C$7","v":{"v":42.035,"d":"42.04"}},{"$f":"VLOOKUP(B127,Vertices!$A$11:$J$203,8,FALSE )-$D$7","v":-0.71},{"$f":"VLOOKUP(B127,Vertices!$A$11:$J$203,9,FALSE )-$E$7","v":13.36},{"$f":"Faces!C127","v":54},{"$f":"VLOOKUP(F127,Vertices!$A$11:$J$203,7,FALSE )-$C$7","v":{"v":38.125,"d":"38.13"}},{"$f":"VLOOKUP(F127,Vertices!$A$11:$J$203,8,FALSE )-$D$7","v":-4.56},{"$f":"VLOOKUP(F127,Vertices!$A$11:$J$203,9,FALSE )-$E$7","v":8.31},{"$f":"Faces!D127","v":65},{"$f":"VLOOKUP(J127,Vertices!$A$11:$J$203,7,FALSE )-$C$7","v":{"v":36.83500000000001,"d":"36.84"}},{"$f":"VLOOKUP(J127,Vertices!$A$11:$J$203,8,FALSE )-$D$7","v":-6.45},{"$f":"VLOOKUP(J127,Vertices!$A$11:$J$203,9,FALSE )-$E$7","v":26.23},{"v":553.8796934166667,"d":"553.88"},{"v":553.8796934166667,"d":"553.88"}]
[{"$f":"Faces!A128","v":118},{"$f":"Faces!B128","v":48},{"$f":"VLOOKUP(B128,Vertices!$A$11:$J$203,7,FALSE )-$C$7","v":{"v":42.035,"d":"42.04"}},{"$f":"VLOOKUP(B128,Vertices!$A$11:$J$203,8,FALSE )-$D$7","v":-0.71},{"$f":"VLOOKUP(B128,Vertices!$A$11:$J$203,9,FALSE )-$E$7","v":13.36},{"$f":"Faces!C128","v":65},{"$f":"VLOOKUP(F128,Vertices!$A$11:$J$203,7,FALSE )-$C$7","v":{"v":36.83500000000001,"d":"36.84"}},{"$f":"VLOOKUP(F128,Vertices!$A$11:$J$203,8,FALSE )-$D$7","v":-6.45},{"$f":"VLOOKUP(F128,Vertices!$A$11:$J$203,9,FALSE )-$E$7","v":26.23},{"$f":"Faces!D128","v":59},{"$f":"VLOOKUP(J128,Vertices!$A$11:$J$203,7,FALSE )-$C$7","v":{"v":40.675,"d":"40.68"}},{"$f":"VLOOKUP(J128,Vertices!$A$11:$J$203,8,FALSE )-$D$7","v":-2.16},{"$f":"VLOOKUP(J128,Vertices!$A$11:$J$203,9,FALSE )-$E$7","v":{"v":31.6,"d":"31.60"}},{"v":612.5002292499997,"d":"612.50"},{"v":612.5002292499997,"d":"612.50"}]
[{"$f":"Faces!A129","v":119},{"$f":"Faces!B129","v":19},{"$f":"VLOOKUP(B129,Vertices!$A$11:$J$203,7,FALSE )-$C$7","v":{"v":27.695000000000007,"d":"27.70"}},{"$f":"VLOOKUP(B129,Vertices!$A$11:$J$203,8,FALSE )-$D$7","v":-12.76},{"$f":"VLOOKUP(B129,Vertices!$A$11:$J$203,9,FALSE )-$E$7","v":-23.17},{"$f":"Faces!C129","v":25},{"$f":"VLOOKUP(F129,Vertices!$A$11:$J$203,7,FALSE )-$C$7","v":{"v":15.335000000000008,"d":"15.34"}},{"$f":"VLOOKUP(F129,Vertices!$A$11:$J$203,8,FALSE )-$D$7","v":-25.16},{"$f":"VLOOKUP(F129,Vertices!$A$11:$J$203,9,FALSE )-$E$7","v":-37.63},{"$f":"Faces!D129","v":46},{"$f":"VLOOKUP(J129,Vertices!$A$11:$J$203,7,FALSE )-$C$7","v":{"v":14.835000000000008,"d":"14.84"}},{"$f":"VLOOKUP(J129,Vertices!$A$11:$J$203,8,FALSE )-$D$7","v":-28.26},{"$f":"VLOOKUP(J129,Vertices!$A$11:$J$203,9,FALSE )-$E$7","v":-29.48},{"v":1027.0101883333339,"d":"1027.01"},{"v":1027.0101883333339,"d":"1027.01"}]
[{"$f":"Faces!A130","v":120},{"$f":"Faces!B130","v":19},{"$f":"VLOOKUP(B130,Vertices!$A$11:$J$203,7,FALSE )-$C$7","v":{"v":27.695000000000007,"d":"27.70"}},{"$f":"VLOOKUP(B130,Vertices!$A$11:$J$203,8,FALSE )-$D$7","v":-12.76},{"$f":"VLOOKUP(B130,Vertices!$A$11:$J$203,9,FALSE )-$E$7","v":-23.17},{"$f":"Faces!C130","v":46},{"$f":"VLOOKUP(F130,Vertices!$A$11:$J$203,7,FALSE )-$C$7","v":{"v":14.835000000000008,"d":"14.84"}},{"$f":"VLOOKUP(F130,Vertices!$A$11:$J$203,8,FALSE )-$D$7","v":-28.26},{"$f":"VLOOKUP(F130,Vertices!$A$11:$J$203,9,FALSE )-$E$7","v":-29.48},{"$f":"Faces!D130","v":45},{"$f":"VLOOKUP(J130,Vertices!$A$11:$J$203,7,FALSE )-$C$7","v":{"v":27.095,"d":"27.10"}},{"$f":"VLOOKUP(J130,Vertices!$A$11:$J$203,8,FALSE )-$D$7","v":-14.75},{"$f":"VLOOKUP(J130,Vertices!$A$11:$J$203,9,FALSE )-$E$7","v":-14.77},{"v":959.6366139166657,"d":"959.64"},{"v":959.6366139166657,"d":"959.64"}]
[{"$f":"Faces!A131","v":121},{"$f":"Faces!B131","v":45},{"$f":"VLOOKUP(B131,Vertices!$A$11:$J$203,7,FALSE )-$C$7","v":{"v":27.095,"d":"27.10"}},{"$f":"VLOOKUP(B131,Vertices!$A$11:$J$203,8,FALSE )-$D$7","v":-14.75},{"$f":"VLOOKUP(B131,Vertices!$A$11:$J$203,9,FALSE )-$E$7","v":-14.77},{"$f":"Faces!C131","v":46},{"$f":"VLOOKUP(F131,Vertices!$A$11:$J$203,7,FALSE )-$C$7","v":{"v":14.835000000000008,"d":"14.84"}},{"$f":"VLOOKUP(F131,Vertices!$A$11:$J$203,8,FALSE )-$D$7","v":-28.26},{"$f":"VLOOKUP(F131,Vertices!$A$11:$J$203,9,FALSE )-$E$7","v":-29.48},{"$f":"Faces!D131","v":57},{"$f":"VLOOKUP(J131,Vertices!$A$11:$J$203,7,FALSE )-$C$7","v":{"v":14.385000000000005,"d":"14.39"}},{"$f":"VLOOKUP(J131,Vertices!$A$11:$J$203,8,FALSE )-$D$7","v":-31.02},{"$f":"VLOOKUP(J131,Vertices!$A$11:$J$203,9,FALSE )-$E$7","v":-21.67},{"v":979.8116197499997,"d":"979.81"},{"v":979.8116197499997,"d":"979.81"}]
[{"$f":"Faces!A132","v":122},{"$f":"Faces!B132","v":45},{"$f":"VLOOKUP(B132,Vertices!$A$11:$J$203,7,FALSE )-$C$7","v":{"v":27.095,"d":"27.10"}},{"$f":"VLOOKUP(B132,Vertices!$A$11:$J$203,8,FALSE )-$D$7","v":-14.75},{"$f":"VLOOKUP(B132,Vertices!$A$11:$J$203,9,FALSE )-$E$7","v":-14.77},{"$f":"Faces!C132","v":57},{"$f":"VLOOKUP(F132,Vertices!$A$11:$J$203,7,FALSE )-$C$7","v":{"v":14.385000000000005,"d":"14.39"}},{"$f":"VLOOKUP(F132,Vertices!$A$11:$J$203,8,FALSE )-$D$7","v":-31.02},{"$f":"VLOOKUP(F132,Vertices!$A$11:$J$203,9,FALSE )-$E$7","v":-21.67},{"$f":"Faces!D132","v":56},{"$f":"VLOOKUP(J132,Vertices!$A$11:$J$203,7,FALSE )-$C$7","v":{"v":26.525000000000006,"d":"26.53"}},{"$f":"VLOOKUP(J132,Vertices!$A$11:$J$203,8,FALSE )-$D$7","v":-16.63},{"$f":"VLOOKUP(J132,Vertices!$A$11:$J$203,9,FALSE )-$E$7","v":-6.56},{"v":963.974782416666,"d":"963.97"},{"v":963.974782416666,"d":"963.97"}]
[{"$f":"Faces!A133","v":123},{"$f":"Faces!B133","v":56},{"$f":"VLOOKUP(B133,Vertices!$A$11:$J$203,7,FALSE )-$C$7","v":{"v":26.525000000000006,"d":"26.53"}},{"$f":"VLOOKUP(B133,Vertices!$A$11:$J$203,8,FALSE )-$D$7","v":-16.63},{"$f":"VLOOKUP(B133,Vertices!$A$11:$J$203,9,FALSE )-$E$7","v":-6.56},{"$f":"Faces!C133","v":57},{"$f":"VLOOKUP(F133,Vertices!$A$11:$J$203,7,FALSE )-$C$7","v":{"v":14.385000000000005,"d":"14.39"}},{"$f":"VLOOKUP(F133,Vertices!$A$11:$J$203,8,FALSE )-$D$7","v":-31.02},{"$f":"VLOOKUP(F133,Vertices!$A$11:$J$203,9,FALSE )-$E$7","v":-21.67},{"$f":"Faces!D133","v":68},{"$f":"VLOOKUP(J133,Vertices!$A$11:$J$203,7,FALSE )-$C$7","v":{"v":13.405000000000001,"d":"13.41"}},{"$f":"VLOOKUP(J133,Vertices!$A$11:$J$203,8,FALSE )-$D$7","v":-36.11},{"$f":"VLOOKUP(J133,Vertices!$A$11:$J$203,9,FALSE )-$E$7","v":-5.45},{"v":2010.808880750001,"d":"2010.81"},{"v":2010.808880750001,"d":"2010.81"}]
[{"$f":"Faces!A134","v":124},{"$f":"Faces!B134","v":56},{"$f":"VLOOKUP(B134,Vertices!$A$11:$J$203,7,FALSE )-$C$7","v":{"v":26.525000000000006,"d":"26.53"}},{"$f":"VLOOKUP(B134,Vertices!$A$11:$J$203,8,FALSE )-$D$7","v":-16.63},{"$f":"VLOOKUP(B134,Vertices!$A$11:$J$203,9,FALSE )-$E$7","v":-6.56},{"$f":"Faces!C134","v":68},{"$f":"VLOOKUP(F134,Vertices!$A$11:$J$203,7,FALSE )-$C$7","v":{"v":13.405000000000001,"d":"13.41"}},{"$f":"VLOOKUP(F134,Vertices!$A$11:$J$203,8,FALSE )-$D$7","v":-36.11},{"$f":"VLOOKUP(F134,Vertices!$A$11:$J$203,9,FALSE )-$E$7","v":-5.45},{"$f":"Faces!D134","v":67},{"$f":"VLOOKUP(J134,Vertices!$A$11:$J$203,7,FALSE )-$C$7","v":{"v":25.435000000000002,"d":"25.44"}},{"$f":"VLOOKUP(J134,Vertices!$A$11:$J$203,8,FALSE )-$D$7","v":-19.94},{"$f":"VLOOKUP(J134,Vertices!$A$11:$J$203,9,FALSE )-$E$7","v":10.51},{"v":2095.4388637500006,"d":"2095.44"},{"v":2095.4388637500006,"d":"2095.44"}]
[{"$f":"Faces!A135","v":125},{"$f":"Faces!B135","v":67},{"$f":"VLOOKUP(B135,Vertices!$A$11:$J$203,7,FALSE )-$C$7","v":{"v":25.435000000000002,"d":"25.44"}},{"$f":"VLOOKUP(B135,Vertices!$A$11:$J$203,8,FALSE )-$D$7","v":-19.94},{"$f":"VLOOKUP(B135,Vertices!$A$11:$J$203,9,FALSE )-$E$7","v":10.51},{"$f":"Faces!C135","v":68},{"$f":"VLOOKUP(F135,Vertices!$A$11:$J$203,7,FALSE )-$C$7","v":{"v":13.405000000000001,"d":"13.41"}},{"$f":"VLOOKUP(F135,Vertices!$A$11:$J$203,8,FALSE )-$D$7","v":-36.11},{"$f":"VLOOKUP(F135,Vertices!$A$11:$J$203,9,FALSE )-$E$7","v":-5.45},{"$f":"Faces!D135","v":79},{"$f":"VLOOKUP(J135,Vertices!$A$11:$J$203,7,FALSE )-$C$7","v":{"v":11.795000000000002,"d":"11.80"}},{"$f":"VLOOKUP(J135,Vertices!$A$11:$J$203,8,FALSE )-$D$7","v":-41.99},{"$f":"VLOOKUP(J135,Vertices!$A$11:$J$203,9,FALSE )-$E$7","v":20.43},{"v":3213.5939695,"d":"3213.59"},{"v":3213.5939695,"d":"3213.59"}]
[{"$f":"Faces!A136","v":126},{"$f":"Faces!B136","v":67},{"$f":"VLOOKUP(B136,Vertices!$A$11:$J$203,7,FALSE )-$C$7","v":{"v":25.435000000000002,"d":"25.44"}},{"$f":"VLOOKUP(B136,Vertices!$A$11:$J$203,8,FALSE )-$D$7","v":-19.94},{"$f":"VLOOKUP(B136,Vertices!$A$11:$J$203,9,FALSE )-$E$7","v":10.51},{"$f":"Faces!C136","v":79},{"$f":"VLOOKUP(F136,Vertices!$A$11:$J$203,7,FALSE )-$C$7","v":{"v":11.795000000000002,"d":"11.80"}},{"$f":"VLOOKUP(F136,Vertices!$A$11:$J$203,8,FALSE )-$D$7","v":-41.99},{"$f":"VLOOKUP(F136,Vertices!$A$11:$J$203,9,FALSE )-$E$7","v":20.43},{"$f":"Faces!D136","v":78},{"$f":"VLOOKUP(J136,Vertices!$A$11:$J$203,7,FALSE )-$C$7","v":{"v":23.805000000000007,"d":"23.81"}},{"$f":"VLOOKUP(J136,Vertices!$A$11:$J$203,8,FALSE )-$D$7","v":-23.41},{"$f":"VLOOKUP(J136,Vertices!$A$11:$J$203,9,FALSE )-$E$7","v":{"v":38.7,"d":"38.70"}},{"v":3693.272187583334,"d":"3693.27"},{"v":3693.272187583334,"d":"3693.27"}]
[{"$f":"Faces!A137","v":127},{"$f":"Faces!B137","v":66},{"$f":"VLOOKUP(B137,Vertices!$A$11:$J$203,7,FALSE )-$C$7","v":{"v":33.08500000000001,"d":"33.09"}},{"$f":"VLOOKUP(B137,Vertices!$A$11:$J$203,8,FALSE )-$D$7","v":-10.68},{"$f":"VLOOKUP(B137,Vertices!$A$11:$J$203,9,FALSE )-$E$7","v":21.05},{"$f":"Faces!C137","v":67},{"$f":"VLOOKUP(F137,Vertices!$A$11:$J$203,7,FALSE )-$C$7","v":{"v":25.435000000000002,"d":"25.44"}},{"$f":"VLOOKUP(F137,Vertices!$A$11:$J$203,8,FALSE )-$D$7","v":-19.94},{"$f":"VLOOKUP(F137,Vertices!$A$11:$J$203,9,FALSE )-$E$7","v":10.51},{"$f":"Faces!D137","v":78},{"$f":"VLOOKUP(J137,Vertices!$A$11:$J$203,7,FALSE )-$C$7","v":{"v":23.805000000000007,"d":"23.81"}},{"$f":"VLOOKUP(J137,Vertices!$A$11:$J$203,8,FALSE )-$D$7","v":-23.41},{"$f":"VLOOKUP(J137,Vertices!$A$11:$J$203,9,FALSE )-$E$7","v":{"v":38.7,"d":"38.70"}},{"v":2015.356392166668,"d":"2015.36"},{"v":2015.356392166668,"d":"2015.36"}]
[{"$f":"Faces!A138","v":128},{"$f":"Faces!B138","v":66},{"$f":"VLOOKUP(B138,Vertices!$A$11:$J$203,7,FALSE )-$C$7","v":{"v":33.08500000000001,"d":"33.09"}},{"$f":"VLOOKUP(B138,Vertices!$A$11:$J$203,8,FALSE )-$D$7","v":-10.68},{"$f":"VLOOKUP(B138,Vertices!$A$11:$J$203,9,FALSE )-$E$7","v":21.05},{"$f":"Faces!C138","v":78},{"$f":"VLOOKUP(F138,Vertices!$A$11:$J$203,7,FALSE )-$C$7","v":{"v":23.805000000000007,"d":"23.81"}},{"$f":"VLOOKUP(F138,Vertices!$A$11:$J$203,8,FALSE )-$D$7","v":-23.41},{"$f":"VLOOKUP(F138,Vertices!$A$11:$J$203,9,FALSE )-$E$7","v":{"v":38.7,"d":"38.70"}},{"$f":"Faces!D138","v":77},{"$f":"VLOOKUP(J138,Vertices!$A$11:$J$203,7,FALSE )-$C$7","v":{"v":31.394999999999996,"d":"31.40"}},{"$f":"VLOOKUP(J138,Vertices!$A$11:$J$203,8,FALSE )-$D$7","v":-13.04},{"$f":"VLOOKUP(J138,Vertices!$A$11:$J$203,9,FALSE )-$E$7","v":50.55},{"v":2273.9154750000016,"d":"2273.92"},{"v":2273.9154750000016,"d":"2273.92"}]
[{"$f":"Faces!A139","v":129},{"$f":"Faces!B139","v":65},{"$f":"VLOOKUP(B139,Vertices!$A$11:$J$203,7,FALSE )-$C$7","v":{"v":36.83500000000001,"d":"36.84"}},{"$f":"VLOOKUP(B139,Vertices!$A$11:$J$203,8,FALSE )-$D$7","v":-6.45},{"$f":"VLOOKUP(B139,Vertices!$A$11:$J$203,9,FALSE )-$E$7","v":26.23},{"$f":"Faces!C139","v":66},{"$f":"VLOOKUP(F139,Vertices!$A$11:$J$203,7,FALSE )-$C$7","v":{"v":33.08500000000001,"d":"33.09"}},{"$f":"VLOOKUP(F139,Vertices!$A$11:$J$203,8,FALSE )-$D$7","v":-10.68},{"$f":"VLOOKUP(F139,Vertices!$A$11:$J$203,9,FALSE )-$E$7","v":21.05},{"$f":"Faces!D139","v":77},{"$f":"VLOOKUP(J139,Vertices!$A$11:$J$203,7,FALSE )-$C$7","v":{"v":31.394999999999996,"d":"31.40"}},{"$f":"VLOOKUP(J139,Vertices!$A$11:$J$203,8,FALSE )-$D$7","v":-13.04},{"$f":"VLOOKUP(J139,Vertices!$A$11:$J$203,9,FALSE )-$E$7","v":50.55},{"v":962.0211206666663,"d":"962.02"},{"v":962.0211206666663,"d":"962.02"}]
[{"$f":"Faces!A140","v":130},{"$f":"Faces!B140","v":65},{"$f":"VLOOKUP(B140,Vertices!$A$11:$J$203,7,FALSE )-$C$7","v":{"v":36.83500000000001,"d":"36.84"}},{"$f":"VLOOKUP(B140,Vertices!$A$11:$J$203,8,FALSE )-$D$7","v":-6.45},{"$f":"VLOOKUP(B140,Vertices!$A$11:$J$203,9,FALSE )-$E$7","v":26.23},{"$f":"Faces!C140","v":77},{"$f":"VLOOKUP(F140,Vertices!$A$11:$J$203,7,FALSE )-$C$7","v":{"v":31.394999999999996,"d":"31.40"}},{"$f":"VLOOKUP(F140,Vertices!$A$11:$J$203,8,FALSE )-$D$7","v":-13.04},{"$f":"VLOOKUP(F140,Vertices!$A$11:$J$203,9,FALSE )-$E$7","v":50.55},{"$f":"Faces!D140","v":76},{"$f":"VLOOKUP(J140,Vertices!$A$11:$J$203,7,FALSE )-$C$7","v":{"v":35.075,"d":"35.08"}},{"$f":"VLOOKUP(J140,Vertices!$A$11:$J$203,8,FALSE )-$D$7","v":-8.34},{"$f":"VLOOKUP(J140,Vertices!$A$11:$J$203,9,FALSE )-$E$7","v":{"v":56.4,"d":"56.40"}},{"$f":"-1*(C140*H140*M140+D140*I140*K140+E140*G140*L140-C140*I140*L140-D140*G140*M140-E140*H140*K140)/6","v":{"v":1074.5827210833343,"d":"1074.58"}},{"$f":"ABS(N140)","v":{"v":1074.5827210833343,"d":"1074.58"}}]
[{"$f":"Faces!A141","v":131},{"$f":"Faces!B141","v":59},{"$f":"VLOOKUP(B141,Vertices!$A$11:$J$203,7,FALSE )-$C$7","v":{"v":40.675,"d":"40.68"}},{"$f":"VLOOKUP(B141,Vertices!$A$11:$J$203,8,FALSE )-$D$7","v":-2.16},{"$f":"VLOOKUP(B141,Vertices!$A$11:$J$203,9,FALSE )-$E$7","v":{"v":31.6,"d":"31.60"}},{"$f":"Faces!C141","v":65},{"$f":"VLOOKUP(F141,Vertices!$A$11:$J$203,7,FALSE )-$C$7","v":{"v":36.83500000000001,"d":"36.84"}},{"$f":"VLOOKUP(F141,Vertices!$A$11:$J$203,8,FALSE )-$D$7","v":-6.45},{"$f":"VLOOKUP(F141,Vertices!$A$11:$J$203,9,FALSE )-$E$7","v":26.23},{"$f":"Faces!D141","v":76},{"$f":"VLOOKUP(J141,Vertices!$A$11:$J$203,7,FALSE )-$C$7","v":{"v":35.075,"d":"35.08"}},{"$f":"VLOOKUP(J141,Vertices!$A$11:$J$203,8,FALSE )-$D$7","v":-8.34},{"$f":"VLOOKUP(J141,Vertices!$A$11:$J$203,9,FALSE )-$E$7","v":{"v":56.4,"d":"56.40"}},{"v":992.8781125000008,"d":"992.88"},{"v":992.8781125000008,"d":"992.88"}]
[{"$f":"Faces!A142","v":132},{"$f":"Faces!B142","v":59},{"$f":"VLOOKUP(B142,Vertices!$A$11:$J$203,7,FALSE )-$C$7","v":{"v":40.675,"d":"40.68"}},{"$f":"VLOOKUP(B142,Vertices!$A$11:$J$203,8,FALSE )-$D$7","v":-2.16},{"$f":"VLOOKUP(B142,Vertices!$A$11:$J$203,9,FALSE )-$E$7","v":{"v":31.6,"d":"31.60"}},{"$f":"Faces!C142","v":76},{"$f":"VLOOKUP(F142,Vertices!$A$11:$J$203,7,FALSE )-$C$7","v":{"v":35.075,"d":"35.08"}},{"$f":"VLOOKUP(F142,Vertices!$A$11:$J$203,8,FALSE )-$D$7","v":-8.34},{"$f":"VLOOKUP(F142,Vertices!$A$11:$J$203,9,FALSE )-$E$7","v":{"v":56.4,"d":"56.40"}},{"$f":"Faces!D142","v":70},{"$f":"VLOOKUP(J142,Vertices!$A$11:$J$203,7,FALSE )-$C$7","v":{"v":38.83500000000001,"d":"38.84"}},{"$f":"VLOOKUP(J142,Vertices!$A$11:$J$203,8,FALSE )-$D$7","v":-3.55},{"$f":"VLOOKUP(J142,Vertices!$A$11:$J$203,9,FALSE )-$E$7","v":62.44},{"v":1122.9965833333335,"d":"1123.00"},{"v":1122.9965833333335,"d":"1123.00"}]
[{"$f":"Faces!A143","v":133},{"$f":"Faces!B143","v":25},{"$f":"VLOOKUP(B143,Vertices!$A$11:$J$203,7,FALSE )-$C$7","v":{"v":15.335000000000008,"d":"15.34"}},{"$f":"VLOOKUP(B143,Vertices!$A$11:$J$203,8,FALSE )-$D$7","v":-25.16},{"$f":"VLOOKUP(B143,Vertices!$A$11:$J$203,9,FALSE )-$E$7","v":-37.63},{"$f":"Faces!C143","v":31},{"$f":"VLOOKUP(F143,Vertices!$A$11:$J$203,7,FALSE )-$C$7","v":{"v":4.545000000000002,"d":"4.55"}},{"$f":"VLOOKUP(F143,Vertices!$A$11:$J$203,8,FALSE )-$D$7","v":{"v":-37,"d":"-37.00"}},{"$f":"VLOOKUP(F143,Vertices!$A$11:$J$203,9,FALSE )-$E$7","v":{"v":-50,"d":"-50.00"}},{"$f":"Faces!D143","v":47},{"$f":"VLOOKUP(J143,Vertices!$A$11:$J$203,7,FALSE )-$C$7","v":{"v":4.125,"d":"4.13"}},{"$f":"VLOOKUP(J143,Vertices!$A$11:$J$203,8,FALSE )-$D$7","v":-41.34},{"$f":"VLOOKUP(J143,Vertices!$A$11:$J$203,9,FALSE )-$E$7","v":-42.01},{"v":1024.8056221666677,"d":"1024.81"},{"v":1024.8056221666677,"d":"1024.81"}]
[{"$f":"Faces!A144","v":134},{"$f":"Faces!B144","v":25},{"$f":"VLOOKUP(B144,Vertices!$A$11:$J$203,7,FALSE )-$C$7","v":{"v":15.335000000000008,"d":"15.34"}},{"$f":"VLOOKUP(B144,Vertices!$A$11:$J$203,8,FALSE )-$D$7","v":-25.16},{"$f":"VLOOKUP(B144,Vertices!$A$11:$J$203,9,FALSE )-$E$7","v":-37.63},{"$f":"Faces!C144","v":47},{"$f":"VLOOKUP(F144,Vertices!$A$11:$J$203,7,FALSE )-$C$7","v":{"v":4.125,"d":"4.13"}},{"$f":"VLOOKUP(F144,Vertices!$A$11:$J$203,8,FALSE )-$D$7","v":-41.34},{"$f":"VLOOKUP(F144,Vertices!$A$11:$J$203,9,FALSE )-$E$7","v":-42.01},{"$f":"Faces!D144","v":46},{"$f":"VLOOKUP(J144,Vertices!$A$11:$J$203,7,FALSE )-$C$7","v":{"v":14.835000000000008,"d":"14.84"}},{"$f":"VLOOKUP(J144,Vertices!$A$11:$J$203,8,FALSE )-$D$7","v":-28.26},{"$f":"VLOOKUP(J144,Vertices!$A$11:$J$203,9,FALSE )-$E$7","v":-29.48},{"v":931.2347075000004,"d":"931.23"},{"v":931.2347075000004,"d":"931.23"}]
[{"$f":"Faces!A145","v":135},{"$f":"Faces!B145","v":46},{"$f":"VLOOKUP(B145,Vertices!$A$11:$J$203,7,FALSE )-$C$7","v":{"v":14.835000000000008,"d":"14.84"}},{"$f":"VLOOKUP(B145,Vertices!$A$11:$J$203,8,FALSE )-$D$7","v":-28.26},{"$f":"VLOOKUP(B145,Vertices!$A$11:$J$203,9,FALSE )-$E$7","v":-29.48},{"$f":"Faces!C145","v":47},{"$f":"VLOOKUP(F145,Vertices!$A$11:$J$203,7,FALSE )-$C$7","v":{"v":4.125,"d":"4.13"}},{"$f":"VLOOKUP(F145,Vertices!$A$11:$J$203,8,FALSE )-$D$7","v":-41.34},{"$f":"VLOOKUP(F145,Vertices!$A$11:$J$203,9,FALSE )-$E$7","v":-42.01},{"$f":"Faces!D145","v":58},{"$f":"VLOOKUP(J145,Vertices!$A$11:$J$203,7,FALSE )-$C$7","v":{"v":3.7550000000000026,"d":"3.76"}},{"$f":"VLOOKUP(J145,Vertices!$A$11:$J$203,8,FALSE )-$D$7","v":-45.11},{"$f":"VLOOKUP(J145,Vertices!$A$11:$J$203,9,FALSE )-$E$7","v":-34.45},{"v":939.0879152500005,"d":"939.09"},{"v":939.0879152500005,"d":"939.09"}]
[{"$f":"Faces!A146","v":136},{"$f":"Faces!B146","v":46},{"$f":"VLOOKUP(B146,Vertices!$A$11:$J$203,7,FALSE )-$C$7","v":{"v":14.835000000000008,"d":"14.84"}},{"$f":"VLOOKUP(B146,Vertices!$A$11:$J$203,8,FALSE )-$D$7","v":-28.26},{"$f":"VLOOKUP(B146,Vertices!$A$11:$J$203,9,FALSE )-$E$7","v":-29.48},{"$f":"Faces!C146","v":58},{"$f":"VLOOKUP(F146,Vertices!$A$11:$J$203,7,FALSE )-$C$7","v":{"v":3.7550000000000026,"d":"3.76"}},{"$f":"VLOOKUP(F146,Vertices!$A$11:$J$203,8,FALSE )-$D$7","v":-45.11},{"$f":"VLOOKUP(F146,Vertices!$A$11:$J$203,9,FALSE )-$E$7","v":-34.45},{"$f":"Faces!D146","v":57},{"$f":"VLOOKUP(J146,Vertices!$A$11:$J$203,7,FALSE )-$C$7","v":{"v":14.385000000000005,"d":"14.39"}},{"$f":"VLOOKUP(J146,Vertices!$A$11:$J$203,8,FALSE )-$D$7","v":-31.02},{"$f":"VLOOKUP(J146,Vertices!$A$11:$J$203,9,FALSE )-$E$7","v":-21.67},{"v":890.404205249999,"d":"890.40"},{"v":890.404205249999,"d":"890.40"}]
[{"$f":"Faces!A147","v":137},{"$f":"Faces!B147","v":57},{"$f":"VLOOKUP(B147,Vertices!$A$11:$J$203,7,FALSE )-$C$7","v":{"v":14.385000000000005,"d":"14.39"}},{"$f":"VLOOKUP(B147,Vertices!$A$11:$J$203,8,FALSE )-$D$7","v":-31.02},{"$f":"VLOOKUP(B147,Vertices!$A$11:$J$203,9,FALSE )-$E$7","v":-21.67},{"$f":"Faces!C147","v":58},{"$f":"VLOOKUP(F147,Vertices!$A$11:$J$203,7,FALSE )-$C$7","v":{"v":3.7550000000000026,"d":"3.76"}},{"$f":"VLOOKUP(F147,Vertices!$A$11:$J$203,8,FALSE )-$D$7","v":-45.11},{"$f":"VLOOKUP(F147,Vertices!$A$11:$J$203,9,FALSE )-$E$7","v":-34.45},{"$f":"Faces!D147","v":69},{"$f":"VLOOKUP(J147,Vertices!$A$11:$J$203,7,FALSE )-$C$7","v":{"v":2.8049999999999997,"d":"2.81"}},{"$f":"VLOOKUP(J147,Vertices!$A$11:$J$203,8,FALSE )-$D$7","v":-52.09},{"$f":"VLOOKUP(J147,Vertices!$A$11:$J$203,9,FALSE )-$E$7","v":-19.06},{"v":1861.944727416668,"d":"1861.94"},{"v":1861.944727416668,"d":"1861.94"}]
[{"$f":"Faces!A148","v":138},{"$f":"Faces!B148","v":57},{"$f":"VLOOKUP(B148,Vertices!$A$11:$J$203,7,FALSE )-$C$7","v":{"v":14.385000000000005,"d":"14.39"}},{"$f":"VLOOKUP(B148,Vertices!$A$11:$J$203,8,FALSE )-$D$7","v":-31.02},{"$f":"VLOOKUP(B148,Vertices!$A$11:$J$203,9,FALSE )-$E$7","v":-21.67},{"$f":"Faces!C148","v":69},{"$f":"VLOOKUP(F148,Vertices!$A$11:$J$203,7,FALSE )-$C$7","v":{"v":2.8049999999999997,"d":"2.81"}},{"$f":"VLOOKUP(F148,Vertices!$A$11:$J$203,8,FALSE )-$D$7","v":-52.09},{"$f":"VLOOKUP(F148,Vertices!$A$11:$J$203,9,FALSE )-$E$7","v":-19.06},{"$f":"Faces!D148","v":68},{"$f":"VLOOKUP(J148,Vertices!$A$11:$J$203,7,FALSE )-$C$7","v":{"v":13.405000000000001,"d":"13.41"}},{"$f":"VLOOKUP(J148,Vertices!$A$11:$J$203,8,FALSE )-$D$7","v":-36.11},{"$f":"VLOOKUP(J148,Vertices!$A$11:$J$203,9,FALSE )-$E$7","v":-5.45},{"v":1883.656608416667,"d":"1883.66"},{"v":1883.656608416667,"d":"1883.66"}]
[{"$f":"Faces!A149","v":139},{"$f":"Faces!B149","v":68},{"$f":"VLOOKUP(B149,Vertices!$A$11:$J$203,7,FALSE )-$C$7","v":{"v":13.405000000000001,"d":"13.41"}},{"$f":"VLOOKUP(B149,Vertices!$A$11:$J$203,8,FALSE )-$D$7","v":-36.11},{"$f":"VLOOKUP(B149,Vertices!$A$11:$J$203,9,FALSE )-$E$7","v":-5.45},{"$f":"Faces!C149","v":69},{"$f":"VLOOKUP(F149,Vertices!$A$11:$J$203,7,FALSE )-$C$7","v":{"v":2.8049999999999997,"d":"2.81"}},{"$f":"VLOOKUP(F149,Vertices!$A$11:$J$203,8,FALSE )-$D$7","v":-52.09},{"$f":"VLOOKUP(F149,Vertices!$A$11:$J$203,9,FALSE )-$E$7","v":-19.06},{"$f":"Faces!D149","v":80},{"$f":"VLOOKUP(J149,Vertices!$A$11:$J$203,7,FALSE )-$C$7","v":{"v":1.0050000000000026,"d":"1.01"}},{"$f":"VLOOKUP(J149,Vertices!$A$11:$J$203,8,FALSE )-$D$7","v":-60.77},{"$f":"VLOOKUP(J149,Vertices!$A$11:$J$203,9,FALSE )-$E$7","v":4.59},{"v":2821.9044848333338,"d":"2821.90"},{"v":2821.9044848333338,"d":"2821.90"}]
[{"$f":"Faces!A150","v":140},{"$f":"Faces!B150","v":68},{"$f":"VLOOKUP(B150,Vertices!$A$11:$J$203,7,FALSE )-$C$7","v":{"v":13.405000000000001,"d":"13.41"}},{"$f":"VLOOKUP(B150,Vertices!$A$11:$J$203,8,FALSE )-$D$7","v":-36.11},{"$f":"VLOOKUP(B150,Vertices!$A$11:$J$203,9,FALSE )-$E$7","v":-5.45},{"$f":"Faces!C150","v":80},{"$f":"VLOOKUP(F150,Vertices!$A$11:$J$203,7,FALSE )-$C$7","v":{"v":1.0050000000000026,"d":"1.01"}},{"$f":"VLOOKUP(F150,Vertices!$A$11:$J$203,8,FALSE )-$D$7","v":-60.77},{"$f":"VLOOKUP(F150,Vertices!$A$11:$J$203,9,FALSE )-$E$7","v":4.59},{"$f":"Faces!D150","v":79},{"$f":"VLOOKUP(J150,Vertices!$A$11:$J$203,7,FALSE )-$C$7","v":{"v":11.795000000000002,"d":"11.80"}},{"$f":"VLOOKUP(J150,Vertices!$A$11:$J$203,8,FALSE )-$D$7","v":-41.99},{"$f":"VLOOKUP(J150,Vertices!$A$11:$J$203,9,FALSE )-$E$7","v":20.43},{"v":3158.1903223333334,"d":"3158.19"},{"v":3158.1903223333334,"d":"3158.19"}]
[{"$f":"Faces!A151","v":141},{"$f":"Faces!B151","v":79},{"$f":"VLOOKUP(B151,Vertices!$A$11:$J$203,7,FALSE )-$C$7","v":{"v":11.795000000000002,"d":"11.80"}},{"$f":"VLOOKUP(B151,Vertices!$A$11:$J$203,8,FALSE )-$D$7","v":-41.99},{"$f":"VLOOKUP(B151,Vertices!$A$11:$J$203,9,FALSE )-$E$7","v":20.43},{"$f":"Faces!C151","v":80},{"$f":"VLOOKUP(F151,Vertices!$A$11:$J$203,7,FALSE )-$C$7","v":{"v":1.0050000000000026,"d":"1.01"}},{"$f":"VLOOKUP(F151,Vertices!$A$11:$J$203,8,FALSE )-$D$7","v":-60.77},{"$f":"VLOOKUP(F151,Vertices!$A$11:$J$203,9,FALSE )-$E$7","v":4.59},{"$f":"Faces!D151","v":91},{"$f":"VLOOKUP(J151,Vertices!$A$11:$J$203,7,FALSE )-$C$7","v":{"v":-1.4549999999999983,"d":"-1.46"}},{"$f":"VLOOKUP(J151,Vertices!$A$11:$J$203,8,FALSE )-$D$7","v":{"v":-66,"d":"-66.00"}},{"$f":"VLOOKUP(J151,Vertices!$A$11:$J$203,9,FALSE )-$E$7","v":{"v":26,"d":"26.00"}},{"v":2807.8469058333335,"d":"2807.85"},{"v":2807.8469058333335,"d":"2807.85"}]
[{"$f":"Faces!A152","v":142},{"$f":"Faces!B152","v":79},{"$f":"VLOOKUP(B152,Vertices!$A$11:$J$203,7,FALSE )-$C$7","v":{"v":11.795000000000002,"d":"11.80"}},{"$f":"VLOOKUP(B152,Vertices!$A$11:$J$203,8,FALSE )-$D$7","v":-41.99},{"$f":"VLOOKUP(B152,Vertices!$A$11:$J$203,9,FALSE )-$E$7","v":20.43},{"$f":"Faces!C152","v":91},{"$f":"VLOOKUP(F152,Vertices!$A$11:$J$203,7,FALSE )-$C$7","v":{"v":-1.4549999999999983,"d":"-1.46"}},{"$f":"VLOOKUP(F152,Vertices!$A$11:$J$203,8,FALSE )-$D$7","v":{"v":-66,"d":"-66.00"}},{"$f":"VLOOKUP(F152,Vertices!$A$11:$J$203,9,FALSE )-$E$7","v":{"v":26,"d":"26.00"}},{"$f":"Faces!D152","v":90},{"$f":"VLOOKUP(J152,Vertices!$A$11:$J$203,7,FALSE )-$C$7","v":{"v":10.204999999999998,"d":"10.21"}},{"$f":"VLOOKUP(J152,Vertices!$A$11:$J$203,8,FALSE )-$D$7","v":-45.12},{"$f":"VLOOKUP(J152,Vertices!$A$11:$J$203,9,FALSE )-$E$7","v":44.87},{"v":3312.353135583333,"d":"3312.35"},{"v":3312.353135583333,"d":"3312.35"}]
[{"$f":"Faces!A153","v":143},{"$f":"Faces!B153","v":78},{"$f":"VLOOKUP(B153,Vertices!$A$11:$J$203,7,FALSE )-$C$7","v":{"v":23.805000000000007,"d":"23.81"}},{"$f":"VLOOKUP(B153,Vertices!$A$11:$J$203,8,FALSE )-$D$7","v":-23.41},{"$f":"VLOOKUP(B153,Vertices!$A$11:$J$203,9,FALSE )-$E$7","v":{"v":38.7,"d":"38.70"}},{"$f":"Faces!C153","v":79},{"$f":"VLOOKUP(F153,Vertices!$A$11:$J$203,7,FALSE )-$C$7","v":{"v":11.795000000000002,"d":"11.80"}},{"$f":"VLOOKUP(F153,Vertices!$A$11:$J$203,8,FALSE )-$D$7","v":-41.99},{"$f":"VLOOKUP(F153,Vertices!$A$11:$J$203,9,FALSE )-$E$7","v":20.43},{"$f":"Faces!D153","v":90},{"$f":"VLOOKUP(J153,Vertices!$A$11:$J$203,7,FALSE )-$C$7","v":{"v":10.204999999999998,"d":"10.21"}},{"$f":"VLOOKUP(J153,Vertices!$A$11:$J$203,8,FALSE )-$D$7","v":-45.12},{"$f":"VLOOKUP(J153,Vertices!$A$11:$J$203,9,FALSE )-$E$7","v":44.87},{"v":3235.162948083334,"d":"3235.16"},{"v":3235.162948083334,"d":"3235.16"}]
[{"$f":"Faces!A154","v":144},{"$f":"Faces!B154","v":78},{"$f":"VLOOKUP(B154,Vertices!$A$11:$J$203,7,FALSE )-$C$7","v":{"v":23.805000000000007,"d":"23.81"}},{"$f":"VLOOKUP(B154,Vertices!$A$11:$J$203,8,FALSE )-$D$7","v":-23.41},{"$f":"VLOOKUP(B154,Vertices!$A$11:$J$203,9,FALSE )-$E$7","v":{"v":38.7,"d":"38.70"}},{"$f":"Faces!C154","v":90},{"$f":"VLOOKUP(F154,Vertices!$A$11:$J$203,7,FALSE )-$C$7","v":{"v":10.204999999999998,"d":"10.21"}},{"$f":"VLOOKUP(F154,Vertices!$A$11:$J$203,8,FALSE )-$D$7","v":-45.12},{"$f":"VLOOKUP(F154,Vertices!$A$11:$J$203,9,FALSE )-$E$7","v":44.87},{"$f":"Faces!D154","v":89},{"$f":"VLOOKUP(J154,Vertices!$A$11:$J$203,7,FALSE )-$C$7","v":{"v":22.47500000000001,"d":"22.48"}},{"$f":"VLOOKUP(J154,Vertices!$A$11:$J$203,8,FALSE )-$D$7","v":-24.83},{"$f":"VLOOKUP(J154,Vertices!$A$11:$J$203,9,FALSE )-$E$7","v":66.08},{"v":3806.1148834999985,"d":"3806.11"},{"v":3806.1148834999985,"d":"3806.11"}]
[{"$f":"Faces!A155","v":145},{"$f":"Faces!B155","v":77},{"$f":"VLOOKUP(B155,Vertices!$A$11:$J$203,7,FALSE )-$C$7","v":{"v":31.394999999999996,"d":"31.40"}},{"$f":"VLOOKUP(B155,Vertices!$A$11:$J$203,8,FALSE )-$D$7","v":-13.04},{"$f":"VLOOKUP(B155,Vertices!$A$11:$J$203,9,FALSE )-$E$7","v":50.55},{"$f":"Faces!C155","v":78},{"$f":"VLOOKUP(F155,Vertices!$A$11:$J$203,7,FALSE )-$C$7","v":{"v":23.805000000000007,"d":"23.81"}},{"$f":"VLOOKUP(F155,Vertices!$A$11:$J$203,8,FALSE )-$D$7","v":-23.41},{"$f":"VLOOKUP(F155,Vertices!$A$11:$J$203,9,FALSE )-$E$7","v":{"v":38.7,"d":"38.70"}},{"$f":"Faces!D155","v":89},{"$f":"VLOOKUP(J155,Vertices!$A$11:$J$203,7,FALSE )-$C$7","v":{"v":22.47500000000001,"d":"22.48"}},{"$f":"VLOOKUP(J155,Vertices!$A$11:$J$203,8,FALSE )-$D$7","v":-24.83},{"$f":"VLOOKUP(J155,Vertices!$A$11:$J$203,9,FALSE )-$E$7","v":66.08},{"v":2085.0119674999983,"d":"2085.01"},{"v":2085.0119674999983,"d":"2085.01"}]
[{"$f":"Faces!A156","v":146},{"$f":"Faces!B156","v":77},{"$f":"VLOOKUP(B156,Vertices!$A$11:$J$203,7,FALSE )-$C$7","v":{"v":31.394999999999996,"d":"31.40"}},{"$f":"VLOOKUP(B156,Vertices!$A$11:$J$203,8,FALSE )-$D$7","v":-13.04},{"$f":"VLOOKUP(B156,Vertices!$A$11:$J$203,9,FALSE )-$E$7","v":50.55},{"$f":"Faces!C156","v":89},{"$f":"VLOOKUP(F156,Vertices!$A$11:$J$203,7,FALSE )-$C$7","v":{"v":22.47500000000001,"d":"22.48"}},{"$f":"VLOOKUP(F156,Vertices!$A$11:$J$203,8,FALSE )-$D$7","v":-24.83},{"$f":"VLOOKUP(F156,Vertices!$A$11:$J$203,9,FALSE )-$E$7","v":66.08},{"$f":"Faces!D156","v":88},{"$f":"VLOOKUP(J156,Vertices!$A$11:$J$203,7,FALSE )-$C$7","v":{"v":30.075000000000003,"d":"30.08"}},{"$f":"VLOOKUP(J156,Vertices!$A$11:$J$203,8,FALSE )-$D$7","v":-13.75},{"$f":"VLOOKUP(J156,Vertices!$A$11:$J$203,9,FALSE )-$E$7","v":79.52},{"v":2324.3214236666668,"d":"2324.32"},{"v":2324.3214236666668,"d":"2324.32"}]
[{"$f":"Faces!A157","v":147},{"$f":"Faces!B157","v":76},{"$f":"VLOOKUP(B157,Vertices!$A$11:$J$203,7,FALSE )-$C$7","v":{"v":35.075,"d":"35.08"}},{"$f":"VLOOKUP(B157,Vertices!$A$11:$J$203,8,FALSE )-$D$7","v":-8.34},{"$f":"VLOOKUP(B157,Vertices!$A$11:$J$203,9,FALSE )-$E$7","v":{"v":56.4,"d":"56.40"}},{"$f":"Faces!C157","v":77},{"$f":"VLOOKUP(F157,Vertices!$A$11:$J$203,7,FALSE )-$C$7","v":{"v":31.394999999999996,"d":"31.40"}},{"$f":"VLOOKUP(F157,Vertices!$A$11:$J$203,8,FALSE )-$D$7","v":-13.04},{"$f":"VLOOKUP(F157,Vertices!$A$11:$J$203,9,FALSE )-$E$7","v":50.55},{"$f":"Faces!D157","v":88},{"$f":"VLOOKUP(J157,Vertices!$A$11:$J$203,7,FALSE )-$C$7","v":{"v":30.075000000000003,"d":"30.08"}},{"$f":"VLOOKUP(J157,Vertices!$A$11:$J$203,8,FALSE )-$D$7","v":-13.75},{"$f":"VLOOKUP(J157,Vertices!$A$11:$J$203,9,FALSE )-$E$7","v":79.52},{"v":1012.9216935833332,"d":"1012.92"},{"v":1012.9216935833332,"d":"1012.92"}]
[{"$f":"Faces!A158","v":148},{"$f":"Faces!B158","v":76},{"$f":"VLOOKUP(B158,Vertices!$A$11:$J$203,7,FALSE )-$C$7","v":{"v":35.075,"d":"35.08"}},{"$f":"VLOOKUP(B158,Vertices!$A$11:$J$203,8,FALSE )-$D$7","v":-8.34},{"$f":"VLOOKUP(B158,Vertices!$A$11:$J$203,9,FALSE )-$E$7","v":{"v":56.4,"d":"56.40"}},{"$f":"Faces!C158","v":88},{"$f":"VLOOKUP(F158,Vertices!$A$11:$J$203,7,FALSE )-$C$7","v":{"v":30.075000000000003,"d":"30.08"}},{"$f":"VLOOKUP(F158,Vertices!$A$11:$J$203,8,FALSE )-$D$7","v":-13.75},{"$f":"VLOOKUP(F158,Vertices!$A$11:$J$203,9,FALSE )-$E$7","v":79.52},{"$f":"Faces!D158","v":87},{"$f":"VLOOKUP(J158,Vertices!$A$11:$J$203,7,FALSE )-$C$7","v":{"v":33.754999999999995,"d":"33.76"}},{"$f":"VLOOKUP(J158,Vertices!$A$11:$J$203,8,FALSE )-$D$7","v":-8.91},{"$f":"VLOOKUP(J158,Vertices!$A$11:$J$203,9,FALSE )-$E$7","v":86.14},{"v":1068.1269748333332,"d":"1068.13"},{"v":1068.1269748333332,"d":"1068.13"}]
[{"$f":"Faces!A159","v":149},{"$f":"Faces!B159","v":70},{"$f":"VLOOKUP(B159,Vertices!$A$11:$J$203,7,FALSE )-$C$7","v":{"v":38.83500000000001,"d":"38.84"}},{"$f":"VLOOKUP(B159,Vertices!$A$11:$J$203,8,FALSE )-$D$7","v":-3.55},{"$f":"VLOOKUP(B159,Vertices!$A$11:$J$203,9,FALSE )-$E$7","v":62.44},{"$f":"Faces!C159","v":76},{"$f":"VLOOKUP(F159,Vertices!$A$11:$J$203,7,FALSE )-$C$7","v":{"v":35.075,"d":"35.08"}},{"$f":"VLOOKUP(F159,Vertices!$A$11:$J$203,8,FALSE )-$D$7","v":-8.34},{"$f":"VLOOKUP(F159,Vertices!$A$11:$J$203,9,FALSE )-$E$7","v":{"v":56.4,"d":"56.40"}},{"$f":"Faces!D159","v":87},{"$f":"VLOOKUP(J159,Vertices!$A$11:$J$203,7,FALSE )-$C$7","v":{"v":33.754999999999995,"d":"33.76"}},{"$f":"VLOOKUP(J159,Vertices!$A$11:$J$203,8,FALSE )-$D$7","v":-8.91},{"$f":"VLOOKUP(J159,Vertices!$A$11:$J$203,9,FALSE )-$E$7","v":86.14},{"v":1058.695452166666,"d":"1058.70"},{"v":1058.695452166666,"d":"1058.70"}]
[{"$f":"Faces!A160","v":150},{"$f":"Faces!B160","v":70},{"$f":"VLOOKUP(B160,Vertices!$A$11:$J$203,7,FALSE )-$C$7","v":{"v":38.83500000000001,"d":"38.84"}},{"$f":"VLOOKUP(B160,Vertices!$A$11:$J$203,8,FALSE )-$D$7","v":-3.55},{"$f":"VLOOKUP(B160,Vertices!$A$11:$J$203,9,FALSE )-$E$7","v":62.44},{"$f":"Faces!C160","v":87},{"$f":"VLOOKUP(F160,Vertices!$A$11:$J$203,7,FALSE )-$C$7","v":{"v":33.754999999999995,"d":"33.76"}},{"$f":"VLOOKUP(F160,Vertices!$A$11:$J$203,8,FALSE )-$D$7","v":-8.91},{"$f":"VLOOKUP(F160,Vertices!$A$11:$J$203,9,FALSE )-$E$7","v":86.14},{"$f":"Faces!D160","v":81},{"$f":"VLOOKUP(J160,Vertices!$A$11:$J$203,7,FALSE )-$C$7","v":{"v":37.545,"d":"37.55"}},{"$f":"VLOOKUP(J160,Vertices!$A$11:$J$203,8,FALSE )-$D$7","v":{"v":-4,"d":"-4.00"}},{"$f":"VLOOKUP(J160,Vertices!$A$11:$J$203,9,FALSE )-$E$7","v":{"v":93,"d":"93.00"}},{"v":1113.1070078333341,"d":"1113.11"},{"v":1113.1070078333341,"d":"1113.11"}]
[{"$f":"Faces!A161","v":151},{"$f":"Faces!B161","v":31},{"$f":"VLOOKUP(B161,Vertices!$A$11:$J$203,7,FALSE )-$C$7","v":{"v":4.545000000000002,"d":"4.55"}},{"$f":"VLOOKUP(B161,Vertices!$A$11:$J$203,8,FALSE )-$D$7","v":{"v":-37,"d":"-37.00"}},{"$f":"VLOOKUP(B161,Vertices!$A$11:$J$203,9,FALSE )-$E$7","v":{"v":-50,"d":"-50.00"}},{"$f":"Faces!C161","v":98},{"$f":"VLOOKUP(F161,Vertices!$A$11:$J$203,7,FALSE )-$C$7","v":{"v":-5.784999999999997,"d":"-5.79"}},{"$f":"VLOOKUP(F161,Vertices!$A$11:$J$203,8,FALSE )-$D$7","v":-27.89},{"$f":"VLOOKUP(F161,Vertices!$A$11:$J$203,9,FALSE )-$E$7","v":-42.05},{"$f":"Faces!D161","v":97},{"$f":"VLOOKUP(J161,Vertices!$A$11:$J$203,7,FALSE )-$C$7","v":{"v":-3.2449999999999974,"d":"-3.25"}},{"$f":"VLOOKUP(J161,Vertices!$A$11:$J$203,8,FALSE )-$D$7","v":-32.49},{"$f":"VLOOKUP(J161,Vertices!$A$11:$J$203,9,FALSE )-$E$7","v":{"v":-42.5,"d":"-42.50"}},{"v":274.41634625000006,"d":"274.42"},{"v":274.41634625000006,"d":"274.42"}]
[{"$f":"Faces!A162","v":152},{"$f":"Faces!B162","v":31},{"$f":"VLOOKUP(B162,Vertices!$A$11:$J$203,7,FALSE )-$C$7","v":{"v":4.545000000000002,"d":"4.55"}},{"$f":"VLOOKUP(B162,Vertices!$A$11:$J$203,8,FALSE )-$D$7","v":{"v":-37,"d":"-37.00"}},{"$f":"VLOOKUP(B162,Vertices!$A$11:$J$203,9,FALSE )-$E$7","v":{"v":-50,"d":"-50.00"}},{"$f":"Faces!C162","v":32},{"$f":"VLOOKUP(F162,Vertices!$A$11:$J$203,7,FALSE )-$C$7","v":{"v":1.615000000000002,"d":"1.62"}},{"$f":"VLOOKUP(F162,Vertices!$A$11:$J$203,8,FALSE )-$D$7","v":{"v":-32.1,"d":"-32.10"}},{"$f":"VLOOKUP(F162,Vertices!$A$11:$J$203,9,FALSE )-$E$7","v":-49.14},{"$f":"Faces!D162","v":98},{"$f":"VLOOKUP(J162,Vertices!$A$11:$J$203,7,FALSE )-$C$7","v":{"v":-5.784999999999997,"d":"-5.79"}},{"$f":"VLOOKUP(J162,Vertices!$A$11:$J$203,8,FALSE )-$D$7","v":-27.89},{"$f":"VLOOKUP(J162,Vertices!$A$11:$J$203,9,FALSE )-$E$7","v":-42.05},{"v":264.6586136666668,"d":"264.66"},{"v":264.6586136666668,"d":"264.66"}]
[{"$f":"Faces!A163","v":153},{"$f":"Faces!B163","v":32},{"$f":"VLOOKUP(B163,Vertices!$A$11:$J$203,7,FALSE )-$C$7","v":{"v":1.615000000000002,"d":"1.62"}},{"$f":"VLOOKUP(B163,Vertices!$A$11:$J$203,8,FALSE )-$D$7","v":{"v":-32.1,"d":"-32.10"}},{"$f":"VLOOKUP(B163,Vertices!$A$11:$J$203,9,FALSE )-$E$7","v":-49.14},{"$f":"Faces!C163","v":99},{"$f":"VLOOKUP(F163,Vertices!$A$11:$J$203,7,FALSE )-$C$7","v":{"v":-8.324999999999996,"d":"-8.33"}},{"$f":"VLOOKUP(F163,Vertices!$A$11:$J$203,8,FALSE )-$D$7","v":{"v":-23.3,"d":"-23.30"}},{"$f":"VLOOKUP(F163,Vertices!$A$11:$J$203,9,FALSE )-$E$7","v":-41.61},{"$f":"Faces!D163","v":98},{"$f":"VLOOKUP(J163,Vertices!$A$11:$J$203,7,FALSE )-$C$7","v":{"v":-5.784999999999997,"d":"-5.79"}},{"$f":"VLOOKUP(J163,Vertices!$A$11:$J$203,8,FALSE )-$D$7","v":-27.89},{"$f":"VLOOKUP(J163,Vertices!$A$11:$J$203,9,FALSE )-$E$7","v":-42.05},{"v":261.2680905833333,"d":"261.27"},{"v":261.2680905833333,"d":"261.27"}]
[{"$f":"Faces!A164","v":154},{"$f":"Faces!B164","v":32},{"$f":"VLOOKUP(B164,Vertices!$A$11:$J$203,7,FALSE )-$C$7","v":{"v":1.615000000000002,"d":"1.62"}},{"$f":"VLOOKUP(B164,Vertices!$A$11:$J$203,8,FALSE )-$D$7","v":{"v":-32.1,"d":"-32.10"}},{"$f":"VLOOKUP(B164,Vertices!$A$11:$J$203,9,FALSE )-$E$7","v":-49.14},{"$f":"Faces!C164","v":33},{"$f":"VLOOKUP(F164,Vertices!$A$11:$J$203,7,FALSE )-$C$7","v":{"v":-1.2250000000000014,"d":"-1.23"}},{"$f":"VLOOKUP(F164,Vertices!$A$11:$J$203,8,FALSE )-$D$7","v":-27.18},{"$f":"VLOOKUP(F164,Vertices!$A$11:$J$203,9,FALSE )-$E$7","v":-48.51},{"$f":"Faces!D164","v":99},{"$f":"VLOOKUP(J164,Vertices!$A$11:$J$203,7,FALSE )-$C$7","v":{"v":-8.324999999999996,"d":"-8.33"}},{"$f":"VLOOKUP(J164,Vertices!$A$11:$J$203,8,FALSE )-$D$7","v":{"v":-23.3,"d":"-23.30"}},{"$f":"VLOOKUP(J164,Vertices!$A$11:$J$203,9,FALSE )-$E$7","v":-41.61},{"v":268.2741629999994,"d":"268.27"},{"v":268.2741629999994,"d":"268.27"}]
[{"$f":"Faces!A165","v":155},{"$f":"Faces!B165","v":33},{"$f":"VLOOKUP(B165,Vertices!$A$11:$J$203,7,FALSE )-$C$7","v":{"v":-1.2250000000000014,"d":"-1.23"}},{"$f":"VLOOKUP(B165,Vertices!$A$11:$J$203,8,FALSE )-$D$7","v":-27.18},{"$f":"VLOOKUP(B165,Vertices!$A$11:$J$203,9,FALSE )-$E$7","v":-48.51},{"$f":"Faces!C165","v":100},{"$f":"VLOOKUP(F165,Vertices!$A$11:$J$203,7,FALSE )-$C$7","v":{"v":-13.625,"d":"-13.63"}},{"$f":"VLOOKUP(F165,Vertices!$A$11:$J$203,8,FALSE )-$D$7","v":{"v":-13.6,"d":"-13.60"}},{"$f":"VLOOKUP(F165,Vertices!$A$11:$J$203,9,FALSE )-$E$7","v":-40.81},{"$f":"Faces!D165","v":99},{"$f":"VLOOKUP(J165,Vertices!$A$11:$J$203,7,FALSE )-$C$7","v":{"v":-8.324999999999996,"d":"-8.33"}},{"$f":"VLOOKUP(J165,Vertices!$A$11:$J$203,8,FALSE )-$D$7","v":{"v":-23.3,"d":"-23.30"}},{"$f":"VLOOKUP(J165,Vertices!$A$11:$J$203,9,FALSE )-$E$7","v":-41.61},{"v":543.5168516666668,"d":"543.52"},{"v":543.5168516666668,"d":"543.52"}]
[{"$f":"Faces!A166","v":156},{"$f":"Faces!B166","v":33},{"$f":"VLOOKUP(B166,Vertices!$A$11:$J$203,7,FALSE )-$C$7","v":{"v":-1.2250000000000014,"d":"-1.23"}},{"$f":"VLOOKUP(B166,Vertices!$A$11:$J$203,8,FALSE )-$D$7","v":-27.18},{"$f":"VLOOKUP(B166,Vertices!$A$11:$J$203,9,FALSE )-$E$7","v":-48.51},{"$f":"Faces!C166","v":34},{"$f":"VLOOKUP(F166,Vertices!$A$11:$J$203,7,FALSE )-$C$7","v":{"v":-7.335000000000001,"d":"-7.34"}},{"$f":"VLOOKUP(F166,Vertices!$A$11:$J$203,8,FALSE )-$D$7","v":-16.25},{"$f":"VLOOKUP(F166,Vertices!$A$11:$J$203,9,FALSE )-$E$7","v":-47.39},{"$f":"Faces!D166","v":100},{"$f":"VLOOKUP(J166,Vertices!$A$11:$J$203,7,FALSE )-$C$7","v":{"v":-13.625,"d":"-13.63"}},{"$f":"VLOOKUP(J166,Vertices!$A$11:$J$203,8,FALSE )-$D$7","v":{"v":-13.6,"d":"-13.60"}},{"$f":"VLOOKUP(J166,Vertices!$A$11:$J$203,9,FALSE )-$E$7","v":-40.81},{"v":589.2208944999999,"d":"589.22"},{"v":589.2208944999999,"d":"589.22"}]
[{"$f":"Faces!A167","v":157},{"$f":"Faces!B167","v":34},{"$f":"VLOOKUP(B167,Vertices!$A$11:$J$203,7,FALSE )-$C$7","v":{"v":-7.335000000000001,"d":"-7.34"}},{"$f":"VLOOKUP(B167,Vertices!$A$11:$J$203,8,FALSE )-$D$7","v":-16.25},{"$f":"VLOOKUP(B167,Vertices!$A$11:$J$203,9,FALSE )-$E$7","v":-47.39},{"$f":"Faces!C167","v":101},{"$f":"VLOOKUP(F167,Vertices!$A$11:$J$203,7,FALSE )-$C$7","v":{"v":-21.674999999999997,"d":"-21.68"}},{"$f":"VLOOKUP(F167,Vertices!$A$11:$J$203,8,FALSE )-$D$7","v":2.11},{"$f":"VLOOKUP(F167,Vertices!$A$11:$J$203,9,FALSE )-$E$7","v":-39.49},{"$f":"Faces!D167","v":100},{"$f":"VLOOKUP(J167,Vertices!$A$11:$J$203,7,FALSE )-$C$7","v":{"v":-13.625,"d":"-13.63"}},{"$f":"VLOOKUP(J167,Vertices!$A$11:$J$203,8,FALSE )-$D$7","v":{"v":-13.6,"d":"-13.60"}},{"$f":"VLOOKUP(J167,Vertices!$A$11:$J$203,9,FALSE )-$E$7","v":-40.81},{"v":855.0563998333331,"d":"855.06"},{"v":855.0563998333331,"d":"855.06"}]
[{"$f":"Faces!A168","v":158},{"$f":"Faces!B168","v":34},{"$f":"VLOOKUP(B168,Vertices!$A$11:$J$203,7,FALSE )-$C$7","v":{"v":-7.335000000000001,"d":"-7.34"}},{"$f":"VLOOKUP(B168,Vertices!$A$11:$J$203,8,FALSE )-$D$7","v":-16.25},{"$f":"VLOOKUP(B168,Vertices!$A$11:$J$203,9,FALSE )-$E$7","v":-47.39},{"$f":"Faces!C168","v":35},{"$f":"VLOOKUP(F168,Vertices!$A$11:$J$203,7,FALSE )-$C$7","v":{"v":-17.225,"d":"-17.23"}},{"$f":"VLOOKUP(F168,Vertices!$A$11:$J$203,8,FALSE )-$D$7","v":2.27},{"$f":"VLOOKUP(F168,Vertices!$A$11:$J$203,9,FALSE )-$E$7","v":{"v":-46.2,"d":"-46.20"}},{"$f":"Faces!D168","v":101},{"$f":"VLOOKUP(J168,Vertices!$A$11:$J$203,7,FALSE )-$C$7","v":{"v":-21.674999999999997,"d":"-21.68"}},{"$f":"VLOOKUP(J168,Vertices!$A$11:$J$203,8,FALSE )-$D$7","v":2.11},{"$f":"VLOOKUP(J168,Vertices!$A$11:$J$203,9,FALSE )-$E$7","v":-39.49},{"v":980.9715936666662,"d":"980.97"},{"v":980.9715936666662,"d":"980.97"}]
[{"$f":"Faces!A169","v":159},{"$f":"Faces!B169","v":35},{"$f":"VLOOKUP(B169,Vertices!$A$11:$J$203,7,FALSE )-$C$7","v":{"v":-17.225,"d":"-17.23"}},{"$f":"VLOOKUP(B169,Vertices!$A$11:$J$203,8,FALSE )-$D$7","v":2.27},{"$f":"VLOOKUP(B169,Vertices!$A$11:$J$203,9,FALSE )-$E$7","v":{"v":-46.2,"d":"-46.20"}},{"$f":"Faces!C169","v":102},{"$f":"VLOOKUP(F169,Vertices!$A$11:$J$203,7,FALSE )-$C$7","v":{"v":-28.384999999999998,"d":"-28.39"}},{"$f":"VLOOKUP(F169,Vertices!$A$11:$J$203,8,FALSE )-$D$7","v":16.18},{"$f":"VLOOKUP(F169,Vertices!$A$11:$J$203,9,FALSE )-$E$7","v":-38.55},{"$f":"Faces!D169","v":101},{"$f":"VLOOKUP(J169,Vertices!$A$11:$J$203,7,FALSE )-$C$7","v":{"v":-21.674999999999997,"d":"-21.68"}},{"$f":"VLOOKUP(J169,Vertices!$A$11:$J$203,8,FALSE )-$D$7","v":2.11},{"$f":"VLOOKUP(J169,Vertices!$A$11:$J$203,9,FALSE )-$E$7","v":-39.49},{"v":746.3900075833329,"d":"746.39"},{"v":746.3900075833329,"d":"746.39"}]
[{"$f":"Faces!A170","v":160},{"$f":"Faces!B170","v":35},{"$f":"VLOOKUP(B170,Vertices!$A$11:$J$203,7,FALSE )-$C$7","v":{"v":-17.225,"d":"-17.23"}},{"$f":"VLOOKUP(B170,Vertices!$A$11:$J$203,8,FALSE )-$D$7","v":2.27},{"$f":"VLOOKUP(B170,Vertices!$A$11:$J$203,9,FALSE )-$E$7","v":{"v":-46.2,"d":"-46.20"}},{"$f":"Faces!C170","v":36},{"$f":"VLOOKUP(F170,Vertices!$A$11:$J$203,7,FALSE )-$C$7","v":{"v":-26.455,"d":"-26.46"}},{"$f":"VLOOKUP(F170,Vertices!$A$11:$J$203,8,FALSE )-$D$7","v":{"v":20,"d":"20.00"}},{"$f":"VLOOKUP(F170,Vertices!$A$11:$J$203,9,FALSE )-$E$7","v":{"v":-46,"d":"-46.00"}},{"$f":"Faces!D170","v":102},{"$f":"VLOOKUP(J170,Vertices!$A$11:$J$203,7,FALSE )-$C$7","v":{"v":-28.384999999999998,"d":"-28.39"}},{"$f":"VLOOKUP(J170,Vertices!$A$11:$J$203,8,FALSE )-$D$7","v":16.18},{"$f":"VLOOKUP(J170,Vertices!$A$11:$J$203,9,FALSE )-$E$7","v":-38.55},{"v":890.5046479166667,"d":"890.50"},{"v":890.5046479166667,"d":"890.50"}]
[{"$f":"Faces!A171","v":161},{"$f":"Faces!B171","v":97},{"$f":"VLOOKUP(B171,Vertices!$A$11:$J$203,7,FALSE )-$C$7","v":{"v":-3.2449999999999974,"d":"-3.25"}},{"$f":"VLOOKUP(B171,Vertices!$A$11:$J$203,8,FALSE )-$D$7","v":-32.49},{"$f":"VLOOKUP(B171,Vertices!$A$11:$J$203,9,FALSE )-$E$7","v":{"v":-42.5,"d":"-42.50"}},{"$f":"Faces!C171","v":98},{"$f":"VLOOKUP(F171,Vertices!$A$11:$J$203,7,FALSE )-$C$7","v":{"v":-5.784999999999997,"d":"-5.79"}},{"$f":"VLOOKUP(F171,Vertices!$A$11:$J$203,8,FALSE )-$D$7","v":-27.89},{"$f":"VLOOKUP(F171,Vertices!$A$11:$J$203,9,FALSE )-$E$7","v":-42.05},{"$f":"Faces!D171","v":126},{"$f":"VLOOKUP(J171,Vertices!$A$11:$J$203,7,FALSE )-$C$7","v":{"v":-10.985,"d":"-10.99"}},{"$f":"VLOOKUP(J171,Vertices!$A$11:$J$203,8,FALSE )-$D$7","v":-27.78},{"$f":"VLOOKUP(J171,Vertices!$A$11:$J$203,9,FALSE )-$E$7","v":-35.21},{"v":265.8512027499998,"d":"265.85"},{"v":265.8512027499998,"d":"265.85"}]
[{"$f":"Faces!A172","v":162},{"$f":"Faces!B172","v":126},{"$f":"VLOOKUP(B172,Vertices!$A$11:$J$203,7,FALSE )-$C$7","v":{"v":-10.985,"d":"-10.99"}},{"$f":"VLOOKUP(B172,Vertices!$A$11:$J$203,8,FALSE )-$D$7","v":-27.78},{"$f":"VLOOKUP(B172,Vertices!$A$11:$J$203,9,FALSE )-$E$7","v":-35.21},{"$f":"Faces!C172","v":98},{"$f":"VLOOKUP(F172,Vertices!$A$11:$J$203,7,FALSE )-$C$7","v":{"v":-5.784999999999997,"d":"-5.79"}},{"$f":"VLOOKUP(F172,Vertices!$A$11:$J$203,8,FALSE )-$D$7","v":-27.89},{"$f":"VLOOKUP(F172,Vertices!$A$11:$J$203,9,FALSE )-$E$7","v":-42.05},{"$f":"Faces!D172","v":127},{"$f":"VLOOKUP(J172,Vertices!$A$11:$J$203,7,FALSE )-$C$7","v":{"v":-15.204999999999998,"d":"-15.21"}},{"$f":"VLOOKUP(J172,Vertices!$A$11:$J$203,8,FALSE )-$D$7","v":-19.71},{"$f":"VLOOKUP(J172,Vertices!$A$11:$J$203,9,FALSE )-$E$7","v":-34.61},{"v":463.67205166666616,"d":"463.67"},{"v":463.67205166666616,"d":"463.67"}]
[{"$f":"Faces!A173","v":163},{"$f":"Faces!B173","v":98},{"$f":"VLOOKUP(B173,Vertices!$A$11:$J$203,7,FALSE )-$C$7","v":{"v":-5.784999999999997,"d":"-5.79"}},{"$f":"VLOOKUP(B173,Vertices!$A$11:$J$203,8,FALSE )-$D$7","v":-27.89},{"$f":"VLOOKUP(B173,Vertices!$A$11:$J$203,9,FALSE )-$E$7","v":-42.05},{"$f":"Faces!C173","v":99},{"$f":"VLOOKUP(F173,Vertices!$A$11:$J$203,7,FALSE )-$C$7","v":{"v":-8.324999999999996,"d":"-8.33"}},{"$f":"VLOOKUP(F173,Vertices!$A$11:$J$203,8,FALSE )-$D$7","v":{"v":-23.3,"d":"-23.30"}},{"$f":"VLOOKUP(F173,Vertices!$A$11:$J$203,9,FALSE )-$E$7","v":-41.61},{"$f":"Faces!D173","v":127},{"$f":"VLOOKUP(J173,Vertices!$A$11:$J$203,7,FALSE )-$C$7","v":{"v":-15.204999999999998,"d":"-15.21"}},{"$f":"VLOOKUP(J173,Vertices!$A$11:$J$203,8,FALSE )-$D$7","v":-19.71},{"$f":"VLOOKUP(J173,Vertices!$A$11:$J$203,9,FALSE )-$E$7","v":-34.61},{"v":255.44298099999983,"d":"255.44"},{"v":255.44298099999983,"d":"255.44"}]
[{"$f":"Faces!A174","v":164},{"$f":"Faces!B174","v":99},{"$f":"VLOOKUP(B174,Vertices!$A$11:$J$203,7,FALSE )-$C$7","v":{"v":-8.324999999999996,"d":"-8.33"}},{"$f":"VLOOKUP(B174,Vertices!$A$11:$J$203,8,FALSE )-$D$7","v":{"v":-23.3,"d":"-23.30"}},{"$f":"VLOOKUP(B174,Vertices!$A$11:$J$203,9,FALSE )-$E$7","v":-41.61},{"$f":"Faces!C174","v":128},{"$f":"VLOOKUP(F174,Vertices!$A$11:$J$203,7,FALSE )-$C$7","v":{"v":-19.575,"d":"-19.58"}},{"$f":"VLOOKUP(F174,Vertices!$A$11:$J$203,8,FALSE )-$D$7","v":-11.32},{"$f":"VLOOKUP(F174,Vertices!$A$11:$J$203,9,FALSE )-$E$7","v":-33.98},{"$f":"Faces!D174","v":127},{"$f":"VLOOKUP(J174,Vertices!$A$11:$J$203,7,FALSE )-$C$7","v":{"v":-15.204999999999998,"d":"-15.21"}},{"$f":"VLOOKUP(J174,Vertices!$A$11:$J$203,8,FALSE )-$D$7","v":-19.71},{"$f":"VLOOKUP(J174,Vertices!$A$11:$J$203,9,FALSE )-$E$7","v":-34.61},{"v":471.8210444166666,"d":"471.82"},{"v":471.8210444166666,"d":"471.82"}]
[{"$f":"Faces!A175","v":165},{"$f":"Faces!B175","v":99},{"$f":"VLOOKUP(B175,Vertices!$A$11:$J$203,7,FALSE )-$C$7","v":{"v":-8.324999999999996,"d":"-8.33"}},{"$f":"VLOOKUP(B175,Vertices!$A$11:$J$203,8,FALSE )-$D$7","v":{"v":-23.3,"d":"-23.30"}},{"$f":"VLOOKUP(B175,Vertices!$A$11:$J$203,9,FALSE )-$E$7","v":-41.61},{"$f":"Faces!C175","v":100},{"$f":"VLOOKUP(F175,Vertices!$A$11:$J$203,7,FALSE )-$C$7","v":{"v":-13.625,"d":"-13.63"}},{"$f":"VLOOKUP(F175,Vertices!$A$11:$J$203,8,FALSE )-$D$7","v":{"v":-13.6,"d":"-13.60"}},{"$f":"VLOOKUP(F175,Vertices!$A$11:$J$203,9,FALSE )-$E$7","v":-40.81},{"$f":"Faces!D175","v":128},{"$f":"VLOOKUP(J175,Vertices!$A$11:$J$203,7,FALSE )-$C$7","v":{"v":-19.575,"d":"-19.58"}},{"$f":"VLOOKUP(J175,Vertices!$A$11:$J$203,8,FALSE )-$D$7","v":-11.32},{"$f":"VLOOKUP(J175,Vertices!$A$11:$J$203,9,FALSE )-$E$7","v":-33.98},{"v":527.9315641666662,"d":"527.93"},{"v":527.9315641666662,"d":"527.93"}]
[{"$f":"Faces!A176","v":166},{"$f":"Faces!B176","v":100},{"$f":"VLOOKUP(B176,Vertices!$A$11:$J$203,7,FALSE )-$C$7","v":{"v":-13.625,"d":"-13.63"}},{"$f":"VLOOKUP(B176,Vertices!$A$11:$J$203,8,FALSE )-$D$7","v":{"v":-13.6,"d":"-13.60"}},{"$f":"VLOOKUP(B176,Vertices!$A$11:$J$203,9,FALSE )-$E$7","v":-40.81},{"$f":"Faces!C176","v":129},{"$f":"VLOOKUP(F176,Vertices!$A$11:$J$203,7,FALSE )-$C$7","v":{"v":-25.985,"d":"-25.99"}},{"$f":"VLOOKUP(F176,Vertices!$A$11:$J$203,8,FALSE )-$D$7","v":1.82},{"$f":"VLOOKUP(F176,Vertices!$A$11:$J$203,9,FALSE )-$E$7","v":-32.62},{"$f":"Faces!D176","v":128},{"$f":"VLOOKUP(J176,Vertices!$A$11:$J$203,7,FALSE )-$C$7","v":{"v":-19.575,"d":"-19.58"}},{"$f":"VLOOKUP(J176,Vertices!$A$11:$J$203,8,FALSE )-$D$7","v":-11.32},{"$f":"VLOOKUP(J176,Vertices!$A$11:$J$203,9,FALSE )-$E$7","v":-33.98},{"v":710.0204495000004,"d":"710.02"},{"v":710.0204495000004,"d":"710.02"}]
[{"$f":"Faces!A177","v":167},{"$f":"Faces!B177","v":100},{"$f":"VLOOKUP(B177,Vertices!$A$11:$J$203,7,FALSE )-$C$7","v":{"v":-13.625,"d":"-13.63"}},{"$f":"VLOOKUP(B177,Vertices!$A$11:$J$203,8,FALSE )-$D$7","v":{"v":-13.6,"d":"-13.60"}},{"$f":"VLOOKUP(B177,Vertices!$A$11:$J$203,9,FALSE )-$E$7","v":-40.81},{"$f":"Faces!C177","v":101},{"$f":"VLOOKUP(F177,Vertices!$A$11:$J$203,7,FALSE )-$C$7","v":{"v":-21.674999999999997,"d":"-21.68"}},{"$f":"VLOOKUP(F177,Vertices!$A$11:$J$203,8,FALSE )-$D$7","v":2.11},{"$f":"VLOOKUP(F177,Vertices!$A$11:$J$203,9,FALSE )-$E$7","v":-39.49},{"$f":"Faces!D177","v":129},{"$f":"VLOOKUP(J177,Vertices!$A$11:$J$203,7,FALSE )-$C$7","v":{"v":-25.985,"d":"-25.99"}},{"$f":"VLOOKUP(J177,Vertices!$A$11:$J$203,8,FALSE )-$D$7","v":1.82},{"$f":"VLOOKUP(J177,Vertices!$A$11:$J$203,9,FALSE )-$E$7","v":-32.62},{"v":834.8341947500006,"d":"834.83"},{"v":834.8341947500006,"d":"834.83"}]
[{"$f":"Faces!A178","v":168},{"$f":"Faces!B178","v":101},{"$f":"VLOOKUP(B178,Vertices!$A$11:$J$203,7,FALSE )-$C$7","v":{"v":-21.674999999999997,"d":"-21.68"}},{"$f":"VLOOKUP(B178,Vertices!$A$11:$J$203,8,FALSE )-$D$7","v":2.11},{"$f":"VLOOKUP(B178,Vertices!$A$11:$J$203,9,FALSE )-$E$7","v":-39.49},{"$f":"Faces!C178","v":130},{"$f":"VLOOKUP(F178,Vertices!$A$11:$J$203,7,FALSE )-$C$7","v":{"v":-31.125,"d":"-31.13"}},{"$f":"VLOOKUP(F178,Vertices!$A$11:$J$203,8,FALSE )-$D$7","v":13.31},{"$f":"VLOOKUP(F178,Vertices!$A$11:$J$203,9,FALSE )-$E$7","v":-31.27},{"$f":"Faces!D178","v":129},{"$f":"VLOOKUP(J178,Vertices!$A$11:$J$203,7,FALSE )-$C$7","v":{"v":-25.985,"d":"-25.99"}},{"$f":"VLOOKUP(J178,Vertices!$A$11:$J$203,8,FALSE )-$D$7","v":1.82},{"$f":"VLOOKUP(J178,Vertices!$A$11:$J$203,9,FALSE )-$E$7","v":-32.62},{"v":611.9471378333334,"d":"611.95"},{"v":611.9471378333334,"d":"611.95"}]
[{"$f":"Faces!A179","v":169},{"$f":"Faces!B179","v":101},{"$f":"VLOOKUP(B179,Vertices!$A$11:$J$203,7,FALSE )-$C$7","v":{"v":-21.674999999999997,"d":"-21.68"}},{"$f":"VLOOKUP(B179,Vertices!$A$11:$J$203,8,FALSE )-$D$7","v":2.11},{"$f":"VLOOKUP(B179,Vertices!$A$11:$J$203,9,FALSE )-$E$7","v":-39.49},{"$f":"Faces!C179","v":102},{"$f":"VLOOKUP(F179,Vertices!$A$11:$J$203,7,FALSE )-$C$7","v":{"v":-28.384999999999998,"d":"-28.39"}},{"$f":"VLOOKUP(F179,Vertices!$A$11:$J$203,8,FALSE )-$D$7","v":16.18},{"$f":"VLOOKUP(F179,Vertices!$A$11:$J$203,9,FALSE )-$E$7","v":-38.55},{"$f":"Faces!D179","v":130},{"$f":"VLOOKUP(J179,Vertices!$A$11:$J$203,7,FALSE )-$C$7","v":{"v":-31.125,"d":"-31.13"}},{"$f":"VLOOKUP(J179,Vertices!$A$11:$J$203,8,FALSE )-$D$7","v":13.31},{"$f":"VLOOKUP(J179,Vertices!$A$11:$J$203,9,FALSE )-$E$7","v":-31.27},{"v":743.9828496666672,"d":"743.98"},{"v":743.9828496666672,"d":"743.98"}]
[{"$f":"Faces!A180","v":170},{"$f":"Faces!B180","v":126},{"$f":"VLOOKUP(B180,Vertices!$A$11:$J$203,7,FALSE )-$C$7","v":{"v":-10.985,"d":"-10.99"}},{"$f":"VLOOKUP(B180,Vertices!$A$11:$J$203,8,FALSE )-$D$7","v":-27.78},{"$f":"VLOOKUP(B180,Vertices!$A$11:$J$203,9,FALSE )-$E$7","v":-35.21},{"$f":"Faces!C180","v":151},{"$f":"VLOOKUP(F180,Vertices!$A$11:$J$203,7,FALSE )-$C$7","v":{"v":-22.615,"d":"-22.62"}},{"$f":"VLOOKUP(F180,Vertices!$A$11:$J$203,8,FALSE )-$D$7","v":-15.73},{"$f":"VLOOKUP(F180,Vertices!$A$11:$J$203,9,FALSE )-$E$7","v":-27.45},{"$f":"Faces!D180","v":150},{"$f":"VLOOKUP(J180,Vertices!$A$11:$J$203,7,FALSE )-$C$7","v":{"v":-19.384999999999998,"d":"-19.39"}},{"$f":"VLOOKUP(J180,Vertices!$A$11:$J$203,8,FALSE )-$D$7","v":-22.41},{"$f":"VLOOKUP(J180,Vertices!$A$11:$J$203,9,FALSE )-$E$7","v":-28.05},{"v":392.90659183333383,"d":"392.91"},{"v":392.90659183333383,"d":"392.91"}]
[{"$f":"Faces!A181","v":171},{"$f":"Faces!B181","v":126},{"$f":"VLOOKUP(B181,Vertices!$A$11:$J$203,7,FALSE )-$C$7","v":{"v":-10.985,"d":"-10.99"}},{"$f":"VLOOKUP(B181,Vertices!$A$11:$J$203,8,FALSE )-$D$7","v":-27.78},{"$f":"VLOOKUP(B181,Vertices!$A$11:$J$203,9,FALSE )-$E$7","v":-35.21},{"$f":"Faces!C181","v":127},{"$f":"VLOOKUP(F181,Vertices!$A$11:$J$203,7,FALSE )-$C$7","v":{"v":-15.204999999999998,"d":"-15.21"}},{"$f":"VLOOKUP(F181,Vertices!$A$11:$J$203,8,FALSE )-$D$7","v":-19.71},{"$f":"VLOOKUP(F181,Vertices!$A$11:$J$203,9,FALSE )-$E$7","v":-34.61},{"$f":"Faces!D181","v":151},{"$f":"VLOOKUP(J181,Vertices!$A$11:$J$203,7,FALSE )-$C$7","v":{"v":-22.615,"d":"-22.62"}},{"$f":"VLOOKUP(J181,Vertices!$A$11:$J$203,8,FALSE )-$D$7","v":-15.73},{"$f":"VLOOKUP(J181,Vertices!$A$11:$J$203,9,FALSE )-$E$7","v":-27.45},{"v":473.0836381666668,"d":"473.08"},{"v":473.0836381666668,"d":"473.08"}]
[{"$f":"Faces!A182","v":172},{"$f":"Faces!B182","v":127},{"$f":"VLOOKUP(B182,Vertices!$A$11:$J$203,7,FALSE )-$C$7","v":{"v":-15.204999999999998,"d":"-15.21"}},{"$f":"VLOOKUP(B182,Vertices!$A$11:$J$203,8,FALSE )-$D$7","v":-19.71},{"$f":"VLOOKUP(B182,Vertices!$A$11:$J$203,9,FALSE )-$E$7","v":-34.61},{"$f":"Faces!C182","v":152},{"$f":"VLOOKUP(F182,Vertices!$A$11:$J$203,7,FALSE )-$C$7","v":{"v":-25.825,"d":"-25.83"}},{"$f":"VLOOKUP(F182,Vertices!$A$11:$J$203,8,FALSE )-$D$7","v":-8.92},{"$f":"VLOOKUP(F182,Vertices!$A$11:$J$203,9,FALSE )-$E$7","v":-26.77},{"$f":"Faces!D182","v":151},{"$f":"VLOOKUP(J182,Vertices!$A$11:$J$203,7,FALSE )-$C$7","v":{"v":-22.615,"d":"-22.62"}},{"$f":"VLOOKUP(J182,Vertices!$A$11:$J$203,8,FALSE )-$D$7","v":-15.73},{"$f":"VLOOKUP(J182,Vertices!$A$11:$J$203,9,FALSE )-$E$7","v":-27.45},{"v":393.04229283333297,"d":"393.04"},{"v":393.04229283333297,"d":"393.04"}]
[{"$f":"Faces!A183","v":173},{"$f":"Faces!B183","v":127},{"$f":"VLOOKUP(B183,Vertices!$A$11:$J$203,7,FALSE )-$C$7","v":{"v":-15.204999999999998,"d":"-15.21"}},{"$f":"VLOOKUP(B183,Vertices!$A$11:$J$203,8,FALSE )-$D$7","v":-19.71},{"$f":"VLOOKUP(B183,Vertices!$A$11:$J$203,9,FALSE )-$E$7","v":-34.61},{"$f":"Faces!C183","v":128},{"$f":"VLOOKUP(F183,Vertices!$A$11:$J$203,7,FALSE )-$C$7","v":{"v":-19.575,"d":"-19.58"}},{"$f":"VLOOKUP(F183,Vertices!$A$11:$J$203,8,FALSE )-$D$7","v":-11.32},{"$f":"VLOOKUP(F183,Vertices!$A$11:$J$203,9,FALSE )-$E$7","v":-33.98},{"$f":"Faces!D183","v":152},{"$f":"VLOOKUP(J183,Vertices!$A$11:$J$203,7,FALSE )-$C$7","v":{"v":-25.825,"d":"-25.83"}},{"$f":"VLOOKUP(J183,Vertices!$A$11:$J$203,8,FALSE )-$D$7","v":-8.92},{"$f":"VLOOKUP(J183,Vertices!$A$11:$J$203,9,FALSE )-$E$7","v":-26.77},{"v":482.0117027499985,"d":"482.01"},{"v":482.0117027499985,"d":"482.01"}]
[{"$f":"Faces!A184","v":174},{"$f":"Faces!B184","v":128},{"$f":"VLOOKUP(B184,Vertices!$A$11:$J$203,7,FALSE )-$C$7","v":{"v":-19.575,"d":"-19.58"}},{"$f":"VLOOKUP(B184,Vertices!$A$11:$J$203,8,FALSE )-$D$7","v":-11.32},{"$f":"VLOOKUP(B184,Vertices!$A$11:$J$203,9,FALSE )-$E$7","v":-33.98},{"$f":"Faces!C184","v":153},{"$f":"VLOOKUP(F184,Vertices!$A$11:$J$203,7,FALSE )-$C$7","v":{"v":-30.544999999999998,"d":"-30.55"}},{"$f":"VLOOKUP(F184,Vertices!$A$11:$J$203,8,FALSE )-$D$7","v":1.64},{"$f":"VLOOKUP(F184,Vertices!$A$11:$J$203,9,FALSE )-$E$7","v":-25.33},{"$f":"Faces!D184","v":152},{"$f":"VLOOKUP(J184,Vertices!$A$11:$J$203,7,FALSE )-$C$7","v":{"v":-25.825,"d":"-25.83"}},{"$f":"VLOOKUP(J184,Vertices!$A$11:$J$203,8,FALSE )-$D$7","v":-8.92},{"$f":"VLOOKUP(J184,Vertices!$A$11:$J$203,9,FALSE )-$E$7","v":-26.77},{"v":593.9750106666662,"d":"593.98"},{"v":593.9750106666662,"d":"593.98"}]
[{"$f":"Faces!A185","v":175},{"$f":"Faces!B185","v":128},{"$f":"VLOOKUP(B185,Vertices!$A$11:$J$203,7,FALSE )-$C$7","v":{"v":-19.575,"d":"-19.58"}},{"$f":"VLOOKUP(B185,Vertices!$A$11:$J$203,8,FALSE )-$D$7","v":-11.32},{"$f":"VLOOKUP(B185,Vertices!$A$11:$J$203,9,FALSE )-$E$7","v":-33.98},{"$f":"Faces!C185","v":129},{"$f":"VLOOKUP(F185,Vertices!$A$11:$J$203,7,FALSE )-$C$7","v":{"v":-25.985,"d":"-25.99"}},{"$f":"VLOOKUP(F185,Vertices!$A$11:$J$203,8,FALSE )-$D$7","v":1.82},{"$f":"VLOOKUP(F185,Vertices!$A$11:$J$203,9,FALSE )-$E$7","v":-32.62},{"$f":"Faces!D185","v":153},{"$f":"VLOOKUP(J185,Vertices!$A$11:$J$203,7,FALSE )-$C$7","v":{"v":-30.544999999999998,"d":"-30.55"}},{"$f":"VLOOKUP(J185,Vertices!$A$11:$J$203,8,FALSE )-$D$7","v":1.64},{"$f":"VLOOKUP(J185,Vertices!$A$11:$J$203,9,FALSE )-$E$7","v":-25.33},{"v":735.6492245,"d":"735.65"},{"v":735.6492245,"d":"735.65"}]
[{"$f":"Faces!A186","v":176},{"$f":"Faces!B186","v":129},{"$f":"VLOOKUP(B186,Vertices!$A$11:$J$203,7,FALSE )-$C$7","v":{"v":-25.985,"d":"-25.99"}},{"$f":"VLOOKUP(B186,Vertices!$A$11:$J$203,8,FALSE )-$D$7","v":1.82},{"$f":"VLOOKUP(B186,Vertices!$A$11:$J$203,9,FALSE )-$E$7","v":-32.62},{"$f":"Faces!C186","v":154},{"$f":"VLOOKUP(F186,Vertices!$A$11:$J$203,7,FALSE )-$C$7","v":{"v":-34.265,"d":"-34.27"}},{"$f":"VLOOKUP(F186,Vertices!$A$11:$J$203,8,FALSE )-$D$7","v":10.82},{"$f":"VLOOKUP(F186,Vertices!$A$11:$J$203,9,FALSE )-$E$7","v":-23.85},{"$f":"Faces!D186","v":153},{"$f":"VLOOKUP(J186,Vertices!$A$11:$J$203,7,FALSE )-$C$7","v":{"v":-30.544999999999998,"d":"-30.55"}},{"$f":"VLOOKUP(J186,Vertices!$A$11:$J$203,8,FALSE )-$D$7","v":1.64},{"$f":"VLOOKUP(J186,Vertices!$A$11:$J$203,9,FALSE )-$E$7","v":-25.33},{"v":516.0273365000002,"d":"516.03"},{"v":516.0273365000002,"d":"516.03"}]
[{"$f":"Faces!A187","v":177},{"$f":"Faces!B187","v":129},{"$f":"VLOOKUP(B187,Vertices!$A$11:$J$203,7,FALSE )-$C$7","v":{"v":-25.985,"d":"-25.99"}},{"$f":"VLOOKUP(B187,Vertices!$A$11:$J$203,8,FALSE )-$D$7","v":1.82},{"$f":"VLOOKUP(B187,Vertices!$A$11:$J$203,9,FALSE )-$E$7","v":-32.62},{"$f":"Faces!C187","v":130},{"$f":"VLOOKUP(F187,Vertices!$A$11:$J$203,7,FALSE )-$C$7","v":{"v":-31.125,"d":"-31.13"}},{"$f":"VLOOKUP(F187,Vertices!$A$11:$J$203,8,FALSE )-$D$7","v":13.31},{"$f":"VLOOKUP(F187,Vertices!$A$11:$J$203,9,FALSE )-$E$7","v":-31.27},{"$f":"Faces!D187","v":154},{"$f":"VLOOKUP(J187,Vertices!$A$11:$J$203,7,FALSE )-$C$7","v":{"v":-34.265,"d":"-34.27"}},{"$f":"VLOOKUP(J187,Vertices!$A$11:$J$203,8,FALSE )-$D$7","v":10.82},{"$f":"VLOOKUP(J187,Vertices!$A$11:$J$203,9,FALSE )-$E$7","v":-23.85},{"v":639.2328614166663,"d":"639.23"},{"v":639.2328614166663,"d":"639.23"}]
[{"$f":"Faces!A188","v":178},{"$f":"Faces!B188","v":150},{"$f":"VLOOKUP(B188,Vertices!$A$11:$J$203,7,FALSE )-$C$7","v":{"v":-19.384999999999998,"d":"-19.39"}},{"$f":"VLOOKUP(B188,Vertices!$A$11:$J$203,8,FALSE )-$D$7","v":-22.41},{"$f":"VLOOKUP(B188,Vertices!$A$11:$J$203,9,FALSE )-$E$7","v":-28.05},{"$f":"Faces!C188","v":151},{"$f":"VLOOKUP(F188,Vertices!$A$11:$J$203,7,FALSE )-$C$7","v":{"v":-22.615,"d":"-22.62"}},{"$f":"VLOOKUP(F188,Vertices!$A$11:$J$203,8,FALSE )-$D$7","v":-15.73},{"$f":"VLOOKUP(F188,Vertices!$A$11:$J$203,9,FALSE )-$E$7","v":-27.45},{"$f":"Faces!D188","v":173},{"$f":"VLOOKUP(J188,Vertices!$A$11:$J$203,7,FALSE )-$C$7","v":{"v":-29.715,"d":"-29.72"}},{"$f":"VLOOKUP(J188,Vertices!$A$11:$J$203,8,FALSE )-$D$7","v":-15.31},{"$f":"VLOOKUP(J188,Vertices!$A$11:$J$203,9,FALSE )-$E$7","v":-19.73},{"v":458.4057736666664,"d":"458.41"},{"v":458.4057736666664,"d":"458.41"}]
[{"$f":"Faces!A189","v":179},{"$f":"Faces!B189","v":151},{"$f":"VLOOKUP(B189,Vertices!$A$11:$J$203,7,FALSE )-$C$7","v":{"v":-22.615,"d":"-22.62"}},{"$f":"VLOOKUP(B189,Vertices!$A$11:$J$203,8,FALSE )-$D$7","v":-15.73},{"$f":"VLOOKUP(B189,Vertices!$A$11:$J$203,9,FALSE )-$E$7","v":-27.45},{"$f":"Faces!C189","v":174},{"$f":"VLOOKUP(F189,Vertices!$A$11:$J$203,7,FALSE )-$C$7","v":{"v":-33.334999999999994,"d":"-33.34"}},{"$f":"VLOOKUP(F189,Vertices!$A$11:$J$203,8,FALSE )-$D$7","v":-6.07},{"$f":"VLOOKUP(F189,Vertices!$A$11:$J$203,9,FALSE )-$E$7","v":-17.97},{"$f":"Faces!D189","v":173},{"$f":"VLOOKUP(J189,Vertices!$A$11:$J$203,7,FALSE )-$C$7","v":{"v":-29.715,"d":"-29.72"}},{"$f":"VLOOKUP(J189,Vertices!$A$11:$J$203,8,FALSE )-$D$7","v":-15.31},{"$f":"VLOOKUP(J189,Vertices!$A$11:$J$203,9,FALSE )-$E$7","v":-19.73},{"v":599.7673126666672,"d":"599.77"},{"v":599.7673126666672,"d":"599.77"}]
[{"$f":"Faces!A190","v":180},{"$f":"Faces!B190","v":151},{"$f":"VLOOKUP(B190,Vertices!$A$11:$J$203,7,FALSE )-$C$7","v":{"v":-22.615,"d":"-22.62"}},{"$f":"VLOOKUP(B190,Vertices!$A$11:$J$203,8,FALSE )-$D$7","v":-15.73},{"$f":"VLOOKUP(B190,Vertices!$A$11:$J$203,9,FALSE )-$E$7","v":-27.45},{"$f":"Faces!C190","v":152},{"$f":"VLOOKUP(F190,Vertices!$A$11:$J$203,7,FALSE )-$C$7","v":{"v":-25.825,"d":"-25.83"}},{"$f":"VLOOKUP(F190,Vertices!$A$11:$J$203,8,FALSE )-$D$7","v":-8.92},{"$f":"VLOOKUP(F190,Vertices!$A$11:$J$203,9,FALSE )-$E$7","v":-26.77},{"$f":"Faces!D190","v":174},{"$f":"VLOOKUP(J190,Vertices!$A$11:$J$203,7,FALSE )-$C$7","v":{"v":-33.334999999999994,"d":"-33.34"}},{"$f":"VLOOKUP(J190,Vertices!$A$11:$J$203,8,FALSE )-$D$7","v":-6.07},{"$f":"VLOOKUP(J190,Vertices!$A$11:$J$203,9,FALSE )-$E$7","v":-17.97},{"v":471.3677826666665,"d":"471.37"},{"v":471.3677826666665,"d":"471.37"}]
[{"$f":"Faces!A191","v":181},{"$f":"Faces!B191","v":152},{"$f":"VLOOKUP(B191,Vertices!$A$11:$J$203,7,FALSE )-$C$7","v":{"v":-25.825,"d":"-25.83"}},{"$f":"VLOOKUP(B191,Vertices!$A$11:$J$203,8,FALSE )-$D$7","v":-8.92},{"$f":"VLOOKUP(B191,Vertices!$A$11:$J$203,9,FALSE )-$E$7","v":-26.77},{"$f":"Faces!C191","v":175},{"$f":"VLOOKUP(F191,Vertices!$A$11:$J$203,7,FALSE )-$C$7","v":{"v":-36.185,"d":"-36.19"}},{"$f":"VLOOKUP(F191,Vertices!$A$11:$J$203,8,FALSE )-$D$7","v":1.66},{"$f":"VLOOKUP(F191,Vertices!$A$11:$J$203,9,FALSE )-$E$7","v":-16.74},{"$f":"Faces!D191","v":174},{"$f":"VLOOKUP(J191,Vertices!$A$11:$J$203,7,FALSE )-$C$7","v":{"v":-33.334999999999994,"d":"-33.34"}},{"$f":"VLOOKUP(J191,Vertices!$A$11:$J$203,8,FALSE )-$D$7","v":-6.07},{"$f":"VLOOKUP(J191,Vertices!$A$11:$J$203,9,FALSE )-$E$7","v":-17.97},{"v":524.0213154166664,"d":"524.02"},{"v":524.0213154166664,"d":"524.02"}]
[{"$f":"Faces!A192","v":182},{"$f":"Faces!B192","v":152},{"$f":"VLOOKUP(B192,Vertices!$A$11:$J$203,7,FALSE )-$C$7","v":{"v":-25.825,"d":"-25.83"}},{"$f":"VLOOKUP(B192,Vertices!$A$11:$J$203,8,FALSE )-$D$7","v":-8.92},{"$f":"VLOOKUP(B192,Vertices!$A$11:$J$203,9,FALSE )-$E$7","v":-26.77},{"$f":"Faces!C192","v":153},{"$f":"VLOOKUP(F192,Vertices!$A$11:$J$203,7,FALSE )-$C$7","v":{"v":-30.544999999999998,"d":"-30.55"}},{"$f":"VLOOKUP(F192,Vertices!$A$11:$J$203,8,FALSE )-$D$7","v":1.64},{"$f":"VLOOKUP(F192,Vertices!$A$11:$J$203,9,FALSE )-$E$7","v":-25.33},{"$f":"Faces!D192","v":175},{"$f":"VLOOKUP(J192,Vertices!$A$11:$J$203,7,FALSE )-$C$7","v":{"v":-36.185,"d":"-36.19"}},{"$f":"VLOOKUP(J192,Vertices!$A$11:$J$203,8,FALSE )-$D$7","v":1.66},{"$f":"VLOOKUP(J192,Vertices!$A$11:$J$203,9,FALSE )-$E$7","v":-16.74},{"v":703.8197573333335,"d":"703.82"},{"v":703.8197573333335,"d":"703.82"}]
[{"$f":"Faces!A193","v":183},{"$f":"Faces!B193","v":153},{"$f":"VLOOKUP(B193,Vertices!$A$11:$J$203,7,FALSE )-$C$7","v":{"v":-30.544999999999998,"d":"-30.55"}},{"$f":"VLOOKUP(B193,Vertices!$A$11:$J$203,8,FALSE )-$D$7","v":1.64},{"$f":"VLOOKUP(B193,Vertices!$A$11:$J$203,9,FALSE )-$E$7","v":-25.33},{"$f":"Faces!C193","v":176},{"$f":"VLOOKUP(F193,Vertices!$A$11:$J$203,7,FALSE )-$C$7","v":{"v":-38.595,"d":"-38.60"}},{"$f":"VLOOKUP(F193,Vertices!$A$11:$J$203,8,FALSE )-$D$7","v":8.39},{"$f":"VLOOKUP(F193,Vertices!$A$11:$J$203,9,FALSE )-$E$7","v":{"v":-14.5,"d":"-14.50"}},{"$f":"Faces!D193","v":175},{"$f":"VLOOKUP(J193,Vertices!$A$11:$J$203,7,FALSE )-$C$7","v":{"v":-36.185,"d":"-36.19"}},{"$f":"VLOOKUP(J193,Vertices!$A$11:$J$203,8,FALSE )-$D$7","v":1.66},{"$f":"VLOOKUP(J193,Vertices!$A$11:$J$203,9,FALSE )-$E$7","v":-16.74},{"v":451.91039558333324,"d":"451.91"},{"v":451.91039558333324,"d":"451.91"}]
[{"$f":"Faces!A194","v":184},{"$f":"Faces!B194","v":153},{"$f":"VLOOKUP(B194,Vertices!$A$11:$J$203,7,FALSE )-$C$7","v":{"v":-30.544999999999998,"d":"-30.55"}},{"$f":"VLOOKUP(B194,Vertices!$A$11:$J$203,8,FALSE )-$D$7","v":1.64},{"$f":"VLOOKUP(B194,Vertices!$A$11:$J$203,9,FALSE )-$E$7","v":-25.33},{"$f":"Faces!C194","v":154},{"$f":"VLOOKUP(F194,Vertices!$A$11:$J$203,7,FALSE )-$C$7","v":{"v":-34.265,"d":"-34.27"}},{"$f":"VLOOKUP(F194,Vertices!$A$11:$J$203,8,FALSE )-$D$7","v":10.82},{"$f":"VLOOKUP(F194,Vertices!$A$11:$J$203,9,FALSE )-$E$7","v":-23.85},{"$f":"Faces!D194","v":176},{"$f":"VLOOKUP(J194,Vertices!$A$11:$J$203,7,FALSE )-$C$7","v":{"v":-38.595,"d":"-38.60"}},{"$f":"VLOOKUP(J194,Vertices!$A$11:$J$203,8,FALSE )-$D$7","v":8.39},{"$f":"VLOOKUP(J194,Vertices!$A$11:$J$203,9,FALSE )-$E$7","v":{"v":-14.5,"d":"-14.50"}},{"v":653.4856148333338,"d":"653.49"},{"v":653.4856148333338,"d":"653.49"}]
[{"$f":"Faces!A195","v":185},{"$f":"Faces!B195","v":173},{"$f":"VLOOKUP(B195,Vertices!$A$11:$J$203,7,FALSE )-$C$7","v":{"v":-29.715,"d":"-29.72"}},{"$f":"VLOOKUP(B195,Vertices!$A$11:$J$203,8,FALSE )-$D$7","v":-15.31},{"$f":"VLOOKUP(B195,Vertices!$A$11:$J$203,9,FALSE )-$E$7","v":-19.73},{"$f":"Faces!C195","v":174},{"$f":"VLOOKUP(F195,Vertices!$A$11:$J$203,7,FALSE )-$C$7","v":{"v":-33.334999999999994,"d":"-33.34"}},{"$f":"VLOOKUP(F195,Vertices!$A$11:$J$203,8,FALSE )-$D$7","v":-6.07},{"$f":"VLOOKUP(F195,Vertices!$A$11:$J$203,9,FALSE )-$E$7","v":-17.97},{"$f":"Faces!D195","v":189},{"$f":"VLOOKUP(J195,Vertices!$A$11:$J$203,7,FALSE )-$C$7","v":{"v":-40.815,"d":"-40.82"}},{"$f":"VLOOKUP(J195,Vertices!$A$11:$J$203,8,FALSE )-$D$7","v":-7.57},{"$f":"VLOOKUP(J195,Vertices!$A$11:$J$203,9,FALSE )-$E$7","v":-10.68},{"v":625.5482766666665,"d":"625.55"},{"v":625.5482766666665,"d":"625.55"}]
[{"$f":"Faces!A196","v":186},{"$f":"Faces!B196","v":174},{"$f":"VLOOKUP(B196,Vertices!$A$11:$J$203,7,FALSE )-$C$7","v":{"v":-33.334999999999994,"d":"-33.34"}},{"$f":"VLOOKUP(B196,Vertices!$A$11:$J$203,8,FALSE )-$D$7","v":-6.07},{"$f":"VLOOKUP(B196,Vertices!$A$11:$J$203,9,FALSE )-$E$7","v":-17.97},{"$f":"Faces!C196","v":190},{"$f":"VLOOKUP(F196,Vertices!$A$11:$J$203,7,FALSE )-$C$7","v":{"v":-43.545,"d":"-43.55"}},{"$f":"VLOOKUP(F196,Vertices!$A$11:$J$203,8,FALSE )-$D$7","v":6.23},{"$f":"VLOOKUP(F196,Vertices!$A$11:$J$203,9,FALSE )-$E$7","v":-4.82},{"$f":"Faces!D196","v":189},{"$f":"VLOOKUP(J196,Vertices!$A$11:$J$203,7,FALSE )-$C$7","v":{"v":-40.815,"d":"-40.82"}},{"$f":"VLOOKUP(J196,Vertices!$A$11:$J$203,8,FALSE )-$D$7","v":-7.57},{"$f":"VLOOKUP(J196,Vertices!$A$11:$J$203,9,FALSE )-$E$7","v":-10.68},{"v":904.9738288333334,"d":"904.97"},{"v":904.9738288333334,"d":"904.97"}]
[{"$f":"Faces!A197","v":187},{"$f":"Faces!B197","v":174},{"$f":"VLOOKUP(B197,Vertices!$A$11:$J$203,7,FALSE )-$C$7","v":{"v":-33.334999999999994,"d":"-33.34"}},{"$f":"VLOOKUP(B197,Vertices!$A$11:$J$203,8,FALSE )-$D$7","v":-6.07},{"$f":"VLOOKUP(B197,Vertices!$A$11:$J$203,9,FALSE )-$E$7","v":-17.97},{"$f":"Faces!C197","v":175},{"$f":"VLOOKUP(F197,Vertices!$A$11:$J$203,7,FALSE )-$C$7","v":{"v":-36.185,"d":"-36.19"}},{"$f":"VLOOKUP(F197,Vertices!$A$11:$J$203,8,FALSE )-$D$7","v":1.66},{"$f":"VLOOKUP(F197,Vertices!$A$11:$J$203,9,FALSE )-$E$7","v":-16.74},{"$f":"Faces!D197","v":190},{"$f":"VLOOKUP(J197,Vertices!$A$11:$J$203,7,FALSE )-$C$7","v":{"v":-43.545,"d":"-43.55"}},{"$f":"VLOOKUP(J197,Vertices!$A$11:$J$203,8,FALSE )-$D$7","v":6.23},{"$f":"VLOOKUP(J197,Vertices!$A$11:$J$203,9,FALSE )-$E$7","v":-4.82},{"v":637.2889604166666,"d":"637.29"},{"v":637.2889604166666,"d":"637.29"}]
[{"$f":"Faces!A198","v":188},{"$f":"Faces!B198","v":175},{"$f":"VLOOKUP(B198,Vertices!$A$11:$J$203,7,FALSE )-$C$7","v":{"v":-36.185,"d":"-36.19"}},{"$f":"VLOOKUP(B198,Vertices!$A$11:$J$203,8,FALSE )-$D$7","v":1.66},{"$f":"VLOOKUP(B198,Vertices!$A$11:$J$203,9,FALSE )-$E$7","v":-16.74},{"$f":"Faces!C198","v":176},{"$f":"VLOOKUP(F198,Vertices!$A$11:$J$203,7,FALSE )-$C$7","v":{"v":-38.595,"d":"-38.60"}},{"$f":"VLOOKUP(F198,Vertices!$A$11:$J$203,8,FALSE )-$D$7","v":8.39},{"$f":"VLOOKUP(F198,Vertices!$A$11:$J$203,9,FALSE )-$E$7","v":{"v":-14.5,"d":"-14.50"}},{"$f":"Faces!D198","v":190},{"$f":"VLOOKUP(J198,Vertices!$A$11:$J$203,7,FALSE )-$C$7","v":{"v":-43.545,"d":"-43.55"}},{"$f":"VLOOKUP(J198,Vertices!$A$11:$J$203,8,FALSE )-$D$7","v":6.23},{"$f":"VLOOKUP(J198,Vertices!$A$11:$J$203,9,FALSE )-$E$7","v":-4.82},{"v":526.1483323333333,"d":"526.15"},{"v":526.1483323333333,"d":"526.15"}]
[{"$f":"Faces!A199","v":189},{"$f":"Faces!B199","v":6},{"$f":"VLOOKUP(B199,Vertices!$A$11:$J$203,7,FALSE )-$C$7","v":{"v":-3.4549999999999983,"d":"-3.46"}},{"$f":"VLOOKUP(B199,Vertices!$A$11:$J$203,8,FALSE )-$D$7","v":{"v":75,"d":"75.00"}},{"$f":"VLOOKUP(B199,Vertices!$A$11:$J$203,9,FALSE )-$E$7","v":{"v":-4,"d":"-4.00"}},{"$f":"Faces!C199","v":92},{"$f":"VLOOKUP(F199,Vertices!$A$11:$J$203,7,FALSE )-$C$7","v":{"v":-10.155000000000001,"d":"-10.16"}},{"$f":"VLOOKUP(F199,Vertices!$A$11:$J$203,8,FALSE )-$D$7","v":63.56},{"$f":"VLOOKUP(F199,Vertices!$A$11:$J$203,9,FALSE )-$E$7","v":-3.99},{"$f":"Faces!D199","v":93},{"$f":"VLOOKUP(J199,Vertices!$A$11:$J$203,7,FALSE )-$C$7","v":{"v":-11.994999999999997,"d":"-12.00"}},{"$f":"VLOOKUP(J199,Vertices!$A$11:$J$203,8,FALSE )-$D$7","v":58.97},{"$f":"VLOOKUP(J199,Vertices!$A$11:$J$203,9,FALSE )-$E$7","v":-7.73},{"v":344.58773875000037,"d":"344.59"},{"v":344.58773875000037,"d":"344.59"}]
[{"$f":"Faces!A200","v":190},{"$f":"Faces!B200","v":6},{"$f":"VLOOKUP(B200,Vertices!$A$11:$J$203,7,FALSE )-$C$7","v":{"v":-3.4549999999999983,"d":"-3.46"}},{"$f":"VLOOKUP(B200,Vertices!$A$11:$J$203,8,FALSE )-$D$7","v":{"v":75,"d":"75.00"}},{"$f":"VLOOKUP(B200,Vertices!$A$11:$J$203,9,FALSE )-$E$7","v":{"v":-4,"d":"-4.00"}},{"$f":"Faces!C200","v":93},{"$f":"VLOOKUP(F200,Vertices!$A$11:$J$203,7,FALSE )-$C$7","v":{"v":-11.994999999999997,"d":"-12.00"}},{"$f":"VLOOKUP(F200,Vertices!$A$11:$J$203,8,FALSE )-$D$7","v":58.97},{"$f":"VLOOKUP(F200,Vertices!$A$11:$J$203,9,FALSE )-$E$7","v":-7.73},{"$f":"Faces!D200","v":12},{"$f":"VLOOKUP(J200,Vertices!$A$11:$J$203,7,FALSE )-$C$7","v":{"v":-5.634999999999998,"d":"-5.64"}},{"$f":"VLOOKUP(J200,Vertices!$A$11:$J$203,8,FALSE )-$D$7","v":69.39},{"$f":"VLOOKUP(J200,Vertices!$A$11:$J$203,9,FALSE )-$E$7","v":-8.63},{"v":431.9408980000003,"d":"431.94"},{"v":431.9408980000003,"d":"431.94"}]
[{"$f":"Faces!A201","v":191},{"$f":"Faces!B201","v":12},{"$f":"VLOOKUP(B201,Vertices!$A$11:$J$203,7,FALSE )-$C$7","v":{"v":-5.634999999999998,"d":"-5.64"}},{"$f":"VLOOKUP(B201,Vertices!$A$11:$J$203,8,FALSE )-$D$7","v":69.39},{"$f":"VLOOKUP(B201,Vertices!$A$11:$J$203,9,FALSE )-$E$7","v":-8.63},{"$f":"Faces!C201","v":93},{"$f":"VLOOKUP(F201,Vertices!$A$11:$J$203,7,FALSE )-$C$7","v":{"v":-11.994999999999997,"d":"-12.00"}},{"$f":"VLOOKUP(F201,Vertices!$A$11:$J$203,8,FALSE )-$D$7","v":58.97},{"$f":"VLOOKUP(F201,Vertices!$A$11:$J$203,9,FALSE )-$E$7","v":-7.73},{"$f":"Faces!D201","v":94},{"$f":"VLOOKUP(J201,Vertices!$A$11:$J$203,7,FALSE )-$C$7","v":{"v":-13.905000000000001,"d":"-13.91"}},{"$f":"VLOOKUP(J201,Vertices!$A$11:$J$203,8,FALSE )-$D$7","v":54.19},{"$f":"VLOOKUP(J201,Vertices!$A$11:$J$203,9,FALSE )-$E$7","v":-11.57},{"v":359.04476033333304,"d":"359.04"},{"v":359.04476033333304,"d":"359.04"}]
[{"$f":"Faces!A202","v":192},{"$f":"Faces!B202","v":12},{"$f":"VLOOKUP(B202,Vertices!$A$11:$J$203,7,FALSE )-$C$7","v":{"v":-5.634999999999998,"d":"-5.64"}},{"$f":"VLOOKUP(B202,Vertices!$A$11:$J$203,8,FALSE )-$D$7","v":69.39},{"$f":"VLOOKUP(B202,Vertices!$A$11:$J$203,9,FALSE )-$E$7","v":-8.63},{"$f":"Faces!C202","v":94},{"$f":"VLOOKUP(F202,Vertices!$A$11:$J$203,7,FALSE )-$C$7","v":{"v":-13.905000000000001,"d":"-13.91"}},{"$f":"VLOOKUP(F202,Vertices!$A$11:$J$203,8,FALSE )-$D$7","v":54.19},{"$f":"VLOOKUP(F202,Vertices!$A$11:$J$203,9,FALSE )-$E$7","v":-11.57},{"$f":"Faces!D202","v":18},{"$f":"VLOOKUP(J202,Vertices!$A$11:$J$203,7,FALSE )-$C$7","v":{"v":-7.854999999999997,"d":"-7.86"}},{"$f":"VLOOKUP(J202,Vertices!$A$11:$J$203,8,FALSE )-$D$7","v":63.95},{"$f":"VLOOKUP(J202,Vertices!$A$11:$J$203,9,FALSE )-$E$7","v":-13.07},{"v":413.7060746666668,"d":"413.71"},{"v":413.7060746666668,"d":"413.71"}]
[{"$f":"Faces!A203","v":193},{"$f":"Faces!B203","v":18},{"$f":"VLOOKUP(B203,Vertices!$A$11:$J$203,7,FALSE )-$C$7","v":{"v":-7.854999999999997,"d":"-7.86"}},{"$f":"VLOOKUP(B203,Vertices!$A$11:$J$203,8,FALSE )-$D$7","v":63.95},{"$f":"VLOOKUP(B203,Vertices!$A$11:$J$203,9,FALSE )-$E$7","v":-13.07},{"$f":"Faces!C203","v":94},{"$f":"VLOOKUP(F203,Vertices!$A$11:$J$203,7,FALSE )-$C$7","v":{"v":-13.905000000000001,"d":"-13.91"}},{"$f":"VLOOKUP(F203,Vertices!$A$11:$J$203,8,FALSE )-$D$7","v":54.19},{"$f":"VLOOKUP(F203,Vertices!$A$11:$J$203,9,FALSE )-$E$7","v":-11.57},{"$f":"Faces!D203","v":95},{"$f":"VLOOKUP(J203,Vertices!$A$11:$J$203,7,FALSE )-$C$7","v":{"v":-17.795,"d":"-17.80"}},{"$f":"VLOOKUP(J203,Vertices!$A$11:$J$203,8,FALSE )-$D$7","v":44.64},{"$f":"VLOOKUP(J203,Vertices!$A$11:$J$203,9,FALSE )-$E$7","v":-19.03},{"v":700.4628266666659,"d":"700.46"},{"v":700.4628266666659,"d":"700.46"}]
[{"$f":"Faces!A204","v":194},{"$f":"Faces!B204","v":18},{"$f":"VLOOKUP(B204,Vertices!$A$11:$J$203,7,FALSE )-$C$7","v":{"v":-7.854999999999997,"d":"-7.86"}},{"$f":"VLOOKUP(B204,Vertices!$A$11:$J$203,8,FALSE )-$D$7","v":63.95},{"$f":"VLOOKUP(B204,Vertices!$A$11:$J$203,9,FALSE )-$E$7","v":-13.07},{"$f":"Faces!C204","v":95},{"$f":"VLOOKUP(F204,Vertices!$A$11:$J$203,7,FALSE )-$C$7","v":{"v":-17.795,"d":"-17.80"}},{"$f":"VLOOKUP(F204,Vertices!$A$11:$J$203,8,FALSE )-$D$7","v":44.64},{"$f":"VLOOKUP(F204,Vertices!$A$11:$J$203,9,FALSE )-$E$7","v":-19.03},{"$f":"Faces!D204","v":24},{"$f":"VLOOKUP(J204,Vertices!$A$11:$J$203,7,FALSE )-$C$7","v":{"v":-12.424999999999997,"d":"-12.43"}},{"$f":"VLOOKUP(J204,Vertices!$A$11:$J$203,8,FALSE )-$D$7","v":52.81},{"$f":"VLOOKUP(J204,Vertices!$A$11:$J$203,9,FALSE )-$E$7","v":-21.85},{"$f":"-1*(C204*H204*M204+D204*I204*K204+E204*G204*L204-C204*I204*L204-D204*G204*M204-E204*H204*K204)/6","v":{"v":823.9004449999993,"d":"823.90"}},{"$f":"ABS(N204)","v":{"v":823.9004449999993,"d":"823.90"}}]
[{"$f":"Faces!A205","v":195},{"$f":"Faces!B205","v":24},{"$f":"VLOOKUP(B205,Vertices!$A$11:$J$203,7,FALSE )-$C$7","v":{"v":-12.424999999999997,"d":"-12.43"}},{"$f":"VLOOKUP(B205,Vertices!$A$11:$J$203,8,FALSE )-$D$7","v":52.81},{"$f":"VLOOKUP(B205,Vertices!$A$11:$J$203,9,FALSE )-$E$7","v":-21.85},{"$f":"Faces!C205","v":95},{"$f":"VLOOKUP(F205,Vertices!$A$11:$J$203,7,FALSE )-$C$7","v":{"v":-17.795,"d":"-17.80"}},{"$f":"VLOOKUP(F205,Vertices!$A$11:$J$203,8,FALSE )-$D$7","v":44.64},{"$f":"VLOOKUP(F205,Vertices!$A$11:$J$203,9,FALSE )-$E$7","v":-19.03},{"$f":"Faces!D205","v":96},{"$f":"VLOOKUP(J205,Vertices!$A$11:$J$203,7,FALSE )-$C$7","v":{"v":-23.494999999999997,"d":"-23.50"}},{"$f":"VLOOKUP(J205,Vertices!$A$11:$J$203,8,FALSE )-$D$7","v":29.75},{"$f":"VLOOKUP(J205,Vertices!$A$11:$J$203,9,FALSE )-$E$7","v":{"v":-29.7,"d":"-29.70"}},{"v":1034.8678444166665,"d":"1034.87"},{"v":1034.8678444166665,"d":"1034.87"}]
[{"$f":"Faces!A206","v":196},{"$f":"Faces!B206","v":24},{"$f":"VLOOKUP(B206,Vertices!$A$11:$J$203,7,FALSE )-$C$7","v":{"v":-12.424999999999997,"d":"-12.43"}},{"$f":"VLOOKUP(B206,Vertices!$A$11:$J$203,8,FALSE )-$D$7","v":52.81},{"$f":"VLOOKUP(B206,Vertices!$A$11:$J$203,9,FALSE )-$E$7","v":-21.85},{"$f":"Faces!C206","v":96},{"$f":"VLOOKUP(F206,Vertices!$A$11:$J$203,7,FALSE )-$C$7","v":{"v":-23.494999999999997,"d":"-23.50"}},{"$f":"VLOOKUP(F206,Vertices!$A$11:$J$203,8,FALSE )-$D$7","v":29.75},{"$f":"VLOOKUP(F206,Vertices!$A$11:$J$203,9,FALSE )-$E$7","v":{"v":-29.7,"d":"-29.70"}},{"$f":"Faces!D206","v":30},{"$f":"VLOOKUP(J206,Vertices!$A$11:$J$203,7,FALSE )-$C$7","v":{"v":-19.615,"d":"-19.62"}},{"$f":"VLOOKUP(J206,Vertices!$A$11:$J$203,8,FALSE )-$D$7","v":35.11},{"$f":"VLOOKUP(J206,Vertices!$A$11:$J$203,9,FALSE )-$E$7","v":-35.02},{"v":1237.364090666665,"d":"1237.36"},{"v":1237.364090666665,"d":"1237.36"}]
[{"$f":"Faces!A207","v":197},{"$f":"Faces!B207","v":30},{"$f":"VLOOKUP(B207,Vertices!$A$11:$J$203,7,FALSE )-$C$7","v":{"v":-19.615,"d":"-19.62"}},{"$f":"VLOOKUP(B207,Vertices!$A$11:$J$203,8,FALSE )-$D$7","v":35.11},{"$f":"VLOOKUP(B207,Vertices!$A$11:$J$203,9,FALSE )-$E$7","v":-35.02},{"$f":"Faces!C207","v":96},{"$f":"VLOOKUP(F207,Vertices!$A$11:$J$203,7,FALSE )-$C$7","v":{"v":-23.494999999999997,"d":"-23.50"}},{"$f":"VLOOKUP(F207,Vertices!$A$11:$J$203,8,FALSE )-$D$7","v":29.75},{"$f":"VLOOKUP(F207,Vertices!$A$11:$J$203,9,FALSE )-$E$7","v":{"v":-29.7,"d":"-29.70"}},{"$f":"Faces!D207","v":102},{"$f":"VLOOKUP(J207,Vertices!$A$11:$J$203,7,FALSE )-$C$7","v":{"v":-28.384999999999998,"d":"-28.39"}},{"$f":"VLOOKUP(J207,Vertices!$A$11:$J$203,8,FALSE )-$D$7","v":16.18},{"$f":"VLOOKUP(J207,Vertices!$A$11:$J$203,9,FALSE )-$E$7","v":-38.55},{"v":898.5781163333316,"d":"898.58"},{"v":898.5781163333316,"d":"898.58"}]
[{"$f":"Faces!A208","v":198},{"$f":"Faces!B208","v":30},{"$f":"VLOOKUP(B208,Vertices!$A$11:$J$203,7,FALSE )-$C$7","v":{"v":-19.615,"d":"-19.62"}},{"$f":"VLOOKUP(B208,Vertices!$A$11:$J$203,8,FALSE )-$D$7","v":35.11},{"$f":"VLOOKUP(B208,Vertices!$A$11:$J$203,9,FALSE )-$E$7","v":-35.02},{"$f":"Faces!C208","v":102},{"$f":"VLOOKUP(F208,Vertices!$A$11:$J$203,7,FALSE )-$C$7","v":{"v":-28.384999999999998,"d":"-28.39"}},{"$f":"VLOOKUP(F208,Vertices!$A$11:$J$203,8,FALSE )-$D$7","v":16.18},{"$f":"VLOOKUP(F208,Vertices!$A$11:$J$203,9,FALSE )-$E$7","v":-38.55},{"$f":"Faces!D208","v":36},{"$f":"VLOOKUP(J208,Vertices!$A$11:$J$203,7,FALSE )-$C$7","v":{"v":-26.455,"d":"-26.46"}},{"$f":"VLOOKUP(J208,Vertices!$A$11:$J$203,8,FALSE )-$D$7","v":{"v":20,"d":"20.00"}},{"$f":"VLOOKUP(J208,Vertices!$A$11:$J$203,9,FALSE )-$E$7","v":{"v":-46,"d":"-46.00"}},{"v":945.028843416665,"d":"945.03"},{"v":945.028843416665,"d":"945.03"}]
[{"$f":"Faces!A209","v":199},{"$f":"Faces!B209","v":92},{"$f":"VLOOKUP(B209,Vertices!$A$11:$J$203,7,FALSE )-$C$7","v":{"v":-10.155000000000001,"d":"-10.16"}},{"$f":"VLOOKUP(B209,Vertices!$A$11:$J$203,8,FALSE )-$D$7","v":63.56},{"$f":"VLOOKUP(B209,Vertices!$A$11:$J$203,9,FALSE )-$E$7","v":-3.99},{"$f":"Faces!C209","v":122},{"$f":"VLOOKUP(F209,Vertices!$A$11:$J$203,7,FALSE )-$C$7","v":{"v":-16.725,"d":"-16.73"}},{"$f":"VLOOKUP(F209,Vertices!$A$11:$J$203,8,FALSE )-$D$7","v":52.41},{"$f":"VLOOKUP(F209,Vertices!$A$11:$J$203,9,FALSE )-$E$7","v":-3.59},{"$f":"Faces!D209","v":93},{"$f":"VLOOKUP(J209,Vertices!$A$11:$J$203,7,FALSE )-$C$7","v":{"v":-11.994999999999997,"d":"-12.00"}},{"$f":"VLOOKUP(J209,Vertices!$A$11:$J$203,8,FALSE )-$D$7","v":58.97},{"$f":"VLOOKUP(J209,Vertices!$A$11:$J$203,9,FALSE )-$E$7","v":-7.73},{"v":348.1911333333337,"d":"348.19"},{"v":348.1911333333337,"d":"348.19"}]
[{"$f":"Faces!A210","v":200},{"$f":"Faces!B210","v":122},{"$f":"VLOOKUP(B210,Vertices!$A$11:$J$203,7,FALSE )-$C$7","v":{"v":-16.725,"d":"-16.73"}},{"$f":"VLOOKUP(B210,Vertices!$A$11:$J$203,8,FALSE )-$D$7","v":52.41},{"$f":"VLOOKUP(B210,Vertices!$A$11:$J$203,9,FALSE )-$E$7","v":-3.59},{"$f":"Faces!C210","v":123},{"$f":"VLOOKUP(F210,Vertices!$A$11:$J$203,7,FALSE )-$C$7","v":{"v":-19.775,"d":"-19.78"}},{"$f":"VLOOKUP(F210,Vertices!$A$11:$J$203,8,FALSE )-$D$7","v":44.79},{"$f":"VLOOKUP(F210,Vertices!$A$11:$J$203,9,FALSE )-$E$7","v":-9.75},{"$f":"Faces!D210","v":93},{"$f":"VLOOKUP(J210,Vertices!$A$11:$J$203,7,FALSE )-$C$7","v":{"v":-11.994999999999997,"d":"-12.00"}},{"$f":"VLOOKUP(J210,Vertices!$A$11:$J$203,8,FALSE )-$D$7","v":58.97},{"$f":"VLOOKUP(J210,Vertices!$A$11:$J$203,9,FALSE )-$E$7","v":-7.73},{"v":574.9792936666671,"d":"574.98"},{"v":574.9792936666671,"d":"574.98"}]
[{"$f":"Faces!A211","v":201},{"$f":"Faces!B211","v":93},{"$f":"VLOOKUP(B211,Vertices!$A$11:$J$203,7,FALSE )-$C$7","v":{"v":-11.994999999999997,"d":"-12.00"}},{"$f":"VLOOKUP(B211,Vertices!$A$11:$J$203,8,FALSE )-$D$7","v":58.97},{"$f":"VLOOKUP(B211,Vertices!$A$11:$J$203,9,FALSE )-$E$7","v":-7.73},{"$f":"Faces!C211","v":123},{"$f":"VLOOKUP(F211,Vertices!$A$11:$J$203,7,FALSE )-$C$7","v":{"v":-19.775,"d":"-19.78"}},{"$f":"VLOOKUP(F211,Vertices!$A$11:$J$203,8,FALSE )-$D$7","v":44.79},{"$f":"VLOOKUP(F211,Vertices!$A$11:$J$203,9,FALSE )-$E$7","v":-9.75},{"$f":"Faces!D211","v":94},{"$f":"VLOOKUP(J211,Vertices!$A$11:$J$203,7,FALSE )-$C$7","v":{"v":-13.905000000000001,"d":"-13.91"}},{"$f":"VLOOKUP(J211,Vertices!$A$11:$J$203,8,FALSE )-$D$7","v":54.19},{"$f":"VLOOKUP(J211,Vertices!$A$11:$J$203,9,FALSE )-$E$7","v":-11.57},{"v":358.27571166666667,"d":"358.28"},{"v":358.27571166666667,"d":"358.28"}]
[{"$f":"Faces!A212","v":202},{"$f":"Faces!B212","v":94},{"$f":"VLOOKUP(B212,Vertices!$A$11:$J$203,7,FALSE )-$C$7","v":{"v":-13.905000000000001,"d":"-13.91"}},{"$f":"VLOOKUP(B212,Vertices!$A$11:$J$203,8,FALSE )-$D$7","v":54.19},{"$f":"VLOOKUP(B212,Vertices!$A$11:$J$203,9,FALSE )-$E$7","v":-11.57},{"$f":"Faces!C212","v":123},{"$f":"VLOOKUP(F212,Vertices!$A$11:$J$203,7,FALSE )-$C$7","v":{"v":-19.775,"d":"-19.78"}},{"$f":"VLOOKUP(F212,Vertices!$A$11:$J$203,8,FALSE )-$D$7","v":44.79},{"$f":"VLOOKUP(F212,Vertices!$A$11:$J$203,9,FALSE )-$E$7","v":-9.75},{"$f":"Faces!D212","v":124},{"$f":"VLOOKUP(J212,Vertices!$A$11:$J$203,7,FALSE )-$C$7","v":{"v":-22.915,"d":"-22.92"}},{"$f":"VLOOKUP(J212,Vertices!$A$11:$J$203,8,FALSE )-$D$7","v":36.98},{"$f":"VLOOKUP(J212,Vertices!$A$11:$J$203,9,FALSE )-$E$7","v":-15.54},{"v":549.1369731666658,"d":"549.14"},{"v":549.1369731666658,"d":"549.14"}]
[{"$f":"Faces!A213","v":203},{"$f":"Faces!B213","v":94},{"$f":"VLOOKUP(B213,Vertices!$A$11:$J$203,7,FALSE )-$C$7","v":{"v":-13.905000000000001,"d":"-13.91"}},{"$f":"VLOOKUP(B213,Vertices!$A$11:$J$203,8,FALSE )-$D$7","v":54.19},{"$f":"VLOOKUP(B213,Vertices!$A$11:$J$203,9,FALSE )-$E$7","v":-11.57},{"$f":"Faces!C213","v":124},{"$f":"VLOOKUP(F213,Vertices!$A$11:$J$203,7,FALSE )-$C$7","v":{"v":-22.915,"d":"-22.92"}},{"$f":"VLOOKUP(F213,Vertices!$A$11:$J$203,8,FALSE )-$D$7","v":36.98},{"$f":"VLOOKUP(F213,Vertices!$A$11:$J$203,9,FALSE )-$E$7","v":-15.54},{"$f":"Faces!D213","v":95},{"$f":"VLOOKUP(J213,Vertices!$A$11:$J$203,7,FALSE )-$C$7","v":{"v":-17.795,"d":"-17.80"}},{"$f":"VLOOKUP(J213,Vertices!$A$11:$J$203,8,FALSE )-$D$7","v":44.64},{"$f":"VLOOKUP(J213,Vertices!$A$11:$J$203,9,FALSE )-$E$7","v":-19.03},{"v":714.0810007499994,"d":"714.08"},{"v":714.0810007499994,"d":"714.08"}]
[{"$f":"Faces!A214","v":204},{"$f":"Faces!B214","v":95},{"$f":"VLOOKUP(B214,Vertices!$A$11:$J$203,7,FALSE )-$C$7","v":{"v":-17.795,"d":"-17.80"}},{"$f":"VLOOKUP(B214,Vertices!$A$11:$J$203,8,FALSE )-$D$7","v":44.64},{"$f":"VLOOKUP(B214,Vertices!$A$11:$J$203,9,FALSE )-$E$7","v":-19.03},{"$f":"Faces!C214","v":124},{"$f":"VLOOKUP(F214,Vertices!$A$11:$J$203,7,FALSE )-$C$7","v":{"v":-22.915,"d":"-22.92"}},{"$f":"VLOOKUP(F214,Vertices!$A$11:$J$203,8,FALSE )-$D$7","v":36.98},{"$f":"VLOOKUP(F214,Vertices!$A$11:$J$203,9,FALSE )-$E$7","v":-15.54},{"$f":"Faces!D214","v":125},{"$f":"VLOOKUP(J214,Vertices!$A$11:$J$203,7,FALSE )-$C$7","v":{"v":-27.435,"d":"-27.44"}},{"$f":"VLOOKUP(J214,Vertices!$A$11:$J$203,8,FALSE )-$D$7","v":{"v":24.6,"d":"24.60"}},{"$f":"VLOOKUP(J214,Vertices!$A$11:$J$203,9,FALSE )-$E$7","v":{"v":-24.3,"d":"-24.30"}},{"v":869.4367354999989,"d":"869.44"},{"v":869.4367354999989,"d":"869.44"}]
[{"$f":"Faces!A215","v":205},{"$f":"Faces!B215","v":95},{"$f":"VLOOKUP(B215,Vertices!$A$11:$J$203,7,FALSE )-$C$7","v":{"v":-17.795,"d":"-17.80"}},{"$f":"VLOOKUP(B215,Vertices!$A$11:$J$203,8,FALSE )-$D$7","v":44.64},{"$f":"VLOOKUP(B215,Vertices!$A$11:$J$203,9,FALSE )-$E$7","v":-19.03},{"$f":"Faces!C215","v":125},{"$f":"VLOOKUP(F215,Vertices!$A$11:$J$203,7,FALSE )-$C$7","v":{"v":-27.435,"d":"-27.44"}},{"$f":"VLOOKUP(F215,Vertices!$A$11:$J$203,8,FALSE )-$D$7","v":{"v":24.6,"d":"24.60"}},{"$f":"VLOOKUP(F215,Vertices!$A$11:$J$203,9,FALSE )-$E$7","v":{"v":-24.3,"d":"-24.30"}},{"$f":"Faces!D215","v":96},{"$f":"VLOOKUP(J215,Vertices!$A$11:$J$203,7,FALSE )-$C$7","v":{"v":-23.494999999999997,"d":"-23.50"}},{"$f":"VLOOKUP(J215,Vertices!$A$11:$J$203,8,FALSE )-$D$7","v":29.75},{"$f":"VLOOKUP(J215,Vertices!$A$11:$J$203,9,FALSE )-$E$7","v":{"v":-29.7,"d":"-29.70"}},{"v":1036.1907562499998,"d":"1036.19"},{"v":1036.1907562499998,"d":"1036.19"}]
[{"$f":"Faces!A216","v":206},{"$f":"Faces!B216","v":96},{"$f":"VLOOKUP(B216,Vertices!$A$11:$J$203,7,FALSE )-$C$7","v":{"v":-23.494999999999997,"d":"-23.50"}},{"$f":"VLOOKUP(B216,Vertices!$A$11:$J$203,8,FALSE )-$D$7","v":29.75},{"$f":"VLOOKUP(B216,Vertices!$A$11:$J$203,9,FALSE )-$E$7","v":{"v":-29.7,"d":"-29.70"}},{"$f":"Faces!C216","v":125},{"$f":"VLOOKUP(F216,Vertices!$A$11:$J$203,7,FALSE )-$C$7","v":{"v":-27.435,"d":"-27.44"}},{"$f":"VLOOKUP(F216,Vertices!$A$11:$J$203,8,FALSE )-$D$7","v":{"v":24.6,"d":"24.60"}},{"$f":"VLOOKUP(F216,Vertices!$A$11:$J$203,9,FALSE )-$E$7","v":{"v":-24.3,"d":"-24.30"}},{"$f":"Faces!D216","v":130},{"$f":"VLOOKUP(J216,Vertices!$A$11:$J$203,7,FALSE )-$C$7","v":{"v":-31.125,"d":"-31.13"}},{"$f":"VLOOKUP(J216,Vertices!$A$11:$J$203,8,FALSE )-$D$7","v":13.31},{"$f":"VLOOKUP(J216,Vertices!$A$11:$J$203,9,FALSE )-$E$7","v":-31.27},{"v":740.3795437500012,"d":"740.38"},{"v":740.3795437500012,"d":"740.38"}]
[{"$f":"Faces!A217","v":207},{"$f":"Faces!B217","v":96},{"$f":"VLOOKUP(B217,Vertices!$A$11:$J$203,7,FALSE )-$C$7","v":{"v":-23.494999999999997,"d":"-23.50"}},{"$f":"VLOOKUP(B217,Vertices!$A$11:$J$203,8,FALSE )-$D$7","v":29.75},{"$f":"VLOOKUP(B217,Vertices!$A$11:$J$203,9,FALSE )-$E$7","v":{"v":-29.7,"d":"-29.70"}},{"$f":"Faces!C217","v":130},{"$f":"VLOOKUP(F217,Vertices!$A$11:$J$203,7,FALSE )-$C$7","v":{"v":-31.125,"d":"-31.13"}},{"$f":"VLOOKUP(F217,Vertices!$A$11:$J$203,8,FALSE )-$D$7","v":13.31},{"$f":"VLOOKUP(F217,Vertices!$A$11:$J$203,9,FALSE )-$E$7","v":-31.27},{"$f":"Faces!D217","v":102},{"$f":"VLOOKUP(J217,Vertices!$A$11:$J$203,7,FALSE )-$C$7","v":{"v":-28.384999999999998,"d":"-28.39"}},{"$f":"VLOOKUP(J217,Vertices!$A$11:$J$203,8,FALSE )-$D$7","v":16.18},{"$f":"VLOOKUP(J217,Vertices!$A$11:$J$203,9,FALSE )-$E$7","v":-38.55},{"v":897.631267416666,"d":"897.63"},{"v":897.631267416666,"d":"897.63"}]
[{"$f":"Faces!A218","v":208},{"$f":"Faces!B218","v":122},{"$f":"VLOOKUP(B218,Vertices!$A$11:$J$203,7,FALSE )-$C$7","v":{"v":-16.725,"d":"-16.73"}},{"$f":"VLOOKUP(B218,Vertices!$A$11:$J$203,8,FALSE )-$D$7","v":52.41},{"$f":"VLOOKUP(B218,Vertices!$A$11:$J$203,9,FALSE )-$E$7","v":-3.59},{"$f":"Faces!C218","v":146},{"$f":"VLOOKUP(F218,Vertices!$A$11:$J$203,7,FALSE )-$C$7","v":{"v":-23.755,"d":"-23.76"}},{"$f":"VLOOKUP(F218,Vertices!$A$11:$J$203,8,FALSE )-$D$7","v":41.31},{"$f":"VLOOKUP(F218,Vertices!$A$11:$J$203,9,FALSE )-$E$7","v":-2.47},{"$f":"Faces!D218","v":147},{"$f":"VLOOKUP(J218,Vertices!$A$11:$J$203,7,FALSE )-$C$7","v":{"v":-26.044999999999998,"d":"-26.05"}},{"$f":"VLOOKUP(J218,Vertices!$A$11:$J$203,8,FALSE )-$D$7","v":35.38},{"$f":"VLOOKUP(J218,Vertices!$A$11:$J$203,9,FALSE )-$E$7","v":-7.21},{"v":488.3821551666665,"d":"488.38"},{"v":488.3821551666665,"d":"488.38"}]
[{"$f":"Faces!A219","v":209},{"$f":"Faces!B219","v":122},{"$f":"VLOOKUP(B219,Vertices!$A$11:$J$203,7,FALSE )-$C$7","v":{"v":-16.725,"d":"-16.73"}},{"$f":"VLOOKUP(B219,Vertices!$A$11:$J$203,8,FALSE )-$D$7","v":52.41},{"$f":"VLOOKUP(B219,Vertices!$A$11:$J$203,9,FALSE )-$E$7","v":-3.59},{"$f":"Faces!C219","v":147},{"$f":"VLOOKUP(F219,Vertices!$A$11:$J$203,7,FALSE )-$C$7","v":{"v":-26.044999999999998,"d":"-26.05"}},{"$f":"VLOOKUP(F219,Vertices!$A$11:$J$203,8,FALSE )-$D$7","v":35.38},{"$f":"VLOOKUP(F219,Vertices!$A$11:$J$203,9,FALSE )-$E$7","v":-7.21},{"$f":"Faces!D219","v":123},{"$f":"VLOOKUP(J219,Vertices!$A$11:$J$203,7,FALSE )-$C$7","v":{"v":-19.775,"d":"-19.78"}},{"$f":"VLOOKUP(J219,Vertices!$A$11:$J$203,8,FALSE )-$D$7","v":44.79},{"$f":"VLOOKUP(J219,Vertices!$A$11:$J$203,9,FALSE )-$E$7","v":-9.75},{"v":631.9886571666664,"d":"631.99"},{"v":631.9886571666664,"d":"631.99"}]
[{"$f":"Faces!A220","v":210},{"$f":"Faces!B220","v":123},{"$f":"VLOOKUP(B220,Vertices!$A$11:$J$203,7,FALSE )-$C$7","v":{"v":-19.775,"d":"-19.78"}},{"$f":"VLOOKUP(B220,Vertices!$A$11:$J$203,8,FALSE )-$D$7","v":44.79},{"$f":"VLOOKUP(B220,Vertices!$A$11:$J$203,9,FALSE )-$E$7","v":-9.75},{"$f":"Faces!C220","v":147},{"$f":"VLOOKUP(F220,Vertices!$A$11:$J$203,7,FALSE )-$C$7","v":{"v":-26.044999999999998,"d":"-26.05"}},{"$f":"VLOOKUP(F220,Vertices!$A$11:$J$203,8,FALSE )-$D$7","v":35.38},{"$f":"VLOOKUP(F220,Vertices!$A$11:$J$203,9,FALSE )-$E$7","v":-7.21},{"$f":"Faces!D220","v":148},{"$f":"VLOOKUP(J220,Vertices!$A$11:$J$203,7,FALSE )-$C$7","v":{"v":-28.284999999999997,"d":"-28.29"}},{"$f":"VLOOKUP(J220,Vertices!$A$11:$J$203,8,FALSE )-$D$7","v":29.32},{"$f":"VLOOKUP(J220,Vertices!$A$11:$J$203,9,FALSE )-$E$7","v":{"v":-11.7,"d":"-11.70"}},{"v":470.10391808333287,"d":"470.10"},{"v":470.10391808333287,"d":"470.10"}]
[{"$f":"Faces!A221","v":211},{"$f":"Faces!B221","v":123},{"$f":"VLOOKUP(B221,Vertices!$A$11:$J$203,7,FALSE )-$C$7","v":{"v":-19.775,"d":"-19.78"}},{"$f":"VLOOKUP(B221,Vertices!$A$11:$J$203,8,FALSE )-$D$7","v":44.79},{"$f":"VLOOKUP(B221,Vertices!$A$11:$J$203,9,FALSE )-$E$7","v":-9.75},{"$f":"Faces!C221","v":148},{"$f":"VLOOKUP(F221,Vertices!$A$11:$J$203,7,FALSE )-$C$7","v":{"v":-28.284999999999997,"d":"-28.29"}},{"$f":"VLOOKUP(F221,Vertices!$A$11:$J$203,8,FALSE )-$D$7","v":29.32},{"$f":"VLOOKUP(F221,Vertices!$A$11:$J$203,9,FALSE )-$E$7","v":{"v":-11.7,"d":"-11.70"}},{"$f":"Faces!D221","v":124},{"$f":"VLOOKUP(J221,Vertices!$A$11:$J$203,7,FALSE )-$C$7","v":{"v":-22.915,"d":"-22.92"}},{"$f":"VLOOKUP(J221,Vertices!$A$11:$J$203,8,FALSE )-$D$7","v":36.98},{"$f":"VLOOKUP(J221,Vertices!$A$11:$J$203,9,FALSE )-$E$7","v":-15.54},{"v":596.1990485000002,"d":"596.20"},{"v":596.1990485000002,"d":"596.20"}]
[{"$f":"Faces!A222","v":212},{"$f":"Faces!B222","v":124},{"$f":"VLOOKUP(B222,Vertices!$A$11:$J$203,7,FALSE )-$C$7","v":{"v":-22.915,"d":"-22.92"}},{"$f":"VLOOKUP(B222,Vertices!$A$11:$J$203,8,FALSE )-$D$7","v":36.98},{"$f":"VLOOKUP(B222,Vertices!$A$11:$J$203,9,FALSE )-$E$7","v":-15.54},{"$f":"Faces!C222","v":148},{"$f":"VLOOKUP(F222,Vertices!$A$11:$J$203,7,FALSE )-$C$7","v":{"v":-28.284999999999997,"d":"-28.29"}},{"$f":"VLOOKUP(F222,Vertices!$A$11:$J$203,8,FALSE )-$D$7","v":29.32},{"$f":"VLOOKUP(F222,Vertices!$A$11:$J$203,9,FALSE )-$E$7","v":{"v":-11.7,"d":"-11.70"}},{"$f":"Faces!D222","v":149},{"$f":"VLOOKUP(J222,Vertices!$A$11:$J$203,7,FALSE )-$C$7","v":{"v":-31.634999999999998,"d":"-31.64"}},{"$f":"VLOOKUP(J222,Vertices!$A$11:$J$203,8,FALSE )-$D$7","v":19.56},{"$f":"VLOOKUP(J222,Vertices!$A$11:$J$203,9,FALSE )-$E$7","v":-18.55},{"v":718.8150231666663,"d":"718.82"},{"v":718.8150231666663,"d":"718.82"}]
[{"$f":"Faces!A223","v":213},{"$f":"Faces!B223","v":124},{"$f":"VLOOKUP(B223,Vertices!$A$11:$J$203,7,FALSE )-$C$7","v":{"v":-22.915,"d":"-22.92"}},{"$f":"VLOOKUP(B223,Vertices!$A$11:$J$203,8,FALSE )-$D$7","v":36.98},{"$f":"VLOOKUP(B223,Vertices!$A$11:$J$203,9,FALSE )-$E$7","v":-15.54},{"$f":"Faces!C223","v":149},{"$f":"VLOOKUP(F223,Vertices!$A$11:$J$203,7,FALSE )-$C$7","v":{"v":-31.634999999999998,"d":"-31.64"}},{"$f":"VLOOKUP(F223,Vertices!$A$11:$J$203,8,FALSE )-$D$7","v":19.56},{"$f":"VLOOKUP(F223,Vertices!$A$11:$J$203,9,FALSE )-$E$7","v":-18.55},{"$f":"Faces!D223","v":125},{"$f":"VLOOKUP(J223,Vertices!$A$11:$J$203,7,FALSE )-$C$7","v":{"v":-27.435,"d":"-27.44"}},{"$f":"VLOOKUP(J223,Vertices!$A$11:$J$203,8,FALSE )-$D$7","v":{"v":24.6,"d":"24.60"}},{"$f":"VLOOKUP(J223,Vertices!$A$11:$J$203,9,FALSE )-$E$7","v":{"v":-24.3,"d":"-24.30"}},{"v":903.0988764999993,"d":"903.10"},{"v":903.0988764999993,"d":"903.10"}]
[{"$f":"Faces!A224","v":214},{"$f":"Faces!B224","v":125},{"$f":"VLOOKUP(B224,Vertices!$A$11:$J$203,7,FALSE )-$C$7","v":{"v":-27.435,"d":"-27.44"}},{"$f":"VLOOKUP(B224,Vertices!$A$11:$J$203,8,FALSE )-$D$7","v":{"v":24.6,"d":"24.60"}},{"$f":"VLOOKUP(B224,Vertices!$A$11:$J$203,9,FALSE )-$E$7","v":{"v":-24.3,"d":"-24.30"}},{"$f":"Faces!C224","v":149},{"$f":"VLOOKUP(F224,Vertices!$A$11:$J$203,7,FALSE )-$C$7","v":{"v":-31.634999999999998,"d":"-31.64"}},{"$f":"VLOOKUP(F224,Vertices!$A$11:$J$203,8,FALSE )-$D$7","v":19.56},{"$f":"VLOOKUP(F224,Vertices!$A$11:$J$203,9,FALSE )-$E$7","v":-18.55},{"$f":"Faces!D224","v":154},{"$f":"VLOOKUP(J224,Vertices!$A$11:$J$203,7,FALSE )-$C$7","v":{"v":-34.265,"d":"-34.27"}},{"$f":"VLOOKUP(J224,Vertices!$A$11:$J$203,8,FALSE )-$D$7","v":10.82},{"$f":"VLOOKUP(J224,Vertices!$A$11:$J$203,9,FALSE )-$E$7","v":-23.85},{"v":600.1836974999997,"d":"600.18"},{"v":600.1836974999997,"d":"600.18"}]
[{"$f":"Faces!A225","v":215},{"$f":"Faces!B225","v":125},{"$f":"VLOOKUP(B225,Vertices!$A$11:$J$203,7,FALSE )-$C$7","v":{"v":-27.435,"d":"-27.44"}},{"$f":"VLOOKUP(B225,Vertices!$A$11:$J$203,8,FALSE )-$D$7","v":{"v":24.6,"d":"24.60"}},{"$f":"VLOOKUP(B225,Vertices!$A$11:$J$203,9,FALSE )-$E$7","v":{"v":-24.3,"d":"-24.30"}},{"$f":"Faces!C225","v":154},{"$f":"VLOOKUP(F225,Vertices!$A$11:$J$203,7,FALSE )-$C$7","v":{"v":-34.265,"d":"-34.27"}},{"$f":"VLOOKUP(F225,Vertices!$A$11:$J$203,8,FALSE )-$D$7","v":10.82},{"$f":"VLOOKUP(F225,Vertices!$A$11:$J$203,9,FALSE )-$E$7","v":-23.85},{"$f":"Faces!D225","v":130},{"$f":"VLOOKUP(J225,Vertices!$A$11:$J$203,7,FALSE )-$C$7","v":{"v":-31.125,"d":"-31.13"}},{"$f":"VLOOKUP(J225,Vertices!$A$11:$J$203,8,FALSE )-$D$7","v":13.31},{"$f":"VLOOKUP(J225,Vertices!$A$11:$J$203,9,FALSE )-$E$7","v":-31.27},{"v":770.7557497499997,"d":"770.76"},{"v":770.7557497499997,"d":"770.76"}]
[{"$f":"Faces!A226","v":216},{"$f":"Faces!B226","v":146},{"$f":"VLOOKUP(B226,Vertices!$A$11:$J$203,7,FALSE )-$C$7","v":{"v":-23.755,"d":"-23.76"}},{"$f":"VLOOKUP(B226,Vertices!$A$11:$J$203,8,FALSE )-$D$7","v":41.31},{"$f":"VLOOKUP(B226,Vertices!$A$11:$J$203,9,FALSE )-$E$7","v":-2.47},{"$f":"Faces!C226","v":170},{"$f":"VLOOKUP(F226,Vertices!$A$11:$J$203,7,FALSE )-$C$7","v":{"v":-32.155,"d":"-32.16"}},{"$f":"VLOOKUP(F226,Vertices!$A$11:$J$203,8,FALSE )-$D$7","v":28.12},{"$f":"VLOOKUP(F226,Vertices!$A$11:$J$203,9,FALSE )-$E$7","v":-0.32},{"$f":"Faces!D226","v":147},{"$f":"VLOOKUP(J226,Vertices!$A$11:$J$203,7,FALSE )-$C$7","v":{"v":-26.044999999999998,"d":"-26.05"}},{"$f":"VLOOKUP(J226,Vertices!$A$11:$J$203,8,FALSE )-$D$7","v":35.38},{"$f":"VLOOKUP(J226,Vertices!$A$11:$J$203,9,FALSE )-$E$7","v":-7.21},{"v":614.1098355833336,"d":"614.11"},{"v":614.1098355833336,"d":"614.11"}]
[{"$f":"Faces!A227","v":217},{"$f":"Faces!B227","v":147},{"$f":"VLOOKUP(B227,Vertices!$A$11:$J$203,7,FALSE )-$C$7","v":{"v":-26.044999999999998,"d":"-26.05"}},{"$f":"VLOOKUP(B227,Vertices!$A$11:$J$203,8,FALSE )-$D$7","v":35.38},{"$f":"VLOOKUP(B227,Vertices!$A$11:$J$203,9,FALSE )-$E$7","v":-7.21},{"$f":"Faces!C227","v":170},{"$f":"VLOOKUP(F227,Vertices!$A$11:$J$203,7,FALSE )-$C$7","v":{"v":-32.155,"d":"-32.16"}},{"$f":"VLOOKUP(F227,Vertices!$A$11:$J$203,8,FALSE )-$D$7","v":28.12},{"$f":"VLOOKUP(F227,Vertices!$A$11:$J$203,9,FALSE )-$E$7","v":-0.32},{"$f":"Faces!D227","v":171},{"$f":"VLOOKUP(J227,Vertices!$A$11:$J$203,7,FALSE )-$C$7","v":{"v":-34.805,"d":"-34.81"}},{"$f":"VLOOKUP(J227,Vertices!$A$11:$J$203,8,FALSE )-$D$7","v":21.02},{"$f":"VLOOKUP(J227,Vertices!$A$11:$J$203,9,FALSE )-$E$7","v":{"v":-6.3,"d":"-6.30"}},{"v":752.9317891666669,"d":"752.93"},{"v":752.9317891666669,"d":"752.93"}]
[{"$f":"Faces!A228","v":218},{"$f":"Faces!B228","v":147},{"$f":"VLOOKUP(B228,Vertices!$A$11:$J$203,7,FALSE )-$C$7","v":{"v":-26.044999999999998,"d":"-26.05"}},{"$f":"VLOOKUP(B228,Vertices!$A$11:$J$203,8,FALSE )-$D$7","v":35.38},{"$f":"VLOOKUP(B228,Vertices!$A$11:$J$203,9,FALSE )-$E$7","v":-7.21},{"$f":"Faces!C228","v":171},{"$f":"VLOOKUP(F228,Vertices!$A$11:$J$203,7,FALSE )-$C$7","v":{"v":-34.805,"d":"-34.81"}},{"$f":"VLOOKUP(F228,Vertices!$A$11:$J$203,8,FALSE )-$D$7","v":21.02},{"$f":"VLOOKUP(F228,Vertices!$A$11:$J$203,9,FALSE )-$E$7","v":{"v":-6.3,"d":"-6.30"}},{"$f":"Faces!D228","v":148},{"$f":"VLOOKUP(J228,Vertices!$A$11:$J$203,7,FALSE )-$C$7","v":{"v":-28.284999999999997,"d":"-28.29"}},{"$f":"VLOOKUP(J228,Vertices!$A$11:$J$203,8,FALSE )-$D$7","v":29.32},{"$f":"VLOOKUP(J228,Vertices!$A$11:$J$203,9,FALSE )-$E$7","v":{"v":-11.7,"d":"-11.70"}},{"v":572.9069885,"d":"572.91"},{"v":572.9069885,"d":"572.91"}]
[{"$f":"Faces!A229","v":219},{"$f":"Faces!B229","v":148},{"$f":"VLOOKUP(B229,Vertices!$A$11:$J$203,7,FALSE )-$C$7","v":{"v":-28.284999999999997,"d":"-28.29"}},{"$f":"VLOOKUP(B229,Vertices!$A$11:$J$203,8,FALSE )-$D$7","v":29.32},{"$f":"VLOOKUP(B229,Vertices!$A$11:$J$203,9,FALSE )-$E$7","v":{"v":-11.7,"d":"-11.70"}},{"$f":"Faces!C229","v":171},{"$f":"VLOOKUP(F229,Vertices!$A$11:$J$203,7,FALSE )-$C$7","v":{"v":-34.805,"d":"-34.81"}},{"$f":"VLOOKUP(F229,Vertices!$A$11:$J$203,8,FALSE )-$D$7","v":21.02},{"$f":"VLOOKUP(F229,Vertices!$A$11:$J$203,9,FALSE )-$E$7","v":{"v":-6.3,"d":"-6.30"}},{"$f":"Faces!D229","v":172},{"$f":"VLOOKUP(J229,Vertices!$A$11:$J$203,7,FALSE )-$C$7","v":{"v":-36.974999999999994,"d":"-36.98"}},{"$f":"VLOOKUP(J229,Vertices!$A$11:$J$203,8,FALSE )-$D$7","v":14.33},{"$f":"VLOOKUP(J229,Vertices!$A$11:$J$203,9,FALSE )-$E$7","v":-11.55},{"v":650.1915675000004,"d":"650.19"},{"v":650.1915675000004,"d":"650.19"}]
[{"$f":"Faces!A230","v":220},{"$f":"Faces!B230","v":148},{"$f":"VLOOKUP(B230,Vertices!$A$11:$J$203,7,FALSE )-$C$7","v":{"v":-28.284999999999997,"d":"-28.29"}},{"$f":"VLOOKUP(B230,Vertices!$A$11:$J$203,8,FALSE )-$D$7","v":29.32},{"$f":"VLOOKUP(B230,Vertices!$A$11:$J$203,9,FALSE )-$E$7","v":{"v":-11.7,"d":"-11.70"}},{"$f":"Faces!C230","v":172},{"$f":"VLOOKUP(F230,Vertices!$A$11:$J$203,7,FALSE )-$C$7","v":{"v":-36.974999999999994,"d":"-36.98"}},{"$f":"VLOOKUP(F230,Vertices!$A$11:$J$203,8,FALSE )-$D$7","v":14.33},{"$f":"VLOOKUP(F230,Vertices!$A$11:$J$203,9,FALSE )-$E$7","v":-11.55},{"$f":"Faces!D230","v":149},{"$f":"VLOOKUP(J230,Vertices!$A$11:$J$203,7,FALSE )-$C$7","v":{"v":-31.634999999999998,"d":"-31.64"}},{"$f":"VLOOKUP(J230,Vertices!$A$11:$J$203,8,FALSE )-$D$7","v":19.56},{"$f":"VLOOKUP(J230,Vertices!$A$11:$J$203,9,FALSE )-$E$7","v":-18.55},{"v":851.7668629166661,"d":"851.77"},{"v":851.7668629166661,"d":"851.77"}]
[{"$f":"Faces!A231","v":221},{"$f":"Faces!B231","v":149},{"$f":"VLOOKUP(B231,Vertices!$A$11:$J$203,7,FALSE )-$C$7","v":{"v":-31.634999999999998,"d":"-31.64"}},{"$f":"VLOOKUP(B231,Vertices!$A$11:$J$203,8,FALSE )-$D$7","v":19.56},{"$f":"VLOOKUP(B231,Vertices!$A$11:$J$203,9,FALSE )-$E$7","v":-18.55},{"$f":"Faces!C231","v":172},{"$f":"VLOOKUP(F231,Vertices!$A$11:$J$203,7,FALSE )-$C$7","v":{"v":-36.974999999999994,"d":"-36.98"}},{"$f":"VLOOKUP(F231,Vertices!$A$11:$J$203,8,FALSE )-$D$7","v":14.33},{"$f":"VLOOKUP(F231,Vertices!$A$11:$J$203,9,FALSE )-$E$7","v":-11.55},{"$f":"Faces!D231","v":176},{"$f":"VLOOKUP(J231,Vertices!$A$11:$J$203,7,FALSE )-$C$7","v":{"v":-38.595,"d":"-38.60"}},{"$f":"VLOOKUP(J231,Vertices!$A$11:$J$203,8,FALSE )-$D$7","v":8.39},{"$f":"VLOOKUP(J231,Vertices!$A$11:$J$203,9,FALSE )-$E$7","v":{"v":-14.5,"d":"-14.50"}},{"v":460.7724712499994,"d":"460.77"},{"v":460.7724712499994,"d":"460.77"}]
[{"$f":"Faces!A232","v":222},{"$f":"Faces!B232","v":149},{"$f":"VLOOKUP(B232,Vertices!$A$11:$J$203,7,FALSE )-$C$7","v":{"v":-31.634999999999998,"d":"-31.64"}},{"$f":"VLOOKUP(B232,Vertices!$A$11:$J$203,8,FALSE )-$D$7","v":19.56},{"$f":"VLOOKUP(B232,Vertices!$A$11:$J$203,9,FALSE )-$E$7","v":-18.55},{"$f":"Faces!C232","v":176},{"$f":"VLOOKUP(F232,Vertices!$A$11:$J$203,7,FALSE )-$C$7","v":{"v":-38.595,"d":"-38.60"}},{"$f":"VLOOKUP(F232,Vertices!$A$11:$J$203,8,FALSE )-$D$7","v":8.39},{"$f":"VLOOKUP(F232,Vertices!$A$11:$J$203,9,FALSE )-$E$7","v":{"v":-14.5,"d":"-14.50"}},{"$f":"Faces!D232","v":154},{"$f":"VLOOKUP(J232,Vertices!$A$11:$J$203,7,FALSE )-$C$7","v":{"v":-34.265,"d":"-34.27"}},{"$f":"VLOOKUP(J232,Vertices!$A$11:$J$203,8,FALSE )-$D$7","v":10.82},{"$f":"VLOOKUP(J232,Vertices!$A$11:$J$203,9,FALSE )-$E$7","v":-23.85},{"v":750.9898441666664,"d":"750.99"},{"v":750.9898441666664,"d":"750.99"}]
[{"$f":"Faces!A233","v":223},{"$f":"Faces!B233","v":170},{"$f":"VLOOKUP(B233,Vertices!$A$11:$J$203,7,FALSE )-$C$7","v":{"v":-32.155,"d":"-32.16"}},{"$f":"VLOOKUP(B233,Vertices!$A$11:$J$203,8,FALSE )-$D$7","v":28.12},{"$f":"VLOOKUP(B233,Vertices!$A$11:$J$203,9,FALSE )-$E$7","v":-0.32},{"$f":"Faces!C233","v":188},{"$f":"VLOOKUP(F233,Vertices!$A$11:$J$203,7,FALSE )-$C$7","v":{"v":-41.105,"d":"-41.11"}},{"$f":"VLOOKUP(F233,Vertices!$A$11:$J$203,8,FALSE )-$D$7","v":{"v":14.1,"d":"14.10"}},{"$f":"VLOOKUP(F233,Vertices!$A$11:$J$203,9,FALSE )-$E$7","v":{"v":2.2,"d":"2.20"}},{"$f":"Faces!D233","v":171},{"$f":"VLOOKUP(J233,Vertices!$A$11:$J$203,7,FALSE )-$C$7","v":{"v":-34.805,"d":"-34.81"}},{"$f":"VLOOKUP(J233,Vertices!$A$11:$J$203,8,FALSE )-$D$7","v":21.02},{"$f":"VLOOKUP(J233,Vertices!$A$11:$J$203,9,FALSE )-$E$7","v":{"v":-6.3,"d":"-6.30"}},{"v":828.7368196666663,"d":"828.74"},{"v":828.7368196666663,"d":"828.74"}]
[{"$f":"Faces!A234","v":224},{"$f":"Faces!B234","v":171},{"$f":"VLOOKUP(B234,Vertices!$A$11:$J$203,7,FALSE )-$C$7","v":{"v":-34.805,"d":"-34.81"}},{"$f":"VLOOKUP(B234,Vertices!$A$11:$J$203,8,FALSE )-$D$7","v":21.02},{"$f":"VLOOKUP(B234,Vertices!$A$11:$J$203,9,FALSE )-$E$7","v":{"v":-6.3,"d":"-6.30"}},{"$f":"Faces!C234","v":188},{"$f":"VLOOKUP(F234,Vertices!$A$11:$J$203,7,FALSE )-$C$7","v":{"v":-41.105,"d":"-41.11"}},{"$f":"VLOOKUP(F234,Vertices!$A$11:$J$203,8,FALSE )-$D$7","v":{"v":14.1,"d":"14.10"}},{"$f":"VLOOKUP(F234,Vertices!$A$11:$J$203,9,FALSE )-$E$7","v":{"v":2.2,"d":"2.20"}},{"$f":"Faces!D234","v":190},{"$f":"VLOOKUP(J234,Vertices!$A$11:$J$203,7,FALSE )-$C$7","v":{"v":-43.545,"d":"-43.55"}},{"$f":"VLOOKUP(J234,Vertices!$A$11:$J$203,8,FALSE )-$D$7","v":6.23},{"$f":"VLOOKUP(J234,Vertices!$A$11:$J$203,9,FALSE )-$E$7","v":-4.82},{"v":931.7705111666668,"d":"931.77"},{"v":931.7705111666668,"d":"931.77"}]
[{"$f":"Faces!A235","v":225},{"$f":"Faces!B235","v":171},{"$f":"VLOOKUP(B235,Vertices!$A$11:$J$203,7,FALSE )-$C$7","v":{"v":-34.805,"d":"-34.81"}},{"$f":"VLOOKUP(B235,Vertices!$A$11:$J$203,8,FALSE )-$D$7","v":21.02},{"$f":"VLOOKUP(B235,Vertices!$A$11:$J$203,9,FALSE )-$E$7","v":{"v":-6.3,"d":"-6.30"}},{"$f":"Faces!C235","v":190},{"$f":"VLOOKUP(F235,Vertices!$A$11:$J$203,7,FALSE )-$C$7","v":{"v":-43.545,"d":"-43.55"}},{"$f":"VLOOKUP(F235,Vertices!$A$11:$J$203,8,FALSE )-$D$7","v":6.23},{"$f":"VLOOKUP(F235,Vertices!$A$11:$J$203,9,FALSE )-$E$7","v":-4.82},{"$f":"Faces!D235","v":172},{"$f":"VLOOKUP(J235,Vertices!$A$11:$J$203,7,FALSE )-$C$7","v":{"v":-36.974999999999994,"d":"-36.98"}},{"$f":"VLOOKUP(J235,Vertices!$A$11:$J$203,8,FALSE )-$D$7","v":14.33},{"$f":"VLOOKUP(J235,Vertices!$A$11:$J$203,9,FALSE )-$E$7","v":-11.55},{"v":707.5522875833335,"d":"707.55"},{"v":707.5522875833335,"d":"707.55"}]
[{"$f":"Faces!A236","v":226},{"$f":"Faces!B236","v":172},{"$f":"VLOOKUP(B236,Vertices!$A$11:$J$203,7,FALSE )-$C$7","v":{"v":-36.974999999999994,"d":"-36.98"}},{"$f":"VLOOKUP(B236,Vertices!$A$11:$J$203,8,FALSE )-$D$7","v":14.33},{"$f":"VLOOKUP(B236,Vertices!$A$11:$J$203,9,FALSE )-$E$7","v":-11.55},{"$f":"Faces!C236","v":190},{"$f":"VLOOKUP(F236,Vertices!$A$11:$J$203,7,FALSE )-$C$7","v":{"v":-43.545,"d":"-43.55"}},{"$f":"VLOOKUP(F236,Vertices!$A$11:$J$203,8,FALSE )-$D$7","v":6.23},{"$f":"VLOOKUP(F236,Vertices!$A$11:$J$203,9,FALSE )-$E$7","v":-4.82},{"$f":"Faces!D236","v":176},{"$f":"VLOOKUP(J236,Vertices!$A$11:$J$203,7,FALSE )-$C$7","v":{"v":-38.595,"d":"-38.60"}},{"$f":"VLOOKUP(J236,Vertices!$A$11:$J$203,8,FALSE )-$D$7","v":8.39},{"$f":"VLOOKUP(J236,Vertices!$A$11:$J$203,9,FALSE )-$E$7","v":{"v":-14.5,"d":"-14.50"}},{"v":515.7996105,"d":"515.80"},{"v":515.7996105,"d":"515.80"}]
[{"$f":"Faces!A237","v":227},{"$f":"Faces!B237","v":6},{"$f":"VLOOKUP(B237,Vertices!$A$11:$J$203,7,FALSE )-$C$7","v":{"v":-3.4549999999999983,"d":"-3.46"}},{"$f":"VLOOKUP(B237,Vertices!$A$11:$J$203,8,FALSE )-$D$7","v":{"v":75,"d":"75.00"}},{"$f":"VLOOKUP(B237,Vertices!$A$11:$J$203,9,FALSE )-$E$7","v":{"v":-4,"d":"-4.00"}},{"$f":"Faces!C237","v":103},{"$f":"VLOOKUP(F237,Vertices!$A$11:$J$203,7,FALSE )-$C$7","v":{"v":-9.994999999999997,"d":"-10.00"}},{"$f":"VLOOKUP(F237,Vertices!$A$11:$J$203,8,FALSE )-$D$7","v":62.73},{"$f":"VLOOKUP(F237,Vertices!$A$11:$J$203,9,FALSE )-$E$7","v":0.23},{"$f":"Faces!D237","v":92},{"$f":"VLOOKUP(J237,Vertices!$A$11:$J$203,7,FALSE )-$C$7","v":{"v":-10.155000000000001,"d":"-10.16"}},{"$f":"VLOOKUP(J237,Vertices!$A$11:$J$203,8,FALSE )-$D$7","v":63.56},{"$f":"VLOOKUP(J237,Vertices!$A$11:$J$203,9,FALSE )-$E$7","v":-3.99},{"v":376.31201125000007,"d":"376.31"},{"v":376.31201125000007,"d":"376.31"}]
[{"$f":"Faces!A238","v":228},{"$f":"Faces!B238","v":6},{"$f":"VLOOKUP(B238,Vertices!$A$11:$J$203,7,FALSE )-$C$7","v":{"v":-3.4549999999999983,"d":"-3.46"}},{"$f":"VLOOKUP(B238,Vertices!$A$11:$J$203,8,FALSE )-$D$7","v":{"v":75,"d":"75.00"}},{"$f":"VLOOKUP(B238,Vertices!$A$11:$J$203,9,FALSE )-$E$7","v":{"v":-4,"d":"-4.00"}},{"$f":"Faces!C238","v":42},{"$f":"VLOOKUP(F238,Vertices!$A$11:$J$203,7,FALSE )-$C$7","v":{"v":-3.164999999999999,"d":"-3.17"}},{"$f":"VLOOKUP(F238,Vertices!$A$11:$J$203,8,FALSE )-$D$7","v":{"v":74.1,"d":"74.10"}},{"$f":"VLOOKUP(F238,Vertices!$A$11:$J$203,9,FALSE )-$E$7","v":0.87},{"$f":"Faces!D238","v":103},{"$f":"VLOOKUP(J238,Vertices!$A$11:$J$203,7,FALSE )-$C$7","v":{"v":-9.994999999999997,"d":"-10.00"}},{"$f":"VLOOKUP(J238,Vertices!$A$11:$J$203,8,FALSE )-$D$7","v":62.73},{"$f":"VLOOKUP(J238,Vertices!$A$11:$J$203,9,FALSE )-$E$7","v":0.23},{"v":439.3767157499999,"d":"439.38"},{"v":439.3767157499999,"d":"439.38"}]
[{"$f":"Faces!A239","v":229},{"$f":"Faces!B239","v":42},{"$f":"VLOOKUP(B239,Vertices!$A$11:$J$203,7,FALSE )-$C$7","v":{"v":-3.164999999999999,"d":"-3.17"}},{"$f":"VLOOKUP(B239,Vertices!$A$11:$J$203,8,FALSE )-$D$7","v":{"v":74.1,"d":"74.10"}},{"$f":"VLOOKUP(B239,Vertices!$A$11:$J$203,9,FALSE )-$E$7","v":0.87},{"$f":"Faces!C239","v":105},{"$f":"VLOOKUP(F239,Vertices!$A$11:$J$203,7,FALSE )-$C$7","v":{"v":-9.884999999999998,"d":"-9.89"}},{"$f":"VLOOKUP(F239,Vertices!$A$11:$J$203,8,FALSE )-$D$7","v":61.71},{"$f":"VLOOKUP(F239,Vertices!$A$11:$J$203,9,FALSE )-$E$7","v":4.66},{"$f":"Faces!D239","v":103},{"$f":"VLOOKUP(J239,Vertices!$A$11:$J$203,7,FALSE )-$C$7","v":{"v":-9.994999999999997,"d":"-10.00"}},{"$f":"VLOOKUP(J239,Vertices!$A$11:$J$203,8,FALSE )-$D$7","v":62.73},{"$f":"VLOOKUP(J239,Vertices!$A$11:$J$203,9,FALSE )-$E$7","v":0.23},{"v":400.90883575,"d":"400.91"},{"v":400.90883575,"d":"400.91"}]
[{"$f":"Faces!A240","v":230},{"$f":"Faces!B240","v":42},{"$f":"VLOOKUP(B240,Vertices!$A$11:$J$203,7,FALSE )-$C$7","v":{"v":-3.164999999999999,"d":"-3.17"}},{"$f":"VLOOKUP(B240,Vertices!$A$11:$J$203,8,FALSE )-$D$7","v":{"v":74.1,"d":"74.10"}},{"$f":"VLOOKUP(B240,Vertices!$A$11:$J$203,9,FALSE )-$E$7","v":0.87},{"$f":"Faces!C240","v":53},{"$f":"VLOOKUP(F240,Vertices!$A$11:$J$203,7,FALSE )-$C$7","v":{"v":-2.9849999999999994,"d":"-2.99"}},{"$f":"VLOOKUP(F240,Vertices!$A$11:$J$203,8,FALSE )-$D$7","v":73.14},{"$f":"VLOOKUP(F240,Vertices!$A$11:$J$203,9,FALSE )-$E$7","v":5.87},{"$f":"Faces!D240","v":105},{"$f":"VLOOKUP(J240,Vertices!$A$11:$J$203,7,FALSE )-$C$7","v":{"v":-9.884999999999998,"d":"-9.89"}},{"$f":"VLOOKUP(J240,Vertices!$A$11:$J$203,8,FALSE )-$D$7","v":61.71},{"$f":"VLOOKUP(J240,Vertices!$A$11:$J$203,9,FALSE )-$E$7","v":4.66},{"v":455.4033419999999,"d":"455.40"},{"v":455.4033419999999,"d":"455.40"}]
[{"$f":"Faces!A241","v":231},{"$f":"Faces!B241","v":53},{"$f":"VLOOKUP(B241,Vertices!$A$11:$J$203,7,FALSE )-$C$7","v":{"v":-2.9849999999999994,"d":"-2.99"}},{"$f":"VLOOKUP(B241,Vertices!$A$11:$J$203,8,FALSE )-$D$7","v":73.14},{"$f":"VLOOKUP(B241,Vertices!$A$11:$J$203,9,FALSE )-$E$7","v":5.87},{"$f":"Faces!C241","v":107},{"$f":"VLOOKUP(F241,Vertices!$A$11:$J$203,7,FALSE )-$C$7","v":{"v":-9.795000000000002,"d":"-9.80"}},{"$f":"VLOOKUP(F241,Vertices!$A$11:$J$203,8,FALSE )-$D$7","v":60.22},{"$f":"VLOOKUP(F241,Vertices!$A$11:$J$203,9,FALSE )-$E$7","v":13.63},{"$f":"Faces!D241","v":105},{"$f":"VLOOKUP(J241,Vertices!$A$11:$J$203,7,FALSE )-$C$7","v":{"v":-9.884999999999998,"d":"-9.89"}},{"$f":"VLOOKUP(J241,Vertices!$A$11:$J$203,8,FALSE )-$D$7","v":61.71},{"$f":"VLOOKUP(J241,Vertices!$A$11:$J$203,9,FALSE )-$E$7","v":4.66},{"v":816.1170104999998,"d":"816.12"},{"v":816.1170104999998,"d":"816.12"}]
[{"$f":"Faces!A242","v":232},{"$f":"Faces!B242","v":53},{"$f":"VLOOKUP(B242,Vertices!$A$11:$J$203,7,FALSE )-$C$7","v":{"v":-2.9849999999999994,"d":"-2.99"}},{"$f":"VLOOKUP(B242,Vertices!$A$11:$J$203,8,FALSE )-$D$7","v":73.14},{"$f":"VLOOKUP(B242,Vertices!$A$11:$J$203,9,FALSE )-$E$7","v":5.87},{"$f":"Faces!C242","v":64},{"$f":"VLOOKUP(F242,Vertices!$A$11:$J$203,7,FALSE )-$C$7","v":{"v":-2.844999999999999,"d":"-2.85"}},{"$f":"VLOOKUP(F242,Vertices!$A$11:$J$203,8,FALSE )-$D$7","v":71.46},{"$f":"VLOOKUP(F242,Vertices!$A$11:$J$203,9,FALSE )-$E$7","v":16.14},{"$f":"Faces!D242","v":107},{"$f":"VLOOKUP(J242,Vertices!$A$11:$J$203,7,FALSE )-$C$7","v":{"v":-9.795000000000002,"d":"-9.80"}},{"$f":"VLOOKUP(J242,Vertices!$A$11:$J$203,8,FALSE )-$D$7","v":60.22},{"$f":"VLOOKUP(J242,Vertices!$A$11:$J$203,9,FALSE )-$E$7","v":13.63},{"v":938.2851653333336,"d":"938.29"},{"v":938.2851653333336,"d":"938.29"}]
[{"$f":"Faces!A243","v":233},{"$f":"Faces!B243","v":64},{"$f":"VLOOKUP(B243,Vertices!$A$11:$J$203,7,FALSE )-$C$7","v":{"v":-2.844999999999999,"d":"-2.85"}},{"$f":"VLOOKUP(B243,Vertices!$A$11:$J$203,8,FALSE )-$D$7","v":71.46},{"$f":"VLOOKUP(B243,Vertices!$A$11:$J$203,9,FALSE )-$E$7","v":16.14},{"$f":"Faces!C243","v":109},{"$f":"VLOOKUP(F243,Vertices!$A$11:$J$203,7,FALSE )-$C$7","v":{"v":-10.104999999999997,"d":"-10.11"}},{"$f":"VLOOKUP(F243,Vertices!$A$11:$J$203,8,FALSE )-$D$7","v":58.07},{"$f":"VLOOKUP(F243,Vertices!$A$11:$J$203,9,FALSE )-$E$7","v":27.09},{"$f":"Faces!D243","v":107},{"$f":"VLOOKUP(J243,Vertices!$A$11:$J$203,7,FALSE )-$C$7","v":{"v":-9.795000000000002,"d":"-9.80"}},{"$f":"VLOOKUP(J243,Vertices!$A$11:$J$203,8,FALSE )-$D$7","v":60.22},{"$f":"VLOOKUP(J243,Vertices!$A$11:$J$203,9,FALSE )-$E$7","v":13.63},{"v":1228.5299350833338,"d":"1228.53"},{"v":1228.5299350833338,"d":"1228.53"}]
[{"$f":"Faces!A244","v":234},{"$f":"Faces!B244","v":64},{"$f":"VLOOKUP(B244,Vertices!$A$11:$J$203,7,FALSE )-$C$7","v":{"v":-2.844999999999999,"d":"-2.85"}},{"$f":"VLOOKUP(B244,Vertices!$A$11:$J$203,8,FALSE )-$D$7","v":71.46},{"$f":"VLOOKUP(B244,Vertices!$A$11:$J$203,9,FALSE )-$E$7","v":16.14},{"$f":"Faces!C244","v":75},{"$f":"VLOOKUP(F244,Vertices!$A$11:$J$203,7,FALSE )-$C$7","v":{"v":-3.2049999999999983,"d":"-3.21"}},{"$f":"VLOOKUP(F244,Vertices!$A$11:$J$203,8,FALSE )-$D$7","v":69.27},{"$f":"VLOOKUP(F244,Vertices!$A$11:$J$203,9,FALSE )-$E$7","v":32.31},{"$f":"Faces!D244","v":109},{"$f":"VLOOKUP(J244,Vertices!$A$11:$J$203,7,FALSE )-$C$7","v":{"v":-10.104999999999997,"d":"-10.11"}},{"$f":"VLOOKUP(J244,Vertices!$A$11:$J$203,8,FALSE )-$D$7","v":58.07},{"$f":"VLOOKUP(J244,Vertices!$A$11:$J$203,9,FALSE )-$E$7","v":27.09},{"v":1472.3122704999996,"d":"1472.31"},{"v":1472.3122704999996,"d":"1472.31"}]
[{"$f":"Faces!A245","v":235},{"$f":"Faces!B245","v":75},{"$f":"VLOOKUP(B245,Vertices!$A$11:$J$203,7,FALSE )-$C$7","v":{"v":-3.2049999999999983,"d":"-3.21"}},{"$f":"VLOOKUP(B245,Vertices!$A$11:$J$203,8,FALSE )-$D$7","v":69.27},{"$f":"VLOOKUP(B245,Vertices!$A$11:$J$203,9,FALSE )-$E$7","v":32.31},{"$f":"Faces!C245","v":116},{"$f":"VLOOKUP(F245,Vertices!$A$11:$J$203,7,FALSE )-$C$7","v":{"v":-10.844999999999999,"d":"-10.85"}},{"$f":"VLOOKUP(F245,Vertices!$A$11:$J$203,8,FALSE )-$D$7","v":56.54},{"$f":"VLOOKUP(F245,Vertices!$A$11:$J$203,9,FALSE )-$E$7","v":39.47},{"$f":"Faces!D245","v":109},{"$f":"VLOOKUP(J245,Vertices!$A$11:$J$203,7,FALSE )-$C$7","v":{"v":-10.104999999999997,"d":"-10.11"}},{"$f":"VLOOKUP(J245,Vertices!$A$11:$J$203,8,FALSE )-$D$7","v":58.07},{"$f":"VLOOKUP(J245,Vertices!$A$11:$J$203,9,FALSE )-$E$7","v":27.09},{"v":1121.3431698333327,"d":"1121.34"},{"v":1121.3431698333327,"d":"1121.34"}]
[{"$f":"Faces!A246","v":236},{"$f":"Faces!B246","v":75},{"$f":"VLOOKUP(B246,Vertices!$A$11:$J$203,7,FALSE )-$C$7","v":{"v":-3.2049999999999983,"d":"-3.21"}},{"$f":"VLOOKUP(B246,Vertices!$A$11:$J$203,8,FALSE )-$D$7","v":69.27},{"$f":"VLOOKUP(B246,Vertices!$A$11:$J$203,9,FALSE )-$E$7","v":32.31},{"$f":"Faces!C246","v":86},{"$f":"VLOOKUP(F246,Vertices!$A$11:$J$203,7,FALSE )-$C$7","v":{"v":-4.454999999999998,"d":"-4.46"}},{"$f":"VLOOKUP(F246,Vertices!$A$11:$J$203,8,FALSE )-$D$7","v":{"v":68,"d":"68.00"}},{"$f":"VLOOKUP(F246,Vertices!$A$11:$J$203,9,FALSE )-$E$7","v":{"v":48,"d":"48.00"}},{"$f":"Faces!D246","v":116},{"$f":"VLOOKUP(J246,Vertices!$A$11:$J$203,7,FALSE )-$C$7","v":{"v":-10.844999999999999,"d":"-10.85"}},{"$f":"VLOOKUP(J246,Vertices!$A$11:$J$203,8,FALSE )-$D$7","v":56.54},{"$f":"VLOOKUP(J246,Vertices!$A$11:$J$203,9,FALSE )-$E$7","v":39.47},{"v":1348.9844379166661,"d":"1348.98"},{"v":1348.9844379166661,"d":"1348.98"}]
[{"$f":"Faces!A247","v":237},{"$f":"Faces!B247","v":92},{"$f":"VLOOKUP(B247,Vertices!$A$11:$J$203,7,FALSE )-$C$7","v":{"v":-10.155000000000001,"d":"-10.16"}},{"$f":"VLOOKUP(B247,Vertices!$A$11:$J$203,8,FALSE )-$D$7","v":63.56},{"$f":"VLOOKUP(B247,Vertices!$A$11:$J$203,9,FALSE )-$E$7","v":-3.99},{"$f":"Faces!C247","v":103},{"$f":"VLOOKUP(F247,Vertices!$A$11:$J$203,7,FALSE )-$C$7","v":{"v":-9.994999999999997,"d":"-10.00"}},{"$f":"VLOOKUP(F247,Vertices!$A$11:$J$203,8,FALSE )-$D$7","v":62.73},{"$f":"VLOOKUP(F247,Vertices!$A$11:$J$203,9,FALSE )-$E$7","v":0.23},{"$f":"Faces!D247","v":122},{"$f":"VLOOKUP(J247,Vertices!$A$11:$J$203,7,FALSE )-$C$7","v":{"v":-16.725,"d":"-16.73"}},{"$f":"VLOOKUP(J247,Vertices!$A$11:$J$203,8,FALSE )-$D$7","v":52.41},{"$f":"VLOOKUP(J247,Vertices!$A$11:$J$203,9,FALSE )-$E$7","v":-3.59},{"v":368.64499833333343,"d":"368.64"},{"v":368.64499833333343,"d":"368.64"}]
[{"$f":"Faces!A248","v":238},{"$f":"Faces!B248","v":122},{"$f":"VLOOKUP(B248,Vertices!$A$11:$J$203,7,FALSE )-$C$7","v":{"v":-16.725,"d":"-16.73"}},{"$f":"VLOOKUP(B248,Vertices!$A$11:$J$203,8,FALSE )-$D$7","v":52.41},{"$f":"VLOOKUP(B248,Vertices!$A$11:$J$203,9,FALSE )-$E$7","v":-3.59},{"$f":"Faces!C248","v":103},{"$f":"VLOOKUP(F248,Vertices!$A$11:$J$203,7,FALSE )-$C$7","v":{"v":-9.994999999999997,"d":"-10.00"}},{"$f":"VLOOKUP(F248,Vertices!$A$11:$J$203,8,FALSE )-$D$7","v":62.73},{"$f":"VLOOKUP(F248,Vertices!$A$11:$J$203,9,FALSE )-$E$7","v":0.23},{"$f":"Faces!D248","v":131},{"$f":"VLOOKUP(J248,Vertices!$A$11:$J$203,7,FALSE )-$C$7","v":{"v":-16.534999999999997,"d":"-16.54"}},{"$f":"VLOOKUP(J248,Vertices!$A$11:$J$203,8,FALSE )-$D$7","v":50.69},{"$f":"VLOOKUP(J248,Vertices!$A$11:$J$203,9,FALSE )-$E$7","v":3.68},{"v":640.3901561666667,"d":"640.39"},{"v":640.3901561666667,"d":"640.39"}]
[{"$f":"Faces!A249","v":239},{"$f":"Faces!B249","v":103},{"$f":"VLOOKUP(B249,Vertices!$A$11:$J$203,7,FALSE )-$C$7","v":{"v":-9.994999999999997,"d":"-10.00"}},{"$f":"VLOOKUP(B249,Vertices!$A$11:$J$203,8,FALSE )-$D$7","v":62.73},{"$f":"VLOOKUP(B249,Vertices!$A$11:$J$203,9,FALSE )-$E$7","v":0.23},{"$f":"Faces!C249","v":105},{"$f":"VLOOKUP(F249,Vertices!$A$11:$J$203,7,FALSE )-$C$7","v":{"v":-9.884999999999998,"d":"-9.89"}},{"$f":"VLOOKUP(F249,Vertices!$A$11:$J$203,8,FALSE )-$D$7","v":61.71},{"$f":"VLOOKUP(F249,Vertices!$A$11:$J$203,9,FALSE )-$E$7","v":4.66},{"$f":"Faces!D249","v":131},{"$f":"VLOOKUP(J249,Vertices!$A$11:$J$203,7,FALSE )-$C$7","v":{"v":-16.534999999999997,"d":"-16.54"}},{"$f":"VLOOKUP(J249,Vertices!$A$11:$J$203,8,FALSE )-$D$7","v":50.69},{"$f":"VLOOKUP(J249,Vertices!$A$11:$J$203,9,FALSE )-$E$7","v":3.68},{"v":390.1673243333332,"d":"390.17"},{"v":390.1673243333332,"d":"390.17"}]
[{"$f":"Faces!A250","v":240},{"$f":"Faces!B250","v":105},{"$f":"VLOOKUP(B250,Vertices!$A$11:$J$203,7,FALSE )-$C$7","v":{"v":-9.884999999999998,"d":"-9.89"}},{"$f":"VLOOKUP(B250,Vertices!$A$11:$J$203,8,FALSE )-$D$7","v":61.71},{"$f":"VLOOKUP(B250,Vertices!$A$11:$J$203,9,FALSE )-$E$7","v":4.66},{"$f":"Faces!C250","v":133},{"$f":"VLOOKUP(F250,Vertices!$A$11:$J$203,7,FALSE )-$C$7","v":{"v":-16.634999999999998,"d":"-16.64"}},{"$f":"VLOOKUP(F250,Vertices!$A$11:$J$203,8,FALSE )-$D$7","v":{"v":49.2,"d":"49.20"}},{"$f":"VLOOKUP(F250,Vertices!$A$11:$J$203,9,FALSE )-$E$7","v":11.03},{"$f":"Faces!D250","v":131},{"$f":"VLOOKUP(J250,Vertices!$A$11:$J$203,7,FALSE )-$C$7","v":{"v":-16.534999999999997,"d":"-16.54"}},{"$f":"VLOOKUP(J250,Vertices!$A$11:$J$203,8,FALSE )-$D$7","v":50.69},{"$f":"VLOOKUP(J250,Vertices!$A$11:$J$203,9,FALSE )-$E$7","v":3.68},{"v":646.4009695000001,"d":"646.40"},{"v":646.4009695000001,"d":"646.40"}]
[{"$f":"Faces!A251","v":241},{"$f":"Faces!B251","v":105},{"$f":"VLOOKUP(B251,Vertices!$A$11:$J$203,7,FALSE )-$C$7","v":{"v":-9.884999999999998,"d":"-9.89"}},{"$f":"VLOOKUP(B251,Vertices!$A$11:$J$203,8,FALSE )-$D$7","v":61.71},{"$f":"VLOOKUP(B251,Vertices!$A$11:$J$203,9,FALSE )-$E$7","v":4.66},{"$f":"Faces!C251","v":107},{"$f":"VLOOKUP(F251,Vertices!$A$11:$J$203,7,FALSE )-$C$7","v":{"v":-9.795000000000002,"d":"-9.80"}},{"$f":"VLOOKUP(F251,Vertices!$A$11:$J$203,8,FALSE )-$D$7","v":60.22},{"$f":"VLOOKUP(F251,Vertices!$A$11:$J$203,9,FALSE )-$E$7","v":13.63},{"$f":"Faces!D251","v":133},{"$f":"VLOOKUP(J251,Vertices!$A$11:$J$203,7,FALSE )-$C$7","v":{"v":-16.634999999999998,"d":"-16.64"}},{"$f":"VLOOKUP(J251,Vertices!$A$11:$J$203,8,FALSE )-$D$7","v":{"v":49.2,"d":"49.20"}},{"$f":"VLOOKUP(J251,Vertices!$A$11:$J$203,9,FALSE )-$E$7","v":11.03},{"v":806.550003499999,"d":"806.55"},{"v":806.550003499999,"d":"806.55"}]
[{"$f":"Faces!A252","v":242},{"$f":"Faces!B252","v":107},{"$f":"VLOOKUP(B252,Vertices!$A$11:$J$203,7,FALSE )-$C$7","v":{"v":-9.795000000000002,"d":"-9.80"}},{"$f":"VLOOKUP(B252,Vertices!$A$11:$J$203,8,FALSE )-$D$7","v":60.22},{"$f":"VLOOKUP(B252,Vertices!$A$11:$J$203,9,FALSE )-$E$7","v":13.63},{"$f":"Faces!C252","v":135},{"$f":"VLOOKUP(F252,Vertices!$A$11:$J$203,7,FALSE )-$C$7","v":{"v":-16.795,"d":"-16.80"}},{"$f":"VLOOKUP(F252,Vertices!$A$11:$J$203,8,FALSE )-$D$7","v":47.17},{"$f":"VLOOKUP(F252,Vertices!$A$11:$J$203,9,FALSE )-$E$7","v":21.98},{"$f":"Faces!D252","v":133},{"$f":"VLOOKUP(J252,Vertices!$A$11:$J$203,7,FALSE )-$C$7","v":{"v":-16.634999999999998,"d":"-16.64"}},{"$f":"VLOOKUP(J252,Vertices!$A$11:$J$203,8,FALSE )-$D$7","v":{"v":49.2,"d":"49.20"}},{"$f":"VLOOKUP(J252,Vertices!$A$11:$J$203,9,FALSE )-$E$7","v":11.03},{"v":989.0471341666662,"d":"989.05"},{"v":989.0471341666662,"d":"989.05"}]
[{"$f":"Faces!A253","v":243},{"$f":"Faces!B253","v":107},{"$f":"VLOOKUP(B253,Vertices!$A$11:$J$203,7,FALSE )-$C$7","v":{"v":-9.795000000000002,"d":"-9.80"}},{"$f":"VLOOKUP(B253,Vertices!$A$11:$J$203,8,FALSE )-$D$7","v":60.22},{"$f":"VLOOKUP(B253,Vertices!$A$11:$J$203,9,FALSE )-$E$7","v":13.63},{"$f":"Faces!C253","v":109},{"$f":"VLOOKUP(F253,Vertices!$A$11:$J$203,7,FALSE )-$C$7","v":{"v":-10.104999999999997,"d":"-10.11"}},{"$f":"VLOOKUP(F253,Vertices!$A$11:$J$203,8,FALSE )-$D$7","v":58.07},{"$f":"VLOOKUP(F253,Vertices!$A$11:$J$203,9,FALSE )-$E$7","v":27.09},{"$f":"Faces!D253","v":135},{"$f":"VLOOKUP(J253,Vertices!$A$11:$J$203,7,FALSE )-$C$7","v":{"v":-16.795,"d":"-16.80"}},{"$f":"VLOOKUP(J253,Vertices!$A$11:$J$203,8,FALSE )-$D$7","v":47.17},{"$f":"VLOOKUP(J253,Vertices!$A$11:$J$203,9,FALSE )-$E$7","v":21.98},{"v":1202.11944375,"d":"1202.12"},{"v":1202.11944375,"d":"1202.12"}]
[{"$f":"Faces!A254","v":244},{"$f":"Faces!B254","v":109},{"$f":"VLOOKUP(B254,Vertices!$A$11:$J$203,7,FALSE )-$C$7","v":{"v":-10.104999999999997,"d":"-10.11"}},{"$f":"VLOOKUP(B254,Vertices!$A$11:$J$203,8,FALSE )-$D$7","v":58.07},{"$f":"VLOOKUP(B254,Vertices!$A$11:$J$203,9,FALSE )-$E$7","v":27.09},{"$f":"Faces!C254","v":141},{"$f":"VLOOKUP(F254,Vertices!$A$11:$J$203,7,FALSE )-$C$7","v":{"v":-17.335,"d":"-17.34"}},{"$f":"VLOOKUP(F254,Vertices!$A$11:$J$203,8,FALSE )-$D$7","v":45.71},{"$f":"VLOOKUP(F254,Vertices!$A$11:$J$203,9,FALSE )-$E$7","v":31.75},{"$f":"Faces!D254","v":135},{"$f":"VLOOKUP(J254,Vertices!$A$11:$J$203,7,FALSE )-$C$7","v":{"v":-16.795,"d":"-16.80"}},{"$f":"VLOOKUP(J254,Vertices!$A$11:$J$203,8,FALSE )-$D$7","v":47.17},{"$f":"VLOOKUP(J254,Vertices!$A$11:$J$203,9,FALSE )-$E$7","v":21.98},{"v":868.736217166667,"d":"868.74"},{"v":868.736217166667,"d":"868.74"}]
[{"$f":"Faces!A255","v":245},{"$f":"Faces!B255","v":109},{"$f":"VLOOKUP(B255,Vertices!$A$11:$J$203,7,FALSE )-$C$7","v":{"v":-10.104999999999997,"d":"-10.11"}},{"$f":"VLOOKUP(B255,Vertices!$A$11:$J$203,8,FALSE )-$D$7","v":58.07},{"$f":"VLOOKUP(B255,Vertices!$A$11:$J$203,9,FALSE )-$E$7","v":27.09},{"$f":"Faces!C255","v":116},{"$f":"VLOOKUP(F255,Vertices!$A$11:$J$203,7,FALSE )-$C$7","v":{"v":-10.844999999999999,"d":"-10.85"}},{"$f":"VLOOKUP(F255,Vertices!$A$11:$J$203,8,FALSE )-$D$7","v":56.54},{"$f":"VLOOKUP(F255,Vertices!$A$11:$J$203,9,FALSE )-$E$7","v":39.47},{"$f":"Faces!D255","v":141},{"$f":"VLOOKUP(J255,Vertices!$A$11:$J$203,7,FALSE )-$C$7","v":{"v":-17.335,"d":"-17.34"}},{"$f":"VLOOKUP(J255,Vertices!$A$11:$J$203,8,FALSE )-$D$7","v":45.71},{"$f":"VLOOKUP(J255,Vertices!$A$11:$J$203,9,FALSE )-$E$7","v":31.75},{"v":1087.254193333333,"d":"1087.25"},{"v":1087.254193333333,"d":"1087.25"}]
[{"$f":"Faces!A256","v":246},{"$f":"Faces!B256","v":122},{"$f":"VLOOKUP(B256,Vertices!$A$11:$J$203,7,FALSE )-$C$7","v":{"v":-16.725,"d":"-16.73"}},{"$f":"VLOOKUP(B256,Vertices!$A$11:$J$203,8,FALSE )-$D$7","v":52.41},{"$f":"VLOOKUP(B256,Vertices!$A$11:$J$203,9,FALSE )-$E$7","v":-3.59},{"$f":"Faces!C256","v":155},{"$f":"VLOOKUP(F256,Vertices!$A$11:$J$203,7,FALSE )-$C$7","v":{"v":-23.595,"d":"-23.60"}},{"$f":"VLOOKUP(F256,Vertices!$A$11:$J$203,8,FALSE )-$D$7","v":39.67},{"$f":"VLOOKUP(F256,Vertices!$A$11:$J$203,9,FALSE )-$E$7","v":{"v":3.2,"d":"3.20"}},{"$f":"Faces!D256","v":146},{"$f":"VLOOKUP(J256,Vertices!$A$11:$J$203,7,FALSE )-$C$7","v":{"v":-23.755,"d":"-23.76"}},{"$f":"VLOOKUP(J256,Vertices!$A$11:$J$203,8,FALSE )-$D$7","v":41.31},{"$f":"VLOOKUP(J256,Vertices!$A$11:$J$203,9,FALSE )-$E$7","v":-2.47},{"v":512.0991483333331,"d":"512.10"},{"v":512.0991483333331,"d":"512.10"}]
[{"$f":"Faces!A257","v":247},{"$f":"Faces!B257","v":122},{"$f":"VLOOKUP(B257,Vertices!$A$11:$J$203,7,FALSE )-$C$7","v":{"v":-16.725,"d":"-16.73"}},{"$f":"VLOOKUP(B257,Vertices!$A$11:$J$203,8,FALSE )-$D$7","v":52.41},{"$f":"VLOOKUP(B257,Vertices!$A$11:$J$203,9,FALSE )-$E$7","v":-3.59},{"$f":"Faces!C257","v":131},{"$f":"VLOOKUP(F257,Vertices!$A$11:$J$203,7,FALSE )-$C$7","v":{"v":-16.534999999999997,"d":"-16.54"}},{"$f":"VLOOKUP(F257,Vertices!$A$11:$J$203,8,FALSE )-$D$7","v":50.69},{"$f":"VLOOKUP(F257,Vertices!$A$11:$J$203,9,FALSE )-$E$7","v":3.68},{"$f":"Faces!D257","v":155},{"$f":"VLOOKUP(J257,Vertices!$A$11:$J$203,7,FALSE )-$C$7","v":{"v":-23.595,"d":"-23.60"}},{"$f":"VLOOKUP(J257,Vertices!$A$11:$J$203,8,FALSE )-$D$7","v":39.67},{"$f":"VLOOKUP(J257,Vertices!$A$11:$J$203,9,FALSE )-$E$7","v":{"v":3.2,"d":"3.20"}},{"v":664.6422908333333,"d":"664.64"},{"v":664.6422908333333,"d":"664.64"}]
[{"$f":"Faces!A258","v":248},{"$f":"Faces!B258","v":131},{"$f":"VLOOKUP(B258,Vertices!$A$11:$J$203,7,FALSE )-$C$7","v":{"v":-16.534999999999997,"d":"-16.54"}},{"$f":"VLOOKUP(B258,Vertices!$A$11:$J$203,8,FALSE )-$D$7","v":50.69},{"$f":"VLOOKUP(B258,Vertices!$A$11:$J$203,9,FALSE )-$E$7","v":3.68},{"$f":"Faces!C258","v":157},{"$f":"VLOOKUP(F258,Vertices!$A$11:$J$203,7,FALSE )-$C$7","v":{"v":-23.615,"d":"-23.62"}},{"$f":"VLOOKUP(F258,Vertices!$A$11:$J$203,8,FALSE )-$D$7","v":38.18},{"$f":"VLOOKUP(F258,Vertices!$A$11:$J$203,9,FALSE )-$E$7","v":8.74},{"$f":"Faces!D258","v":155},{"$f":"VLOOKUP(J258,Vertices!$A$11:$J$203,7,FALSE )-$C$7","v":{"v":-23.595,"d":"-23.60"}},{"$f":"VLOOKUP(J258,Vertices!$A$11:$J$203,8,FALSE )-$D$7","v":39.67},{"$f":"VLOOKUP(J258,Vertices!$A$11:$J$203,9,FALSE )-$E$7","v":{"v":3.2,"d":"3.20"}},{"v":507.04921833333333,"d":"507.05"},{"v":507.04921833333333,"d":"507.05"}]
[{"$f":"Faces!A259","v":249},{"$f":"Faces!B259","v":131},{"$f":"VLOOKUP(B259,Vertices!$A$11:$J$203,7,FALSE )-$C$7","v":{"v":-16.534999999999997,"d":"-16.54"}},{"$f":"VLOOKUP(B259,Vertices!$A$11:$J$203,8,FALSE )-$D$7","v":50.69},{"$f":"VLOOKUP(B259,Vertices!$A$11:$J$203,9,FALSE )-$E$7","v":3.68},{"$f":"Faces!C259","v":133},{"$f":"VLOOKUP(F259,Vertices!$A$11:$J$203,7,FALSE )-$C$7","v":{"v":-16.634999999999998,"d":"-16.64"}},{"$f":"VLOOKUP(F259,Vertices!$A$11:$J$203,8,FALSE )-$D$7","v":{"v":49.2,"d":"49.20"}},{"$f":"VLOOKUP(F259,Vertices!$A$11:$J$203,9,FALSE )-$E$7","v":11.03},{"$f":"Faces!D259","v":157},{"$f":"VLOOKUP(J259,Vertices!$A$11:$J$203,7,FALSE )-$C$7","v":{"v":-23.615,"d":"-23.62"}},{"$f":"VLOOKUP(J259,Vertices!$A$11:$J$203,8,FALSE )-$D$7","v":38.18},{"$f":"VLOOKUP(J259,Vertices!$A$11:$J$203,9,FALSE )-$E$7","v":8.74},{"v":673.67982075,"d":"673.68"},{"v":673.67982075,"d":"673.68"}]
[{"$f":"Faces!A260","v":250},{"$f":"Faces!B260","v":133},{"$f":"VLOOKUP(B260,Vertices!$A$11:$J$203,7,FALSE )-$C$7","v":{"v":-16.634999999999998,"d":"-16.64"}},{"$f":"VLOOKUP(B260,Vertices!$A$11:$J$203,8,FALSE )-$D$7","v":{"v":49.2,"d":"49.20"}},{"$f":"VLOOKUP(B260,Vertices!$A$11:$J$203,9,FALSE )-$E$7","v":11.03},{"$f":"Faces!C260","v":159},{"$f":"VLOOKUP(F260,Vertices!$A$11:$J$203,7,FALSE )-$C$7","v":{"v":-23.654999999999998,"d":"-23.66"}},{"$f":"VLOOKUP(F260,Vertices!$A$11:$J$203,8,FALSE )-$D$7","v":36.18},{"$f":"VLOOKUP(F260,Vertices!$A$11:$J$203,9,FALSE )-$E$7","v":16.94},{"$f":"Faces!D260","v":157},{"$f":"VLOOKUP(J260,Vertices!$A$11:$J$203,7,FALSE )-$C$7","v":{"v":-23.615,"d":"-23.62"}},{"$f":"VLOOKUP(J260,Vertices!$A$11:$J$203,8,FALSE )-$D$7","v":38.18},{"$f":"VLOOKUP(J260,Vertices!$A$11:$J$203,9,FALSE )-$E$7","v":8.74},{"v":758.1713559999998,"d":"758.17"},{"v":758.1713559999998,"d":"758.17"}]
[{"$f":"Faces!A261","v":251},{"$f":"Faces!B261","v":133},{"$f":"VLOOKUP(B261,Vertices!$A$11:$J$203,7,FALSE )-$C$7","v":{"v":-16.634999999999998,"d":"-16.64"}},{"$f":"VLOOKUP(B261,Vertices!$A$11:$J$203,8,FALSE )-$D$7","v":{"v":49.2,"d":"49.20"}},{"$f":"VLOOKUP(B261,Vertices!$A$11:$J$203,9,FALSE )-$E$7","v":11.03},{"$f":"Faces!C261","v":135},{"$f":"VLOOKUP(F261,Vertices!$A$11:$J$203,7,FALSE )-$C$7","v":{"v":-16.795,"d":"-16.80"}},{"$f":"VLOOKUP(F261,Vertices!$A$11:$J$203,8,FALSE )-$D$7","v":47.17},{"$f":"VLOOKUP(F261,Vertices!$A$11:$J$203,9,FALSE )-$E$7","v":21.98},{"$f":"Faces!D261","v":159},{"$f":"VLOOKUP(J261,Vertices!$A$11:$J$203,7,FALSE )-$C$7","v":{"v":-23.654999999999998,"d":"-23.66"}},{"$f":"VLOOKUP(J261,Vertices!$A$11:$J$203,8,FALSE )-$D$7","v":36.18},{"$f":"VLOOKUP(J261,Vertices!$A$11:$J$203,9,FALSE )-$E$7","v":16.94},{"v":1006.9496552500013,"d":"1006.95"},{"v":1006.9496552500013,"d":"1006.95"}]
[{"$f":"Faces!A262","v":252},{"$f":"Faces!B262","v":135},{"$f":"VLOOKUP(B262,Vertices!$A$11:$J$203,7,FALSE )-$C$7","v":{"v":-16.795,"d":"-16.80"}},{"$f":"VLOOKUP(B262,Vertices!$A$11:$J$203,8,FALSE )-$D$7","v":47.17},{"$f":"VLOOKUP(B262,Vertices!$A$11:$J$203,9,FALSE )-$E$7","v":21.98},{"$f":"Faces!C262","v":165},{"$f":"VLOOKUP(F262,Vertices!$A$11:$J$203,7,FALSE )-$C$7","v":{"v":-23.965,"d":"-23.97"}},{"$f":"VLOOKUP(F262,Vertices!$A$11:$J$203,8,FALSE )-$D$7","v":34.66},{"$f":"VLOOKUP(F262,Vertices!$A$11:$J$203,9,FALSE )-$E$7","v":24.24},{"$f":"Faces!D262","v":159},{"$f":"VLOOKUP(J262,Vertices!$A$11:$J$203,7,FALSE )-$C$7","v":{"v":-23.654999999999998,"d":"-23.66"}},{"$f":"VLOOKUP(J262,Vertices!$A$11:$J$203,8,FALSE )-$D$7","v":36.18},{"$f":"VLOOKUP(J262,Vertices!$A$11:$J$203,9,FALSE )-$E$7","v":16.94},{"v":677.7099104999992,"d":"677.71"},{"v":677.7099104999992,"d":"677.71"}]
[{"$f":"Faces!A263","v":253},{"$f":"Faces!B263","v":135},{"$f":"VLOOKUP(B263,Vertices!$A$11:$J$203,7,FALSE )-$C$7","v":{"v":-16.795,"d":"-16.80"}},{"$f":"VLOOKUP(B263,Vertices!$A$11:$J$203,8,FALSE )-$D$7","v":47.17},{"$f":"VLOOKUP(B263,Vertices!$A$11:$J$203,9,FALSE )-$E$7","v":21.98},{"$f":"Faces!C263","v":141},{"$f":"VLOOKUP(F263,Vertices!$A$11:$J$203,7,FALSE )-$C$7","v":{"v":-17.335,"d":"-17.34"}},{"$f":"VLOOKUP(F263,Vertices!$A$11:$J$203,8,FALSE )-$D$7","v":45.71},{"$f":"VLOOKUP(F263,Vertices!$A$11:$J$203,9,FALSE )-$E$7","v":31.75},{"$f":"Faces!D263","v":165},{"$f":"VLOOKUP(J263,Vertices!$A$11:$J$203,7,FALSE )-$C$7","v":{"v":-23.965,"d":"-23.97"}},{"$f":"VLOOKUP(J263,Vertices!$A$11:$J$203,8,FALSE )-$D$7","v":34.66},{"$f":"VLOOKUP(J263,Vertices!$A$11:$J$203,9,FALSE )-$E$7","v":24.24},{"v":887.6092489166658,"d":"887.61"},{"v":887.6092489166658,"d":"887.61"}]
[{"$f":"Faces!A264","v":254},{"$f":"Faces!B264","v":146},{"$f":"VLOOKUP(B264,Vertices!$A$11:$J$203,7,FALSE )-$C$7","v":{"v":-23.755,"d":"-23.76"}},{"$f":"VLOOKUP(B264,Vertices!$A$11:$J$203,8,FALSE )-$D$7","v":41.31},{"$f":"VLOOKUP(B264,Vertices!$A$11:$J$203,9,FALSE )-$E$7","v":-2.47},{"$f":"Faces!C264","v":155},{"$f":"VLOOKUP(F264,Vertices!$A$11:$J$203,7,FALSE )-$C$7","v":{"v":-23.595,"d":"-23.60"}},{"$f":"VLOOKUP(F264,Vertices!$A$11:$J$203,8,FALSE )-$D$7","v":39.67},{"$f":"VLOOKUP(F264,Vertices!$A$11:$J$203,9,FALSE )-$E$7","v":{"v":3.2,"d":"3.20"}},{"$f":"Faces!D264","v":170},{"$f":"VLOOKUP(J264,Vertices!$A$11:$J$203,7,FALSE )-$C$7","v":{"v":-32.155,"d":"-32.16"}},{"$f":"VLOOKUP(J264,Vertices!$A$11:$J$203,8,FALSE )-$D$7","v":28.12},{"$f":"VLOOKUP(J264,Vertices!$A$11:$J$203,9,FALSE )-$E$7","v":-0.32},{"v":605.8826822500001,"d":"605.88"},{"v":605.8826822500001,"d":"605.88"}]
[{"$f":"Faces!A265","v":255},{"$f":"Faces!B265","v":155},{"$f":"VLOOKUP(B265,Vertices!$A$11:$J$203,7,FALSE )-$C$7","v":{"v":-23.595,"d":"-23.60"}},{"$f":"VLOOKUP(B265,Vertices!$A$11:$J$203,8,FALSE )-$D$7","v":39.67},{"$f":"VLOOKUP(B265,Vertices!$A$11:$J$203,9,FALSE )-$E$7","v":{"v":3.2,"d":"3.20"}},{"$f":"Faces!C265","v":177},{"$f":"VLOOKUP(F265,Vertices!$A$11:$J$203,7,FALSE )-$C$7","v":{"v":-31.915,"d":"-31.92"}},{"$f":"VLOOKUP(F265,Vertices!$A$11:$J$203,8,FALSE )-$D$7","v":25.34},{"$f":"VLOOKUP(F265,Vertices!$A$11:$J$203,9,FALSE )-$E$7","v":6.31},{"$f":"Faces!D265","v":170},{"$f":"VLOOKUP(J265,Vertices!$A$11:$J$203,7,FALSE )-$C$7","v":{"v":-32.155,"d":"-32.16"}},{"$f":"VLOOKUP(J265,Vertices!$A$11:$J$203,8,FALSE )-$D$7","v":28.12},{"$f":"VLOOKUP(J265,Vertices!$A$11:$J$203,9,FALSE )-$E$7","v":-0.32},{"v":723.4340449166671,"d":"723.43"},{"v":723.4340449166671,"d":"723.43"}]
[{"$f":"Faces!A266","v":256},{"$f":"Faces!B266","v":155},{"$f":"VLOOKUP(B266,Vertices!$A$11:$J$203,7,FALSE )-$C$7","v":{"v":-23.595,"d":"-23.60"}},{"$f":"VLOOKUP(B266,Vertices!$A$11:$J$203,8,FALSE )-$D$7","v":39.67},{"$f":"VLOOKUP(B266,Vertices!$A$11:$J$203,9,FALSE )-$E$7","v":{"v":3.2,"d":"3.20"}},{"$f":"Faces!C266","v":157},{"$f":"VLOOKUP(F266,Vertices!$A$11:$J$203,7,FALSE )-$C$7","v":{"v":-23.615,"d":"-23.62"}},{"$f":"VLOOKUP(F266,Vertices!$A$11:$J$203,8,FALSE )-$D$7","v":38.18},{"$f":"VLOOKUP(F266,Vertices!$A$11:$J$203,9,FALSE )-$E$7","v":8.74},{"$f":"Faces!D266","v":177},{"$f":"VLOOKUP(J266,Vertices!$A$11:$J$203,7,FALSE )-$C$7","v":{"v":-31.915,"d":"-31.92"}},{"$f":"VLOOKUP(J266,Vertices!$A$11:$J$203,8,FALSE )-$D$7","v":25.34},{"$f":"VLOOKUP(J266,Vertices!$A$11:$J$203,9,FALSE )-$E$7","v":6.31},{"v":604.7690417499999,"d":"604.77"},{"v":604.7690417499999,"d":"604.77"}]
[{"$f":"Faces!A267","v":257},{"$f":"Faces!B267","v":157},{"$f":"VLOOKUP(B267,Vertices!$A$11:$J$203,7,FALSE )-$C$7","v":{"v":-23.615,"d":"-23.62"}},{"$f":"VLOOKUP(B267,Vertices!$A$11:$J$203,8,FALSE )-$D$7","v":38.18},{"$f":"VLOOKUP(B267,Vertices!$A$11:$J$203,9,FALSE )-$E$7","v":8.74},{"$f":"Faces!C267","v":179},{"$f":"VLOOKUP(F267,Vertices!$A$11:$J$203,7,FALSE )-$C$7","v":{"v":-31.625,"d":"-31.63"}},{"$f":"VLOOKUP(F267,Vertices!$A$11:$J$203,8,FALSE )-$D$7","v":23.89},{"$f":"VLOOKUP(F267,Vertices!$A$11:$J$203,9,FALSE )-$E$7","v":11.63},{"$f":"Faces!D267","v":177},{"$f":"VLOOKUP(J267,Vertices!$A$11:$J$203,7,FALSE )-$C$7","v":{"v":-31.915,"d":"-31.92"}},{"$f":"VLOOKUP(J267,Vertices!$A$11:$J$203,8,FALSE )-$D$7","v":25.34},{"$f":"VLOOKUP(J267,Vertices!$A$11:$J$203,9,FALSE )-$E$7","v":6.31},{"v":582.1700937499999,"d":"582.17"},{"v":582.1700937499999,"d":"582.17"}]
[{"$f":"Faces!A268","v":258},{"$f":"Faces!B268","v":157},{"$f":"VLOOKUP(B268,Vertices!$A$11:$J$203,7,FALSE )-$C$7","v":{"v":-23.615,"d":"-23.62"}},{"$f":"VLOOKUP(B268,Vertices!$A$11:$J$203,8,FALSE )-$D$7","v":38.18},{"$f":"VLOOKUP(B268,Vertices!$A$11:$J$203,9,FALSE )-$E$7","v":8.74},{"$f":"Faces!C268","v":159},{"$f":"VLOOKUP(F268,Vertices!$A$11:$J$203,7,FALSE )-$C$7","v":{"v":-23.654999999999998,"d":"-23.66"}},{"$f":"VLOOKUP(F268,Vertices!$A$11:$J$203,8,FALSE )-$D$7","v":36.18},{"$f":"VLOOKUP(F268,Vertices!$A$11:$J$203,9,FALSE )-$E$7","v":16.94},{"$f":"Faces!D268","v":179},{"$f":"VLOOKUP(J268,Vertices!$A$11:$J$203,7,FALSE )-$C$7","v":{"v":-31.625,"d":"-31.63"}},{"$f":"VLOOKUP(J268,Vertices!$A$11:$J$203,8,FALSE )-$D$7","v":23.89},{"$f":"VLOOKUP(J268,Vertices!$A$11:$J$203,9,FALSE )-$E$7","v":11.63},{"$f":"-1*(C268*H268*M268+D268*I268*K268+E268*G268*L268-C268*I268*L268-D268*G268*M268-E268*H268*K268)/6","v":{"v":878.1679896666661,"d":"878.17"}},{"$f":"ABS(N268)","v":{"v":878.1679896666661,"d":"878.17"}}]
[{"$f":"Faces!A269","v":259},{"$f":"Faces!B269","v":159},{"$f":"VLOOKUP(B269,Vertices!$A$11:$J$203,7,FALSE )-$C$7","v":{"v":-23.654999999999998,"d":"-23.66"}},{"$f":"VLOOKUP(B269,Vertices!$A$11:$J$203,8,FALSE )-$D$7","v":36.18},{"$f":"VLOOKUP(B269,Vertices!$A$11:$J$203,9,FALSE )-$E$7","v":16.94},{"$f":"Faces!C269","v":184},{"$f":"VLOOKUP(F269,Vertices!$A$11:$J$203,7,FALSE )-$C$7","v":{"v":-31.915,"d":"-31.92"}},{"$f":"VLOOKUP(F269,Vertices!$A$11:$J$203,8,FALSE )-$D$7","v":21.84},{"$f":"VLOOKUP(F269,Vertices!$A$11:$J$203,9,FALSE )-$E$7","v":15.87},{"$f":"Faces!D269","v":179},{"$f":"VLOOKUP(J269,Vertices!$A$11:$J$203,7,FALSE )-$C$7","v":{"v":-31.625,"d":"-31.63"}},{"$f":"VLOOKUP(J269,Vertices!$A$11:$J$203,8,FALSE )-$D$7","v":23.89},{"$f":"VLOOKUP(J269,Vertices!$A$11:$J$203,9,FALSE )-$E$7","v":11.63},{"v":497.48075208333313,"d":"497.48"},{"v":497.48075208333313,"d":"497.48"}]
[{"$f":"Faces!A270","v":260},{"$f":"Faces!B270","v":159},{"$f":"VLOOKUP(B270,Vertices!$A$11:$J$203,7,FALSE )-$C$7","v":{"v":-23.654999999999998,"d":"-23.66"}},{"$f":"VLOOKUP(B270,Vertices!$A$11:$J$203,8,FALSE )-$D$7","v":36.18},{"$f":"VLOOKUP(B270,Vertices!$A$11:$J$203,9,FALSE )-$E$7","v":16.94},{"$f":"Faces!C270","v":165},{"$f":"VLOOKUP(F270,Vertices!$A$11:$J$203,7,FALSE )-$C$7","v":{"v":-23.965,"d":"-23.97"}},{"$f":"VLOOKUP(F270,Vertices!$A$11:$J$203,8,FALSE )-$D$7","v":34.66},{"$f":"VLOOKUP(F270,Vertices!$A$11:$J$203,9,FALSE )-$E$7","v":24.24},{"$f":"Faces!D270","v":184},{"$f":"VLOOKUP(J270,Vertices!$A$11:$J$203,7,FALSE )-$C$7","v":{"v":-31.915,"d":"-31.92"}},{"$f":"VLOOKUP(J270,Vertices!$A$11:$J$203,8,FALSE )-$D$7","v":21.84},{"$f":"VLOOKUP(J270,Vertices!$A$11:$J$203,9,FALSE )-$E$7","v":15.87},{"v":807.6146266666674,"d":"807.61"},{"v":807.6146266666674,"d":"807.61"}]
[{"$f":"Faces!A271","v":261},{"$f":"Faces!B271","v":170},{"$f":"VLOOKUP(B271,Vertices!$A$11:$J$203,7,FALSE )-$C$7","v":{"v":-32.155,"d":"-32.16"}},{"$f":"VLOOKUP(B271,Vertices!$A$11:$J$203,8,FALSE )-$D$7","v":28.12},{"$f":"VLOOKUP(B271,Vertices!$A$11:$J$203,9,FALSE )-$E$7","v":-0.32},{"$f":"Faces!C271","v":177},{"$f":"VLOOKUP(F271,Vertices!$A$11:$J$203,7,FALSE )-$C$7","v":{"v":-31.915,"d":"-31.92"}},{"$f":"VLOOKUP(F271,Vertices!$A$11:$J$203,8,FALSE )-$D$7","v":25.34},{"$f":"VLOOKUP(F271,Vertices!$A$11:$J$203,9,FALSE )-$E$7","v":6.31},{"$f":"Faces!D271","v":188},{"$f":"VLOOKUP(J271,Vertices!$A$11:$J$203,7,FALSE )-$C$7","v":{"v":-41.105,"d":"-41.11"}},{"$f":"VLOOKUP(J271,Vertices!$A$11:$J$203,8,FALSE )-$D$7","v":{"v":14.1,"d":"14.10"}},{"$f":"VLOOKUP(J271,Vertices!$A$11:$J$203,9,FALSE )-$E$7","v":{"v":2.2,"d":"2.20"}},{"v":740.0321208333334,"d":"740.03"},{"v":740.0321208333334,"d":"740.03"}]
[{"$f":"Faces!A272","v":262},{"$f":"Faces!B272","v":177},{"$f":"VLOOKUP(B272,Vertices!$A$11:$J$203,7,FALSE )-$C$7","v":{"v":-31.915,"d":"-31.92"}},{"$f":"VLOOKUP(B272,Vertices!$A$11:$J$203,8,FALSE )-$D$7","v":25.34},{"$f":"VLOOKUP(B272,Vertices!$A$11:$J$203,9,FALSE )-$E$7","v":6.31},{"$f":"Faces!C272","v":192},{"$f":"VLOOKUP(F272,Vertices!$A$11:$J$203,7,FALSE )-$C$7","v":{"v":-40.355,"d":"-40.36"}},{"$f":"VLOOKUP(F272,Vertices!$A$11:$J$203,8,FALSE )-$D$7","v":{"v":8.2,"d":"8.20"}},{"$f":"VLOOKUP(F272,Vertices!$A$11:$J$203,9,FALSE )-$E$7","v":7.28},{"$f":"Faces!D272","v":188},{"$f":"VLOOKUP(J272,Vertices!$A$11:$J$203,7,FALSE )-$C$7","v":{"v":-41.105,"d":"-41.11"}},{"$f":"VLOOKUP(J272,Vertices!$A$11:$J$203,8,FALSE )-$D$7","v":{"v":14.1,"d":"14.10"}},{"$f":"VLOOKUP(J272,Vertices!$A$11:$J$203,9,FALSE )-$E$7","v":{"v":2.2,"d":"2.20"}},{"v":682.7413384999996,"d":"682.74"},{"v":682.7413384999996,"d":"682.74"}]
[{"$f":"Faces!A273","v":263},{"$f":"Faces!B273","v":177},{"$f":"VLOOKUP(B273,Vertices!$A$11:$J$203,7,FALSE )-$C$7","v":{"v":-31.915,"d":"-31.92"}},{"$f":"VLOOKUP(B273,Vertices!$A$11:$J$203,8,FALSE )-$D$7","v":25.34},{"$f":"VLOOKUP(B273,Vertices!$A$11:$J$203,9,FALSE )-$E$7","v":6.31},{"$f":"Faces!C273","v":179},{"$f":"VLOOKUP(F273,Vertices!$A$11:$J$203,7,FALSE )-$C$7","v":{"v":-31.625,"d":"-31.63"}},{"$f":"VLOOKUP(F273,Vertices!$A$11:$J$203,8,FALSE )-$D$7","v":23.89},{"$f":"VLOOKUP(F273,Vertices!$A$11:$J$203,9,FALSE )-$E$7","v":11.63},{"$f":"Faces!D273","v":192},{"$f":"VLOOKUP(J273,Vertices!$A$11:$J$203,7,FALSE )-$C$7","v":{"v":-40.355,"d":"-40.36"}},{"$f":"VLOOKUP(J273,Vertices!$A$11:$J$203,8,FALSE )-$D$7","v":{"v":8.2,"d":"8.20"}},{"$f":"VLOOKUP(J273,Vertices!$A$11:$J$203,9,FALSE )-$E$7","v":7.28},{"v":686.4625207499997,"d":"686.46"},{"v":686.4625207499997,"d":"686.46"}]
[{"$f":"Faces!A274","v":264},{"$f":"Faces!B274","v":179},{"$f":"VLOOKUP(B274,Vertices!$A$11:$J$203,7,FALSE )-$C$7","v":{"v":-31.625,"d":"-31.63"}},{"$f":"VLOOKUP(B274,Vertices!$A$11:$J$203,8,FALSE )-$D$7","v":23.89},{"$f":"VLOOKUP(B274,Vertices!$A$11:$J$203,9,FALSE )-$E$7","v":11.63},{"$f":"Faces!C274","v":184},{"$f":"VLOOKUP(F274,Vertices!$A$11:$J$203,7,FALSE )-$C$7","v":{"v":-31.915,"d":"-31.92"}},{"$f":"VLOOKUP(F274,Vertices!$A$11:$J$203,8,FALSE )-$D$7","v":21.84},{"$f":"VLOOKUP(F274,Vertices!$A$11:$J$203,9,FALSE )-$E$7","v":15.87},{"$f":"Faces!D274","v":192},{"$f":"VLOOKUP(J274,Vertices!$A$11:$J$203,7,FALSE )-$C$7","v":{"v":-40.355,"d":"-40.36"}},{"$f":"VLOOKUP(J274,Vertices!$A$11:$J$203,8,FALSE )-$D$7","v":{"v":8.2,"d":"8.20"}},{"$f":"VLOOKUP(J274,Vertices!$A$11:$J$203,9,FALSE )-$E$7","v":7.28},{"v":575.9228387499992,"d":"575.92"},{"v":575.9228387499992,"d":"575.92"}]
[{"$f":"Faces!A275","v":265},{"$f":"Faces!B275","v":81},{"$f":"VLOOKUP(B275,Vertices!$A$11:$J$203,7,FALSE )-$C$7","v":{"v":37.545,"d":"37.55"}},{"$f":"VLOOKUP(B275,Vertices!$A$11:$J$203,8,FALSE )-$D$7","v":{"v":-4,"d":"-4.00"}},{"$f":"VLOOKUP(B275,Vertices!$A$11:$J$203,9,FALSE )-$E$7","v":{"v":93,"d":"93.00"}},{"$f":"Faces!C275","v":111},{"$f":"VLOOKUP(F275,Vertices!$A$11:$J$203,7,FALSE )-$C$7","v":{"v":24.355000000000004,"d":"24.36"}},{"$f":"VLOOKUP(F275,Vertices!$A$11:$J$203,8,FALSE )-$D$7","v":-4.38},{"$f":"VLOOKUP(F275,Vertices!$A$11:$J$203,9,FALSE )-$E$7","v":78.06},{"$f":"Faces!D275","v":112},{"$f":"VLOOKUP(J275,Vertices!$A$11:$J$203,7,FALSE )-$C$7","v":{"v":20.605000000000004,"d":"20.61"}},{"$f":"VLOOKUP(J275,Vertices!$A$11:$J$203,8,FALSE )-$D$7","v":1.38},{"$f":"VLOOKUP(J275,Vertices!$A$11:$J$203,9,FALSE )-$E$7","v":73.54},{"v":648.0615433333336,"d":"648.06"},{"v":648.0615433333336,"d":"648.06"}]
[{"$f":"Faces!A276","v":266},{"$f":"Faces!B276","v":81},{"$f":"VLOOKUP(B276,Vertices!$A$11:$J$203,7,FALSE )-$C$7","v":{"v":37.545,"d":"37.55"}},{"$f":"VLOOKUP(B276,Vertices!$A$11:$J$203,8,FALSE )-$D$7","v":{"v":-4,"d":"-4.00"}},{"$f":"VLOOKUP(B276,Vertices!$A$11:$J$203,9,FALSE )-$E$7","v":{"v":93,"d":"93.00"}},{"$f":"Faces!C276","v":112},{"$f":"VLOOKUP(F276,Vertices!$A$11:$J$203,7,FALSE )-$C$7","v":{"v":20.605000000000004,"d":"20.61"}},{"$f":"VLOOKUP(F276,Vertices!$A$11:$J$203,8,FALSE )-$D$7","v":1.38},{"$f":"VLOOKUP(F276,Vertices!$A$11:$J$203,9,FALSE )-$E$7","v":73.54},{"$f":"Faces!D276","v":82},{"$f":"VLOOKUP(J276,Vertices!$A$11:$J$203,7,FALSE )-$C$7","v":{"v":32.985,"d":"32.99"}},{"$f":"VLOOKUP(J276,Vertices!$A$11:$J$203,8,FALSE )-$D$7","v":2.78},{"$f":"VLOOKUP(J276,Vertices!$A$11:$J$203,9,FALSE )-$E$7","v":87.22},{"v":762.8278153333332,"d":"762.83"},{"v":762.8278153333332,"d":"762.83"}]
[{"$f":"Faces!A277","v":267},{"$f":"Faces!B277","v":82},{"$f":"VLOOKUP(B277,Vertices!$A$11:$J$203,7,FALSE )-$C$7","v":{"v":32.985,"d":"32.99"}},{"$f":"VLOOKUP(B277,Vertices!$A$11:$J$203,8,FALSE )-$D$7","v":2.78},{"$f":"VLOOKUP(B277,Vertices!$A$11:$J$203,9,FALSE )-$E$7","v":87.22},{"$f":"Faces!C277","v":112},{"$f":"VLOOKUP(F277,Vertices!$A$11:$J$203,7,FALSE )-$C$7","v":{"v":20.605000000000004,"d":"20.61"}},{"$f":"VLOOKUP(F277,Vertices!$A$11:$J$203,8,FALSE )-$D$7","v":1.38},{"$f":"VLOOKUP(F277,Vertices!$A$11:$J$203,9,FALSE )-$E$7","v":73.54},{"$f":"Faces!D277","v":113},{"$f":"VLOOKUP(J277,Vertices!$A$11:$J$203,7,FALSE )-$C$7","v":{"v":16.875,"d":"16.88"}},{"$f":"VLOOKUP(J277,Vertices!$A$11:$J$203,8,FALSE )-$D$7","v":7.16},{"$f":"VLOOKUP(J277,Vertices!$A$11:$J$203,9,FALSE )-$E$7","v":69.09},{"v":649.0463236666668,"d":"649.05"},{"v":649.0463236666668,"d":"649.05"}]
[{"$f":"Faces!A278","v":268},{"$f":"Faces!B278","v":82},{"$f":"VLOOKUP(B278,Vertices!$A$11:$J$203,7,FALSE )-$C$7","v":{"v":32.985,"d":"32.99"}},{"$f":"VLOOKUP(B278,Vertices!$A$11:$J$203,8,FALSE )-$D$7","v":2.78},{"$f":"VLOOKUP(B278,Vertices!$A$11:$J$203,9,FALSE )-$E$7","v":87.22},{"$f":"Faces!C278","v":113},{"$f":"VLOOKUP(F278,Vertices!$A$11:$J$203,7,FALSE )-$C$7","v":{"v":16.875,"d":"16.88"}},{"$f":"VLOOKUP(F278,Vertices!$A$11:$J$203,8,FALSE )-$D$7","v":7.16},{"$f":"VLOOKUP(F278,Vertices!$A$11:$J$203,9,FALSE )-$E$7","v":69.09},{"$f":"Faces!D278","v":83},{"$f":"VLOOKUP(J278,Vertices!$A$11:$J$203,7,FALSE )-$C$7","v":{"v":28.72500000000001,"d":"28.73"}},{"$f":"VLOOKUP(J278,Vertices!$A$11:$J$203,8,FALSE )-$D$7","v":9.35},{"$f":"VLOOKUP(J278,Vertices!$A$11:$J$203,9,FALSE )-$E$7","v":82.04},{"v":740.1430872499992,"d":"740.14"},{"v":740.1430872499992,"d":"740.14"}]
[{"$f":"Faces!A279","v":269},{"$f":"Faces!B279","v":83},{"$f":"VLOOKUP(B279,Vertices!$A$11:$J$203,7,FALSE )-$C$7","v":{"v":28.72500000000001,"d":"28.73"}},{"$f":"VLOOKUP(B279,Vertices!$A$11:$J$203,8,FALSE )-$D$7","v":9.35},{"$f":"VLOOKUP(B279,Vertices!$A$11:$J$203,9,FALSE )-$E$7","v":82.04},{"$f":"Faces!C279","v":113},{"$f":"VLOOKUP(F279,Vertices!$A$11:$J$203,7,FALSE )-$C$7","v":{"v":16.875,"d":"16.88"}},{"$f":"VLOOKUP(F279,Vertices!$A$11:$J$203,8,FALSE )-$D$7","v":7.16},{"$f":"VLOOKUP(F279,Vertices!$A$11:$J$203,9,FALSE )-$E$7","v":69.09},{"$f":"Faces!D279","v":114},{"$f":"VLOOKUP(J279,Vertices!$A$11:$J$203,7,FALSE )-$C$7","v":{"v":9.335,"d":"9.34"}},{"$f":"VLOOKUP(J279,Vertices!$A$11:$J$203,8,FALSE )-$D$7","v":19.39},{"$f":"VLOOKUP(J279,Vertices!$A$11:$J$203,9,FALSE )-$E$7","v":60.44},{"v":1366.0405998333335,"d":"1366.04"},{"v":1366.0405998333335,"d":"1366.04"}]
[{"$f":"Faces!A280","v":270},{"$f":"Faces!B280","v":83},{"$f":"VLOOKUP(B280,Vertices!$A$11:$J$203,7,FALSE )-$C$7","v":{"v":28.72500000000001,"d":"28.73"}},{"$f":"VLOOKUP(B280,Vertices!$A$11:$J$203,8,FALSE )-$D$7","v":9.35},{"$f":"VLOOKUP(B280,Vertices!$A$11:$J$203,9,FALSE )-$E$7","v":82.04},{"$f":"Faces!C280","v":114},{"$f":"VLOOKUP(F280,Vertices!$A$11:$J$203,7,FALSE )-$C$7","v":{"v":9.335,"d":"9.34"}},{"$f":"VLOOKUP(F280,Vertices!$A$11:$J$203,8,FALSE )-$D$7","v":19.39},{"$f":"VLOOKUP(F280,Vertices!$A$11:$J$203,9,FALSE )-$E$7","v":60.44},{"$f":"Faces!D280","v":84},{"$f":"VLOOKUP(J280,Vertices!$A$11:$J$203,7,FALSE )-$C$7","v":{"v":19.905,"d":"19.91"}},{"$f":"VLOOKUP(J280,Vertices!$A$11:$J$203,8,FALSE )-$D$7","v":23.52},{"$f":"VLOOKUP(J280,Vertices!$A$11:$J$203,9,FALSE )-$E$7","v":71.84},{"v":1582.3039733333342,"d":"1582.30"},{"v":1582.3039733333342,"d":"1582.30"}]
[{"$f":"Faces!A281","v":271},{"$f":"Faces!B281","v":84},{"$f":"VLOOKUP(B281,Vertices!$A$11:$J$203,7,FALSE )-$C$7","v":{"v":19.905,"d":"19.91"}},{"$f":"VLOOKUP(B281,Vertices!$A$11:$J$203,8,FALSE )-$D$7","v":23.52},{"$f":"VLOOKUP(B281,Vertices!$A$11:$J$203,9,FALSE )-$E$7","v":71.84},{"$f":"Faces!C281","v":114},{"$f":"VLOOKUP(F281,Vertices!$A$11:$J$203,7,FALSE )-$C$7","v":{"v":9.335,"d":"9.34"}},{"$f":"VLOOKUP(F281,Vertices!$A$11:$J$203,8,FALSE )-$D$7","v":19.39},{"$f":"VLOOKUP(F281,Vertices!$A$11:$J$203,9,FALSE )-$E$7","v":60.44},{"$f":"Faces!D281","v":115},{"$f":"VLOOKUP(J281,Vertices!$A$11:$J$203,7,FALSE )-$C$7","v":{"v":-1.894999999999996,"d":"-1.90"}},{"$f":"VLOOKUP(J281,Vertices!$A$11:$J$203,8,FALSE )-$D$7","v":39.05},{"$f":"VLOOKUP(J281,Vertices!$A$11:$J$203,9,FALSE )-$E$7","v":48.25},{"v":2136.144087749998,"d":"2136.14"},{"v":2136.144087749998,"d":"2136.14"}]
[{"$f":"Faces!A282","v":272},{"$f":"Faces!B282","v":84},{"$f":"VLOOKUP(B282,Vertices!$A$11:$J$203,7,FALSE )-$C$7","v":{"v":19.905,"d":"19.91"}},{"$f":"VLOOKUP(B282,Vertices!$A$11:$J$203,8,FALSE )-$D$7","v":23.52},{"$f":"VLOOKUP(B282,Vertices!$A$11:$J$203,9,FALSE )-$E$7","v":71.84},{"$f":"Faces!C282","v":115},{"$f":"VLOOKUP(F282,Vertices!$A$11:$J$203,7,FALSE )-$C$7","v":{"v":-1.894999999999996,"d":"-1.90"}},{"$f":"VLOOKUP(F282,Vertices!$A$11:$J$203,8,FALSE )-$D$7","v":39.05},{"$f":"VLOOKUP(F282,Vertices!$A$11:$J$203,9,FALSE )-$E$7","v":48.25},{"$f":"Faces!D282","v":85},{"$f":"VLOOKUP(J282,Vertices!$A$11:$J$203,7,FALSE )-$C$7","v":{"v":6.524999999999999,"d":"6.53"}},{"$f":"VLOOKUP(J282,Vertices!$A$11:$J$203,8,FALSE )-$D$7","v":46.89},{"$f":"VLOOKUP(J282,Vertices!$A$11:$J$203,9,FALSE )-$E$7","v":57.54},{"v":2504.60025225,"d":"2504.60"},{"v":2504.60025225,"d":"2504.60"}]
[{"$f":"Faces!A283","v":273},{"$f":"Faces!B283","v":85},{"$f":"VLOOKUP(B283,Vertices!$A$11:$J$203,7,FALSE )-$C$7","v":{"v":6.524999999999999,"d":"6.53"}},{"$f":"VLOOKUP(B283,Vertices!$A$11:$J$203,8,FALSE )-$D$7","v":46.89},{"$f":"VLOOKUP(B283,Vertices!$A$11:$J$203,9,FALSE )-$E$7","v":57.54},{"$f":"Faces!C283","v":115},{"$f":"VLOOKUP(F283,Vertices!$A$11:$J$203,7,FALSE )-$C$7","v":{"v":-1.894999999999996,"d":"-1.90"}},{"$f":"VLOOKUP(F283,Vertices!$A$11:$J$203,8,FALSE )-$D$7","v":39.05},{"$f":"VLOOKUP(F283,Vertices!$A$11:$J$203,9,FALSE )-$E$7","v":48.25},{"$f":"Faces!D283","v":116},{"$f":"VLOOKUP(J283,Vertices!$A$11:$J$203,7,FALSE )-$C$7","v":{"v":-10.844999999999999,"d":"-10.85"}},{"$f":"VLOOKUP(J283,Vertices!$A$11:$J$203,8,FALSE )-$D$7","v":56.54},{"$f":"VLOOKUP(J283,Vertices!$A$11:$J$203,9,FALSE )-$E$7","v":39.47},{"v":1761.5946897500005,"d":"1761.59"},{"v":1761.5946897500005,"d":"1761.59"}]
[{"$f":"Faces!A284","v":274},{"$f":"Faces!B284","v":85},{"$f":"VLOOKUP(B284,Vertices!$A$11:$J$203,7,FALSE )-$C$7","v":{"v":6.524999999999999,"d":"6.53"}},{"$f":"VLOOKUP(B284,Vertices!$A$11:$J$203,8,FALSE )-$D$7","v":46.89},{"$f":"VLOOKUP(B284,Vertices!$A$11:$J$203,9,FALSE )-$E$7","v":57.54},{"$f":"Faces!C284","v":116},{"$f":"VLOOKUP(F284,Vertices!$A$11:$J$203,7,FALSE )-$C$7","v":{"v":-10.844999999999999,"d":"-10.85"}},{"$f":"VLOOKUP(F284,Vertices!$A$11:$J$203,8,FALSE )-$D$7","v":56.54},{"$f":"VLOOKUP(F284,Vertices!$A$11:$J$203,9,FALSE )-$E$7","v":39.47},{"$f":"Faces!D284","v":86},{"$f":"VLOOKUP(J284,Vertices!$A$11:$J$203,7,FALSE )-$C$7","v":{"v":-4.454999999999998,"d":"-4.46"}},{"$f":"VLOOKUP(J284,Vertices!$A$11:$J$203,8,FALSE )-$D$7","v":{"v":68,"d":"68.00"}},{"$f":"VLOOKUP(J284,Vertices!$A$11:$J$203,9,FALSE )-$E$7","v":{"v":48,"d":"48.00"}},{"v":1930.08024975,"d":"1930.08"},{"v":1930.08024975,"d":"1930.08"}]
[{"$f":"Faces!A285","v":275},{"$f":"Faces!B285","v":111},{"$f":"VLOOKUP(B285,Vertices!$A$11:$J$203,7,FALSE )-$C$7","v":{"v":24.355000000000004,"d":"24.36"}},{"$f":"VLOOKUP(B285,Vertices!$A$11:$J$203,8,FALSE )-$D$7","v":-4.38},{"$f":"VLOOKUP(B285,Vertices!$A$11:$J$203,9,FALSE )-$E$7","v":78.06},{"$f":"Faces!C285","v":137},{"$f":"VLOOKUP(F285,Vertices!$A$11:$J$203,7,FALSE )-$C$7","v":{"v":11.415,"d":"11.42"}},{"$f":"VLOOKUP(F285,Vertices!$A$11:$J$203,8,FALSE )-$D$7","v":-4.63},{"$f":"VLOOKUP(F285,Vertices!$A$11:$J$203,9,FALSE )-$E$7","v":63.27},{"$f":"Faces!D285","v":112},{"$f":"VLOOKUP(J285,Vertices!$A$11:$J$203,7,FALSE )-$C$7","v":{"v":20.605000000000004,"d":"20.61"}},{"$f":"VLOOKUP(J285,Vertices!$A$11:$J$203,8,FALSE )-$D$7","v":1.38},{"$f":"VLOOKUP(J285,Vertices!$A$11:$J$203,9,FALSE )-$E$7","v":73.54},{"v":629.2913296666675,"d":"629.29"},{"v":629.2913296666675,"d":"629.29"}]
[{"$f":"Faces!A286","v":276},{"$f":"Faces!B286","v":137},{"$f":"VLOOKUP(B286,Vertices!$A$11:$J$203,7,FALSE )-$C$7","v":{"v":11.415,"d":"11.42"}},{"$f":"VLOOKUP(B286,Vertices!$A$11:$J$203,8,FALSE )-$D$7","v":-4.63},{"$f":"VLOOKUP(B286,Vertices!$A$11:$J$203,9,FALSE )-$E$7","v":63.27},{"$f":"Faces!C286","v":138},{"$f":"VLOOKUP(F286,Vertices!$A$11:$J$203,7,FALSE )-$C$7","v":{"v":5.325000000000003,"d":"5.33"}},{"$f":"VLOOKUP(F286,Vertices!$A$11:$J$203,8,FALSE )-$D$7","v":4.88},{"$f":"VLOOKUP(F286,Vertices!$A$11:$J$203,9,FALSE )-$E$7","v":56.16},{"$f":"Faces!D286","v":112},{"$f":"VLOOKUP(J286,Vertices!$A$11:$J$203,7,FALSE )-$C$7","v":{"v":20.605000000000004,"d":"20.61"}},{"$f":"VLOOKUP(J286,Vertices!$A$11:$J$203,8,FALSE )-$D$7","v":1.38},{"$f":"VLOOKUP(J286,Vertices!$A$11:$J$203,9,FALSE )-$E$7","v":73.54},{"v":1038.290041,"d":"1038.29"},{"v":1038.290041,"d":"1038.29"}]
[{"$f":"Faces!A287","v":277},{"$f":"Faces!B287","v":112},{"$f":"VLOOKUP(B287,Vertices!$A$11:$J$203,7,FALSE )-$C$7","v":{"v":20.605000000000004,"d":"20.61"}},{"$f":"VLOOKUP(B287,Vertices!$A$11:$J$203,8,FALSE )-$D$7","v":1.38},{"$f":"VLOOKUP(B287,Vertices!$A$11:$J$203,9,FALSE )-$E$7","v":73.54},{"$f":"Faces!C287","v":138},{"$f":"VLOOKUP(F287,Vertices!$A$11:$J$203,7,FALSE )-$C$7","v":{"v":5.325000000000003,"d":"5.33"}},{"$f":"VLOOKUP(F287,Vertices!$A$11:$J$203,8,FALSE )-$D$7","v":4.88},{"$f":"VLOOKUP(F287,Vertices!$A$11:$J$203,9,FALSE )-$E$7","v":56.16},{"$f":"Faces!D287","v":113},{"$f":"VLOOKUP(J287,Vertices!$A$11:$J$203,7,FALSE )-$C$7","v":{"v":16.875,"d":"16.88"}},{"$f":"VLOOKUP(J287,Vertices!$A$11:$J$203,8,FALSE )-$D$7","v":7.16},{"$f":"VLOOKUP(J287,Vertices!$A$11:$J$203,9,FALSE )-$E$7","v":69.09},{"v":631.7103094999997,"d":"631.71"},{"v":631.7103094999997,"d":"631.71"}]
[{"$f":"Faces!A288","v":278},{"$f":"Faces!B288","v":113},{"$f":"VLOOKUP(B288,Vertices!$A$11:$J$203,7,FALSE )-$C$7","v":{"v":16.875,"d":"16.88"}},{"$f":"VLOOKUP(B288,Vertices!$A$11:$J$203,8,FALSE )-$D$7","v":7.16},{"$f":"VLOOKUP(B288,Vertices!$A$11:$J$203,9,FALSE )-$E$7","v":69.09},{"$f":"Faces!C288","v":138},{"$f":"VLOOKUP(F288,Vertices!$A$11:$J$203,7,FALSE )-$C$7","v":{"v":5.325000000000003,"d":"5.33"}},{"$f":"VLOOKUP(F288,Vertices!$A$11:$J$203,8,FALSE )-$D$7","v":4.88},{"$f":"VLOOKUP(F288,Vertices!$A$11:$J$203,9,FALSE )-$E$7","v":56.16},{"$f":"Faces!D288","v":139},{"$f":"VLOOKUP(J288,Vertices!$A$11:$J$203,7,FALSE )-$C$7","v":{"v":-0.8149999999999977,"d":"-0.81"}},{"$f":"VLOOKUP(J288,Vertices!$A$11:$J$203,8,FALSE )-$D$7","v":15.02},{"$f":"VLOOKUP(J288,Vertices!$A$11:$J$203,9,FALSE )-$E$7","v":49.41},{"v":1096.0675084999996,"d":"1096.07"},{"v":1096.0675084999996,"d":"1096.07"}]
[{"$f":"Faces!A289","v":279},{"$f":"Faces!B289","v":113},{"$f":"VLOOKUP(B289,Vertices!$A$11:$J$203,7,FALSE )-$C$7","v":{"v":16.875,"d":"16.88"}},{"$f":"VLOOKUP(B289,Vertices!$A$11:$J$203,8,FALSE )-$D$7","v":7.16},{"$f":"VLOOKUP(B289,Vertices!$A$11:$J$203,9,FALSE )-$E$7","v":69.09},{"$f":"Faces!C289","v":139},{"$f":"VLOOKUP(F289,Vertices!$A$11:$J$203,7,FALSE )-$C$7","v":{"v":-0.8149999999999977,"d":"-0.81"}},{"$f":"VLOOKUP(F289,Vertices!$A$11:$J$203,8,FALSE )-$D$7","v":15.02},{"$f":"VLOOKUP(F289,Vertices!$A$11:$J$203,9,FALSE )-$E$7","v":49.41},{"$f":"Faces!D289","v":114},{"$f":"VLOOKUP(J289,Vertices!$A$11:$J$203,7,FALSE )-$C$7","v":{"v":9.335,"d":"9.34"}},{"$f":"VLOOKUP(J289,Vertices!$A$11:$J$203,8,FALSE )-$D$7","v":19.39},{"$f":"VLOOKUP(J289,Vertices!$A$11:$J$203,9,FALSE )-$E$7","v":60.44},{"v":1328.6409616666667,"d":"1328.64"},{"v":1328.6409616666667,"d":"1328.64"}]
[{"$f":"Faces!A290","v":280},{"$f":"Faces!B290","v":114},{"$f":"VLOOKUP(B290,Vertices!$A$11:$J$203,7,FALSE )-$C$7","v":{"v":9.335,"d":"9.34"}},{"$f":"VLOOKUP(B290,Vertices!$A$11:$J$203,8,FALSE )-$D$7","v":19.39},{"$f":"VLOOKUP(B290,Vertices!$A$11:$J$203,9,FALSE )-$E$7","v":60.44},{"$f":"Faces!C290","v":139},{"$f":"VLOOKUP(F290,Vertices!$A$11:$J$203,7,FALSE )-$C$7","v":{"v":-0.8149999999999977,"d":"-0.81"}},{"$f":"VLOOKUP(F290,Vertices!$A$11:$J$203,8,FALSE )-$D$7","v":15.02},{"$f":"VLOOKUP(F290,Vertices!$A$11:$J$203,9,FALSE )-$E$7","v":49.41},{"$f":"Faces!D290","v":140},{"$f":"VLOOKUP(J290,Vertices!$A$11:$J$203,7,FALSE )-$C$7","v":{"v":-10.024999999999999,"d":"-10.03"}},{"$f":"VLOOKUP(J290,Vertices!$A$11:$J$203,8,FALSE )-$D$7","v":31.24},{"$f":"VLOOKUP(J290,Vertices!$A$11:$J$203,9,FALSE )-$E$7","v":39.23},{"v":1721.8943598333328,"d":"1721.89"},{"v":1721.8943598333328,"d":"1721.89"}]
[{"$f":"Faces!A291","v":281},{"$f":"Faces!B291","v":114},{"$f":"VLOOKUP(B291,Vertices!$A$11:$J$203,7,FALSE )-$C$7","v":{"v":9.335,"d":"9.34"}},{"$f":"VLOOKUP(B291,Vertices!$A$11:$J$203,8,FALSE )-$D$7","v":19.39},{"$f":"VLOOKUP(B291,Vertices!$A$11:$J$203,9,FALSE )-$E$7","v":60.44},{"$f":"Faces!C291","v":140},{"$f":"VLOOKUP(F291,Vertices!$A$11:$J$203,7,FALSE )-$C$7","v":{"v":-10.024999999999999,"d":"-10.03"}},{"$f":"VLOOKUP(F291,Vertices!$A$11:$J$203,8,FALSE )-$D$7","v":31.24},{"$f":"VLOOKUP(F291,Vertices!$A$11:$J$203,9,FALSE )-$E$7","v":39.23},{"$f":"Faces!D291","v":115},{"$f":"VLOOKUP(J291,Vertices!$A$11:$J$203,7,FALSE )-$C$7","v":{"v":-1.894999999999996,"d":"-1.90"}},{"$f":"VLOOKUP(J291,Vertices!$A$11:$J$203,8,FALSE )-$D$7","v":39.05},{"$f":"VLOOKUP(J291,Vertices!$A$11:$J$203,9,FALSE )-$E$7","v":48.25},{"v":2062.4747557500004,"d":"2062.47"},{"v":2062.4747557500004,"d":"2062.47"}]
[{"$f":"Faces!A292","v":282},{"$f":"Faces!B292","v":115},{"$f":"VLOOKUP(B292,Vertices!$A$11:$J$203,7,FALSE )-$C$7","v":{"v":-1.894999999999996,"d":"-1.90"}},{"$f":"VLOOKUP(B292,Vertices!$A$11:$J$203,8,FALSE )-$D$7","v":39.05},{"$f":"VLOOKUP(B292,Vertices!$A$11:$J$203,9,FALSE )-$E$7","v":48.25},{"$f":"Faces!C292","v":140},{"$f":"VLOOKUP(F292,Vertices!$A$11:$J$203,7,FALSE )-$C$7","v":{"v":-10.024999999999999,"d":"-10.03"}},{"$f":"VLOOKUP(F292,Vertices!$A$11:$J$203,8,FALSE )-$D$7","v":31.24},{"$f":"VLOOKUP(F292,Vertices!$A$11:$J$203,9,FALSE )-$E$7","v":39.23},{"$f":"Faces!D292","v":141},{"$f":"VLOOKUP(J292,Vertices!$A$11:$J$203,7,FALSE )-$C$7","v":{"v":-17.335,"d":"-17.34"}},{"$f":"VLOOKUP(J292,Vertices!$A$11:$J$203,8,FALSE )-$D$7","v":45.71},{"$f":"VLOOKUP(J292,Vertices!$A$11:$J$203,9,FALSE )-$E$7","v":31.75},{"v":1431.463691500001,"d":"1431.46"},{"v":1431.463691500001,"d":"1431.46"}]
[{"$f":"Faces!A293","v":283},{"$f":"Faces!B293","v":115},{"$f":"VLOOKUP(B293,Vertices!$A$11:$J$203,7,FALSE )-$C$7","v":{"v":-1.894999999999996,"d":"-1.90"}},{"$f":"VLOOKUP(B293,Vertices!$A$11:$J$203,8,FALSE )-$D$7","v":39.05},{"$f":"VLOOKUP(B293,Vertices!$A$11:$J$203,9,FALSE )-$E$7","v":48.25},{"$f":"Faces!C293","v":141},{"$f":"VLOOKUP(F293,Vertices!$A$11:$J$203,7,FALSE )-$C$7","v":{"v":-17.335,"d":"-17.34"}},{"$f":"VLOOKUP(F293,Vertices!$A$11:$J$203,8,FALSE )-$D$7","v":45.71},{"$f":"VLOOKUP(F293,Vertices!$A$11:$J$203,9,FALSE )-$E$7","v":31.75},{"$f":"Faces!D293","v":116},{"$f":"VLOOKUP(J293,Vertices!$A$11:$J$203,7,FALSE )-$C$7","v":{"v":-10.844999999999999,"d":"-10.85"}},{"$f":"VLOOKUP(J293,Vertices!$A$11:$J$203,8,FALSE )-$D$7","v":56.54},{"$f":"VLOOKUP(J293,Vertices!$A$11:$J$203,9,FALSE )-$E$7","v":39.47},{"v":1686.1259148333327,"d":"1686.13"},{"v":1686.1259148333327,"d":"1686.13"}]
[{"$f":"Faces!A294","v":284},{"$f":"Faces!B294","v":137},{"$f":"VLOOKUP(B294,Vertices!$A$11:$J$203,7,FALSE )-$C$7","v":{"v":11.415,"d":"11.42"}},{"$f":"VLOOKUP(B294,Vertices!$A$11:$J$203,8,FALSE )-$D$7","v":-4.63},{"$f":"VLOOKUP(B294,Vertices!$A$11:$J$203,9,FALSE )-$E$7","v":63.27},{"$f":"Faces!C294","v":161},{"$f":"VLOOKUP(F294,Vertices!$A$11:$J$203,7,FALSE )-$C$7","v":{"v":-2.0150000000000006,"d":"-2.02"}},{"$f":"VLOOKUP(F294,Vertices!$A$11:$J$203,8,FALSE )-$D$7","v":{"v":-4.7,"d":"-4.70"}},{"$f":"VLOOKUP(F294,Vertices!$A$11:$J$203,9,FALSE )-$E$7","v":48.48},{"$f":"Faces!D294","v":162},{"$f":"VLOOKUP(J294,Vertices!$A$11:$J$203,7,FALSE )-$C$7","v":{"v":-6.704999999999998,"d":"-6.71"}},{"$f":"VLOOKUP(J294,Vertices!$A$11:$J$203,8,FALSE )-$D$7","v":2.76},{"$f":"VLOOKUP(J294,Vertices!$A$11:$J$203,9,FALSE )-$E$7","v":43.09},{"v":846.9827280833334,"d":"846.98"},{"v":846.9827280833334,"d":"846.98"}]
[{"$f":"Faces!A295","v":285},{"$f":"Faces!B295","v":137},{"$f":"VLOOKUP(B295,Vertices!$A$11:$J$203,7,FALSE )-$C$7","v":{"v":11.415,"d":"11.42"}},{"$f":"VLOOKUP(B295,Vertices!$A$11:$J$203,8,FALSE )-$D$7","v":-4.63},{"$f":"VLOOKUP(B295,Vertices!$A$11:$J$203,9,FALSE )-$E$7","v":63.27},{"$f":"Faces!C295","v":162},{"$f":"VLOOKUP(F295,Vertices!$A$11:$J$203,7,FALSE )-$C$7","v":{"v":-6.704999999999998,"d":"-6.71"}},{"$f":"VLOOKUP(F295,Vertices!$A$11:$J$203,8,FALSE )-$D$7","v":2.76},{"$f":"VLOOKUP(F295,Vertices!$A$11:$J$203,9,FALSE )-$E$7","v":43.09},{"$f":"Faces!D295","v":138},{"$f":"VLOOKUP(J295,Vertices!$A$11:$J$203,7,FALSE )-$C$7","v":{"v":5.325000000000003,"d":"5.33"}},{"$f":"VLOOKUP(J295,Vertices!$A$11:$J$203,8,FALSE )-$D$7","v":4.88},{"$f":"VLOOKUP(J295,Vertices!$A$11:$J$203,9,FALSE )-$E$7","v":56.16},{"v":1072.8175572500002,"d":"1072.82"},{"v":1072.8175572500002,"d":"1072.82"}]
[{"$f":"Faces!A296","v":286},{"$f":"Faces!B296","v":138},{"$f":"VLOOKUP(B296,Vertices!$A$11:$J$203,7,FALSE )-$C$7","v":{"v":5.325000000000003,"d":"5.33"}},{"$f":"VLOOKUP(B296,Vertices!$A$11:$J$203,8,FALSE )-$D$7","v":4.88},{"$f":"VLOOKUP(B296,Vertices!$A$11:$J$203,9,FALSE )-$E$7","v":56.16},{"$f":"Faces!C296","v":162},{"$f":"VLOOKUP(F296,Vertices!$A$11:$J$203,7,FALSE )-$C$7","v":{"v":-6.704999999999998,"d":"-6.71"}},{"$f":"VLOOKUP(F296,Vertices!$A$11:$J$203,8,FALSE )-$D$7","v":2.76},{"$f":"VLOOKUP(F296,Vertices!$A$11:$J$203,9,FALSE )-$E$7","v":43.09},{"$f":"Faces!D296","v":163},{"$f":"VLOOKUP(J296,Vertices!$A$11:$J$203,7,FALSE )-$C$7","v":{"v":-11.324999999999996,"d":"-11.33"}},{"$f":"VLOOKUP(J296,Vertices!$A$11:$J$203,8,FALSE )-$D$7","v":{"v":10.7,"d":"10.70"}},{"$f":"VLOOKUP(J296,Vertices!$A$11:$J$203,9,FALSE )-$E$7","v":37.98},{"v":884.8969005000002,"d":"884.90"},{"v":884.8969005000002,"d":"884.90"}]
[{"$f":"Faces!A297","v":287},{"$f":"Faces!B297","v":138},{"$f":"VLOOKUP(B297,Vertices!$A$11:$J$203,7,FALSE )-$C$7","v":{"v":5.325000000000003,"d":"5.33"}},{"$f":"VLOOKUP(B297,Vertices!$A$11:$J$203,8,FALSE )-$D$7","v":4.88},{"$f":"VLOOKUP(B297,Vertices!$A$11:$J$203,9,FALSE )-$E$7","v":56.16},{"$f":"Faces!C297","v":163},{"$f":"VLOOKUP(F297,Vertices!$A$11:$J$203,7,FALSE )-$C$7","v":{"v":-11.324999999999996,"d":"-11.33"}},{"$f":"VLOOKUP(F297,Vertices!$A$11:$J$203,8,FALSE )-$D$7","v":{"v":10.7,"d":"10.70"}},{"$f":"VLOOKUP(F297,Vertices!$A$11:$J$203,9,FALSE )-$E$7","v":37.98},{"$f":"Faces!D297","v":139},{"$f":"VLOOKUP(J297,Vertices!$A$11:$J$203,7,FALSE )-$C$7","v":{"v":-0.8149999999999977,"d":"-0.81"}},{"$f":"VLOOKUP(J297,Vertices!$A$11:$J$203,8,FALSE )-$D$7","v":15.02},{"$f":"VLOOKUP(J297,Vertices!$A$11:$J$203,9,FALSE )-$E$7","v":49.41},{"v":1117.6595084999997,"d":"1117.66"},{"v":1117.6595084999997,"d":"1117.66"}]
[{"$f":"Faces!A298","v":288},{"$f":"Faces!B298","v":139},{"$f":"VLOOKUP(B298,Vertices!$A$11:$J$203,7,FALSE )-$C$7","v":{"v":-0.8149999999999977,"d":"-0.81"}},{"$f":"VLOOKUP(B298,Vertices!$A$11:$J$203,8,FALSE )-$D$7","v":15.02},{"$f":"VLOOKUP(B298,Vertices!$A$11:$J$203,9,FALSE )-$E$7","v":49.41},{"$f":"Faces!C298","v":163},{"$f":"VLOOKUP(F298,Vertices!$A$11:$J$203,7,FALSE )-$C$7","v":{"v":-11.324999999999996,"d":"-11.33"}},{"$f":"VLOOKUP(F298,Vertices!$A$11:$J$203,8,FALSE )-$D$7","v":{"v":10.7,"d":"10.70"}},{"$f":"VLOOKUP(F298,Vertices!$A$11:$J$203,9,FALSE )-$E$7","v":37.98},{"$f":"Faces!D298","v":164},{"$f":"VLOOKUP(J298,Vertices!$A$11:$J$203,7,FALSE )-$C$7","v":{"v":-18.394999999999996,"d":"-18.40"}},{"$f":"VLOOKUP(J298,Vertices!$A$11:$J$203,8,FALSE )-$D$7","v":23.39},{"$f":"VLOOKUP(J298,Vertices!$A$11:$J$203,9,FALSE )-$E$7","v":29.99},{"v":1382.147518583334,"d":"1382.15"},{"v":1382.147518583334,"d":"1382.15"}]
[{"$f":"Faces!A299","v":289},{"$f":"Faces!B299","v":139},{"$f":"VLOOKUP(B299,Vertices!$A$11:$J$203,7,FALSE )-$C$7","v":{"v":-0.8149999999999977,"d":"-0.81"}},{"$f":"VLOOKUP(B299,Vertices!$A$11:$J$203,8,FALSE )-$D$7","v":15.02},{"$f":"VLOOKUP(B299,Vertices!$A$11:$J$203,9,FALSE )-$E$7","v":49.41},{"$f":"Faces!C299","v":164},{"$f":"VLOOKUP(F299,Vertices!$A$11:$J$203,7,FALSE )-$C$7","v":{"v":-18.394999999999996,"d":"-18.40"}},{"$f":"VLOOKUP(F299,Vertices!$A$11:$J$203,8,FALSE )-$D$7","v":23.39},{"$f":"VLOOKUP(F299,Vertices!$A$11:$J$203,9,FALSE )-$E$7","v":29.99},{"$f":"Faces!D299","v":140},{"$f":"VLOOKUP(J299,Vertices!$A$11:$J$203,7,FALSE )-$C$7","v":{"v":-10.024999999999999,"d":"-10.03"}},{"$f":"VLOOKUP(J299,Vertices!$A$11:$J$203,8,FALSE )-$D$7","v":31.24},{"$f":"VLOOKUP(J299,Vertices!$A$11:$J$203,9,FALSE )-$E$7","v":39.23},{"v":1744.8517016666665,"d":"1744.85"},{"v":1744.8517016666665,"d":"1744.85"}]
[{"$f":"Faces!A300","v":290},{"$f":"Faces!B300","v":140},{"$f":"VLOOKUP(B300,Vertices!$A$11:$J$203,7,FALSE )-$C$7","v":{"v":-10.024999999999999,"d":"-10.03"}},{"$f":"VLOOKUP(B300,Vertices!$A$11:$J$203,8,FALSE )-$D$7","v":31.24},{"$f":"VLOOKUP(B300,Vertices!$A$11:$J$203,9,FALSE )-$E$7","v":39.23},{"$f":"Faces!C300","v":164},{"$f":"VLOOKUP(F300,Vertices!$A$11:$J$203,7,FALSE )-$C$7","v":{"v":-18.394999999999996,"d":"-18.40"}},{"$f":"VLOOKUP(F300,Vertices!$A$11:$J$203,8,FALSE )-$D$7","v":23.39},{"$f":"VLOOKUP(F300,Vertices!$A$11:$J$203,9,FALSE )-$E$7","v":29.99},{"$f":"Faces!D300","v":165},{"$f":"VLOOKUP(J300,Vertices!$A$11:$J$203,7,FALSE )-$C$7","v":{"v":-23.965,"d":"-23.97"}},{"$f":"VLOOKUP(J300,Vertices!$A$11:$J$203,8,FALSE )-$D$7","v":34.66},{"$f":"VLOOKUP(J300,Vertices!$A$11:$J$203,9,FALSE )-$E$7","v":24.24},{"v":1134.6681979166672,"d":"1134.67"},{"v":1134.6681979166672,"d":"1134.67"}]
[{"$f":"Faces!A301","v":291},{"$f":"Faces!B301","v":140},{"$f":"VLOOKUP(B301,Vertices!$A$11:$J$203,7,FALSE )-$C$7","v":{"v":-10.024999999999999,"d":"-10.03"}},{"$f":"VLOOKUP(B301,Vertices!$A$11:$J$203,8,FALSE )-$D$7","v":31.24},{"$f":"VLOOKUP(B301,Vertices!$A$11:$J$203,9,FALSE )-$E$7","v":39.23},{"$f":"Faces!C301","v":165},{"$f":"VLOOKUP(F301,Vertices!$A$11:$J$203,7,FALSE )-$C$7","v":{"v":-23.965,"d":"-23.97"}},{"$f":"VLOOKUP(F301,Vertices!$A$11:$J$203,8,FALSE )-$D$7","v":34.66},{"$f":"VLOOKUP(F301,Vertices!$A$11:$J$203,9,FALSE )-$E$7","v":24.24},{"$f":"Faces!D301","v":141},{"$f":"VLOOKUP(J301,Vertices!$A$11:$J$203,7,FALSE )-$C$7","v":{"v":-17.335,"d":"-17.34"}},{"$f":"VLOOKUP(J301,Vertices!$A$11:$J$203,8,FALSE )-$D$7","v":45.71},{"$f":"VLOOKUP(J301,Vertices!$A$11:$J$203,9,FALSE )-$E$7","v":31.75},{"v":1447.4443487500005,"d":"1447.44"},{"v":1447.4443487500005,"d":"1447.44"}]
[{"$f":"Faces!A302","v":292},{"$f":"Faces!B302","v":161},{"$f":"VLOOKUP(B302,Vertices!$A$11:$J$203,7,FALSE )-$C$7","v":{"v":-2.0150000000000006,"d":"-2.02"}},{"$f":"VLOOKUP(B302,Vertices!$A$11:$J$203,8,FALSE )-$D$7","v":{"v":-4.7,"d":"-4.70"}},{"$f":"VLOOKUP(B302,Vertices!$A$11:$J$203,9,FALSE )-$E$7","v":48.48},{"$f":"Faces!C302","v":181},{"$f":"VLOOKUP(F302,Vertices!$A$11:$J$203,7,FALSE )-$C$7","v":{"v":-18.045,"d":"-18.05"}},{"$f":"VLOOKUP(F302,Vertices!$A$11:$J$203,8,FALSE )-$D$7","v":-4.52},{"$f":"VLOOKUP(F302,Vertices!$A$11:$J$203,9,FALSE )-$E$7","v":30.96},{"$f":"Faces!D302","v":162},{"$f":"VLOOKUP(J302,Vertices!$A$11:$J$203,7,FALSE )-$C$7","v":{"v":-6.704999999999998,"d":"-6.71"}},{"$f":"VLOOKUP(J302,Vertices!$A$11:$J$203,8,FALSE )-$D$7","v":2.76},{"$f":"VLOOKUP(J302,Vertices!$A$11:$J$203,9,FALSE )-$E$7","v":43.09},{"v":999.6675188333334,"d":"999.67"},{"v":999.6675188333334,"d":"999.67"}]
[{"$f":"Faces!A303","v":293},{"$f":"Faces!B303","v":162},{"$f":"VLOOKUP(B303,Vertices!$A$11:$J$203,7,FALSE )-$C$7","v":{"v":-6.704999999999998,"d":"-6.71"}},{"$f":"VLOOKUP(B303,Vertices!$A$11:$J$203,8,FALSE )-$D$7","v":2.76},{"$f":"VLOOKUP(B303,Vertices!$A$11:$J$203,9,FALSE )-$E$7","v":43.09},{"$f":"Faces!C303","v":181},{"$f":"VLOOKUP(F303,Vertices!$A$11:$J$203,7,FALSE )-$C$7","v":{"v":-18.045,"d":"-18.05"}},{"$f":"VLOOKUP(F303,Vertices!$A$11:$J$203,8,FALSE )-$D$7","v":-4.52},{"$f":"VLOOKUP(F303,Vertices!$A$11:$J$203,9,FALSE )-$E$7","v":30.96},{"$f":"Faces!D303","v":182},{"$f":"VLOOKUP(J303,Vertices!$A$11:$J$203,7,FALSE )-$C$7","v":{"v":-23.665,"d":"-23.67"}},{"$f":"VLOOKUP(J303,Vertices!$A$11:$J$203,8,FALSE )-$D$7","v":{"v":5.3,"d":"5.30"}},{"$f":"VLOOKUP(J303,Vertices!$A$11:$J$203,9,FALSE )-$E$7","v":24.68},{"v":1279.1732478333333,"d":"1279.17"},{"v":1279.1732478333333,"d":"1279.17"}]
[{"$f":"Faces!A304","v":294},{"$f":"Faces!B304","v":162},{"$f":"VLOOKUP(B304,Vertices!$A$11:$J$203,7,FALSE )-$C$7","v":{"v":-6.704999999999998,"d":"-6.71"}},{"$f":"VLOOKUP(B304,Vertices!$A$11:$J$203,8,FALSE )-$D$7","v":2.76},{"$f":"VLOOKUP(B304,Vertices!$A$11:$J$203,9,FALSE )-$E$7","v":43.09},{"$f":"Faces!C304","v":182},{"$f":"VLOOKUP(F304,Vertices!$A$11:$J$203,7,FALSE )-$C$7","v":{"v":-23.665,"d":"-23.67"}},{"$f":"VLOOKUP(F304,Vertices!$A$11:$J$203,8,FALSE )-$D$7","v":{"v":5.3,"d":"5.30"}},{"$f":"VLOOKUP(F304,Vertices!$A$11:$J$203,9,FALSE )-$E$7","v":24.68},{"$f":"Faces!D304","v":163},{"$f":"VLOOKUP(J304,Vertices!$A$11:$J$203,7,FALSE )-$C$7","v":{"v":-11.324999999999996,"d":"-11.33"}},{"$f":"VLOOKUP(J304,Vertices!$A$11:$J$203,8,FALSE )-$D$7","v":{"v":10.7,"d":"10.70"}},{"$f":"VLOOKUP(J304,Vertices!$A$11:$J$203,9,FALSE )-$E$7","v":37.98},{"v":1032.4128213333336,"d":"1032.41"},{"v":1032.4128213333336,"d":"1032.41"}]
[{"$f":"Faces!A305","v":295},{"$f":"Faces!B305","v":163},{"$f":"VLOOKUP(B305,Vertices!$A$11:$J$203,7,FALSE )-$C$7","v":{"v":-11.324999999999996,"d":"-11.33"}},{"$f":"VLOOKUP(B305,Vertices!$A$11:$J$203,8,FALSE )-$D$7","v":{"v":10.7,"d":"10.70"}},{"$f":"VLOOKUP(B305,Vertices!$A$11:$J$203,9,FALSE )-$E$7","v":37.98},{"$f":"Faces!C305","v":182},{"$f":"VLOOKUP(F305,Vertices!$A$11:$J$203,7,FALSE )-$C$7","v":{"v":-23.665,"d":"-23.67"}},{"$f":"VLOOKUP(F305,Vertices!$A$11:$J$203,8,FALSE )-$D$7","v":{"v":5.3,"d":"5.30"}},{"$f":"VLOOKUP(F305,Vertices!$A$11:$J$203,9,FALSE )-$E$7","v":24.68},{"$f":"Faces!D305","v":183},{"$f":"VLOOKUP(J305,Vertices!$A$11:$J$203,7,FALSE )-$C$7","v":{"v":-28.014999999999997,"d":"-28.02"}},{"$f":"VLOOKUP(J305,Vertices!$A$11:$J$203,8,FALSE )-$D$7","v":14.43},{"$f":"VLOOKUP(J305,Vertices!$A$11:$J$203,9,FALSE )-$E$7","v":19.89},{"v":1142.1109851666663,"d":"1142.11"},{"v":1142.1109851666663,"d":"1142.11"}]
[{"$f":"Faces!A306","v":296},{"$f":"Faces!B306","v":163},{"$f":"VLOOKUP(B306,Vertices!$A$11:$J$203,7,FALSE )-$C$7","v":{"v":-11.324999999999996,"d":"-11.33"}},{"$f":"VLOOKUP(B306,Vertices!$A$11:$J$203,8,FALSE )-$D$7","v":{"v":10.7,"d":"10.70"}},{"$f":"VLOOKUP(B306,Vertices!$A$11:$J$203,9,FALSE )-$E$7","v":37.98},{"$f":"Faces!C306","v":183},{"$f":"VLOOKUP(F306,Vertices!$A$11:$J$203,7,FALSE )-$C$7","v":{"v":-28.014999999999997,"d":"-28.02"}},{"$f":"VLOOKUP(F306,Vertices!$A$11:$J$203,8,FALSE )-$D$7","v":14.43},{"$f":"VLOOKUP(F306,Vertices!$A$11:$J$203,9,FALSE )-$E$7","v":19.89},{"$f":"Faces!D306","v":164},{"$f":"VLOOKUP(J306,Vertices!$A$11:$J$203,7,FALSE )-$C$7","v":{"v":-18.394999999999996,"d":"-18.40"}},{"$f":"VLOOKUP(J306,Vertices!$A$11:$J$203,8,FALSE )-$D$7","v":23.39},{"$f":"VLOOKUP(J306,Vertices!$A$11:$J$203,9,FALSE )-$E$7","v":29.99},{"v":1560.517410833335,"d":"1560.52"},{"v":1560.517410833335,"d":"1560.52"}]
[{"$f":"Faces!A307","v":297},{"$f":"Faces!B307","v":164},{"$f":"VLOOKUP(B307,Vertices!$A$11:$J$203,7,FALSE )-$C$7","v":{"v":-18.394999999999996,"d":"-18.40"}},{"$f":"VLOOKUP(B307,Vertices!$A$11:$J$203,8,FALSE )-$D$7","v":23.39},{"$f":"VLOOKUP(B307,Vertices!$A$11:$J$203,9,FALSE )-$E$7","v":29.99},{"$f":"Faces!C307","v":183},{"$f":"VLOOKUP(F307,Vertices!$A$11:$J$203,7,FALSE )-$C$7","v":{"v":-28.014999999999997,"d":"-28.02"}},{"$f":"VLOOKUP(F307,Vertices!$A$11:$J$203,8,FALSE )-$D$7","v":14.43},{"$f":"VLOOKUP(F307,Vertices!$A$11:$J$203,9,FALSE )-$E$7","v":19.89},{"$f":"Faces!D307","v":184},{"$f":"VLOOKUP(J307,Vertices!$A$11:$J$203,7,FALSE )-$C$7","v":{"v":-31.915,"d":"-31.92"}},{"$f":"VLOOKUP(J307,Vertices!$A$11:$J$203,8,FALSE )-$D$7","v":21.84},{"$f":"VLOOKUP(J307,Vertices!$A$11:$J$203,9,FALSE )-$E$7","v":15.87},{"v":868.0454055000004,"d":"868.05"},{"v":868.0454055000004,"d":"868.05"}]
[{"$f":"Faces!A308","v":298},{"$f":"Faces!B308","v":164},{"$f":"VLOOKUP(B308,Vertices!$A$11:$J$203,7,FALSE )-$C$7","v":{"v":-18.394999999999996,"d":"-18.40"}},{"$f":"VLOOKUP(B308,Vertices!$A$11:$J$203,8,FALSE )-$D$7","v":23.39},{"$f":"VLOOKUP(B308,Vertices!$A$11:$J$203,9,FALSE )-$E$7","v":29.99},{"$f":"Faces!C308","v":184},{"$f":"VLOOKUP(F308,Vertices!$A$11:$J$203,7,FALSE )-$C$7","v":{"v":-31.915,"d":"-31.92"}},{"$f":"VLOOKUP(F308,Vertices!$A$11:$J$203,8,FALSE )-$D$7","v":21.84},{"$f":"VLOOKUP(F308,Vertices!$A$11:$J$203,9,FALSE )-$E$7","v":15.87},{"$f":"Faces!D308","v":165},{"$f":"VLOOKUP(J308,Vertices!$A$11:$J$203,7,FALSE )-$C$7","v":{"v":-23.965,"d":"-23.97"}},{"$f":"VLOOKUP(J308,Vertices!$A$11:$J$203,8,FALSE )-$D$7","v":34.66},{"$f":"VLOOKUP(J308,Vertices!$A$11:$J$203,9,FALSE )-$E$7","v":24.24},{"v":1316.407570083332,"d":"1316.41"},{"v":1316.407570083332,"d":"1316.41"}]
[{"$f":"Faces!A309","v":299},{"$f":"Faces!B309","v":181},{"$f":"VLOOKUP(B309,Vertices!$A$11:$J$203,7,FALSE )-$C$7","v":{"v":-18.045,"d":"-18.05"}},{"$f":"VLOOKUP(B309,Vertices!$A$11:$J$203,8,FALSE )-$D$7","v":-4.52},{"$f":"VLOOKUP(B309,Vertices!$A$11:$J$203,9,FALSE )-$E$7","v":30.96},{"$f":"Faces!C309","v":191},{"$f":"VLOOKUP(F309,Vertices!$A$11:$J$203,7,FALSE )-$C$7","v":{"v":-35.265,"d":"-35.27"}},{"$f":"VLOOKUP(F309,Vertices!$A$11:$J$203,8,FALSE )-$D$7","v":-4.31},{"$f":"VLOOKUP(F309,Vertices!$A$11:$J$203,9,FALSE )-$E$7","v":11.95},{"$f":"Faces!D309","v":182},{"$f":"VLOOKUP(J309,Vertices!$A$11:$J$203,7,FALSE )-$C$7","v":{"v":-23.665,"d":"-23.67"}},{"$f":"VLOOKUP(J309,Vertices!$A$11:$J$203,8,FALSE )-$D$7","v":{"v":5.3,"d":"5.30"}},{"$f":"VLOOKUP(J309,Vertices!$A$11:$J$203,9,FALSE )-$E$7","v":24.68},{"v":1422.9532261666666,"d":"1422.95"},{"v":1422.9532261666666,"d":"1422.95"}]
[{"$f":"Faces!A310","v":300},{"$f":"Faces!B310","v":182},{"$f":"VLOOKUP(B310,Vertices!$A$11:$J$203,7,FALSE )-$C$7","v":{"v":-23.665,"d":"-23.67"}},{"$f":"VLOOKUP(B310,Vertices!$A$11:$J$203,8,FALSE )-$D$7","v":{"v":5.3,"d":"5.30"}},{"$f":"VLOOKUP(B310,Vertices!$A$11:$J$203,9,FALSE )-$E$7","v":24.68},{"$f":"Faces!C310","v":191},{"$f":"VLOOKUP(F310,Vertices!$A$11:$J$203,7,FALSE )-$C$7","v":{"v":-35.265,"d":"-35.27"}},{"$f":"VLOOKUP(F310,Vertices!$A$11:$J$203,8,FALSE )-$D$7","v":-4.31},{"$f":"VLOOKUP(F310,Vertices!$A$11:$J$203,9,FALSE )-$E$7","v":11.95},{"$f":"Faces!D310","v":192},{"$f":"VLOOKUP(J310,Vertices!$A$11:$J$203,7,FALSE )-$C$7","v":{"v":-40.355,"d":"-40.36"}},{"$f":"VLOOKUP(J310,Vertices!$A$11:$J$203,8,FALSE )-$D$7","v":{"v":8.2,"d":"8.20"}},{"$f":"VLOOKUP(J310,Vertices!$A$11:$J$203,9,FALSE )-$E$7","v":7.28},{"v":1593.8561861666665,"d":"1593.86"},{"v":1593.8561861666665,"d":"1593.86"}]
[{"$f":"Faces!A311","v":301},{"$f":"Faces!B311","v":182},{"$f":"VLOOKUP(B311,Vertices!$A$11:$J$203,7,FALSE )-$C$7","v":{"v":-23.665,"d":"-23.67"}},{"$f":"VLOOKUP(B311,Vertices!$A$11:$J$203,8,FALSE )-$D$7","v":{"v":5.3,"d":"5.30"}},{"$f":"VLOOKUP(B311,Vertices!$A$11:$J$203,9,FALSE )-$E$7","v":24.68},{"$f":"Faces!C311","v":192},{"$f":"VLOOKUP(F311,Vertices!$A$11:$J$203,7,FALSE )-$C$7","v":{"v":-40.355,"d":"-40.36"}},{"$f":"VLOOKUP(F311,Vertices!$A$11:$J$203,8,FALSE )-$D$7","v":{"v":8.2,"d":"8.20"}},{"$f":"VLOOKUP(F311,Vertices!$A$11:$J$203,9,FALSE )-$E$7","v":7.28},{"$f":"Faces!D311","v":183},{"$f":"VLOOKUP(J311,Vertices!$A$11:$J$203,7,FALSE )-$C$7","v":{"v":-28.014999999999997,"d":"-28.02"}},{"$f":"VLOOKUP(J311,Vertices!$A$11:$J$203,8,FALSE )-$D$7","v":14.43},{"$f":"VLOOKUP(J311,Vertices!$A$11:$J$203,9,FALSE )-$E$7","v":19.89},{"v":1150.4472568333333,"d":"1150.45"},{"v":1150.4472568333333,"d":"1150.45"}]
[{"$f":"Faces!A312","v":302},{"$f":"Faces!B312","v":183},{"$f":"VLOOKUP(B312,Vertices!$A$11:$J$203,7,FALSE )-$C$7","v":{"v":-28.014999999999997,"d":"-28.02"}},{"$f":"VLOOKUP(B312,Vertices!$A$11:$J$203,8,FALSE )-$D$7","v":14.43},{"$f":"VLOOKUP(B312,Vertices!$A$11:$J$203,9,FALSE )-$E$7","v":19.89},{"$f":"Faces!C312","v":192},{"$f":"VLOOKUP(F312,Vertices!$A$11:$J$203,7,FALSE )-$C$7","v":{"v":-40.355,"d":"-40.36"}},{"$f":"VLOOKUP(F312,Vertices!$A$11:$J$203,8,FALSE )-$D$7","v":{"v":8.2,"d":"8.20"}},{"$f":"VLOOKUP(F312,Vertices!$A$11:$J$203,9,FALSE )-$E$7","v":7.28},{"$f":"Faces!D312","v":184},{"$f":"VLOOKUP(J312,Vertices!$A$11:$J$203,7,FALSE )-$C$7","v":{"v":-31.915,"d":"-31.92"}},{"$f":"VLOOKUP(J312,Vertices!$A$11:$J$203,8,FALSE )-$D$7","v":21.84},{"$f":"VLOOKUP(J312,Vertices!$A$11:$J$203,9,FALSE )-$E$7","v":15.87},{"v":937.9198367499995,"d":"937.92"},{"v":937.9198367499995,"d":"937.92"}]
[{"$f":"Faces!A313","v":303},{"$f":"Faces!B313","v":81},{"$f":"VLOOKUP(B313,Vertices!$A$11:$J$203,7,FALSE )-$C$7","v":{"v":37.545,"d":"37.55"}},{"$f":"VLOOKUP(B313,Vertices!$A$11:$J$203,8,FALSE )-$D$7","v":{"v":-4,"d":"-4.00"}},{"$f":"VLOOKUP(B313,Vertices!$A$11:$J$203,9,FALSE )-$E$7","v":{"v":93,"d":"93.00"}},{"$f":"Faces!C313","v":117},{"$f":"VLOOKUP(F313,Vertices!$A$11:$J$203,7,FALSE )-$C$7","v":{"v":21.295,"d":"21.30"}},{"$f":"VLOOKUP(F313,Vertices!$A$11:$J$203,8,FALSE )-$D$7","v":-8.64},{"$f":"VLOOKUP(F313,Vertices!$A$11:$J$203,9,FALSE )-$E$7","v":72.46},{"$f":"Faces!D313","v":111},{"$f":"VLOOKUP(J313,Vertices!$A$11:$J$203,7,FALSE )-$C$7","v":{"v":24.355000000000004,"d":"24.36"}},{"$f":"VLOOKUP(J313,Vertices!$A$11:$J$203,8,FALSE )-$D$7","v":-4.38},{"$f":"VLOOKUP(J313,Vertices!$A$11:$J$203,9,FALSE )-$E$7","v":78.06},{"v":486.738493666667,"d":"486.74"},{"v":486.738493666667,"d":"486.74"}]
[{"$f":"Faces!A314","v":304},{"$f":"Faces!B314","v":81},{"$f":"VLOOKUP(B314,Vertices!$A$11:$J$203,7,FALSE )-$C$7","v":{"v":37.545,"d":"37.55"}},{"$f":"VLOOKUP(B314,Vertices!$A$11:$J$203,8,FALSE )-$D$7","v":{"v":-4,"d":"-4.00"}},{"$f":"VLOOKUP(B314,Vertices!$A$11:$J$203,9,FALSE )-$E$7","v":{"v":93,"d":"93.00"}},{"$f":"Faces!C314","v":87},{"$f":"VLOOKUP(F314,Vertices!$A$11:$J$203,7,FALSE )-$C$7","v":{"v":33.754999999999995,"d":"33.76"}},{"$f":"VLOOKUP(F314,Vertices!$A$11:$J$203,8,FALSE )-$D$7","v":-8.91},{"$f":"VLOOKUP(F314,Vertices!$A$11:$J$203,9,FALSE )-$E$7","v":86.14},{"$f":"Faces!D314","v":117},{"$f":"VLOOKUP(J314,Vertices!$A$11:$J$203,7,FALSE )-$C$7","v":{"v":21.295,"d":"21.30"}},{"$f":"VLOOKUP(J314,Vertices!$A$11:$J$203,8,FALSE )-$D$7","v":-8.64},{"$f":"VLOOKUP(J314,Vertices!$A$11:$J$203,9,FALSE )-$E$7","v":72.46},{"v":554.6494758333332,"d":"554.65"},{"v":554.6494758333332,"d":"554.65"}]
[{"$f":"Faces!A315","v":305},{"$f":"Faces!B315","v":87},{"$f":"VLOOKUP(B315,Vertices!$A$11:$J$203,7,FALSE )-$C$7","v":{"v":33.754999999999995,"d":"33.76"}},{"$f":"VLOOKUP(B315,Vertices!$A$11:$J$203,8,FALSE )-$D$7","v":-8.91},{"$f":"VLOOKUP(B315,Vertices!$A$11:$J$203,9,FALSE )-$E$7","v":86.14},{"$f":"Faces!C315","v":118},{"$f":"VLOOKUP(F315,Vertices!$A$11:$J$203,7,FALSE )-$C$7","v":{"v":18.105000000000004,"d":"18.11"}},{"$f":"VLOOKUP(F315,Vertices!$A$11:$J$203,8,FALSE )-$D$7","v":-13.02},{"$f":"VLOOKUP(F315,Vertices!$A$11:$J$203,9,FALSE )-$E$7","v":66.66},{"$f":"Faces!D315","v":117},{"$f":"VLOOKUP(J315,Vertices!$A$11:$J$203,7,FALSE )-$C$7","v":{"v":21.295,"d":"21.30"}},{"$f":"VLOOKUP(J315,Vertices!$A$11:$J$203,8,FALSE )-$D$7","v":-8.64},{"$f":"VLOOKUP(J315,Vertices!$A$11:$J$203,9,FALSE )-$E$7","v":72.46},{"v":492.49038999999965,"d":"492.49"},{"v":492.49038999999965,"d":"492.49"}]
[{"$f":"Faces!A316","v":306},{"$f":"Faces!B316","v":87},{"$f":"VLOOKUP(B316,Vertices!$A$11:$J$203,7,FALSE )-$C$7","v":{"v":33.754999999999995,"d":"33.76"}},{"$f":"VLOOKUP(B316,Vertices!$A$11:$J$203,8,FALSE )-$D$7","v":-8.91},{"$f":"VLOOKUP(B316,Vertices!$A$11:$J$203,9,FALSE )-$E$7","v":86.14},{"$f":"Faces!C316","v":88},{"$f":"VLOOKUP(F316,Vertices!$A$11:$J$203,7,FALSE )-$C$7","v":{"v":30.075000000000003,"d":"30.08"}},{"$f":"VLOOKUP(F316,Vertices!$A$11:$J$203,8,FALSE )-$D$7","v":-13.75},{"$f":"VLOOKUP(F316,Vertices!$A$11:$J$203,9,FALSE )-$E$7","v":79.52},{"$f":"Faces!D316","v":118},{"$f":"VLOOKUP(J316,Vertices!$A$11:$J$203,7,FALSE )-$C$7","v":{"v":18.105000000000004,"d":"18.11"}},{"$f":"VLOOKUP(J316,Vertices!$A$11:$J$203,8,FALSE )-$D$7","v":-13.02},{"$f":"VLOOKUP(J316,Vertices!$A$11:$J$203,9,FALSE )-$E$7","v":66.66},{"v":540.3617415000008,"d":"540.36"},{"v":540.3617415000008,"d":"540.36"}]
[{"$f":"Faces!A317","v":307},{"$f":"Faces!B317","v":88},{"$f":"VLOOKUP(B317,Vertices!$A$11:$J$203,7,FALSE )-$C$7","v":{"v":30.075000000000003,"d":"30.08"}},{"$f":"VLOOKUP(B317,Vertices!$A$11:$J$203,8,FALSE )-$D$7","v":-13.75},{"$f":"VLOOKUP(B317,Vertices!$A$11:$J$203,9,FALSE )-$E$7","v":79.52},{"$f":"Faces!C317","v":119},{"$f":"VLOOKUP(F317,Vertices!$A$11:$J$203,7,FALSE )-$C$7","v":{"v":11.665,"d":"11.67"}},{"$f":"VLOOKUP(F317,Vertices!$A$11:$J$203,8,FALSE )-$D$7","v":-22.54},{"$f":"VLOOKUP(F317,Vertices!$A$11:$J$203,9,FALSE )-$E$7","v":55.19},{"$f":"Faces!D317","v":118},{"$f":"VLOOKUP(J317,Vertices!$A$11:$J$203,7,FALSE )-$C$7","v":{"v":18.105000000000004,"d":"18.11"}},{"$f":"VLOOKUP(J317,Vertices!$A$11:$J$203,8,FALSE )-$D$7","v":-13.02},{"$f":"VLOOKUP(J317,Vertices!$A$11:$J$203,9,FALSE )-$E$7","v":66.66},{"v":1041.7899857499997,"d":"1041.79"},{"v":1041.7899857499997,"d":"1041.79"}]
[{"$f":"Faces!A318","v":308},{"$f":"Faces!B318","v":88},{"$f":"VLOOKUP(B318,Vertices!$A$11:$J$203,7,FALSE )-$C$7","v":{"v":30.075000000000003,"d":"30.08"}},{"$f":"VLOOKUP(B318,Vertices!$A$11:$J$203,8,FALSE )-$D$7","v":-13.75},{"$f":"VLOOKUP(B318,Vertices!$A$11:$J$203,9,FALSE )-$E$7","v":79.52},{"$f":"Faces!C318","v":89},{"$f":"VLOOKUP(F318,Vertices!$A$11:$J$203,7,FALSE )-$C$7","v":{"v":22.47500000000001,"d":"22.48"}},{"$f":"VLOOKUP(F318,Vertices!$A$11:$J$203,8,FALSE )-$D$7","v":-24.83},{"$f":"VLOOKUP(F318,Vertices!$A$11:$J$203,9,FALSE )-$E$7","v":66.08},{"$f":"Faces!D318","v":119},{"$f":"VLOOKUP(J318,Vertices!$A$11:$J$203,7,FALSE )-$C$7","v":{"v":11.665,"d":"11.67"}},{"$f":"VLOOKUP(J318,Vertices!$A$11:$J$203,8,FALSE )-$D$7","v":-22.54},{"$f":"VLOOKUP(J318,Vertices!$A$11:$J$203,9,FALSE )-$E$7","v":55.19},{"v":1202.2698776666664,"d":"1202.27"},{"v":1202.2698776666664,"d":"1202.27"}]
[{"$f":"Faces!A319","v":309},{"$f":"Faces!B319","v":89},{"$f":"VLOOKUP(B319,Vertices!$A$11:$J$203,7,FALSE )-$C$7","v":{"v":22.47500000000001,"d":"22.48"}},{"$f":"VLOOKUP(B319,Vertices!$A$11:$J$203,8,FALSE )-$D$7","v":-24.83},{"$f":"VLOOKUP(B319,Vertices!$A$11:$J$203,9,FALSE )-$E$7","v":66.08},{"$f":"Faces!C319","v":120},{"$f":"VLOOKUP(F319,Vertices!$A$11:$J$203,7,FALSE )-$C$7","v":{"v":1.7550000000000026,"d":"1.76"}},{"$f":"VLOOKUP(F319,Vertices!$A$11:$J$203,8,FALSE )-$D$7","v":-39.17},{"$f":"VLOOKUP(F319,Vertices!$A$11:$J$203,9,FALSE )-$E$7","v":37.72},{"$f":"Faces!D319","v":119},{"$f":"VLOOKUP(J319,Vertices!$A$11:$J$203,7,FALSE )-$C$7","v":{"v":11.665,"d":"11.67"}},{"$f":"VLOOKUP(J319,Vertices!$A$11:$J$203,8,FALSE )-$D$7","v":-22.54},{"$f":"VLOOKUP(J319,Vertices!$A$11:$J$203,9,FALSE )-$E$7","v":55.19},{"v":1736.494379166669,"d":"1736.49"},{"v":1736.494379166669,"d":"1736.49"}]
[{"$f":"Faces!A320","v":310},{"$f":"Faces!B320","v":89},{"$f":"VLOOKUP(B320,Vertices!$A$11:$J$203,7,FALSE )-$C$7","v":{"v":22.47500000000001,"d":"22.48"}},{"$f":"VLOOKUP(B320,Vertices!$A$11:$J$203,8,FALSE )-$D$7","v":-24.83},{"$f":"VLOOKUP(B320,Vertices!$A$11:$J$203,9,FALSE )-$E$7","v":66.08},{"$f":"Faces!C320","v":90},{"$f":"VLOOKUP(F320,Vertices!$A$11:$J$203,7,FALSE )-$C$7","v":{"v":10.204999999999998,"d":"10.21"}},{"$f":"VLOOKUP(F320,Vertices!$A$11:$J$203,8,FALSE )-$D$7","v":-45.12},{"$f":"VLOOKUP(F320,Vertices!$A$11:$J$203,9,FALSE )-$E$7","v":44.87},{"$f":"Faces!D320","v":120},{"$f":"VLOOKUP(J320,Vertices!$A$11:$J$203,7,FALSE )-$C$7","v":{"v":1.7550000000000026,"d":"1.76"}},{"$f":"VLOOKUP(J320,Vertices!$A$11:$J$203,8,FALSE )-$D$7","v":-39.17},{"$f":"VLOOKUP(J320,Vertices!$A$11:$J$203,9,FALSE )-$E$7","v":37.72},{"v":2054.775650833332,"d":"2054.78"},{"v":2054.775650833332,"d":"2054.78"}]
[{"$f":"Faces!A321","v":311},{"$f":"Faces!B321","v":90},{"$f":"VLOOKUP(B321,Vertices!$A$11:$J$203,7,FALSE )-$C$7","v":{"v":10.204999999999998,"d":"10.21"}},{"$f":"VLOOKUP(B321,Vertices!$A$11:$J$203,8,FALSE )-$D$7","v":-45.12},{"$f":"VLOOKUP(B321,Vertices!$A$11:$J$203,9,FALSE )-$E$7","v":44.87},{"$f":"Faces!C321","v":121},{"$f":"VLOOKUP(F321,Vertices!$A$11:$J$203,7,FALSE )-$C$7","v":{"v":-7.104999999999997,"d":"-7.11"}},{"$f":"VLOOKUP(F321,Vertices!$A$11:$J$203,8,FALSE )-$D$7","v":{"v":-56.2,"d":"-56.20"}},{"$f":"VLOOKUP(F321,Vertices!$A$11:$J$203,9,FALSE )-$E$7","v":22.36},{"$f":"Faces!D321","v":120},{"$f":"VLOOKUP(J321,Vertices!$A$11:$J$203,7,FALSE )-$C$7","v":{"v":1.7550000000000026,"d":"1.76"}},{"$f":"VLOOKUP(J321,Vertices!$A$11:$J$203,8,FALSE )-$D$7","v":-39.17},{"$f":"VLOOKUP(J321,Vertices!$A$11:$J$203,9,FALSE )-$E$7","v":37.72},{"v":1607.5013187499987,"d":"1607.50"},{"v":1607.5013187499987,"d":"1607.50"}]
[{"$f":"Faces!A322","v":312},{"$f":"Faces!B322","v":90},{"$f":"VLOOKUP(B322,Vertices!$A$11:$J$203,7,FALSE )-$C$7","v":{"v":10.204999999999998,"d":"10.21"}},{"$f":"VLOOKUP(B322,Vertices!$A$11:$J$203,8,FALSE )-$D$7","v":-45.12},{"$f":"VLOOKUP(B322,Vertices!$A$11:$J$203,9,FALSE )-$E$7","v":44.87},{"$f":"Faces!C322","v":91},{"$f":"VLOOKUP(F322,Vertices!$A$11:$J$203,7,FALSE )-$C$7","v":{"v":-1.4549999999999983,"d":"-1.46"}},{"$f":"VLOOKUP(F322,Vertices!$A$11:$J$203,8,FALSE )-$D$7","v":{"v":-66,"d":"-66.00"}},{"$f":"VLOOKUP(F322,Vertices!$A$11:$J$203,9,FALSE )-$E$7","v":{"v":26,"d":"26.00"}},{"$f":"Faces!D322","v":121},{"$f":"VLOOKUP(J322,Vertices!$A$11:$J$203,7,FALSE )-$C$7","v":{"v":-7.104999999999997,"d":"-7.11"}},{"$f":"VLOOKUP(J322,Vertices!$A$11:$J$203,8,FALSE )-$D$7","v":{"v":-56.2,"d":"-56.20"}},{"$f":"VLOOKUP(J322,Vertices!$A$11:$J$203,9,FALSE )-$E$7","v":22.36},{"v":1775.5527643333328,"d":"1775.55"},{"v":1775.5527643333328,"d":"1775.55"}]
[{"$f":"Faces!A323","v":313},{"$f":"Faces!B323","v":111},{"$f":"VLOOKUP(B323,Vertices!$A$11:$J$203,7,FALSE )-$C$7","v":{"v":24.355000000000004,"d":"24.36"}},{"$f":"VLOOKUP(B323,Vertices!$A$11:$J$203,8,FALSE )-$D$7","v":-4.38},{"$f":"VLOOKUP(B323,Vertices!$A$11:$J$203,9,FALSE )-$E$7","v":78.06},{"$f":"Faces!C323","v":117},{"$f":"VLOOKUP(F323,Vertices!$A$11:$J$203,7,FALSE )-$C$7","v":{"v":21.295,"d":"21.30"}},{"$f":"VLOOKUP(F323,Vertices!$A$11:$J$203,8,FALSE )-$D$7","v":-8.64},{"$f":"VLOOKUP(F323,Vertices!$A$11:$J$203,9,FALSE )-$E$7","v":72.46},{"$f":"Faces!D323","v":137},{"$f":"VLOOKUP(J323,Vertices!$A$11:$J$203,7,FALSE )-$C$7","v":{"v":11.415,"d":"11.42"}},{"$f":"VLOOKUP(J323,Vertices!$A$11:$J$203,8,FALSE )-$D$7","v":-4.63},{"$f":"VLOOKUP(J323,Vertices!$A$11:$J$203,9,FALSE )-$E$7","v":63.27},{"v":477.0100258333332,"d":"477.01"},{"v":477.0100258333332,"d":"477.01"}]
[{"$f":"Faces!A324","v":314},{"$f":"Faces!B324","v":137},{"$f":"VLOOKUP(B324,Vertices!$A$11:$J$203,7,FALSE )-$C$7","v":{"v":11.415,"d":"11.42"}},{"$f":"VLOOKUP(B324,Vertices!$A$11:$J$203,8,FALSE )-$D$7","v":-4.63},{"$f":"VLOOKUP(B324,Vertices!$A$11:$J$203,9,FALSE )-$E$7","v":63.27},{"$f":"Faces!C324","v":117},{"$f":"VLOOKUP(F324,Vertices!$A$11:$J$203,7,FALSE )-$C$7","v":{"v":21.295,"d":"21.30"}},{"$f":"VLOOKUP(F324,Vertices!$A$11:$J$203,8,FALSE )-$D$7","v":-8.64},{"$f":"VLOOKUP(F324,Vertices!$A$11:$J$203,9,FALSE )-$E$7","v":72.46},{"$f":"Faces!D324","v":142},{"$f":"VLOOKUP(J324,Vertices!$A$11:$J$203,7,FALSE )-$C$7","v":{"v":6.344999999999999,"d":"6.35"}},{"$f":"VLOOKUP(J324,Vertices!$A$11:$J$203,8,FALSE )-$D$7","v":-11.85},{"$f":"VLOOKUP(J324,Vertices!$A$11:$J$203,9,FALSE )-$E$7","v":53.93},{"v":804.364936666667,"d":"804.36"},{"v":804.364936666667,"d":"804.36"}]
[{"$f":"Faces!A325","v":315},{"$f":"Faces!B325","v":117},{"$f":"VLOOKUP(B325,Vertices!$A$11:$J$203,7,FALSE )-$C$7","v":{"v":21.295,"d":"21.30"}},{"$f":"VLOOKUP(B325,Vertices!$A$11:$J$203,8,FALSE )-$D$7","v":-8.64},{"$f":"VLOOKUP(B325,Vertices!$A$11:$J$203,9,FALSE )-$E$7","v":72.46},{"$f":"Faces!C325","v":118},{"$f":"VLOOKUP(F325,Vertices!$A$11:$J$203,7,FALSE )-$C$7","v":{"v":18.105000000000004,"d":"18.11"}},{"$f":"VLOOKUP(F325,Vertices!$A$11:$J$203,8,FALSE )-$D$7","v":-13.02},{"$f":"VLOOKUP(F325,Vertices!$A$11:$J$203,9,FALSE )-$E$7","v":66.66},{"$f":"Faces!D325","v":142},{"$f":"VLOOKUP(J325,Vertices!$A$11:$J$203,7,FALSE )-$C$7","v":{"v":6.344999999999999,"d":"6.35"}},{"$f":"VLOOKUP(J325,Vertices!$A$11:$J$203,8,FALSE )-$D$7","v":-11.85},{"$f":"VLOOKUP(J325,Vertices!$A$11:$J$203,9,FALSE )-$E$7","v":53.93},{"v":484.89439249999924,"d":"484.89"},{"v":484.89439249999924,"d":"484.89"}]
[{"$f":"Faces!A326","v":316},{"$f":"Faces!B326","v":118},{"$f":"VLOOKUP(B326,Vertices!$A$11:$J$203,7,FALSE )-$C$7","v":{"v":18.105000000000004,"d":"18.11"}},{"$f":"VLOOKUP(B326,Vertices!$A$11:$J$203,8,FALSE )-$D$7","v":-13.02},{"$f":"VLOOKUP(B326,Vertices!$A$11:$J$203,9,FALSE )-$E$7","v":66.66},{"$f":"Faces!C326","v":143},{"$f":"VLOOKUP(F326,Vertices!$A$11:$J$203,7,FALSE )-$C$7","v":{"v":1.1850000000000023,"d":"1.19"}},{"$f":"VLOOKUP(F326,Vertices!$A$11:$J$203,8,FALSE )-$D$7","v":-19.78},{"$f":"VLOOKUP(F326,Vertices!$A$11:$J$203,9,FALSE )-$E$7","v":44.88},{"$f":"Faces!D326","v":142},{"$f":"VLOOKUP(J326,Vertices!$A$11:$J$203,7,FALSE )-$C$7","v":{"v":6.344999999999999,"d":"6.35"}},{"$f":"VLOOKUP(J326,Vertices!$A$11:$J$203,8,FALSE )-$D$7","v":-11.85},{"$f":"VLOOKUP(J326,Vertices!$A$11:$J$203,9,FALSE )-$E$7","v":53.93},{"v":855.000639500001,"d":"855.00"},{"v":855.000639500001,"d":"855.00"}]
[{"$f":"Faces!A327","v":317},{"$f":"Faces!B327","v":118},{"$f":"VLOOKUP(B327,Vertices!$A$11:$J$203,7,FALSE )-$C$7","v":{"v":18.105000000000004,"d":"18.11"}},{"$f":"VLOOKUP(B327,Vertices!$A$11:$J$203,8,FALSE )-$D$7","v":-13.02},{"$f":"VLOOKUP(B327,Vertices!$A$11:$J$203,9,FALSE )-$E$7","v":66.66},{"$f":"Faces!C327","v":119},{"$f":"VLOOKUP(F327,Vertices!$A$11:$J$203,7,FALSE )-$C$7","v":{"v":11.665,"d":"11.67"}},{"$f":"VLOOKUP(F327,Vertices!$A$11:$J$203,8,FALSE )-$D$7","v":-22.54},{"$f":"VLOOKUP(F327,Vertices!$A$11:$J$203,9,FALSE )-$E$7","v":55.19},{"$f":"Faces!D327","v":143},{"$f":"VLOOKUP(J327,Vertices!$A$11:$J$203,7,FALSE )-$C$7","v":{"v":1.1850000000000023,"d":"1.19"}},{"$f":"VLOOKUP(J327,Vertices!$A$11:$J$203,8,FALSE )-$D$7","v":-19.78},{"$f":"VLOOKUP(J327,Vertices!$A$11:$J$203,9,FALSE )-$E$7","v":44.88},{"v":1030.982956999999,"d":"1030.98"},{"v":1030.982956999999,"d":"1030.98"}]
[{"$f":"Faces!A328","v":318},{"$f":"Faces!B328","v":119},{"$f":"VLOOKUP(B328,Vertices!$A$11:$J$203,7,FALSE )-$C$7","v":{"v":11.665,"d":"11.67"}},{"$f":"VLOOKUP(B328,Vertices!$A$11:$J$203,8,FALSE )-$D$7","v":-22.54},{"$f":"VLOOKUP(B328,Vertices!$A$11:$J$203,9,FALSE )-$E$7","v":55.19},{"$f":"Faces!C328","v":144},{"$f":"VLOOKUP(F328,Vertices!$A$11:$J$203,7,FALSE )-$C$7","v":{"v":-6.704999999999998,"d":"-6.71"}},{"$f":"VLOOKUP(F328,Vertices!$A$11:$J$203,8,FALSE )-$D$7","v":-33.19},{"$f":"VLOOKUP(F328,Vertices!$A$11:$J$203,9,FALSE )-$E$7","v":30.74},{"$f":"Faces!D328","v":143},{"$f":"VLOOKUP(J328,Vertices!$A$11:$J$203,7,FALSE )-$C$7","v":{"v":1.1850000000000023,"d":"1.19"}},{"$f":"VLOOKUP(J328,Vertices!$A$11:$J$203,8,FALSE )-$D$7","v":-19.78},{"$f":"VLOOKUP(J328,Vertices!$A$11:$J$203,9,FALSE )-$E$7","v":44.88},{"v":1399.4427304166668,"d":"1399.44"},{"v":1399.4427304166668,"d":"1399.44"}]
[{"$f":"Faces!A329","v":319},{"$f":"Faces!B329","v":119},{"$f":"VLOOKUP(B329,Vertices!$A$11:$J$203,7,FALSE )-$C$7","v":{"v":11.665,"d":"11.67"}},{"$f":"VLOOKUP(B329,Vertices!$A$11:$J$203,8,FALSE )-$D$7","v":-22.54},{"$f":"VLOOKUP(B329,Vertices!$A$11:$J$203,9,FALSE )-$E$7","v":55.19},{"$f":"Faces!C329","v":120},{"$f":"VLOOKUP(F329,Vertices!$A$11:$J$203,7,FALSE )-$C$7","v":{"v":1.7550000000000026,"d":"1.76"}},{"$f":"VLOOKUP(F329,Vertices!$A$11:$J$203,8,FALSE )-$D$7","v":-39.17},{"$f":"VLOOKUP(F329,Vertices!$A$11:$J$203,9,FALSE )-$E$7","v":37.72},{"$f":"Faces!D329","v":144},{"$f":"VLOOKUP(J329,Vertices!$A$11:$J$203,7,FALSE )-$C$7","v":{"v":-6.704999999999998,"d":"-6.71"}},{"$f":"VLOOKUP(J329,Vertices!$A$11:$J$203,8,FALSE )-$D$7","v":-33.19},{"$f":"VLOOKUP(J329,Vertices!$A$11:$J$203,9,FALSE )-$E$7","v":30.74},{"v":1705.80506,"d":"1705.81"},{"v":1705.80506,"d":"1705.81"}]
[{"$f":"Faces!A330","v":320},{"$f":"Faces!B330","v":120},{"$f":"VLOOKUP(B330,Vertices!$A$11:$J$203,7,FALSE )-$C$7","v":{"v":1.7550000000000026,"d":"1.76"}},{"$f":"VLOOKUP(B330,Vertices!$A$11:$J$203,8,FALSE )-$D$7","v":-39.17},{"$f":"VLOOKUP(B330,Vertices!$A$11:$J$203,9,FALSE )-$E$7","v":37.72},{"$f":"Faces!C330","v":145},{"$f":"VLOOKUP(F330,Vertices!$A$11:$J$203,7,FALSE )-$C$7","v":{"v":-13.555,"d":"-13.56"}},{"$f":"VLOOKUP(F330,Vertices!$A$11:$J$203,8,FALSE )-$D$7","v":-46.57},{"$f":"VLOOKUP(F330,Vertices!$A$11:$J$203,9,FALSE )-$E$7","v":18.61},{"$f":"Faces!D330","v":144},{"$f":"VLOOKUP(J330,Vertices!$A$11:$J$203,7,FALSE )-$C$7","v":{"v":-6.704999999999998,"d":"-6.71"}},{"$f":"VLOOKUP(J330,Vertices!$A$11:$J$203,8,FALSE )-$D$7","v":-33.19},{"$f":"VLOOKUP(J330,Vertices!$A$11:$J$203,9,FALSE )-$E$7","v":30.74},{"v":1278.4012955000005,"d":"1278.40"},{"v":1278.4012955000005,"d":"1278.40"}]
[{"$f":"Faces!A331","v":321},{"$f":"Faces!B331","v":120},{"$f":"VLOOKUP(B331,Vertices!$A$11:$J$203,7,FALSE )-$C$7","v":{"v":1.7550000000000026,"d":"1.76"}},{"$f":"VLOOKUP(B331,Vertices!$A$11:$J$203,8,FALSE )-$D$7","v":-39.17},{"$f":"VLOOKUP(B331,Vertices!$A$11:$J$203,9,FALSE )-$E$7","v":37.72},{"$f":"Faces!C331","v":121},{"$f":"VLOOKUP(F331,Vertices!$A$11:$J$203,7,FALSE )-$C$7","v":{"v":-7.104999999999997,"d":"-7.11"}},{"$f":"VLOOKUP(F331,Vertices!$A$11:$J$203,8,FALSE )-$D$7","v":{"v":-56.2,"d":"-56.20"}},{"$f":"VLOOKUP(F331,Vertices!$A$11:$J$203,9,FALSE )-$E$7","v":22.36},{"$f":"Faces!D331","v":145},{"$f":"VLOOKUP(J331,Vertices!$A$11:$J$203,7,FALSE )-$C$7","v":{"v":-13.555,"d":"-13.56"}},{"$f":"VLOOKUP(J331,Vertices!$A$11:$J$203,8,FALSE )-$D$7","v":-46.57},{"$f":"VLOOKUP(J331,Vertices!$A$11:$J$203,9,FALSE )-$E$7","v":18.61},{"v":1594.86490575,"d":"1594.86"},{"v":1594.86490575,"d":"1594.86"}]
[{"$f":"Faces!A332","v":322},{"$f":"Faces!B332","v":137},{"$f":"VLOOKUP(B332,Vertices!$A$11:$J$203,7,FALSE )-$C$7","v":{"v":11.415,"d":"11.42"}},{"$f":"VLOOKUP(B332,Vertices!$A$11:$J$203,8,FALSE )-$D$7","v":-4.63},{"$f":"VLOOKUP(B332,Vertices!$A$11:$J$203,9,FALSE )-$E$7","v":63.27},{"$f":"Faces!C332","v":166},{"$f":"VLOOKUP(F332,Vertices!$A$11:$J$203,7,FALSE )-$C$7","v":{"v":-5.905000000000001,"d":"-5.91"}},{"$f":"VLOOKUP(F332,Vertices!$A$11:$J$203,8,FALSE )-$D$7","v":-10.43},{"$f":"VLOOKUP(F332,Vertices!$A$11:$J$203,9,FALSE )-$E$7","v":41.25},{"$f":"Faces!D332","v":161},{"$f":"VLOOKUP(J332,Vertices!$A$11:$J$203,7,FALSE )-$C$7","v":{"v":-2.0150000000000006,"d":"-2.02"}},{"$f":"VLOOKUP(J332,Vertices!$A$11:$J$203,8,FALSE )-$D$7","v":{"v":-4.7,"d":"-4.70"}},{"$f":"VLOOKUP(J332,Vertices!$A$11:$J$203,9,FALSE )-$E$7","v":48.48},{"$f":"-1*(C332*H332*M332+D332*I332*K332+E332*G332*L332-C332*I332*L332-D332*G332*M332-E332*H332*K332)/6","v":{"v":678.8713395,"d":"678.87"}},{"$f":"ABS(N332)","v":{"v":678.8713395,"d":"678.87"}}]
[{"$f":"Faces!A333","v":323},{"$f":"Faces!B333","v":137},{"$f":"VLOOKUP(B333,Vertices!$A$11:$J$203,7,FALSE )-$C$7","v":{"v":11.415,"d":"11.42"}},{"$f":"VLOOKUP(B333,Vertices!$A$11:$J$203,8,FALSE )-$D$7","v":-4.63},{"$f":"VLOOKUP(B333,Vertices!$A$11:$J$203,9,FALSE )-$E$7","v":63.27},{"$f":"Faces!C333","v":142},{"$f":"VLOOKUP(F333,Vertices!$A$11:$J$203,7,FALSE )-$C$7","v":{"v":6.344999999999999,"d":"6.35"}},{"$f":"VLOOKUP(F333,Vertices!$A$11:$J$203,8,FALSE )-$D$7","v":-11.85},{"$f":"VLOOKUP(F333,Vertices!$A$11:$J$203,9,FALSE )-$E$7","v":53.93},{"$f":"Faces!D333","v":166},{"$f":"VLOOKUP(J333,Vertices!$A$11:$J$203,7,FALSE )-$C$7","v":{"v":-5.905000000000001,"d":"-5.91"}},{"$f":"VLOOKUP(J333,Vertices!$A$11:$J$203,8,FALSE )-$D$7","v":-10.43},{"$f":"VLOOKUP(J333,Vertices!$A$11:$J$203,9,FALSE )-$E$7","v":41.25},{"v":847.8462506666666,"d":"847.85"},{"v":847.8462506666666,"d":"847.85"}]
[{"$f":"Faces!A334","v":324},{"$f":"Faces!B334","v":142},{"$f":"VLOOKUP(B334,Vertices!$A$11:$J$203,7,FALSE )-$C$7","v":{"v":6.344999999999999,"d":"6.35"}},{"$f":"VLOOKUP(B334,Vertices!$A$11:$J$203,8,FALSE )-$D$7","v":-11.85},{"$f":"VLOOKUP(B334,Vertices!$A$11:$J$203,9,FALSE )-$E$7","v":53.93},{"$f":"Faces!C334","v":167},{"$f":"VLOOKUP(F334,Vertices!$A$11:$J$203,7,FALSE )-$C$7","v":{"v":-9.704999999999998,"d":"-9.71"}},{"$f":"VLOOKUP(F334,Vertices!$A$11:$J$203,8,FALSE )-$D$7","v":-16.62},{"$f":"VLOOKUP(F334,Vertices!$A$11:$J$203,9,FALSE )-$E$7","v":34.35},{"$f":"Faces!D334","v":166},{"$f":"VLOOKUP(J334,Vertices!$A$11:$J$203,7,FALSE )-$C$7","v":{"v":-5.905000000000001,"d":"-5.91"}},{"$f":"VLOOKUP(J334,Vertices!$A$11:$J$203,8,FALSE )-$D$7","v":-10.43},{"$f":"VLOOKUP(J334,Vertices!$A$11:$J$203,9,FALSE )-$E$7","v":41.25},{"v":708.4736534999998,"d":"708.47"},{"v":708.4736534999998,"d":"708.47"}]
[{"$f":"Faces!A335","v":325},{"$f":"Faces!B335","v":142},{"$f":"VLOOKUP(B335,Vertices!$A$11:$J$203,7,FALSE )-$C$7","v":{"v":6.344999999999999,"d":"6.35"}},{"$f":"VLOOKUP(B335,Vertices!$A$11:$J$203,8,FALSE )-$D$7","v":-11.85},{"$f":"VLOOKUP(B335,Vertices!$A$11:$J$203,9,FALSE )-$E$7","v":53.93},{"$f":"Faces!C335","v":143},{"$f":"VLOOKUP(F335,Vertices!$A$11:$J$203,7,FALSE )-$C$7","v":{"v":1.1850000000000023,"d":"1.19"}},{"$f":"VLOOKUP(F335,Vertices!$A$11:$J$203,8,FALSE )-$D$7","v":-19.78},{"$f":"VLOOKUP(F335,Vertices!$A$11:$J$203,9,FALSE )-$E$7","v":44.88},{"$f":"Faces!D335","v":167},{"$f":"VLOOKUP(J335,Vertices!$A$11:$J$203,7,FALSE )-$C$7","v":{"v":-9.704999999999998,"d":"-9.71"}},{"$f":"VLOOKUP(J335,Vertices!$A$11:$J$203,8,FALSE )-$D$7","v":-16.62},{"$f":"VLOOKUP(J335,Vertices!$A$11:$J$203,9,FALSE )-$E$7","v":34.35},{"v":891.5591672500001,"d":"891.56"},{"v":891.5591672500001,"d":"891.56"}]
[{"$f":"Faces!A336","v":326},{"$f":"Faces!B336","v":143},{"$f":"VLOOKUP(B336,Vertices!$A$11:$J$203,7,FALSE )-$C$7","v":{"v":1.1850000000000023,"d":"1.19"}},{"$f":"VLOOKUP(B336,Vertices!$A$11:$J$203,8,FALSE )-$D$7","v":-19.78},{"$f":"VLOOKUP(B336,Vertices!$A$11:$J$203,9,FALSE )-$E$7","v":44.88},{"$f":"Faces!C336","v":168},{"$f":"VLOOKUP(F336,Vertices!$A$11:$J$203,7,FALSE )-$C$7","v":{"v":-15.555,"d":"-15.56"}},{"$f":"VLOOKUP(F336,Vertices!$A$11:$J$203,8,FALSE )-$D$7","v":-26.85},{"$f":"VLOOKUP(F336,Vertices!$A$11:$J$203,9,FALSE )-$E$7","v":23.63},{"$f":"Faces!D336","v":167},{"$f":"VLOOKUP(J336,Vertices!$A$11:$J$203,7,FALSE )-$C$7","v":{"v":-9.704999999999998,"d":"-9.71"}},{"$f":"VLOOKUP(J336,Vertices!$A$11:$J$203,8,FALSE )-$D$7","v":-16.62},{"$f":"VLOOKUP(J336,Vertices!$A$11:$J$203,9,FALSE )-$E$7","v":34.35},{"v":1125.3961977499996,"d":"1125.40"},{"v":1125.3961977499996,"d":"1125.40"}]
[{"$f":"Faces!A337","v":327},{"$f":"Faces!B337","v":143},{"$f":"VLOOKUP(B337,Vertices!$A$11:$J$203,7,FALSE )-$C$7","v":{"v":1.1850000000000023,"d":"1.19"}},{"$f":"VLOOKUP(B337,Vertices!$A$11:$J$203,8,FALSE )-$D$7","v":-19.78},{"$f":"VLOOKUP(B337,Vertices!$A$11:$J$203,9,FALSE )-$E$7","v":44.88},{"$f":"Faces!C337","v":144},{"$f":"VLOOKUP(F337,Vertices!$A$11:$J$203,7,FALSE )-$C$7","v":{"v":-6.704999999999998,"d":"-6.71"}},{"$f":"VLOOKUP(F337,Vertices!$A$11:$J$203,8,FALSE )-$D$7","v":-33.19},{"$f":"VLOOKUP(F337,Vertices!$A$11:$J$203,9,FALSE )-$E$7","v":30.74},{"$f":"Faces!D337","v":168},{"$f":"VLOOKUP(J337,Vertices!$A$11:$J$203,7,FALSE )-$C$7","v":{"v":-15.555,"d":"-15.56"}},{"$f":"VLOOKUP(J337,Vertices!$A$11:$J$203,8,FALSE )-$D$7","v":-26.85},{"$f":"VLOOKUP(J337,Vertices!$A$11:$J$203,9,FALSE )-$E$7","v":23.63},{"v":1452.9536627500001,"d":"1452.95"},{"v":1452.9536627500001,"d":"1452.95"}]
[{"$f":"Faces!A338","v":328},{"$f":"Faces!B338","v":144},{"$f":"VLOOKUP(B338,Vertices!$A$11:$J$203,7,FALSE )-$C$7","v":{"v":-6.704999999999998,"d":"-6.71"}},{"$f":"VLOOKUP(B338,Vertices!$A$11:$J$203,8,FALSE )-$D$7","v":-33.19},{"$f":"VLOOKUP(B338,Vertices!$A$11:$J$203,9,FALSE )-$E$7","v":30.74},{"$f":"Faces!C338","v":169},{"$f":"VLOOKUP(F338,Vertices!$A$11:$J$203,7,FALSE )-$C$7","v":{"v":-20.525,"d":"-20.53"}},{"$f":"VLOOKUP(F338,Vertices!$A$11:$J$203,8,FALSE )-$D$7","v":-36.82},{"$f":"VLOOKUP(F338,Vertices!$A$11:$J$203,9,FALSE )-$E$7","v":14.62},{"$f":"Faces!D338","v":168},{"$f":"VLOOKUP(J338,Vertices!$A$11:$J$203,7,FALSE )-$C$7","v":{"v":-15.555,"d":"-15.56"}},{"$f":"VLOOKUP(J338,Vertices!$A$11:$J$203,8,FALSE )-$D$7","v":-26.85},{"$f":"VLOOKUP(J338,Vertices!$A$11:$J$203,9,FALSE )-$E$7","v":23.63},{"v":1002.1572074166655,"d":"1002.16"},{"v":1002.1572074166655,"d":"1002.16"}]
[{"$f":"Faces!A339","v":329},{"$f":"Faces!B339","v":144},{"$f":"VLOOKUP(B339,Vertices!$A$11:$J$203,7,FALSE )-$C$7","v":{"v":-6.704999999999998,"d":"-6.71"}},{"$f":"VLOOKUP(B339,Vertices!$A$11:$J$203,8,FALSE )-$D$7","v":-33.19},{"$f":"VLOOKUP(B339,Vertices!$A$11:$J$203,9,FALSE )-$E$7","v":30.74},{"$f":"Faces!C339","v":145},{"$f":"VLOOKUP(F339,Vertices!$A$11:$J$203,7,FALSE )-$C$7","v":{"v":-13.555,"d":"-13.56"}},{"$f":"VLOOKUP(F339,Vertices!$A$11:$J$203,8,FALSE )-$D$7","v":-46.57},{"$f":"VLOOKUP(F339,Vertices!$A$11:$J$203,9,FALSE )-$E$7","v":18.61},{"$f":"Faces!D339","v":169},{"$f":"VLOOKUP(J339,Vertices!$A$11:$J$203,7,FALSE )-$C$7","v":{"v":-20.525,"d":"-20.53"}},{"$f":"VLOOKUP(J339,Vertices!$A$11:$J$203,8,FALSE )-$D$7","v":-36.82},{"$f":"VLOOKUP(J339,Vertices!$A$11:$J$203,9,FALSE )-$E$7","v":14.62},{"v":1328.284624416666,"d":"1328.28"},{"v":1328.284624416666,"d":"1328.28"}]
[{"$f":"Faces!A340","v":330},{"$f":"Faces!B340","v":161},{"$f":"VLOOKUP(B340,Vertices!$A$11:$J$203,7,FALSE )-$C$7","v":{"v":-2.0150000000000006,"d":"-2.02"}},{"$f":"VLOOKUP(B340,Vertices!$A$11:$J$203,8,FALSE )-$D$7","v":{"v":-4.7,"d":"-4.70"}},{"$f":"VLOOKUP(B340,Vertices!$A$11:$J$203,9,FALSE )-$E$7","v":48.48},{"$f":"Faces!C340","v":166},{"$f":"VLOOKUP(F340,Vertices!$A$11:$J$203,7,FALSE )-$C$7","v":{"v":-5.905000000000001,"d":"-5.91"}},{"$f":"VLOOKUP(F340,Vertices!$A$11:$J$203,8,FALSE )-$D$7","v":-10.43},{"$f":"VLOOKUP(F340,Vertices!$A$11:$J$203,9,FALSE )-$E$7","v":41.25},{"$f":"Faces!D340","v":181},{"$f":"VLOOKUP(J340,Vertices!$A$11:$J$203,7,FALSE )-$C$7","v":{"v":-18.045,"d":"-18.05"}},{"$f":"VLOOKUP(J340,Vertices!$A$11:$J$203,8,FALSE )-$D$7","v":-4.52},{"$f":"VLOOKUP(J340,Vertices!$A$11:$J$203,9,FALSE )-$E$7","v":30.96},{"v":819.3717405000001,"d":"819.37"},{"v":819.3717405000001,"d":"819.37"}]
[{"$f":"Faces!A341","v":331},{"$f":"Faces!B341","v":166},{"$f":"VLOOKUP(B341,Vertices!$A$11:$J$203,7,FALSE )-$C$7","v":{"v":-5.905000000000001,"d":"-5.91"}},{"$f":"VLOOKUP(B341,Vertices!$A$11:$J$203,8,FALSE )-$D$7","v":-10.43},{"$f":"VLOOKUP(B341,Vertices!$A$11:$J$203,9,FALSE )-$E$7","v":41.25},{"$f":"Faces!C341","v":185},{"$f":"VLOOKUP(F341,Vertices!$A$11:$J$203,7,FALSE )-$C$7","v":{"v":-22.724999999999998,"d":"-22.73"}},{"$f":"VLOOKUP(F341,Vertices!$A$11:$J$203,8,FALSE )-$D$7","v":{"v":-12,"d":"-12.00"}},{"$f":"VLOOKUP(F341,Vertices!$A$11:$J$203,9,FALSE )-$E$7","v":22.34},{"$f":"Faces!D341","v":181},{"$f":"VLOOKUP(J341,Vertices!$A$11:$J$203,7,FALSE )-$C$7","v":{"v":-18.045,"d":"-18.05"}},{"$f":"VLOOKUP(J341,Vertices!$A$11:$J$203,8,FALSE )-$D$7","v":-4.52},{"$f":"VLOOKUP(J341,Vertices!$A$11:$J$203,9,FALSE )-$E$7","v":30.96},{"v":1038.5396091666669,"d":"1038.54"},{"v":1038.5396091666669,"d":"1038.54"}]
[{"$f":"Faces!A342","v":332},{"$f":"Faces!B342","v":166},{"$f":"VLOOKUP(B342,Vertices!$A$11:$J$203,7,FALSE )-$C$7","v":{"v":-5.905000000000001,"d":"-5.91"}},{"$f":"VLOOKUP(B342,Vertices!$A$11:$J$203,8,FALSE )-$D$7","v":-10.43},{"$f":"VLOOKUP(B342,Vertices!$A$11:$J$203,9,FALSE )-$E$7","v":41.25},{"$f":"Faces!C342","v":167},{"$f":"VLOOKUP(F342,Vertices!$A$11:$J$203,7,FALSE )-$C$7","v":{"v":-9.704999999999998,"d":"-9.71"}},{"$f":"VLOOKUP(F342,Vertices!$A$11:$J$203,8,FALSE )-$D$7","v":-16.62},{"$f":"VLOOKUP(F342,Vertices!$A$11:$J$203,9,FALSE )-$E$7","v":34.35},{"$f":"Faces!D342","v":185},{"$f":"VLOOKUP(J342,Vertices!$A$11:$J$203,7,FALSE )-$C$7","v":{"v":-22.724999999999998,"d":"-22.73"}},{"$f":"VLOOKUP(J342,Vertices!$A$11:$J$203,8,FALSE )-$D$7","v":{"v":-12,"d":"-12.00"}},{"$f":"VLOOKUP(J342,Vertices!$A$11:$J$203,9,FALSE )-$E$7","v":22.34},{"v":856.1522932500005,"d":"856.15"},{"v":856.1522932500005,"d":"856.15"}]
[{"$f":"Faces!A343","v":333},{"$f":"Faces!B343","v":167},{"$f":"VLOOKUP(B343,Vertices!$A$11:$J$203,7,FALSE )-$C$7","v":{"v":-9.704999999999998,"d":"-9.71"}},{"$f":"VLOOKUP(B343,Vertices!$A$11:$J$203,8,FALSE )-$D$7","v":-16.62},{"$f":"VLOOKUP(B343,Vertices!$A$11:$J$203,9,FALSE )-$E$7","v":34.35},{"$f":"Faces!C343","v":186},{"$f":"VLOOKUP(F343,Vertices!$A$11:$J$203,7,FALSE )-$C$7","v":{"v":-26.375,"d":"-26.38"}},{"$f":"VLOOKUP(F343,Vertices!$A$11:$J$203,8,FALSE )-$D$7","v":-19.51},{"$f":"VLOOKUP(F343,Vertices!$A$11:$J$203,9,FALSE )-$E$7","v":15.39},{"$f":"Faces!D343","v":185},{"$f":"VLOOKUP(J343,Vertices!$A$11:$J$203,7,FALSE )-$C$7","v":{"v":-22.724999999999998,"d":"-22.73"}},{"$f":"VLOOKUP(J343,Vertices!$A$11:$J$203,8,FALSE )-$D$7","v":{"v":-12,"d":"-12.00"}},{"$f":"VLOOKUP(J343,Vertices!$A$11:$J$203,9,FALSE )-$E$7","v":22.34},{"v":983.3866267499998,"d":"983.39"},{"v":983.3866267499998,"d":"983.39"}]
[{"$f":"Faces!A344","v":334},{"$f":"Faces!B344","v":167},{"$f":"VLOOKUP(B344,Vertices!$A$11:$J$203,7,FALSE )-$C$7","v":{"v":-9.704999999999998,"d":"-9.71"}},{"$f":"VLOOKUP(B344,Vertices!$A$11:$J$203,8,FALSE )-$D$7","v":-16.62},{"$f":"VLOOKUP(B344,Vertices!$A$11:$J$203,9,FALSE )-$E$7","v":34.35},{"$f":"Faces!C344","v":168},{"$f":"VLOOKUP(F344,Vertices!$A$11:$J$203,7,FALSE )-$C$7","v":{"v":-15.555,"d":"-15.56"}},{"$f":"VLOOKUP(F344,Vertices!$A$11:$J$203,8,FALSE )-$D$7","v":-26.85},{"$f":"VLOOKUP(F344,Vertices!$A$11:$J$203,9,FALSE )-$E$7","v":23.63},{"$f":"Faces!D344","v":186},{"$f":"VLOOKUP(J344,Vertices!$A$11:$J$203,7,FALSE )-$C$7","v":{"v":-26.375,"d":"-26.38"}},{"$f":"VLOOKUP(J344,Vertices!$A$11:$J$203,8,FALSE )-$D$7","v":-19.51},{"$f":"VLOOKUP(J344,Vertices!$A$11:$J$203,9,FALSE )-$E$7","v":15.39},{"v":1330.9064879999999,"d":"1330.91"},{"v":1330.9064879999999,"d":"1330.91"}]
[{"$f":"Faces!A345","v":335},{"$f":"Faces!B345","v":168},{"$f":"VLOOKUP(B345,Vertices!$A$11:$J$203,7,FALSE )-$C$7","v":{"v":-15.555,"d":"-15.56"}},{"$f":"VLOOKUP(B345,Vertices!$A$11:$J$203,8,FALSE )-$D$7","v":-26.85},{"$f":"VLOOKUP(B345,Vertices!$A$11:$J$203,9,FALSE )-$E$7","v":23.63},{"$f":"Faces!C345","v":187},{"$f":"VLOOKUP(F345,Vertices!$A$11:$J$203,7,FALSE )-$C$7","v":{"v":-29.904999999999998,"d":"-29.91"}},{"$f":"VLOOKUP(F345,Vertices!$A$11:$J$203,8,FALSE )-$D$7","v":{"v":-25.5,"d":"-25.50"}},{"$f":"VLOOKUP(F345,Vertices!$A$11:$J$203,9,FALSE )-$E$7","v":9.39},{"$f":"Faces!D345","v":186},{"$f":"VLOOKUP(J345,Vertices!$A$11:$J$203,7,FALSE )-$C$7","v":{"v":-26.375,"d":"-26.38"}},{"$f":"VLOOKUP(J345,Vertices!$A$11:$J$203,8,FALSE )-$D$7","v":-19.51},{"$f":"VLOOKUP(J345,Vertices!$A$11:$J$203,9,FALSE )-$E$7","v":15.39},{"v":759.778534666666,"d":"759.78"},{"v":759.778534666666,"d":"759.78"}]
[{"$f":"Faces!A346","v":336},{"$f":"Faces!B346","v":168},{"$f":"VLOOKUP(B346,Vertices!$A$11:$J$203,7,FALSE )-$C$7","v":{"v":-15.555,"d":"-15.56"}},{"$f":"VLOOKUP(B346,Vertices!$A$11:$J$203,8,FALSE )-$D$7","v":-26.85},{"$f":"VLOOKUP(B346,Vertices!$A$11:$J$203,9,FALSE )-$E$7","v":23.63},{"$f":"Faces!C346","v":169},{"$f":"VLOOKUP(F346,Vertices!$A$11:$J$203,7,FALSE )-$C$7","v":{"v":-20.525,"d":"-20.53"}},{"$f":"VLOOKUP(F346,Vertices!$A$11:$J$203,8,FALSE )-$D$7","v":-36.82},{"$f":"VLOOKUP(F346,Vertices!$A$11:$J$203,9,FALSE )-$E$7","v":14.62},{"$f":"Faces!D346","v":187},{"$f":"VLOOKUP(J346,Vertices!$A$11:$J$203,7,FALSE )-$C$7","v":{"v":-29.904999999999998,"d":"-29.91"}},{"$f":"VLOOKUP(J346,Vertices!$A$11:$J$203,8,FALSE )-$D$7","v":{"v":-25.5,"d":"-25.50"}},{"$f":"VLOOKUP(J346,Vertices!$A$11:$J$203,9,FALSE )-$E$7","v":9.39},{"v":1251.3581185833336,"d":"1251.36"},{"v":1251.3581185833336,"d":"1251.36"}]
[{"$f":"Faces!A347","v":337},{"$f":"Faces!B347","v":181},{"$f":"VLOOKUP(B347,Vertices!$A$11:$J$203,7,FALSE )-$C$7","v":{"v":-18.045,"d":"-18.05"}},{"$f":"VLOOKUP(B347,Vertices!$A$11:$J$203,8,FALSE )-$D$7","v":-4.52},{"$f":"VLOOKUP(B347,Vertices!$A$11:$J$203,9,FALSE )-$E$7","v":30.96},{"$f":"Faces!C347","v":185},{"$f":"VLOOKUP(F347,Vertices!$A$11:$J$203,7,FALSE )-$C$7","v":{"v":-22.724999999999998,"d":"-22.73"}},{"$f":"VLOOKUP(F347,Vertices!$A$11:$J$203,8,FALSE )-$D$7","v":{"v":-12,"d":"-12.00"}},{"$f":"VLOOKUP(F347,Vertices!$A$11:$J$203,9,FALSE )-$E$7","v":22.34},{"$f":"Faces!D347","v":191},{"$f":"VLOOKUP(J347,Vertices!$A$11:$J$203,7,FALSE )-$C$7","v":{"v":-35.265,"d":"-35.27"}},{"$f":"VLOOKUP(J347,Vertices!$A$11:$J$203,8,FALSE )-$D$7","v":-4.31},{"$f":"VLOOKUP(J347,Vertices!$A$11:$J$203,9,FALSE )-$E$7","v":11.95},{"v":1147.6036135000002,"d":"1147.60"},{"v":1147.6036135000002,"d":"1147.60"}]
[{"$f":"Faces!A348","v":338},{"$f":"Faces!B348","v":185},{"$f":"VLOOKUP(B348,Vertices!$A$11:$J$203,7,FALSE )-$C$7","v":{"v":-22.724999999999998,"d":"-22.73"}},{"$f":"VLOOKUP(B348,Vertices!$A$11:$J$203,8,FALSE )-$D$7","v":{"v":-12,"d":"-12.00"}},{"$f":"VLOOKUP(B348,Vertices!$A$11:$J$203,9,FALSE )-$E$7","v":22.34},{"$f":"Faces!C348","v":193},{"$f":"VLOOKUP(F348,Vertices!$A$11:$J$203,7,FALSE )-$C$7","v":{"v":-40.135,"d":"-40.14"}},{"$f":"VLOOKUP(F348,Vertices!$A$11:$J$203,8,FALSE )-$D$7","v":-13.43},{"$f":"VLOOKUP(F348,Vertices!$A$11:$J$203,9,FALSE )-$E$7","v":3.66},{"$f":"Faces!D348","v":191},{"$f":"VLOOKUP(J348,Vertices!$A$11:$J$203,7,FALSE )-$C$7","v":{"v":-35.265,"d":"-35.27"}},{"$f":"VLOOKUP(J348,Vertices!$A$11:$J$203,8,FALSE )-$D$7","v":-4.31},{"$f":"VLOOKUP(J348,Vertices!$A$11:$J$203,9,FALSE )-$E$7","v":11.95},{"v":1272.3177060833336,"d":"1272.32"},{"v":1272.3177060833336,"d":"1272.32"}]
[{"$f":"Faces!A349","v":339},{"$f":"Faces!B349","v":185},{"$f":"VLOOKUP(B349,Vertices!$A$11:$J$203,7,FALSE )-$C$7","v":{"v":-22.724999999999998,"d":"-22.73"}},{"$f":"VLOOKUP(B349,Vertices!$A$11:$J$203,8,FALSE )-$D$7","v":{"v":-12,"d":"-12.00"}},{"$f":"VLOOKUP(B349,Vertices!$A$11:$J$203,9,FALSE )-$E$7","v":22.34},{"$f":"Faces!C349","v":186},{"$f":"VLOOKUP(F349,Vertices!$A$11:$J$203,7,FALSE )-$C$7","v":{"v":-26.375,"d":"-26.38"}},{"$f":"VLOOKUP(F349,Vertices!$A$11:$J$203,8,FALSE )-$D$7","v":-19.51},{"$f":"VLOOKUP(F349,Vertices!$A$11:$J$203,9,FALSE )-$E$7","v":15.39},{"$f":"Faces!D349","v":193},{"$f":"VLOOKUP(J349,Vertices!$A$11:$J$203,7,FALSE )-$C$7","v":{"v":-40.135,"d":"-40.14"}},{"$f":"VLOOKUP(J349,Vertices!$A$11:$J$203,8,FALSE )-$D$7","v":-13.43},{"$f":"VLOOKUP(J349,Vertices!$A$11:$J$203,9,FALSE )-$E$7","v":3.66},{"v":1066.7177302500004,"d":"1066.72"},{"v":1066.7177302500004,"d":"1066.72"}]
[{"$f":"Faces!A350","v":340},{"$f":"Faces!B350","v":186},{"$f":"VLOOKUP(B350,Vertices!$A$11:$J$203,7,FALSE )-$C$7","v":{"v":-26.375,"d":"-26.38"}},{"$f":"VLOOKUP(B350,Vertices!$A$11:$J$203,8,FALSE )-$D$7","v":-19.51},{"$f":"VLOOKUP(B350,Vertices!$A$11:$J$203,9,FALSE )-$E$7","v":15.39},{"$f":"Faces!C350","v":187},{"$f":"VLOOKUP(F350,Vertices!$A$11:$J$203,7,FALSE )-$C$7","v":{"v":-29.904999999999998,"d":"-29.91"}},{"$f":"VLOOKUP(F350,Vertices!$A$11:$J$203,8,FALSE )-$D$7","v":{"v":-25.5,"d":"-25.50"}},{"$f":"VLOOKUP(F350,Vertices!$A$11:$J$203,9,FALSE )-$E$7","v":9.39},{"$f":"Faces!D350","v":193},{"$f":"VLOOKUP(J350,Vertices!$A$11:$J$203,7,FALSE )-$C$7","v":{"v":-40.135,"d":"-40.14"}},{"$f":"VLOOKUP(J350,Vertices!$A$11:$J$203,8,FALSE )-$D$7","v":-13.43},{"$f":"VLOOKUP(J350,Vertices!$A$11:$J$203,9,FALSE )-$E$7","v":3.66},{"v":869.5037942499999,"d":"869.50"},{"v":869.5037942499999,"d":"869.50"}]
[{"$f":"Faces!A351","v":341},{"$f":"Faces!B351","v":31},{"$f":"VLOOKUP(B351,Vertices!$A$11:$J$203,7,FALSE )-$C$7","v":{"v":4.545000000000002,"d":"4.55"}},{"$f":"VLOOKUP(B351,Vertices!$A$11:$J$203,8,FALSE )-$D$7","v":{"v":-37,"d":"-37.00"}},{"$f":"VLOOKUP(B351,Vertices!$A$11:$J$203,9,FALSE )-$E$7","v":{"v":-50,"d":"-50.00"}},{"$f":"Faces!C351","v":97},{"$f":"VLOOKUP(F351,Vertices!$A$11:$J$203,7,FALSE )-$C$7","v":{"v":-3.2449999999999974,"d":"-3.25"}},{"$f":"VLOOKUP(F351,Vertices!$A$11:$J$203,8,FALSE )-$D$7","v":-32.49},{"$f":"VLOOKUP(F351,Vertices!$A$11:$J$203,9,FALSE )-$E$7","v":{"v":-42.5,"d":"-42.50"}},{"$f":"Faces!D351","v":104},{"$f":"VLOOKUP(J351,Vertices!$A$11:$J$203,7,FALSE )-$C$7","v":{"v":-3.614999999999995,"d":"-3.61"}},{"$f":"VLOOKUP(J351,Vertices!$A$11:$J$203,8,FALSE )-$D$7","v":-35.83},{"$f":"VLOOKUP(J351,Vertices!$A$11:$J$203,9,FALSE )-$E$7","v":-36.02},{"v":483.79023899999964,"d":"483.79"},{"v":483.79023899999964,"d":"483.79"}]
[{"$f":"Faces!A352","v":342},{"$f":"Faces!B352","v":31},{"$f":"VLOOKUP(B352,Vertices!$A$11:$J$203,7,FALSE )-$C$7","v":{"v":4.545000000000002,"d":"4.55"}},{"$f":"VLOOKUP(B352,Vertices!$A$11:$J$203,8,FALSE )-$D$7","v":{"v":-37,"d":"-37.00"}},{"$f":"VLOOKUP(B352,Vertices!$A$11:$J$203,9,FALSE )-$E$7","v":{"v":-50,"d":"-50.00"}},{"$f":"Faces!C352","v":104},{"$f":"VLOOKUP(F352,Vertices!$A$11:$J$203,7,FALSE )-$C$7","v":{"v":-3.614999999999995,"d":"-3.61"}},{"$f":"VLOOKUP(F352,Vertices!$A$11:$J$203,8,FALSE )-$D$7","v":-35.83},{"$f":"VLOOKUP(F352,Vertices!$A$11:$J$203,9,FALSE )-$E$7","v":-36.02},{"$f":"Faces!D352","v":47},{"$f":"VLOOKUP(J352,Vertices!$A$11:$J$203,7,FALSE )-$C$7","v":{"v":4.125,"d":"4.13"}},{"$f":"VLOOKUP(J352,Vertices!$A$11:$J$203,8,FALSE )-$D$7","v":-41.34},{"$f":"VLOOKUP(J352,Vertices!$A$11:$J$203,9,FALSE )-$E$7","v":-42.01},{"v":612.0223137499997,"d":"612.02"},{"v":612.0223137499997,"d":"612.02"}]
[{"$f":"Faces!A353","v":343},{"$f":"Faces!B353","v":47},{"$f":"VLOOKUP(B353,Vertices!$A$11:$J$203,7,FALSE )-$C$7","v":{"v":4.125,"d":"4.13"}},{"$f":"VLOOKUP(B353,Vertices!$A$11:$J$203,8,FALSE )-$D$7","v":-41.34},{"$f":"VLOOKUP(B353,Vertices!$A$11:$J$203,9,FALSE )-$E$7","v":-42.01},{"$f":"Faces!C353","v":104},{"$f":"VLOOKUP(F353,Vertices!$A$11:$J$203,7,FALSE )-$C$7","v":{"v":-3.614999999999995,"d":"-3.61"}},{"$f":"VLOOKUP(F353,Vertices!$A$11:$J$203,8,FALSE )-$D$7","v":-35.83},{"$f":"VLOOKUP(F353,Vertices!$A$11:$J$203,9,FALSE )-$E$7","v":-36.02},{"$f":"Faces!D353","v":106},{"$f":"VLOOKUP(J353,Vertices!$A$11:$J$203,7,FALSE )-$C$7","v":{"v":-3.924999999999997,"d":"-3.93"}},{"$f":"VLOOKUP(J353,Vertices!$A$11:$J$203,8,FALSE )-$D$7","v":-38.93},{"$f":"VLOOKUP(J353,Vertices!$A$11:$J$203,9,FALSE )-$E$7","v":-29.46},{"v":479.38282433333325,"d":"479.38"},{"v":479.38282433333325,"d":"479.38"}]
[{"$f":"Faces!A354","v":344},{"$f":"Faces!B354","v":47},{"$f":"VLOOKUP(B354,Vertices!$A$11:$J$203,7,FALSE )-$C$7","v":{"v":4.125,"d":"4.13"}},{"$f":"VLOOKUP(B354,Vertices!$A$11:$J$203,8,FALSE )-$D$7","v":-41.34},{"$f":"VLOOKUP(B354,Vertices!$A$11:$J$203,9,FALSE )-$E$7","v":-42.01},{"$f":"Faces!C354","v":106},{"$f":"VLOOKUP(F354,Vertices!$A$11:$J$203,7,FALSE )-$C$7","v":{"v":-3.924999999999997,"d":"-3.93"}},{"$f":"VLOOKUP(F354,Vertices!$A$11:$J$203,8,FALSE )-$D$7","v":-38.93},{"$f":"VLOOKUP(F354,Vertices!$A$11:$J$203,9,FALSE )-$E$7","v":-29.46},{"$f":"Faces!D354","v":58},{"$f":"VLOOKUP(J354,Vertices!$A$11:$J$203,7,FALSE )-$C$7","v":{"v":3.7550000000000026,"d":"3.76"}},{"$f":"VLOOKUP(J354,Vertices!$A$11:$J$203,8,FALSE )-$D$7","v":-45.11},{"$f":"VLOOKUP(J354,Vertices!$A$11:$J$203,9,FALSE )-$E$7","v":-34.45},{"v":560.9973657499995,"d":"561.00"},{"v":560.9973657499995,"d":"561.00"}]
[{"$f":"Faces!A355","v":345},{"$f":"Faces!B355","v":58},{"$f":"VLOOKUP(B355,Vertices!$A$11:$J$203,7,FALSE )-$C$7","v":{"v":3.7550000000000026,"d":"3.76"}},{"$f":"VLOOKUP(B355,Vertices!$A$11:$J$203,8,FALSE )-$D$7","v":-45.11},{"$f":"VLOOKUP(B355,Vertices!$A$11:$J$203,9,FALSE )-$E$7","v":-34.45},{"$f":"Faces!C355","v":106},{"$f":"VLOOKUP(F355,Vertices!$A$11:$J$203,7,FALSE )-$C$7","v":{"v":-3.924999999999997,"d":"-3.93"}},{"$f":"VLOOKUP(F355,Vertices!$A$11:$J$203,8,FALSE )-$D$7","v":-38.93},{"$f":"VLOOKUP(F355,Vertices!$A$11:$J$203,9,FALSE )-$E$7","v":-29.46},{"$f":"Faces!D355","v":108},{"$f":"VLOOKUP(J355,Vertices!$A$11:$J$203,7,FALSE )-$C$7","v":{"v":-4.725000000000001,"d":"-4.73"}},{"$f":"VLOOKUP(J355,Vertices!$A$11:$J$203,8,FALSE )-$D$7","v":-44.89},{"$f":"VLOOKUP(J355,Vertices!$A$11:$J$203,9,FALSE )-$E$7","v":-16.27},{"v":953.1600881666669,"d":"953.16"},{"v":953.1600881666669,"d":"953.16"}]
[{"$f":"Faces!A356","v":346},{"$f":"Faces!B356","v":58},{"$f":"VLOOKUP(B356,Vertices!$A$11:$J$203,7,FALSE )-$C$7","v":{"v":3.7550000000000026,"d":"3.76"}},{"$f":"VLOOKUP(B356,Vertices!$A$11:$J$203,8,FALSE )-$D$7","v":-45.11},{"$f":"VLOOKUP(B356,Vertices!$A$11:$J$203,9,FALSE )-$E$7","v":-34.45},{"$f":"Faces!C356","v":108},{"$f":"VLOOKUP(F356,Vertices!$A$11:$J$203,7,FALSE )-$C$7","v":{"v":-4.725000000000001,"d":"-4.73"}},{"$f":"VLOOKUP(F356,Vertices!$A$11:$J$203,8,FALSE )-$D$7","v":-44.89},{"$f":"VLOOKUP(F356,Vertices!$A$11:$J$203,9,FALSE )-$E$7","v":-16.27},{"$f":"Faces!D356","v":69},{"$f":"VLOOKUP(J356,Vertices!$A$11:$J$203,7,FALSE )-$C$7","v":{"v":2.8049999999999997,"d":"2.81"}},{"$f":"VLOOKUP(J356,Vertices!$A$11:$J$203,8,FALSE )-$D$7","v":-52.09},{"$f":"VLOOKUP(J356,Vertices!$A$11:$J$203,9,FALSE )-$E$7","v":-19.06},{"v":1110.8641085000006,"d":"1110.86"},{"v":1110.8641085000006,"d":"1110.86"}]
[{"$f":"Faces!A357","v":347},{"$f":"Faces!B357","v":69},{"$f":"VLOOKUP(B357,Vertices!$A$11:$J$203,7,FALSE )-$C$7","v":{"v":2.8049999999999997,"d":"2.81"}},{"$f":"VLOOKUP(B357,Vertices!$A$11:$J$203,8,FALSE )-$D$7","v":-52.09},{"$f":"VLOOKUP(B357,Vertices!$A$11:$J$203,9,FALSE )-$E$7","v":-19.06},{"$f":"Faces!C357","v":108},{"$f":"VLOOKUP(F357,Vertices!$A$11:$J$203,7,FALSE )-$C$7","v":{"v":-4.725000000000001,"d":"-4.73"}},{"$f":"VLOOKUP(F357,Vertices!$A$11:$J$203,8,FALSE )-$D$7","v":-44.89},{"$f":"VLOOKUP(F357,Vertices!$A$11:$J$203,9,FALSE )-$E$7","v":-16.27},{"$f":"Faces!D357","v":110},{"$f":"VLOOKUP(J357,Vertices!$A$11:$J$203,7,FALSE )-$C$7","v":{"v":-5.945,"d":"-5.95"}},{"$f":"VLOOKUP(J357,Vertices!$A$11:$J$203,8,FALSE )-$D$7","v":-51.97},{"$f":"VLOOKUP(J357,Vertices!$A$11:$J$203,9,FALSE )-$E$7","v":3.91},{"v":1409.774537,"d":"1409.77"},{"v":1409.774537,"d":"1409.77"}]
[{"$f":"Faces!A358","v":348},{"$f":"Faces!B358","v":69},{"$f":"VLOOKUP(B358,Vertices!$A$11:$J$203,7,FALSE )-$C$7","v":{"v":2.8049999999999997,"d":"2.81"}},{"$f":"VLOOKUP(B358,Vertices!$A$11:$J$203,8,FALSE )-$D$7","v":-52.09},{"$f":"VLOOKUP(B358,Vertices!$A$11:$J$203,9,FALSE )-$E$7","v":-19.06},{"$f":"Faces!C358","v":110},{"$f":"VLOOKUP(F358,Vertices!$A$11:$J$203,7,FALSE )-$C$7","v":{"v":-5.945,"d":"-5.95"}},{"$f":"VLOOKUP(F358,Vertices!$A$11:$J$203,8,FALSE )-$D$7","v":-51.97},{"$f":"VLOOKUP(F358,Vertices!$A$11:$J$203,9,FALSE )-$E$7","v":3.91},{"$f":"Faces!D358","v":80},{"$f":"VLOOKUP(J358,Vertices!$A$11:$J$203,7,FALSE )-$C$7","v":{"v":1.0050000000000026,"d":"1.01"}},{"$f":"VLOOKUP(J358,Vertices!$A$11:$J$203,8,FALSE )-$D$7","v":-60.77},{"$f":"VLOOKUP(J358,Vertices!$A$11:$J$203,9,FALSE )-$E$7","v":4.59},{"v":1585.0274711666673,"d":"1585.03"},{"v":1585.0274711666673,"d":"1585.03"}]
[{"$f":"Faces!A359","v":349},{"$f":"Faces!B359","v":80},{"$f":"VLOOKUP(B359,Vertices!$A$11:$J$203,7,FALSE )-$C$7","v":{"v":1.0050000000000026,"d":"1.01"}},{"$f":"VLOOKUP(B359,Vertices!$A$11:$J$203,8,FALSE )-$D$7","v":-60.77},{"$f":"VLOOKUP(B359,Vertices!$A$11:$J$203,9,FALSE )-$E$7","v":4.59},{"$f":"Faces!C359","v":110},{"$f":"VLOOKUP(F359,Vertices!$A$11:$J$203,7,FALSE )-$C$7","v":{"v":-5.945,"d":"-5.95"}},{"$f":"VLOOKUP(F359,Vertices!$A$11:$J$203,8,FALSE )-$D$7","v":-51.97},{"$f":"VLOOKUP(F359,Vertices!$A$11:$J$203,9,FALSE )-$E$7","v":3.91},{"$f":"Faces!D359","v":121},{"$f":"VLOOKUP(J359,Vertices!$A$11:$J$203,7,FALSE )-$C$7","v":{"v":-7.104999999999997,"d":"-7.11"}},{"$f":"VLOOKUP(J359,Vertices!$A$11:$J$203,8,FALSE )-$D$7","v":{"v":-56.2,"d":"-56.20"}},{"$f":"VLOOKUP(J359,Vertices!$A$11:$J$203,9,FALSE )-$E$7","v":22.36},{"v":1249.7076163333338,"d":"1249.71"},{"v":1249.7076163333338,"d":"1249.71"}]
[{"$f":"Faces!A360","v":350},{"$f":"Faces!B360","v":80},{"$f":"VLOOKUP(B360,Vertices!$A$11:$J$203,7,FALSE )-$C$7","v":{"v":1.0050000000000026,"d":"1.01"}},{"$f":"VLOOKUP(B360,Vertices!$A$11:$J$203,8,FALSE )-$D$7","v":-60.77},{"$f":"VLOOKUP(B360,Vertices!$A$11:$J$203,9,FALSE )-$E$7","v":4.59},{"$f":"Faces!C360","v":121},{"$f":"VLOOKUP(F360,Vertices!$A$11:$J$203,7,FALSE )-$C$7","v":{"v":-7.104999999999997,"d":"-7.11"}},{"$f":"VLOOKUP(F360,Vertices!$A$11:$J$203,8,FALSE )-$D$7","v":{"v":-56.2,"d":"-56.20"}},{"$f":"VLOOKUP(F360,Vertices!$A$11:$J$203,9,FALSE )-$E$7","v":22.36},{"$f":"Faces!D360","v":91},{"$f":"VLOOKUP(J360,Vertices!$A$11:$J$203,7,FALSE )-$C$7","v":{"v":-1.4549999999999983,"d":"-1.46"}},{"$f":"VLOOKUP(J360,Vertices!$A$11:$J$203,8,FALSE )-$D$7","v":{"v":-66,"d":"-66.00"}},{"$f":"VLOOKUP(J360,Vertices!$A$11:$J$203,9,FALSE )-$E$7","v":{"v":26,"d":"26.00"}},{"v":1242.8784106666665,"d":"1242.88"},{"v":1242.8784106666665,"d":"1242.88"}]
[{"$f":"Faces!A361","v":351},{"$f":"Faces!B361","v":97},{"$f":"VLOOKUP(B361,Vertices!$A$11:$J$203,7,FALSE )-$C$7","v":{"v":-3.2449999999999974,"d":"-3.25"}},{"$f":"VLOOKUP(B361,Vertices!$A$11:$J$203,8,FALSE )-$D$7","v":-32.49},{"$f":"VLOOKUP(B361,Vertices!$A$11:$J$203,9,FALSE )-$E$7","v":{"v":-42.5,"d":"-42.50"}},{"$f":"Faces!C361","v":126},{"$f":"VLOOKUP(F361,Vertices!$A$11:$J$203,7,FALSE )-$C$7","v":{"v":-10.985,"d":"-10.99"}},{"$f":"VLOOKUP(F361,Vertices!$A$11:$J$203,8,FALSE )-$D$7","v":-27.78},{"$f":"VLOOKUP(F361,Vertices!$A$11:$J$203,9,FALSE )-$E$7","v":-35.21},{"$f":"Faces!D361","v":104},{"$f":"VLOOKUP(J361,Vertices!$A$11:$J$203,7,FALSE )-$C$7","v":{"v":-3.614999999999995,"d":"-3.61"}},{"$f":"VLOOKUP(J361,Vertices!$A$11:$J$203,8,FALSE )-$D$7","v":-35.83},{"$f":"VLOOKUP(J361,Vertices!$A$11:$J$203,9,FALSE )-$E$7","v":-36.02},{"v":482.1193539999995,"d":"482.12"},{"v":482.1193539999995,"d":"482.12"}]
[{"$f":"Faces!A362","v":352},{"$f":"Faces!B362","v":126},{"$f":"VLOOKUP(B362,Vertices!$A$11:$J$203,7,FALSE )-$C$7","v":{"v":-10.985,"d":"-10.99"}},{"$f":"VLOOKUP(B362,Vertices!$A$11:$J$203,8,FALSE )-$D$7","v":-27.78},{"$f":"VLOOKUP(B362,Vertices!$A$11:$J$203,9,FALSE )-$E$7","v":-35.21},{"$f":"Faces!C362","v":132},{"$f":"VLOOKUP(F362,Vertices!$A$11:$J$203,7,FALSE )-$C$7","v":{"v":-11.555,"d":"-11.56"}},{"$f":"VLOOKUP(F362,Vertices!$A$11:$J$203,8,FALSE )-$D$7","v":{"v":-33,"d":"-33.00"}},{"$f":"VLOOKUP(F362,Vertices!$A$11:$J$203,9,FALSE )-$E$7","v":-24.49},{"$f":"Faces!D362","v":104},{"$f":"VLOOKUP(J362,Vertices!$A$11:$J$203,7,FALSE )-$C$7","v":{"v":-3.614999999999995,"d":"-3.61"}},{"$f":"VLOOKUP(J362,Vertices!$A$11:$J$203,8,FALSE )-$D$7","v":-35.83},{"$f":"VLOOKUP(J362,Vertices!$A$11:$J$203,9,FALSE )-$E$7","v":-36.02},{"v":782.0865303333334,"d":"782.09"},{"v":782.0865303333334,"d":"782.09"}]
[{"$f":"Faces!A363","v":353},{"$f":"Faces!B363","v":104},{"$f":"VLOOKUP(B363,Vertices!$A$11:$J$203,7,FALSE )-$C$7","v":{"v":-3.614999999999995,"d":"-3.61"}},{"$f":"VLOOKUP(B363,Vertices!$A$11:$J$203,8,FALSE )-$D$7","v":-35.83},{"$f":"VLOOKUP(B363,Vertices!$A$11:$J$203,9,FALSE )-$E$7","v":-36.02},{"$f":"Faces!C363","v":132},{"$f":"VLOOKUP(F363,Vertices!$A$11:$J$203,7,FALSE )-$C$7","v":{"v":-11.555,"d":"-11.56"}},{"$f":"VLOOKUP(F363,Vertices!$A$11:$J$203,8,FALSE )-$D$7","v":{"v":-33,"d":"-33.00"}},{"$f":"VLOOKUP(F363,Vertices!$A$11:$J$203,9,FALSE )-$E$7","v":-24.49},{"$f":"Faces!D363","v":106},{"$f":"VLOOKUP(J363,Vertices!$A$11:$J$203,7,FALSE )-$C$7","v":{"v":-3.924999999999997,"d":"-3.93"}},{"$f":"VLOOKUP(J363,Vertices!$A$11:$J$203,8,FALSE )-$D$7","v":-38.93},{"$f":"VLOOKUP(J363,Vertices!$A$11:$J$203,9,FALSE )-$E$7","v":-29.46},{"v":475.45131100000054,"d":"475.45"},{"v":475.45131100000054,"d":"475.45"}]
[{"$f":"Faces!A364","v":354},{"$f":"Faces!B364","v":106},{"$f":"VLOOKUP(B364,Vertices!$A$11:$J$203,7,FALSE )-$C$7","v":{"v":-3.924999999999997,"d":"-3.93"}},{"$f":"VLOOKUP(B364,Vertices!$A$11:$J$203,8,FALSE )-$D$7","v":-38.93},{"$f":"VLOOKUP(B364,Vertices!$A$11:$J$203,9,FALSE )-$E$7","v":-29.46},{"$f":"Faces!C364","v":132},{"$f":"VLOOKUP(F364,Vertices!$A$11:$J$203,7,FALSE )-$C$7","v":{"v":-11.555,"d":"-11.56"}},{"$f":"VLOOKUP(F364,Vertices!$A$11:$J$203,8,FALSE )-$D$7","v":{"v":-33,"d":"-33.00"}},{"$f":"VLOOKUP(F364,Vertices!$A$11:$J$203,9,FALSE )-$E$7","v":-24.49},{"$f":"Faces!D364","v":134},{"$f":"VLOOKUP(J364,Vertices!$A$11:$J$203,7,FALSE )-$C$7","v":{"v":-12.195,"d":"-12.20"}},{"$f":"VLOOKUP(J364,Vertices!$A$11:$J$203,8,FALSE )-$D$7","v":-37.34},{"$f":"VLOOKUP(J364,Vertices!$A$11:$J$203,9,FALSE )-$E$7","v":-13.75},{"v":748.0542660000004,"d":"748.05"},{"v":748.0542660000004,"d":"748.05"}]
[{"$f":"Faces!A365","v":355},{"$f":"Faces!B365","v":106},{"$f":"VLOOKUP(B365,Vertices!$A$11:$J$203,7,FALSE )-$C$7","v":{"v":-3.924999999999997,"d":"-3.93"}},{"$f":"VLOOKUP(B365,Vertices!$A$11:$J$203,8,FALSE )-$D$7","v":-38.93},{"$f":"VLOOKUP(B365,Vertices!$A$11:$J$203,9,FALSE )-$E$7","v":-29.46},{"$f":"Faces!C365","v":134},{"$f":"VLOOKUP(F365,Vertices!$A$11:$J$203,7,FALSE )-$C$7","v":{"v":-12.195,"d":"-12.20"}},{"$f":"VLOOKUP(F365,Vertices!$A$11:$J$203,8,FALSE )-$D$7","v":-37.34},{"$f":"VLOOKUP(F365,Vertices!$A$11:$J$203,9,FALSE )-$E$7","v":-13.75},{"$f":"Faces!D365","v":108},{"$f":"VLOOKUP(J365,Vertices!$A$11:$J$203,7,FALSE )-$C$7","v":{"v":-4.725000000000001,"d":"-4.73"}},{"$f":"VLOOKUP(J365,Vertices!$A$11:$J$203,8,FALSE )-$D$7","v":-44.89},{"$f":"VLOOKUP(J365,Vertices!$A$11:$J$203,9,FALSE )-$E$7","v":-16.27},{"v":949.4358739166668,"d":"949.44"},{"v":949.4358739166668,"d":"949.44"}]
[{"$f":"Faces!A366","v":356},{"$f":"Faces!B366","v":108},{"$f":"VLOOKUP(B366,Vertices!$A$11:$J$203,7,FALSE )-$C$7","v":{"v":-4.725000000000001,"d":"-4.73"}},{"$f":"VLOOKUP(B366,Vertices!$A$11:$J$203,8,FALSE )-$D$7","v":-44.89},{"$f":"VLOOKUP(B366,Vertices!$A$11:$J$203,9,FALSE )-$E$7","v":-16.27},{"$f":"Faces!C366","v":134},{"$f":"VLOOKUP(F366,Vertices!$A$11:$J$203,7,FALSE )-$C$7","v":{"v":-12.195,"d":"-12.20"}},{"$f":"VLOOKUP(F366,Vertices!$A$11:$J$203,8,FALSE )-$D$7","v":-37.34},{"$f":"VLOOKUP(F366,Vertices!$A$11:$J$203,9,FALSE )-$E$7","v":-13.75},{"$f":"Faces!D366","v":136},{"$f":"VLOOKUP(J366,Vertices!$A$11:$J$203,7,FALSE )-$C$7","v":{"v":-12.964999999999996,"d":"-12.97"}},{"$f":"VLOOKUP(J366,Vertices!$A$11:$J$203,8,FALSE )-$D$7","v":{"v":-43.3,"d":"-43.30"}},{"$f":"VLOOKUP(J366,Vertices!$A$11:$J$203,9,FALSE )-$E$7","v":3.14},{"v":1178.1718929166664,"d":"1178.17"},{"v":1178.1718929166664,"d":"1178.17"}]
[{"$f":"Faces!A367","v":357},{"$f":"Faces!B367","v":108},{"$f":"VLOOKUP(B367,Vertices!$A$11:$J$203,7,FALSE )-$C$7","v":{"v":-4.725000000000001,"d":"-4.73"}},{"$f":"VLOOKUP(B367,Vertices!$A$11:$J$203,8,FALSE )-$D$7","v":-44.89},{"$f":"VLOOKUP(B367,Vertices!$A$11:$J$203,9,FALSE )-$E$7","v":-16.27},{"$f":"Faces!C367","v":136},{"$f":"VLOOKUP(F367,Vertices!$A$11:$J$203,7,FALSE )-$C$7","v":{"v":-12.964999999999996,"d":"-12.97"}},{"$f":"VLOOKUP(F367,Vertices!$A$11:$J$203,8,FALSE )-$D$7","v":{"v":-43.3,"d":"-43.30"}},{"$f":"VLOOKUP(F367,Vertices!$A$11:$J$203,9,FALSE )-$E$7","v":3.14},{"$f":"Faces!D367","v":110},{"$f":"VLOOKUP(J367,Vertices!$A$11:$J$203,7,FALSE )-$C$7","v":{"v":-5.945,"d":"-5.95"}},{"$f":"VLOOKUP(J367,Vertices!$A$11:$J$203,8,FALSE )-$D$7","v":-51.97},{"$f":"VLOOKUP(J367,Vertices!$A$11:$J$203,9,FALSE )-$E$7","v":3.91},{"v":1363.853004166666,"d":"1363.85"},{"v":1363.853004166666,"d":"1363.85"}]
[{"$f":"Faces!A368","v":358},{"$f":"Faces!B368","v":110},{"$f":"VLOOKUP(B368,Vertices!$A$11:$J$203,7,FALSE )-$C$7","v":{"v":-5.945,"d":"-5.95"}},{"$f":"VLOOKUP(B368,Vertices!$A$11:$J$203,8,FALSE )-$D$7","v":-51.97},{"$f":"VLOOKUP(B368,Vertices!$A$11:$J$203,9,FALSE )-$E$7","v":3.91},{"$f":"Faces!C368","v":136},{"$f":"VLOOKUP(F368,Vertices!$A$11:$J$203,7,FALSE )-$C$7","v":{"v":-12.964999999999996,"d":"-12.97"}},{"$f":"VLOOKUP(F368,Vertices!$A$11:$J$203,8,FALSE )-$D$7","v":{"v":-43.3,"d":"-43.30"}},{"$f":"VLOOKUP(F368,Vertices!$A$11:$J$203,9,FALSE )-$E$7","v":3.14},{"$f":"Faces!D368","v":145},{"$f":"VLOOKUP(J368,Vertices!$A$11:$J$203,7,FALSE )-$C$7","v":{"v":-13.555,"d":"-13.56"}},{"$f":"VLOOKUP(J368,Vertices!$A$11:$J$203,8,FALSE )-$D$7","v":-46.57},{"$f":"VLOOKUP(J368,Vertices!$A$11:$J$203,9,FALSE )-$E$7","v":18.61},{"v":1056.694661166666,"d":"1056.69"},{"v":1056.694661166666,"d":"1056.69"}]
[{"$f":"Faces!A369","v":359},{"$f":"Faces!B369","v":110},{"$f":"VLOOKUP(B369,Vertices!$A$11:$J$203,7,FALSE )-$C$7","v":{"v":-5.945,"d":"-5.95"}},{"$f":"VLOOKUP(B369,Vertices!$A$11:$J$203,8,FALSE )-$D$7","v":-51.97},{"$f":"VLOOKUP(B369,Vertices!$A$11:$J$203,9,FALSE )-$E$7","v":3.91},{"$f":"Faces!C369","v":145},{"$f":"VLOOKUP(F369,Vertices!$A$11:$J$203,7,FALSE )-$C$7","v":{"v":-13.555,"d":"-13.56"}},{"$f":"VLOOKUP(F369,Vertices!$A$11:$J$203,8,FALSE )-$D$7","v":-46.57},{"$f":"VLOOKUP(F369,Vertices!$A$11:$J$203,9,FALSE )-$E$7","v":18.61},{"$f":"Faces!D369","v":121},{"$f":"VLOOKUP(J369,Vertices!$A$11:$J$203,7,FALSE )-$C$7","v":{"v":-7.104999999999997,"d":"-7.11"}},{"$f":"VLOOKUP(J369,Vertices!$A$11:$J$203,8,FALSE )-$D$7","v":{"v":-56.2,"d":"-56.20"}},{"$f":"VLOOKUP(J369,Vertices!$A$11:$J$203,9,FALSE )-$E$7","v":22.36},{"v":1203.7065845000004,"d":"1203.71"},{"v":1203.7065845000004,"d":"1203.71"}]
[{"$f":"Faces!A370","v":360},{"$f":"Faces!B370","v":126},{"$f":"VLOOKUP(B370,Vertices!$A$11:$J$203,7,FALSE )-$C$7","v":{"v":-10.985,"d":"-10.99"}},{"$f":"VLOOKUP(B370,Vertices!$A$11:$J$203,8,FALSE )-$D$7","v":-27.78},{"$f":"VLOOKUP(B370,Vertices!$A$11:$J$203,9,FALSE )-$E$7","v":-35.21},{"$f":"Faces!C370","v":150},{"$f":"VLOOKUP(F370,Vertices!$A$11:$J$203,7,FALSE )-$C$7","v":{"v":-19.384999999999998,"d":"-19.39"}},{"$f":"VLOOKUP(F370,Vertices!$A$11:$J$203,8,FALSE )-$D$7","v":-22.41},{"$f":"VLOOKUP(F370,Vertices!$A$11:$J$203,9,FALSE )-$E$7","v":-28.05},{"$f":"Faces!D370","v":156},{"$f":"VLOOKUP(J370,Vertices!$A$11:$J$203,7,FALSE )-$C$7","v":{"v":-19.794999999999998,"d":"-19.80"}},{"$f":"VLOOKUP(J370,Vertices!$A$11:$J$203,8,FALSE )-$D$7","v":{"v":-26.5,"d":"-26.50"}},{"$f":"VLOOKUP(J370,Vertices!$A$11:$J$203,9,FALSE )-$E$7","v":-19.53},{"v":669.6806561666666,"d":"669.68"},{"v":669.6806561666666,"d":"669.68"}]
[{"$f":"Faces!A371","v":361},{"$f":"Faces!B371","v":126},{"$f":"VLOOKUP(B371,Vertices!$A$11:$J$203,7,FALSE )-$C$7","v":{"v":-10.985,"d":"-10.99"}},{"$f":"VLOOKUP(B371,Vertices!$A$11:$J$203,8,FALSE )-$D$7","v":-27.78},{"$f":"VLOOKUP(B371,Vertices!$A$11:$J$203,9,FALSE )-$E$7","v":-35.21},{"$f":"Faces!C371","v":156},{"$f":"VLOOKUP(F371,Vertices!$A$11:$J$203,7,FALSE )-$C$7","v":{"v":-19.794999999999998,"d":"-19.80"}},{"$f":"VLOOKUP(F371,Vertices!$A$11:$J$203,8,FALSE )-$D$7","v":{"v":-26.5,"d":"-26.50"}},{"$f":"VLOOKUP(F371,Vertices!$A$11:$J$203,9,FALSE )-$E$7","v":-19.53},{"$f":"Faces!D371","v":132},{"$f":"VLOOKUP(J371,Vertices!$A$11:$J$203,7,FALSE )-$C$7","v":{"v":-11.555,"d":"-11.56"}},{"$f":"VLOOKUP(J371,Vertices!$A$11:$J$203,8,FALSE )-$D$7","v":{"v":-33,"d":"-33.00"}},{"$f":"VLOOKUP(J371,Vertices!$A$11:$J$203,9,FALSE )-$E$7","v":-24.49},{"v":845.0214896666661,"d":"845.02"},{"v":845.0214896666661,"d":"845.02"}]
[{"$f":"Faces!A372","v":362},{"$f":"Faces!B372","v":132},{"$f":"VLOOKUP(B372,Vertices!$A$11:$J$203,7,FALSE )-$C$7","v":{"v":-11.555,"d":"-11.56"}},{"$f":"VLOOKUP(B372,Vertices!$A$11:$J$203,8,FALSE )-$D$7","v":{"v":-33,"d":"-33.00"}},{"$f":"VLOOKUP(B372,Vertices!$A$11:$J$203,9,FALSE )-$E$7","v":-24.49},{"$f":"Faces!C372","v":156},{"$f":"VLOOKUP(F372,Vertices!$A$11:$J$203,7,FALSE )-$C$7","v":{"v":-19.794999999999998,"d":"-19.80"}},{"$f":"VLOOKUP(F372,Vertices!$A$11:$J$203,8,FALSE )-$D$7","v":{"v":-26.5,"d":"-26.50"}},{"$f":"VLOOKUP(F372,Vertices!$A$11:$J$203,9,FALSE )-$E$7","v":-19.53},{"$f":"Faces!D372","v":158},{"$f":"VLOOKUP(J372,Vertices!$A$11:$J$203,7,FALSE )-$C$7","v":{"v":-20.084999999999997,"d":"-20.09"}},{"$f":"VLOOKUP(J372,Vertices!$A$11:$J$203,8,FALSE )-$D$7","v":-29.74},{"$f":"VLOOKUP(J372,Vertices!$A$11:$J$203,9,FALSE )-$E$7","v":-11.06},{"v":629.5895118333332,"d":"629.59"},{"v":629.5895118333332,"d":"629.59"}]
[{"$f":"Faces!A373","v":363},{"$f":"Faces!B373","v":132},{"$f":"VLOOKUP(B373,Vertices!$A$11:$J$203,7,FALSE )-$C$7","v":{"v":-11.555,"d":"-11.56"}},{"$f":"VLOOKUP(B373,Vertices!$A$11:$J$203,8,FALSE )-$D$7","v":{"v":-33,"d":"-33.00"}},{"$f":"VLOOKUP(B373,Vertices!$A$11:$J$203,9,FALSE )-$E$7","v":-24.49},{"$f":"Faces!C373","v":158},{"$f":"VLOOKUP(F373,Vertices!$A$11:$J$203,7,FALSE )-$C$7","v":{"v":-20.084999999999997,"d":"-20.09"}},{"$f":"VLOOKUP(F373,Vertices!$A$11:$J$203,8,FALSE )-$D$7","v":-29.74},{"$f":"VLOOKUP(F373,Vertices!$A$11:$J$203,9,FALSE )-$E$7","v":-11.06},{"$f":"Faces!D373","v":134},{"$f":"VLOOKUP(J373,Vertices!$A$11:$J$203,7,FALSE )-$C$7","v":{"v":-12.195,"d":"-12.20"}},{"$f":"VLOOKUP(J373,Vertices!$A$11:$J$203,8,FALSE )-$D$7","v":-37.34},{"$f":"VLOOKUP(J373,Vertices!$A$11:$J$203,9,FALSE )-$E$7","v":-13.75},{"v":795.8911595000005,"d":"795.89"},{"v":795.8911595000005,"d":"795.89"}]
[{"$f":"Faces!A374","v":364},{"$f":"Faces!B374","v":134},{"$f":"VLOOKUP(B374,Vertices!$A$11:$J$203,7,FALSE )-$C$7","v":{"v":-12.195,"d":"-12.20"}},{"$f":"VLOOKUP(B374,Vertices!$A$11:$J$203,8,FALSE )-$D$7","v":-37.34},{"$f":"VLOOKUP(B374,Vertices!$A$11:$J$203,9,FALSE )-$E$7","v":-13.75},{"$f":"Faces!C374","v":158},{"$f":"VLOOKUP(F374,Vertices!$A$11:$J$203,7,FALSE )-$C$7","v":{"v":-20.084999999999997,"d":"-20.09"}},{"$f":"VLOOKUP(F374,Vertices!$A$11:$J$203,8,FALSE )-$D$7","v":-29.74},{"$f":"VLOOKUP(F374,Vertices!$A$11:$J$203,9,FALSE )-$E$7","v":-11.06},{"$f":"Faces!D374","v":160},{"$f":"VLOOKUP(J374,Vertices!$A$11:$J$203,7,FALSE )-$C$7","v":{"v":-20.404999999999998,"d":"-20.41"}},{"$f":"VLOOKUP(J374,Vertices!$A$11:$J$203,8,FALSE )-$D$7","v":-34.39},{"$f":"VLOOKUP(J374,Vertices!$A$11:$J$203,9,FALSE )-$E$7","v":2.31},{"v":972.73909375,"d":"972.74"},{"v":972.73909375,"d":"972.74"}]
[{"$f":"Faces!A375","v":365},{"$f":"Faces!B375","v":134},{"$f":"VLOOKUP(B375,Vertices!$A$11:$J$203,7,FALSE )-$C$7","v":{"v":-12.195,"d":"-12.20"}},{"$f":"VLOOKUP(B375,Vertices!$A$11:$J$203,8,FALSE )-$D$7","v":-37.34},{"$f":"VLOOKUP(B375,Vertices!$A$11:$J$203,9,FALSE )-$E$7","v":-13.75},{"$f":"Faces!C375","v":160},{"$f":"VLOOKUP(F375,Vertices!$A$11:$J$203,7,FALSE )-$C$7","v":{"v":-20.404999999999998,"d":"-20.41"}},{"$f":"VLOOKUP(F375,Vertices!$A$11:$J$203,8,FALSE )-$D$7","v":-34.39},{"$f":"VLOOKUP(F375,Vertices!$A$11:$J$203,9,FALSE )-$E$7","v":2.31},{"$f":"Faces!D375","v":136},{"$f":"VLOOKUP(J375,Vertices!$A$11:$J$203,7,FALSE )-$C$7","v":{"v":-12.964999999999996,"d":"-12.97"}},{"$f":"VLOOKUP(J375,Vertices!$A$11:$J$203,8,FALSE )-$D$7","v":{"v":-43.3,"d":"-43.30"}},{"$f":"VLOOKUP(J375,Vertices!$A$11:$J$203,9,FALSE )-$E$7","v":3.14},{"v":1199.1681445833328,"d":"1199.17"},{"v":1199.1681445833328,"d":"1199.17"}]
[{"$f":"Faces!A376","v":366},{"$f":"Faces!B376","v":136},{"$f":"VLOOKUP(B376,Vertices!$A$11:$J$203,7,FALSE )-$C$7","v":{"v":-12.964999999999996,"d":"-12.97"}},{"$f":"VLOOKUP(B376,Vertices!$A$11:$J$203,8,FALSE )-$D$7","v":{"v":-43.3,"d":"-43.30"}},{"$f":"VLOOKUP(B376,Vertices!$A$11:$J$203,9,FALSE )-$E$7","v":3.14},{"$f":"Faces!C376","v":160},{"$f":"VLOOKUP(F376,Vertices!$A$11:$J$203,7,FALSE )-$C$7","v":{"v":-20.404999999999998,"d":"-20.41"}},{"$f":"VLOOKUP(F376,Vertices!$A$11:$J$203,8,FALSE )-$D$7","v":-34.39},{"$f":"VLOOKUP(F376,Vertices!$A$11:$J$203,9,FALSE )-$E$7","v":2.31},{"$f":"Faces!D376","v":169},{"$f":"VLOOKUP(J376,Vertices!$A$11:$J$203,7,FALSE )-$C$7","v":{"v":-20.525,"d":"-20.53"}},{"$f":"VLOOKUP(J376,Vertices!$A$11:$J$203,8,FALSE )-$D$7","v":-36.82},{"$f":"VLOOKUP(J376,Vertices!$A$11:$J$203,9,FALSE )-$E$7","v":14.62},{"v":884.2928569999998,"d":"884.29"},{"v":884.2928569999998,"d":"884.29"}]
[{"$f":"Faces!A377","v":367},{"$f":"Faces!B377","v":136},{"$f":"VLOOKUP(B377,Vertices!$A$11:$J$203,7,FALSE )-$C$7","v":{"v":-12.964999999999996,"d":"-12.97"}},{"$f":"VLOOKUP(B377,Vertices!$A$11:$J$203,8,FALSE )-$D$7","v":{"v":-43.3,"d":"-43.30"}},{"$f":"VLOOKUP(B377,Vertices!$A$11:$J$203,9,FALSE )-$E$7","v":3.14},{"$f":"Faces!C377","v":169},{"$f":"VLOOKUP(F377,Vertices!$A$11:$J$203,7,FALSE )-$C$7","v":{"v":-20.525,"d":"-20.53"}},{"$f":"VLOOKUP(F377,Vertices!$A$11:$J$203,8,FALSE )-$D$7","v":-36.82},{"$f":"VLOOKUP(F377,Vertices!$A$11:$J$203,9,FALSE )-$E$7","v":14.62},{"$f":"Faces!D377","v":145},{"$f":"VLOOKUP(J377,Vertices!$A$11:$J$203,7,FALSE )-$C$7","v":{"v":-13.555,"d":"-13.56"}},{"$f":"VLOOKUP(J377,Vertices!$A$11:$J$203,8,FALSE )-$D$7","v":-46.57},{"$f":"VLOOKUP(J377,Vertices!$A$11:$J$203,9,FALSE )-$E$7","v":18.61},{"v":1077.924950333333,"d":"1077.92"},{"v":1077.924950333333,"d":"1077.92"}]
[{"$f":"Faces!A378","v":368},{"$f":"Faces!B378","v":150},{"$f":"VLOOKUP(B378,Vertices!$A$11:$J$203,7,FALSE )-$C$7","v":{"v":-19.384999999999998,"d":"-19.39"}},{"$f":"VLOOKUP(B378,Vertices!$A$11:$J$203,8,FALSE )-$D$7","v":-22.41},{"$f":"VLOOKUP(B378,Vertices!$A$11:$J$203,9,FALSE )-$E$7","v":-28.05},{"$f":"Faces!C378","v":173},{"$f":"VLOOKUP(F378,Vertices!$A$11:$J$203,7,FALSE )-$C$7","v":{"v":-29.715,"d":"-29.72"}},{"$f":"VLOOKUP(F378,Vertices!$A$11:$J$203,8,FALSE )-$D$7","v":-15.31},{"$f":"VLOOKUP(F378,Vertices!$A$11:$J$203,9,FALSE )-$E$7","v":-19.73},{"$f":"Faces!D378","v":156},{"$f":"VLOOKUP(J378,Vertices!$A$11:$J$203,7,FALSE )-$C$7","v":{"v":-19.794999999999998,"d":"-19.80"}},{"$f":"VLOOKUP(J378,Vertices!$A$11:$J$203,8,FALSE )-$D$7","v":{"v":-26.5,"d":"-26.50"}},{"$f":"VLOOKUP(J378,Vertices!$A$11:$J$203,9,FALSE )-$E$7","v":-19.53},{"v":832.4897178333337,"d":"832.49"},{"v":832.4897178333337,"d":"832.49"}]
[{"$f":"Faces!A379","v":369},{"$f":"Faces!B379","v":156},{"$f":"VLOOKUP(B379,Vertices!$A$11:$J$203,7,FALSE )-$C$7","v":{"v":-19.794999999999998,"d":"-19.80"}},{"$f":"VLOOKUP(B379,Vertices!$A$11:$J$203,8,FALSE )-$D$7","v":{"v":-26.5,"d":"-26.50"}},{"$f":"VLOOKUP(B379,Vertices!$A$11:$J$203,9,FALSE )-$E$7","v":-19.53},{"$f":"Faces!C379","v":173},{"$f":"VLOOKUP(F379,Vertices!$A$11:$J$203,7,FALSE )-$C$7","v":{"v":-29.715,"d":"-29.72"}},{"$f":"VLOOKUP(F379,Vertices!$A$11:$J$203,8,FALSE )-$D$7","v":-15.31},{"$f":"VLOOKUP(F379,Vertices!$A$11:$J$203,9,FALSE )-$E$7","v":-19.73},{"$f":"Faces!D379","v":178},{"$f":"VLOOKUP(J379,Vertices!$A$11:$J$203,7,FALSE )-$C$7","v":{"v":-29.884999999999998,"d":"-29.89"}},{"$f":"VLOOKUP(J379,Vertices!$A$11:$J$203,8,FALSE )-$D$7","v":-20.61},{"$f":"VLOOKUP(J379,Vertices!$A$11:$J$203,9,FALSE )-$E$7","v":-8.32},{"v":1095.1207215833335,"d":"1095.12"},{"v":1095.1207215833335,"d":"1095.12"}]
[{"$f":"Faces!A380","v":370},{"$f":"Faces!B380","v":156},{"$f":"VLOOKUP(B380,Vertices!$A$11:$J$203,7,FALSE )-$C$7","v":{"v":-19.794999999999998,"d":"-19.80"}},{"$f":"VLOOKUP(B380,Vertices!$A$11:$J$203,8,FALSE )-$D$7","v":{"v":-26.5,"d":"-26.50"}},{"$f":"VLOOKUP(B380,Vertices!$A$11:$J$203,9,FALSE )-$E$7","v":-19.53},{"$f":"Faces!C380","v":178},{"$f":"VLOOKUP(F380,Vertices!$A$11:$J$203,7,FALSE )-$C$7","v":{"v":-29.884999999999998,"d":"-29.89"}},{"$f":"VLOOKUP(F380,Vertices!$A$11:$J$203,8,FALSE )-$D$7","v":-20.61},{"$f":"VLOOKUP(F380,Vertices!$A$11:$J$203,9,FALSE )-$E$7","v":-8.32},{"$f":"Faces!D380","v":158},{"$f":"VLOOKUP(J380,Vertices!$A$11:$J$203,7,FALSE )-$C$7","v":{"v":-20.084999999999997,"d":"-20.09"}},{"$f":"VLOOKUP(J380,Vertices!$A$11:$J$203,8,FALSE )-$D$7","v":-29.74},{"$f":"VLOOKUP(J380,Vertices!$A$11:$J$203,9,FALSE )-$E$7","v":-11.06},{"v":759.4882429166663,"d":"759.49"},{"v":759.4882429166663,"d":"759.49"}]
[{"$f":"Faces!A381","v":371},{"$f":"Faces!B381","v":158},{"$f":"VLOOKUP(B381,Vertices!$A$11:$J$203,7,FALSE )-$C$7","v":{"v":-20.084999999999997,"d":"-20.09"}},{"$f":"VLOOKUP(B381,Vertices!$A$11:$J$203,8,FALSE )-$D$7","v":-29.74},{"$f":"VLOOKUP(B381,Vertices!$A$11:$J$203,9,FALSE )-$E$7","v":-11.06},{"$f":"Faces!C381","v":178},{"$f":"VLOOKUP(F381,Vertices!$A$11:$J$203,7,FALSE )-$C$7","v":{"v":-29.884999999999998,"d":"-29.89"}},{"$f":"VLOOKUP(F381,Vertices!$A$11:$J$203,8,FALSE )-$D$7","v":-20.61},{"$f":"VLOOKUP(F381,Vertices!$A$11:$J$203,9,FALSE )-$E$7","v":-8.32},{"$f":"Faces!D381","v":180},{"$f":"VLOOKUP(J381,Vertices!$A$11:$J$203,7,FALSE )-$C$7","v":{"v":-29.615,"d":"-29.62"}},{"$f":"VLOOKUP(J381,Vertices!$A$11:$J$203,8,FALSE )-$D$7","v":-24.34},{"$f":"VLOOKUP(J381,Vertices!$A$11:$J$203,9,FALSE )-$E$7","v":{"v":1.1,"d":"1.10"}},{"v":846.1963056666668,"d":"846.20"},{"v":846.1963056666668,"d":"846.20"}]
[{"$f":"Faces!A382","v":372},{"$f":"Faces!B382","v":158},{"$f":"VLOOKUP(B382,Vertices!$A$11:$J$203,7,FALSE )-$C$7","v":{"v":-20.084999999999997,"d":"-20.09"}},{"$f":"VLOOKUP(B382,Vertices!$A$11:$J$203,8,FALSE )-$D$7","v":-29.74},{"$f":"VLOOKUP(B382,Vertices!$A$11:$J$203,9,FALSE )-$E$7","v":-11.06},{"$f":"Faces!C382","v":180},{"$f":"VLOOKUP(F382,Vertices!$A$11:$J$203,7,FALSE )-$C$7","v":{"v":-29.615,"d":"-29.62"}},{"$f":"VLOOKUP(F382,Vertices!$A$11:$J$203,8,FALSE )-$D$7","v":-24.34},{"$f":"VLOOKUP(F382,Vertices!$A$11:$J$203,9,FALSE )-$E$7","v":{"v":1.1,"d":"1.10"}},{"$f":"Faces!D382","v":160},{"$f":"VLOOKUP(J382,Vertices!$A$11:$J$203,7,FALSE )-$C$7","v":{"v":-20.404999999999998,"d":"-20.41"}},{"$f":"VLOOKUP(J382,Vertices!$A$11:$J$203,8,FALSE )-$D$7","v":-34.39},{"$f":"VLOOKUP(J382,Vertices!$A$11:$J$203,9,FALSE )-$E$7","v":2.31},{"v":1128.1072743333332,"d":"1128.11"},{"v":1128.1072743333332,"d":"1128.11"}]
[{"$f":"Faces!A383","v":373},{"$f":"Faces!B383","v":160},{"$f":"VLOOKUP(B383,Vertices!$A$11:$J$203,7,FALSE )-$C$7","v":{"v":-20.404999999999998,"d":"-20.41"}},{"$f":"VLOOKUP(B383,Vertices!$A$11:$J$203,8,FALSE )-$D$7","v":-34.39},{"$f":"VLOOKUP(B383,Vertices!$A$11:$J$203,9,FALSE )-$E$7","v":2.31},{"$f":"Faces!C383","v":180},{"$f":"VLOOKUP(F383,Vertices!$A$11:$J$203,7,FALSE )-$C$7","v":{"v":-29.615,"d":"-29.62"}},{"$f":"VLOOKUP(F383,Vertices!$A$11:$J$203,8,FALSE )-$D$7","v":-24.34},{"$f":"VLOOKUP(F383,Vertices!$A$11:$J$203,9,FALSE )-$E$7","v":{"v":1.1,"d":"1.10"}},{"$f":"Faces!D383","v":187},{"$f":"VLOOKUP(J383,Vertices!$A$11:$J$203,7,FALSE )-$C$7","v":{"v":-29.904999999999998,"d":"-29.91"}},{"$f":"VLOOKUP(J383,Vertices!$A$11:$J$203,8,FALSE )-$D$7","v":{"v":-25.5,"d":"-25.50"}},{"$f":"VLOOKUP(J383,Vertices!$A$11:$J$203,9,FALSE )-$E$7","v":9.39},{"v":712.9592009166668,"d":"712.96"},{"v":712.9592009166668,"d":"712.96"}]
[{"$f":"Faces!A384","v":374},{"$f":"Faces!B384","v":160},{"$f":"VLOOKUP(B384,Vertices!$A$11:$J$203,7,FALSE )-$C$7","v":{"v":-20.404999999999998,"d":"-20.41"}},{"$f":"VLOOKUP(B384,Vertices!$A$11:$J$203,8,FALSE )-$D$7","v":-34.39},{"$f":"VLOOKUP(B384,Vertices!$A$11:$J$203,9,FALSE )-$E$7","v":2.31},{"$f":"Faces!C384","v":187},{"$f":"VLOOKUP(F384,Vertices!$A$11:$J$203,7,FALSE )-$C$7","v":{"v":-29.904999999999998,"d":"-29.91"}},{"$f":"VLOOKUP(F384,Vertices!$A$11:$J$203,8,FALSE )-$D$7","v":{"v":-25.5,"d":"-25.50"}},{"$f":"VLOOKUP(F384,Vertices!$A$11:$J$203,9,FALSE )-$E$7","v":9.39},{"$f":"Faces!D384","v":169},{"$f":"VLOOKUP(J384,Vertices!$A$11:$J$203,7,FALSE )-$C$7","v":{"v":-20.525,"d":"-20.53"}},{"$f":"VLOOKUP(J384,Vertices!$A$11:$J$203,8,FALSE )-$D$7","v":-36.82},{"$f":"VLOOKUP(J384,Vertices!$A$11:$J$203,9,FALSE )-$E$7","v":14.62},{"v":1086.8042449166662,"d":"1086.80"},{"v":1086.8042449166662,"d":"1086.80"}]
[{"$f":"Faces!A385","v":375},{"$f":"Faces!B385","v":173},{"$f":"VLOOKUP(B385,Vertices!$A$11:$J$203,7,FALSE )-$C$7","v":{"v":-29.715,"d":"-29.72"}},{"$f":"VLOOKUP(B385,Vertices!$A$11:$J$203,8,FALSE )-$D$7","v":-15.31},{"$f":"VLOOKUP(B385,Vertices!$A$11:$J$203,9,FALSE )-$E$7","v":-19.73},{"$f":"Faces!C385","v":189},{"$f":"VLOOKUP(F385,Vertices!$A$11:$J$203,7,FALSE )-$C$7","v":{"v":-40.815,"d":"-40.82"}},{"$f":"VLOOKUP(F385,Vertices!$A$11:$J$203,8,FALSE )-$D$7","v":-7.57},{"$f":"VLOOKUP(F385,Vertices!$A$11:$J$203,9,FALSE )-$E$7","v":-10.68},{"$f":"Faces!D385","v":178},{"$f":"VLOOKUP(J385,Vertices!$A$11:$J$203,7,FALSE )-$C$7","v":{"v":-29.884999999999998,"d":"-29.89"}},{"$f":"VLOOKUP(J385,Vertices!$A$11:$J$203,8,FALSE )-$D$7","v":-20.61},{"$f":"VLOOKUP(J385,Vertices!$A$11:$J$203,9,FALSE )-$E$7","v":-8.32},{"v":1191.9436108333327,"d":"1191.94"},{"v":1191.9436108333327,"d":"1191.94"}]
[{"$f":"Faces!A386","v":376},{"$f":"Faces!B386","v":178},{"$f":"VLOOKUP(B386,Vertices!$A$11:$J$203,7,FALSE )-$C$7","v":{"v":-29.884999999999998,"d":"-29.89"}},{"$f":"VLOOKUP(B386,Vertices!$A$11:$J$203,8,FALSE )-$D$7","v":-20.61},{"$f":"VLOOKUP(B386,Vertices!$A$11:$J$203,9,FALSE )-$E$7","v":-8.32},{"$f":"Faces!C386","v":189},{"$f":"VLOOKUP(F386,Vertices!$A$11:$J$203,7,FALSE )-$C$7","v":{"v":-40.815,"d":"-40.82"}},{"$f":"VLOOKUP(F386,Vertices!$A$11:$J$203,8,FALSE )-$D$7","v":-7.57},{"$f":"VLOOKUP(F386,Vertices!$A$11:$J$203,9,FALSE )-$E$7","v":-10.68},{"$f":"Faces!D386","v":193},{"$f":"VLOOKUP(J386,Vertices!$A$11:$J$203,7,FALSE )-$C$7","v":{"v":-40.135,"d":"-40.14"}},{"$f":"VLOOKUP(J386,Vertices!$A$11:$J$203,8,FALSE )-$D$7","v":-13.43},{"$f":"VLOOKUP(J386,Vertices!$A$11:$J$203,9,FALSE )-$E$7","v":3.66},{"v":1471.897254333333,"d":"1471.90"},{"v":1471.897254333333,"d":"1471.90"}]
[{"$f":"Faces!A387","v":377},{"$f":"Faces!B387","v":178},{"$f":"VLOOKUP(B387,Vertices!$A$11:$J$203,7,FALSE )-$C$7","v":{"v":-29.884999999999998,"d":"-29.89"}},{"$f":"VLOOKUP(B387,Vertices!$A$11:$J$203,8,FALSE )-$D$7","v":-20.61},{"$f":"VLOOKUP(B387,Vertices!$A$11:$J$203,9,FALSE )-$E$7","v":-8.32},{"$f":"Faces!C387","v":193},{"$f":"VLOOKUP(F387,Vertices!$A$11:$J$203,7,FALSE )-$C$7","v":{"v":-40.135,"d":"-40.14"}},{"$f":"VLOOKUP(F387,Vertices!$A$11:$J$203,8,FALSE )-$D$7","v":-13.43},{"$f":"VLOOKUP(F387,Vertices!$A$11:$J$203,9,FALSE )-$E$7","v":3.66},{"$f":"Faces!D387","v":180},{"$f":"VLOOKUP(J387,Vertices!$A$11:$J$203,7,FALSE )-$C$7","v":{"v":-29.615,"d":"-29.62"}},{"$f":"VLOOKUP(J387,Vertices!$A$11:$J$203,8,FALSE )-$D$7","v":-24.34},{"$f":"VLOOKUP(J387,Vertices!$A$11:$J$203,9,FALSE )-$E$7","v":{"v":1.1,"d":"1.10"}},{"v":952.5569981666667,"d":"952.56"},{"v":952.5569981666667,"d":"952.56"}]
[{"$f":"Faces!A388","v":378},{"$f":"Faces!B388","v":180},{"$f":"VLOOKUP(B388,Vertices!$A$11:$J$203,7,FALSE )-$C$7","v":{"v":-29.615,"d":"-29.62"}},{"$f":"VLOOKUP(B388,Vertices!$A$11:$J$203,8,FALSE )-$D$7","v":-24.34},{"$f":"VLOOKUP(B388,Vertices!$A$11:$J$203,9,FALSE )-$E$7","v":{"v":1.1,"d":"1.10"}},{"$f":"Faces!C388","v":193},{"$f":"VLOOKUP(F388,Vertices!$A$11:$J$203,7,FALSE )-$C$7","v":{"v":-40.135,"d":"-40.14"}},{"$f":"VLOOKUP(F388,Vertices!$A$11:$J$203,8,FALSE )-$D$7","v":-13.43},{"$f":"VLOOKUP(F388,Vertices!$A$11:$J$203,9,FALSE )-$E$7","v":3.66},{"$f":"Faces!D388","v":187},{"$f":"VLOOKUP(J388,Vertices!$A$11:$J$203,7,FALSE )-$C$7","v":{"v":-29.904999999999998,"d":"-29.91"}},{"$f":"VLOOKUP(J388,Vertices!$A$11:$J$203,8,FALSE )-$D$7","v":{"v":-25.5,"d":"-25.50"}},{"$f":"VLOOKUP(J388,Vertices!$A$11:$J$203,9,FALSE )-$E$7","v":9.39},{"v":809.0296414166668,"d":"809.03"},{"v":809.0296414166668,"d":"809.03"}]
[{"$f":"Faces!A389","v":379},{"$f":"Faces!B389","v":193},{"$f":"VLOOKUP(B389,Vertices!$A$11:$J$203,7,FALSE )-$C$7","v":{"v":-40.135,"d":"-40.14"}},{"$f":"VLOOKUP(B389,Vertices!$A$11:$J$203,8,FALSE )-$D$7","v":-13.43},{"$f":"VLOOKUP(B389,Vertices!$A$11:$J$203,9,FALSE )-$E$7","v":3.66},{"$f":"Faces!C389","v":189},{"$f":"VLOOKUP(F389,Vertices!$A$11:$J$203,7,FALSE )-$C$7","v":{"v":-40.815,"d":"-40.82"}},{"$f":"VLOOKUP(F389,Vertices!$A$11:$J$203,8,FALSE )-$D$7","v":-7.57},{"$f":"VLOOKUP(F389,Vertices!$A$11:$J$203,9,FALSE )-$E$7","v":-10.68},{"$f":"Faces!D389","v":190},{"$f":"VLOOKUP(J389,Vertices!$A$11:$J$203,7,FALSE )-$C$7","v":{"v":-43.545,"d":"-43.55"}},{"$f":"VLOOKUP(J389,Vertices!$A$11:$J$203,8,FALSE )-$D$7","v":6.23},{"$f":"VLOOKUP(J389,Vertices!$A$11:$J$203,9,FALSE )-$E$7","v":-4.82},{"v":1645.9474913333336,"d":"1645.95"},{"v":1645.9474913333336,"d":"1645.95"}]
[{"$f":"Faces!A390","v":380},{"$f":"Faces!B390","v":193},{"$f":"VLOOKUP(B390,Vertices!$A$11:$J$203,7,FALSE )-$C$7","v":{"v":-40.135,"d":"-40.14"}},{"$f":"VLOOKUP(B390,Vertices!$A$11:$J$203,8,FALSE )-$D$7","v":-13.43},{"$f":"VLOOKUP(B390,Vertices!$A$11:$J$203,9,FALSE )-$E$7","v":3.66},{"$f":"Faces!C390","v":188},{"$f":"VLOOKUP(F390,Vertices!$A$11:$J$203,7,FALSE )-$C$7","v":{"v":-41.105,"d":"-41.11"}},{"$f":"VLOOKUP(F390,Vertices!$A$11:$J$203,8,FALSE )-$D$7","v":{"v":14.1,"d":"14.10"}},{"$f":"VLOOKUP(F390,Vertices!$A$11:$J$203,9,FALSE )-$E$7","v":{"v":2.2,"d":"2.20"}},{"$f":"Faces!D390","v":191},{"$f":"VLOOKUP(J390,Vertices!$A$11:$J$203,7,FALSE )-$C$7","v":{"v":-35.265,"d":"-35.27"}},{"$f":"VLOOKUP(J390,Vertices!$A$11:$J$203,8,FALSE )-$D$7","v":-4.31},{"$f":"VLOOKUP(J390,Vertices!$A$11:$J$203,9,FALSE )-$E$7","v":11.95},{"v":1704.9577457499997,"d":"1704.96"},{"v":1704.9577457499997,"d":"1704.96"}]
[{"$f":"Faces!A391","v":381},{"$f":"Faces!B391","v":193},{"$f":"VLOOKUP(B391,Vertices!$A$11:$J$203,7,FALSE )-$C$7","v":{"v":-40.135,"d":"-40.14"}},{"$f":"VLOOKUP(B391,Vertices!$A$11:$J$203,8,FALSE )-$D$7","v":-13.43},{"$f":"VLOOKUP(B391,Vertices!$A$11:$J$203,9,FALSE )-$E$7","v":3.66},{"$f":"Faces!C391","v":190},{"$f":"VLOOKUP(F391,Vertices!$A$11:$J$203,7,FALSE )-$C$7","v":{"v":-43.545,"d":"-43.55"}},{"$f":"VLOOKUP(F391,Vertices!$A$11:$J$203,8,FALSE )-$D$7","v":6.23},{"$f":"VLOOKUP(F391,Vertices!$A$11:$J$203,9,FALSE )-$E$7","v":-4.82},{"$f":"Faces!D391","v":188},{"$f":"VLOOKUP(J391,Vertices!$A$11:$J$203,7,FALSE )-$C$7","v":{"v":-41.105,"d":"-41.11"}},{"$f":"VLOOKUP(J391,Vertices!$A$11:$J$203,8,FALSE )-$D$7","v":{"v":14.1,"d":"14.10"}},{"$f":"VLOOKUP(J391,Vertices!$A$11:$J$203,9,FALSE )-$E$7","v":{"v":2.2,"d":"2.20"}},{"v":1422.5124256666668,"d":"1422.51"},{"v":1422.5124256666668,"d":"1422.51"}]
[{"$f":"Faces!A392","v":382},{"$f":"Faces!B392","v":191},{"$f":"VLOOKUP(B392,Vertices!$A$11:$J$203,7,FALSE )-$C$7","v":{"v":-35.265,"d":"-35.27"}},{"$f":"VLOOKUP(B392,Vertices!$A$11:$J$203,8,FALSE )-$D$7","v":-4.31},{"$f":"VLOOKUP(B392,Vertices!$A$11:$J$203,9,FALSE )-$E$7","v":11.95},{"$f":"Faces!C392","v":188},{"$f":"VLOOKUP(F392,Vertices!$A$11:$J$203,7,FALSE )-$C$7","v":{"v":-41.105,"d":"-41.11"}},{"$f":"VLOOKUP(F392,Vertices!$A$11:$J$203,8,FALSE )-$D$7","v":{"v":14.1,"d":"14.10"}},{"$f":"VLOOKUP(F392,Vertices!$A$11:$J$203,9,FALSE )-$E$7","v":{"v":2.2,"d":"2.20"}},{"$f":"Faces!D392","v":192},{"$f":"VLOOKUP(J392,Vertices!$A$11:$J$203,7,FALSE )-$C$7","v":{"v":-40.355,"d":"-40.36"}},{"$f":"VLOOKUP(J392,Vertices!$A$11:$J$203,8,FALSE )-$D$7","v":{"v":8.2,"d":"8.20"}},{"$f":"VLOOKUP(J392,Vertices!$A$11:$J$203,9,FALSE )-$E$7","v":7.28},{"v":186.51026649999994,"d":"186.51"},{"v":186.51026649999994,"d":"186.51"}]